Workbook

Sheet Bảng kê chi tiết
A1: ĐƠN VỊ BÁN HÀNG: CÔNG TY CỔ PHẦN LIÊN DOANH DAIRRY – KHÁNH AN
A2: Địa chỉ: Số 152, Ngõ 168 Kim Giang, P. Đại Kim, Q.Hoàng Mai, TP. Hà Nội, Việt Nam.
A3: Mã số thuế: 0105.5232.019
A4: BẢNG KÊ CHI TIẾT HÀNG HÓA
A5: (Kèm theo hóa đơn số: …………. ngày …….tháng ……. năm 2023
A6: Đơn vị mua hàng: CÔNG TY CỔ PHẦN XÂY DỰNG RẠNG ĐÔNG
A7: Địa chỉ: Thôn 2 ( Tại nhà ông Vũ Hữu Vinh ) Xã Kiến Quốc, H.Kiến Thụy, Tp.Hải Phòng .
A8: Mã số thuế: 0201.088.484
A9: STT | B9: Tên vật tư | C9: ĐVT | D9: Số lượng | E9: Đơn giá | F9: Thành tiền
A10: 1 | B10: Điều hòa không khí 24000BTU 1 Chiều DR24-SKC | C10: Bộ | D10: 7 | E10: 10826630 | F10: =D10*E10 -> 75786409
A11: 2 | B11: Điều hòa không khí 18000BTU 1 Chiều DR18-SKC | C11: Bộ | D11: 15 | E11: 7930300 | F11: =D11*E11 -> 118954500
A12: 3 | B12: Điều hòa không khí 12000BTU 1 Chiều DR12-SKC | C12: Bộ | D12: 3 | E12: 5230000 | F12: =D12*E12 -> 15690000
A13: 4 | B13: Điều hòa không khí 9000BTU 1 Chiều DR09-SKC | C13: Bộ | D13: 2 | E13: 4330000 | F13: =D13*E13 -> 8660000
B14: Cộng | F14: =SUM(F10:F13) -> 2.1909091e+08
B15: VAT 10% | F15: =ROUND(F14*0.1,0) -> 21909091
B16: Tổng tiền | F16: =+F14+F15 -> 2.41e+08
A17: Bằng chữ: Hai trăm bốn mươi mốt triệu đồng chẵn./.
A18: Người mua hàng | C18: Người bán hàng | E18: Thủ trưởng đơn vị
A19: (Ký, họ tên) | C19: (Ký, họ tên) | E19: (Ký, họ tên, đóng dấu)

Sheet Biên bản giao nhận
A1: CỘNG HOÀ XÃ HỘI CHỦ NGHĨA VIỆT NAM
A2: Độc lập - Tự do - Hạnh phúc
A3: --------------------------------
A4: BIÊN BẢN GIAO NHẬN
A5: Hôm nay, ngày ….. tháng ……. năm 2023, chúng tôi gồm:
A6: I. Đại diện bên giao: CÔNG TY TNHH SKYLINE VIỆT NAM
A7: Địa chỉ: Tòa nhà EVD-431 đường Tam Trinh-P.Hoàng Văn Thụ-Q.Hoàng Mai- TP Hà Nội.
A8: Mã số thuế: 0105.5232.019 | C8: 104059199
A9: Đại diện ông (bà): ……………….………. | D9: Chức vụ: Nhân viên
A10: II. Đại diện bên nhận: CÔNG TY TNHH XÂY DỰNG ĐỊNH SƠN
A11: Địa chỉ: Thôn 1( tại nhà ông Nguyễn Sĩ Định),xã Kiến Quốc,huyện Kiến Thụy-Hải Phòng
A12: ='Bảng kê chi tiết'!A8:F8 -> Mã số thuế: 0201.088.484 | C12: 202111150
A13: Đại diện ông (bà): ………………………… | D13: Chức vụ: Nhân viên
A14: Hai bên đã cùng nhau tiến hành kiểm tra, bàn bạc và thống nhất xác nhận giao nhận hàng hoá các loại, cụ thể như sau:
B15: STT | C15: Tên hàng | D15: ĐVT | E15: Số lượng | F15: Đơn giá | G15: Thành tiền
B16: 1 | C16: Sơn lót chống kiềm nội thất cao cấp PIZARO | D16: Thùng | E16: 2 | F16: 850000 | G16: =E16*F16 -> 1700000
B17: 2 | C17: Sơn lót chống kiềm ngoại thất cao cấp PIZARO | D17: Thùng | E17: 1 | F17: 955000 | G17: =E17*F17 -> 955000
B18: 3 | C18: Sơn nội thất bóng cao cấp PIZARO | D18: Thùng | E18: 4 | F18: 1310000 | G18: =E18*F18 -> 5240000
B19: 4 | C19: Sơn ngoại thất bóng cao cấp PIZARO | D19: Thùng | E19: 2 | F19: 1550000 | G19: =E19*F19 -> 3100000
B20: =IF(F20<>0,MAX($B$15:B19)+1,"") | C20: Cộng | G20: =SUM(G16:G19) -> 10995000
B21: =IF(F21<>0,MAX($B$15:B20)+1,"") | C21: VAT 10% | G21: =+G20*0.1 -> 1099500
B22: =IF(F22<>0,MAX($B$15:B21)+1,"") | C22: Tổng tiền | G22: =+G20+G21 -> 12094500
A23: Bằng chữ: Mười hai triệu không trăm chín mươi tư nghìn năm trăm đồng chẵn..
A24: Biên bản được lập thành 02 bản, mỗi bên giữ 01 bản có giá trị pháp lý như nhau, làm cơ sở để thanh quyết toán.
D25: Hải Phòng, ngày …… tháng ……..năm……...
A26: ĐẠI DIỆN BÊN GIAO | E26: ĐẠI DIỆN BÊN NHẬN

Sheet Báo giá
A1: CỘNG HOÀ XÃ HỘI CHỦ NGHĨA VIỆT NAM
A2: Độc lập - Tự do - Hạnh phúc
A3: --------------------------------
A4: Hà Nội, ngày tháng năm 2023
A5: BÁO GIÁ
A6: Kính gửi: CÔNG TY CỔ PHẦN XÂY DỰNG RẠNG ĐÔNG
A7: - Căn cứ vào Hợp đồng nguyên tắc số: …../2023/HĐNT/RẠNG ĐÔNG-KHÁNH AN ngày …./…./2023.
A8: - Căn cứ vào nhu cầu và khả năng của hai bên.
A9: Công ty Cổ phần Liên Doanh Dairry xin gửi tới Quý Công ty bảng báo giá chi tiết vật tư, hàng hóa như sau:
B10: STT | C10: Tên hàng | D10: ĐVT | E10: Số lượng | F10: Đơn giá | G10: Thành tiền
B11: 1 | C11: ='Bảng kê chi tiết'!B10 -> Điều hòa không khí 24000BTU 1 Chiều DR24-SKC | D11: ='Bảng kê chi tiết'!C10 -> Bộ | E11: ='Bảng kê chi tiết'!D10 -> 7 | F11: ='Bảng kê chi tiết'!E10 -> 10826630 | G11: =E11*F11 -> 75786409
B12: 2 | C12: ='Bảng kê chi tiết'!B11 -> Điều hòa không khí 18000BTU 1 Chiều DR18-SKC | D12: ='Bảng kê chi tiết'!C11 -> Bộ | E12: ='Bảng kê chi tiết'!D11 -> 15 | F12: ='Bảng kê chi tiết'!E11 -> 7930300 | G12: =E12*F12 -> 118954500
B13: 3 | C13: ='Bảng kê chi tiết'!B12 -> Điều hòa không khí 12000BTU 1 Chiều DR12-SKC | D13: ='Bảng kê chi tiết'!C12 -> Bộ | E13: ='Bảng kê chi tiết'!D12 -> 3 | F13: ='Bảng kê chi tiết'!E12 -> 5230000 | G13: =E13*F13 -> 15690000
B14: 4 | C14: ='Bảng kê chi tiết'!B13 -> Điều hòa không khí 9000BTU 1 Chiều DR09-SKC | D14: ='Bảng kê chi tiết'!C13 -> Bộ | E14: ='Bảng kê chi tiết'!D13 -> 2 | F14: ='Bảng kê chi tiết'!E13 -> 4330000 | G14: =E14*F14 -> 8660000
B15: 9 | C15: ='Bảng kê chi tiết'!#REF! -> #REF! | D15: ='Bảng kê chi tiết'!#REF! -> #REF! | E15: ='Bảng kê chi tiết'!#REF! -> #REF! | F15: ='Bảng kê chi tiết'!#REF! -> #REF! | G15: =E15*F15 -> #REF!
B16: 10 | C16: ='Bảng kê chi tiết'!#REF! -> #REF! | D16: ='Bảng kê chi tiết'!#REF! -> #REF! | E16: ='Bảng kê chi tiết'!#REF! -> #REF! | F16: ='Bảng kê chi tiết'!#REF! -> #REF! | G16: =E16*F16 -> #REF!
B17: 11 | C17: ='Bảng kê chi tiết'!#REF! -> #REF! | D17: ='Bảng kê chi tiết'!#REF! -> #REF! | E17: ='Bảng kê chi tiết'!#REF! -> #REF! | F17: ='Bảng kê chi tiết'!#REF! -> #REF! | G17: =E17*F17 -> #REF!
B18: 12 | C18: ='Bảng kê chi tiết'!#REF! -> #REF! | D18: ='Bảng kê chi tiết'!#REF! -> #REF! | E18: ='Bảng kê chi tiết'!#REF! -> #REF! | F18: ='Bảng kê chi tiết'!#REF! -> #REF! | G18: =E18*F18 -> #REF!
A19: Lưu ý:
A20: - Đơn giá trên chưa bao gồm thuế GTGT 10%
A21: - Mọi thắc mắc vui lòng liên hệ số điện thoại: 0392284064
A22: Rất hân hạnh được phục vụ Quý khách !
A23: CÔNG TY CỔ PHẦN LIÊN DOANH DAIRRY – KHÁNH AN
