Workbook

Sheet Nhat ky
E1: DANH MỤC NHẬT KÝ THI CÔNG CÔNG TRÌNH
E2: Công trình:Sửa chữa tuyến kênh Đồng Dầm (Từ kênh Đại Trà 1 đến Gốc đa Miếu Bà); sửa chữa máng inox Đội 3 - Đội 5 thôn Phong Cầu 1, thôn Phong Cầu 2, xã Kiến Minh
A5: Khởi công | B5: Hoàn thành | E5: Stt | F5: Ngày tháng năm | G5: Nội dung nhật ký | H5: Nội dung công việc nghiệm thu/lấy mẫu | I5: Số BB nghiệm thu công việc
A6: 45960 | B6: =+A6+C6 -> 46022 | C6: 62 | E6: I | G6: Chuẩn bị thi công
A7: Hợp đồng: | B7: 45960 | E7: 1 | F7: 45960 | G7: Quyết định giao nhiệm vụ thi công
A8: Hiệu lực HĐ: | B8: 45960 | E8: 2 | F8: 45568 | G8: Thông báo khởi công
E9: 3 | F9: 45570 | G9: Biên bản bàn giao mặt bằng công trình
E10: 4 | F10: 45570 | G10: Biên bản kiểm tra phòng thí nghiệm
E11: 5 | F11: =+F8+3 -> 45571 | G11: Biên bản kiểm tra điều kiện khởi công
E12: 6 | F12: 45572 | G12: Biên bản kiểm tra nhân lực của nhà thầu
E13: 7 | F13: 45572 | G13: Biên bản kiểm tra máy móc thi công xây dựng
E14: 9 | F14: 45572 | G14: Biên bản kiểm tra công tác quản lý chất lượng thi công
E15: 10 | F15: 3/11/2024 10/11/2024 18/11/2024 | G15: Biên bản lấy mẫu thí nghiệm.
E16: II
E17: * | F17: =+F14+1 -> 45573 | G17: Bắt đầu công việc
F18: =+F17 -> 45573 | G18: '- Tập kết phao thép và máy đào tại hiện trường; lắp ghép phao thép - Phiếu yêu cầu nghiệm thu: hoàn thành công việc tập kết phao thép, máy đào và lắp ghép phao thép phục vụ thi công | I18: PYC
F19: =+F18+1 -> 45574 | G19: *Nghiệm thu công việc xây dựng: Tập kết phao thép, máy đào và lắp ghép phao thép phục vụ thi công. * Công việc tiếp theo: - Chặt cây cối, phát dọn mặt bằng công trình | H19: *Nghiệm thu công việc xây dựng: Tập kết phao thép, máy đào và lắp ghép phao thép phục vụ thi công. | I19: 01
F20: =+F19+1 -> 45575 | G20: - Chặt cây cối, phát dọn mặt bằng công trình - Vận chuyển cây cối ra vị trí tập kết
F21: =+F20+1 -> 45576 | G21: - Chặt cây cối, phát dọn mặt bằng công trình - Vận chuyển cây cối ra vị trí tập kết - Phiếu yêu cầu nghiệm thu hoàn thành công việc xây dựng: Chặt cây cối, phát quang mặt bằng công trình, vận chuyển cây cối ra vị trí tập kết | I21: PYC
F22: =+F21+1 -> 45577 | G22: *Nghiệm thu công việc xây dựng: Chặt cây cối, phát quang mặt bằng công trình, vận chuyển cây cối ra vị trí tập kết * Công việc tiếp theo: Đào đất lòng kênh bằng máy đoạn 1 từ mặt cắt 1-15 | H22: *Nghiệm thu công việc xây dựng: Chặt cây cối, phát quang mặt bằng công trình, vận chuyển cây cối ra vị trí tập kết | I22: 02
F23: =+F22+1 -> 45578 | G23: - Đào đất lòng kênh bằng máy đào đoạn 1 từ mặt cắt 1 đến mặt cắt 5
F24: =+F23+1 -> 45579 | G24: - Đào đất lòng kênh bằng máy đào đoạn 1 từ mặt cắt 1 đến mặt cắt 5
F25: =+F24+1 -> 45580 | G25: - Đào đất lòng kênh bằng máy đào đoạn 1 từ mặt cắt 5 đến mặt cắt 10
F26: =+F25+1 -> 45581 | G26: - Đào đất lòng kênh bằng máy đào đoạn 1 từ mặt cắt 5 đến mặt cắt 10
F27: =+F26+1 -> 45582 | G27: - Đào đất lòng kênh bằng máy đào đoạn 1 từ mặt cắt 10 đến mặt cắt 15
F28: =+F27+1 -> 45583 | G28: - Đào đất lòng kênh bằng máy đào đoạn 1 từ mặt cắt 10 đến mặt cắt 15 * Phiếu yêu cầu nghiệm thu công việc xây dựng: - Đào đất lòng kênh bằng máy đào đoạn 1 từ mặt cắt 1-15 | I28: PYC
F29: =+F28+1 -> 45584 | G29: *Nghiệm thu công việc xây dựng: - Đào đất lòng kênh bằng máy đào đoạn 1 từ mặt cắt 1-15 * Công việc tiếp theo: - Đào đất lòng kênh bằng máy đào đoạn 1 từ mặt cắt 15 đến mặt cắt 29 - Đắp đất bờ kênh bằng máy đoạn 1 từ mặt cắt 1-15 - Đào đất lòng kênh bằng máy đào đoạn 2 từ mặt cắt 1 đến mặt cắt 6 | H29: *Nghiệm thu công việc xây dựng: - Đào đất lòng kênh bằng máy đào đoạn 1 từ mặt cắt 1 đến mặt cắt 15 | I29: 03
F30: =+F29+1 -> 45585 | G30: - Đào đất lòng kênh bằng máy đào đoạn 1 từ mặt cắt 15 đến mặt cắt 20 - Đắp đất bờ kênh bằng máy đoạn 1 từ mặt cắt 1 đến mặt cắt 5
F31: =+F30+1 -> 45586 | G31: - Đào đất lòng kênh bằng máy đào đoạn 1 từ mặt cắt 15 đến mặt cắt 20 - Đắp đất bờ kênh bằng máy đoạn 1 từ mặt cắt 1 đến mặt cắt 5
F32: =+F31+1 -> 45587 | G32: - Đào đất lòng kênh bằng máy đào từ đoạn 1 mặt cắt 20 đến mặt cắt 25 - Đắp đất bờ kênh bằng máy đoạn 1 từ mặt cắt 5 đến mặt cắt 10
F33: =+F32+1 -> 45588 | G33: - Đào đất lòng kênh bằng máy đào đoạn 1 từ mặt cắt 20 đến mặt cắt 25 - Đắp đất bờ kênh bằng máy đoạn 1 từ mặt cắt 5 đến mặt cắt 10
F34: =+F33+1 -> 45589 | G34: - Đào đất lòng kênh bằng máy đào đoạn 2 từ mặt cắt 25 đến mặt cắt 29 - Đắp đất bờ kênh bằng máy đoạn 1 từ mặt cắt 10 đến mặt cắt 15 '- Đào đất lòng kênh bằng máy đào đoạn 2 từ mặt cắt 1 đến mặt cắt 6
F35: =+F34+1 -> 45590 | G35: - Đào đất lòng kênh bằng máy đào đoạn 2 từ mặt cắt 25 đến mặt cắt 29 - Đắp đất bờ kênh bằng máy đoạn 1 từ mặt cắt 10 đến mặt cắt 15 '- Đào đất lòng kênh bằng máy đào đoạn 2 từ mặt cắt 1 đến mặt cắt 6
F36: =+F35+1 -> 45591 | G36: - Đào đất lòng kênh bằng máy đào đoạn 2 từ mặt cắt 25 đến mặt cắt 29 - Đắp đất bờ kênh bằng máy đoạn 1 từ mặt cắt 10 đến mặt cắt 15 - Đào đất lòng kênh bằng máy đào đoạn 2 từ mặt cắt 1 đến mặt cắt 6 *Phiếu yêu cầu nghiệm thu công việc: - Đào đất lòng kênh bằng máy đào đoạn 1 từ mặt cắt 15 đến mặt cắt 29 - Đắp đất bờ kênh đoạn 1 bằng máy từ mặt cắt 1 đến mặt cắt 15 | I36: PYC
F37: =+F36+1 -> 45592 | G37: * Nghiệm thu công việc: - Đào đất lòng kênh bằng máy đào đoạn 1 từ mặt cắt 15 đến mặt cắt 29 - Đắp đất bờ kênh đoạn 1 bằng máy từ mặt cắt 1 đến mặt cắt 15 * Công việc tiếp theo: - Đắp đất bờ kênh bằng máy đoạn 1 từ mặt cắt 15 đến mặt cắt 29 - Đắp đất bờ kênh bằng thủ công đoạn 1từ mặt cắt 1 đến mặt cắt 15 - Vận chuyển đất thừa ra bãi tập kết bằng ô tô từ mặt cắt 1 đến mặt cắt 15 - Đắp đất bờ kênh bằng máy đoạn 2 từ mặt cắt 1 đến mặt cắt 6 | H37: * Nghiệm thu công việc: - Đào đất lòng kênh bằng máy đào đoạn 1 từ mặt cắt 15 đến mặt cắt 29 - Đắp đất bờ kênh đoạn 1 bằng máy từ mặt cắt 1 đến mặt cắt 15 | I37: 04
F38: =+F37+1 -> 45593 | G38: - Đắp đất bờ kênh đoạn 1 bằng máy từ mặt cắt 15 đến mặt cắt 20 - Đắp đất bờ kênh bằng thủ công đoạn 1 từ mặt cắt 1 đến mặt cắt 5
F39: =+F38+1 -> 45594 | G39: - Đắp đất bờ kênh đoạn 1 bằng máy từ mặt cắt 15 đến mặt cắt 20 - Đắp đất bờ kênh bằng thủ công đoạn 1 từ mặt cắt 1 đến mặt cắt 5
F40: =+F39+1 -> 45595 | G40: - Đắp đất bờ kênh đoạn 1 bằng máy từ mặt cắt 15 đến mặt cắt 20 - Đắp đất bờ kênh bằng thủ công đoạn 1 từ mặt cắt 1 đến mặt cắt 5 - Vận chuyển đất thừa ra bãi tập kết bằng ô tô từ mặt cắt 1 đến mặt cắt 5
F41: =+F40+1 -> 45596 | G41: - Đắp đất bờ kênh đoạn 1 bằng máy từ mặt cắt 20 đến mặt cắt 25 - Đắp đất bờ kênh bằng thủ công đoạn 1 từ mặt cắt 5 đến mặt cắt 10
F42: =+F41+1 -> 45597 | G42: - Đắp đất bờ kênh bằng máy đoạn 1 từ mặt cắt 20 đến mặt cắt 25 - Đắp đất bờ kênh bằng thủ công đoạn 1 từ mặt cắt 5 đến mặt cắt 10
...

Sheet Đầu vào
A1: DANH MỤC NHẬT KÝ THI CÔNG CÔNG TRÌNH
A2: Công trình:Sửa chữa tuyến kênh Đồng Dầm (Từ kênh Đại Trà 1 đến Gốc đa Miếu Bà); sửa chữa máng inox Đội 3 - Đội 5 thôn Phong Cầu 1, thôn Phong Cầu 2, xã Kiến Minh
B5: Kỹ thuật
B6: Chủ đầu tư
B7: Tư vấn giám sát | C7: Nguyễn Tuấn Thành
B8: Nhà thầu thi công | C8: Nguyễn Sĩ Thoả
A10: TT | B10: Ngày | C10: Nội dung công việc | D10: Nội dung nghiệm thu | E10: Nhân lực | F10: Máy móc thiết bị | G10: Ý kiến các bên | H10: Ý kiến nhà thầu TC
A11: 1 | B11: 45960 | C11: - Biên bản bàn giao mặt bằng công trình
A12: =A11+1 -> 2 | B12: =+B11+1 -> 45961 | C12: - Tập kết pông tông, máy đào, tấm chống lầy tại hiện trường
A13: =A12+1 -> 3 | B13: =+B12+1 -> 45962 | C13: - Chặt cây cối, phát dọn mặt bằng công trình - Vận chuyển cây cối ra vị trí tập kết | E13: 0 tổ
A14: =A13+1 -> 4 | B14: =+B13+1 -> 45963 | C14: - Chặt cây cối, phát dọn mặt bằng công trình - Vận chuyển cây cối ra vị trí tập kết | E14: 01 tổ | F14: Máy đào, pông tông
A15: =A14+1 -> 5 | B15: =+B14+1 -> 45964 | C15: =C16 -> - Chặt cây cối, phát dọn mặt bằng công trình - Vận chuyển cây cối ra vị trí tập kết | D15: Tập kết pông tông, máy đào, lắp ghép tấm chống lầy phục vụ thi công. | E15: 01 tổ | F15: Máy đào, pông tông
A16: =A15+1 -> 6 | B16: =+B15+1 -> 45965 | C16: - Chặt cây cối, phát dọn mặt bằng công trình - Vận chuyển cây cối ra vị trí tập kết | E16: 01 tổ
A17: =A16+1 -> 7 | B17: =+B16+1 -> 45966 | C17: - Chặt cây cối, phát dọn mặt bằng công trình - Vận chuyển cây cối ra vị trí tập kết | E17: 01 tổ
A18: =A17+1 -> 8 | B18: =+B17+1 -> 45967 | C18: =C19 -> - Đào đất lòng kênh bằng máy đào đoạn 1 từ Km: 0+000.00 đến Km: 0+132 | D18: Chặt cây cối, phát quang mặt bằng công trình, vận chuyển cây cối ra vị trí tập kết | E18: 01 tổ | F18: Máy đào, pông tông
A19: =A18+1 -> 9 | B19: =+B18+1 -> 45968 | C19: - Đào đất lòng kênh bằng máy đào đoạn 1 từ Km: 0+000.00 đến Km: 0+132 | E19: 01 tổ | F19: Máy đào, pông tông
A20: =A19+1 -> 10 | B20: =+B19+1 -> 45969 | C20: - Đào đất lòng kênh bằng máy đào đoạn 1 từ Km: 0+000.00 đến Km: 0+132 | E20: 01 tổ | F20: Máy đào, pông tông
A21: =A20+1 -> 11 | B21: =+B20+1 -> 45970 | C21: - Đào đất lòng kênh bằng máy đào đoạn 1 từ Km: 0+000.00 đến Km: 0+132 | E21: 01 tổ | F21: Máy đào, pông tông
A22: =A21+1 -> 12 | B22: =+B21+1 -> 45971 | C22: - Đào đất lòng kênh bằng máy đào đoạn 1 từ Km: 0+000.00 đến Km: 0+132 | E22: 01 tổ | F22: Máy đào, pông tông
A23: =A22+1 -> 13 | B23: =+B22+1 -> 45972 | C23: - Đào đất lòng kênh bằng máy đào đoạn 1 từ Km: 0+000.00 đến Km: 0+132 | E23: 01 tổ | F23: Máy đào, pông tông
A24: =A23+1 -> 14 | B24: =+B23+1 -> 45973 | C24: - Đào đất lòng kênh bằng máy đào đoạn 1 từ Km: 0+000.00 đến Km: 0+132 | E24: 01 tổ | F24: Máy đào, pông tông
A25: =A24+1 -> 15 | B25: =+B24+1 -> 45974 | C25: - Đào đất lòng kênh bằng máy đào đoạn 1 từ Km: 0+000.00 đến Km: 0+132 | E25: 01 tổ | F25: Máy đào, pông tông
A26: =A25+1 -> 16 | B26: =+B25+1 -> 45975 | C26: - Đào đất lòng kênh bằng máy đào đoạn 1 từ Km: 0+000.00 đến Km: 0+132 | E26: 01 tổ | F26: Máy đào, pông tông
A27: =A26+1 -> 17 | B27: =+B26+1 -> 45976 | C27: - Đào đất lòng kênh bằng máy đào đoạn 1 từ Km: 0+000.00 đến Km: 0+132 | E27: 01 tổ | F27: Máy đào, pông tông
A28: =A27+1 -> 18 | B28: =+B27+1 -> 45977 | C28: =C29 -> - Đào đất lòng kênh bằng máy đào đoạn 2 từ Km: 0+132 đến Km: 0+297 - Đắp đất bờ kênh bằng máy đoạn 1 từ Km: 0+000.00 đến Km: 0+132 | E28: 01 tổ | F28: Máy đào, pông tông
A29: =A28+1 -> 19 | B29: =+B28+1 -> 45978 | C29: - Đào đất lòng kênh bằng máy đào đoạn 2 từ Km: 0+132 đến Km: 0+297 - Đắp đất bờ kênh bằng máy đoạn 1 từ Km: 0+000.00 đến Km: 0+132 | E29: 01 tổ | F29: Máy đào, pông tông, máy đầm cóc
A30: =A29+1 -> 20 | B30: =+B29+1 -> 45979 | C30: - Đào đất lòng kênh bằng máy đào đoạn 2 từ Km: 0+132 đến Km: 0+297 - Đắp đất bờ kênh bằng máy đoạn 1 từ Km: 0+000.00 đến Km: 0+132 | E30: 01 tổ | F30: 'Máy đào, pông tông, máy đầm cóc
A31: =A30+1 -> 21 | B31: =+B30+1 -> 45980 | C31: - Đào đất lòng kênh bằng máy đào đoạn 2 từ Km: 0+132 đến Km: 0+297 - Đắp đất bờ kênh bằng máy đoạn 1 từ Km: 0+000.00 đến Km: 0+132 | E31: 01 tổ | F31: 'Máy đào, pông tông, máy đầm cóc
A32: =A31+1 -> 22 | B32: =+B31+1 -> 45981 | C32: - Đào đất lòng kênh bằng máy đào đoạn 2 từ Km: 0+132 đến Km: 0+297 - Đắp đất bờ kênh bằng máy đoạn 1 từ Km: 0+000.00 đến Km: 0+132 | E32: 01 tổ | F32: 'Máy đào, pông tông, máy đầm cóc
A33: =A32+1 -> 23 | B33: =+B32+1 -> 45982 | C33: - Đào đất lòng kênh bằng máy đào đoạn 2 từ Km: 0+132 đến Km: 0+297 - Đắp đất bờ kênh bằng máy đoạn 1 từ Km: 0+000.00 đến Km: 0+132 | E33: 01 tổ | F33: 'Máy đào, pông tông, máy đầm cóc
A34: =A33+1 -> 24 | B34: =+B33+1 -> 45983 | C34: - Đào đất lòng kênh bằng máy đào đoạn 2 từ Km: 0+132 đến Km: 0+297 - Đắp đất bờ kênh bằng máy đoạn 1 từ Km: 0+000.00 đến Km: 0+132 | E34: 01 tổ | F34: 'Máy đào, pông tông, máy đầm cóc
A35: =A34+1 -> 25 | B35: =+B34+1 -> 45984 | C35: - Đào đất lòng kênh bằng máy đào đoạn 2 từ Km: 0+132 đến Km: 0+297 - Đắp đất bờ kênh bằng máy đoạn 1 từ Km: 0+000.00 đến Km: 0+132 | E35: 01 tổ | F35: 'Máy đào, pông tông, máy đầm cóc
A36: =A35+1 -> 26 | B36: =+B35+1 -> 45985 | C36: - Đào đất lòng kênh bằng máy đào đoạn 2 từ Km: 0+132 đến Km: 0+297 - Đắp đất bờ kênh bằng máy đoạn 1 từ Km: 0+000.00 đến Km: 0+132 | E36: 01 tổ | F36: 'Máy đào, pông tông, máy đầm cóc
A37: =A36+1 -> 27 | B37: =+B36+1 -> 45986 | C37: - Đào đất lòng kênh bằng máy đào đoạn 2 từ Km: 0+132 đến Km: 0+297 - Đắp đất bờ kênh bằng máy đoạn 1 từ Km: 0+000.00 đến Km: 0+132 | E37: 01 tổ | F37: 'Máy đào, pông tông, máy đầm cóc
A38: =A37+1 -> 28 | B38: =+B37+1 -> 45987 | C38: "- Đào đất lòng kênh bằng máy đào đoạn 3 từ Km: 0+297 đến Km: 0+424 - Đắp đất bờ kênh bằng máy đoạn 2 từ Km: 0+132 đến Km: 0+297 | E38: 01 tổ | F38: 'Máy đào, pông tông, máy đầm cóc
A39: =A38+1 -> 29 | B39: =+B38+1 -> 45988 | C39: =C40 -> "- Đào đất lòng kênh bằng máy đào đoạn 3 từ Km: 0+297 đến Km: 0+424 - Đắp đất bờ kênh bằng máy đoạn 2 từ Km: 0+132 đến Km: 0+297 | E39: 01 tổ | F39: 'Máy đào, pông tông, máy đầm cóc
A40: =A39+1 -> 30 | B40: =+B39+1 -> 45989 | C40: "- Đào đất lòng kênh bằng máy đào đoạn 3 từ Km: 0+297 đến Km: 0+424 - Đắp đất bờ kênh bằng máy đoạn 2 từ Km: 0+132 đến Km: 0+297 | E40: 01 tổ | F40: 'Máy đào, pông tông, máy đầm cóc
A41: =A40+1 -> 31 | B41: =+B40+1 -> 45990 | C41: "- Đào đất lòng kênh bằng máy đào đoạn 3 từ Km: 0+297 đến Km: 0+424 - Đắp đất bờ kênh bằng máy đoạn 2 từ Km: 0+132 đến Km: 0+297 | E41: 01 tổ | F41: 'Máy đào, pông tông, máy đầm cóc
A42: =A41+1 -> 32 | B42: =+B41+1 -> 45991 | C42: "- Đào đất lòng kênh bằng máy đào đoạn 3 từ Km: 0+297 đến Km: 0+424 - Đắp đất bờ kênh bằng máy đoạn 2 từ Km: 0+132 đến Km: 0+297 | E42: 01 tổ | F42: 'Máy đào, pông tông, máy đầm cóc
A43: =A42+1 -> 33 | B43: =+B42+1 -> 45992 | C43: "- Đào đất lòng kênh bằng máy đào đoạn 3 từ Km: 0+297 đến Km: 0+424 - Đắp đất bờ kênh bằng máy đoạn 2 từ Km: 0+132 đến Km: 0+297 | E43: 01 tổ | F43: 'Máy đào, pông tông, máy đầm cóc
...

Sheet Thang 1
A1: NHẬT KÝ CÔNG TRÌNH
A3: Ngày thi công thứ: | D3: 1
O4: ="Hải phòng, ngày "&DAY(P4)&" tháng "&MONTH(P4)&" năm 2025" -> Hải phòng, ngày 30 tháng 10 năm 2025 | P4: =VLOOKUP('Thang 1'!D3,'Đầu vào'!A:H,2,0) -> 45960
A6: 1. Tình hình thời tiết: | D6: Bình thường | F6: P | H6: Mưa | L6: Nắng
A7: 2. Tình hình nhân lực, thiết bị thi công:
A8: 2.1.Nhân lực: | C8: =VLOOKUP('Thang 1'!D3,'Đầu vào'!A:H,5,0) -> 0
A9: 2.2.Thiết bị:
B10: =VLOOKUP('Thang 1'!D3,'Đầu vào'!A:H,6,0) -> 0
A11: 3. Tình hình thi công:
A12: 3.1. Nội dung công việc thực hiện:
B13: =VLOOKUP('Thang 1'!D3,'Đầu vào'!A:H,3,0) -> - Biên bản bàn giao mặt bằng công trình
A14: 3.2. Nghiệm thu công việc xây dựng:
B15: =VLOOKUP('Thang 1'!D3,'Đầu vào'!A:H,4,0) -> 0
A16: 4. Các tiêu chí đánh giá:
A17: 4.1. Biện pháp thi công: | E17: Tốt | F17: P | H17: Bình thường | L17: Kém
A19: 4.2. Tiến độ thực hiện: | E19: Tốt | F19: P | H19: Bình thường | L19: Kém
A21: 4.3. Công tác an toàn lao động: | E21: Tốt | F21: P | H21: Bình thường | L21: Kém
A23: 4.4. Công tác vệ sinh môi trường: | E23: Tốt | F23: P | H23: Bình thường | L23: Kém
A25: 5. Những ý kiến trong quá trình thi công xây dựng của các bên liên quan:
B26: =VLOOKUP('Thang 1'!D3,'Đầu vào'!A:H,7,0) -> 0
A27: 6. Ý kiến của nhà thầu thi công xây dựng:
B28: =VLOOKUP('Thang 1'!D3,'Đầu vào'!A:H,8,0) -> 0
C30: TƯ VẤN GIÁM SÁT | K30: NHÀ THẦU THI CÔNG
C36: ='Đầu vào'!$C$7 -> Nguyễn Tuấn Thành | K36: ='Đầu vào'!$C$8 -> Nguyễn Sĩ Thoả
A37: NHẬT KÝ CÔNG TRÌNH
A39: Ngày thi công thứ: | D39: =D3+1 -> 2
O40: ="Hải phòng, ngày "&DAY(P40)&" tháng "&MONTH(P40)&" năm 2025" -> Hải phòng, ngày 31 tháng 10 năm 2025 | P40: =VLOOKUP('Thang 1'!D39,'Đầu vào'!A:H,2,0) -> 45961
A42: 1. Tình hình thời tiết: | D42: Bình thường | F42: P | H42: Mưa | L42: Nắng
A43: 2. Tình hình nhân lực, thiết bị thi công:
A44: 2.1.Nhân lực: | C44: =VLOOKUP('Thang 1'!D39,'Đầu vào'!A:H,5,0) -> 0
A45: 2.2.Thiết bị:
B46: =VLOOKUP('Thang 1'!D39,'Đầu vào'!A:H,6,0) -> 0
A47: 3. Tình hình thi công:
A48: 3.1. Nội dung công việc thực hiện:
B49: =VLOOKUP('Thang 1'!D39,'Đầu vào'!A:H,3,0) -> - Tập kết pông tông, máy đào, tấm chống lầy tại hiện trường
A50: 3.2. Nghiệm thu công việc xây dựng:
B51: ='Đầu vào'!D12 -> 0
A52: 4. Các tiêu chí đánh giá:
A53: 4.1. Biện pháp thi công: | E53: Tốt | F53: P | H53: Bình thường | L53: Kém
A55: 4.2. Tiến độ thực hiện: | E55: Tốt | F55: P | H55: Bình thường | L55: Kém
...

Sheet Thang 1 -1
A1: NHẬT KÝ CÔNG TRÌNH
A3: Ngày thi công thứ: | D3: 32
O4: ="Hải phòng, ngày "&DAY(P4)&" tháng "&MONTH(P4)&" năm 2025" -> Hải phòng, ngày 30 tháng 11 năm 2025 | P4: =VLOOKUP('Thang 1 -1'!D3,'Đầu vào'!A:H,2,0) -> 45991
A6: 1. Tình hình thời tiết: | D6: Bình thường | F6: P | H6: Mưa | L6: Nắng
A7: 2. Tình hình nhân lực, thiết bị thi công:
A8: 2.1.Nhân lực: | C8: =VLOOKUP('Thang 1 -1'!D3,'Đầu vào'!A:H,5,0) -> 01 tổ
A9: 2.2.Thiết bị:
B10: =VLOOKUP('Thang 1 -1'!D3,'Đầu vào'!A:H,6,0) -> 'Máy đào, pông tông, máy đầm cóc
A11: 3. Tình hình thi công:
A12: 3.1. Nội dung công việc thực hiện:
B13: =VLOOKUP('Thang 1 -1'!D3,'Đầu vào'!A:H,3,0) -> "- Đào đất lòng kênh bằng máy đào đoạn 3 từ Km: 0+297 đến Km: 0+424 - Đắp đất bờ kênh bằng máy đoạn 2 từ Km: 0+132 đến Km: 0+297
A14: 3.2. Nghiệm thu công việc xây dựng:
B15: =VLOOKUP('Thang 1 -1'!D3,'Đầu vào'!A:H,4,0) -> 0
A16: 4. Các tiêu chí đánh giá:
A17: 4.1. Biện pháp thi công: | E17: Tốt | F17: P | H17: Bình thường | L17: Kém
A19: 4.2. Tiến độ thực hiện: | E19: Tốt | F19: P | H19: Bình thường | L19: Kém
A21: 4.3. Công tác an toàn lao động: | E21: Tốt | F21: P | H21: Bình thường | L21: Kém
A23: 4.4. Công tác vệ sinh môi trường: | E23: Tốt | F23: P | H23: Bình thường | L23: Kém
A25: 5. Những ý kiến trong quá trình thi công xây dựng của các bên liên quan:
B26: =VLOOKUP('Thang 1 -1'!D3,'Đầu vào'!A:H,7,0) -> 0
A27: 6. Ý kiến của nhà thầu thi công xây dựng:
B28: =VLOOKUP('Thang 1 -1'!D3,'Đầu vào'!A:H,8,0) -> 0
C30: TƯ VẤN GIÁM SÁT | K30: NHÀ THẦU THI CÔNG
C36: ='Đầu vào'!$C$7 -> Nguyễn Tuấn Thành | K36: ='Đầu vào'!$C$8 -> Nguyễn Sĩ Thoả
A37: NHẬT KÝ CÔNG TRÌNH
A39: Ngày thi công thứ: | D39: =D3+1 -> 33
O40: ="Hải phòng, ngày "&DAY(P40)&" tháng "&MONTH(P40)&" năm 2025" -> Hải phòng, ngày 1 tháng 12 năm 2025 | P40: =VLOOKUP('Thang 1 -1'!D39,'Đầu vào'!A:H,2,0) -> 45992
A42: 1. Tình hình thời tiết: | D42: Bình thường | F42: P | H42: Mưa | L42: Nắng
A43: 2. Tình hình nhân lực, thiết bị thi công:
A44: 2.1.Nhân lực: | C44: =VLOOKUP('Thang 1 -1'!D39,'Đầu vào'!A:H,5,0) -> 01 tổ
A45: 2.2.Thiết bị:
B46: =VLOOKUP('Thang 1 -1'!D39,'Đầu vào'!A:H,6,0) -> 'Máy đào, pông tông, máy đầm cóc
A47: 3. Tình hình thi công:
A48: 3.1. Nội dung công việc thực hiện:
B49: =VLOOKUP('Thang 1 -1'!D39,'Đầu vào'!A:H,3,0) -> "- Đào đất lòng kênh bằng máy đào đoạn 3 từ Km: 0+297 đến Km: 0+424 - Đắp đất bờ kênh bằng máy đoạn 2 từ Km: 0+132 đến Km: 0+297
A50: 3.2. Nghiệm thu công việc xây dựng:
B51: ='Đầu vào'!D12 -> 0
A52: 4. Các tiêu chí đánh giá:
A53: 4.1. Biện pháp thi công: | E53: Tốt | F53: P | H53: Bình thường | L53: Kém
A55: 4.2. Tiến độ thực hiện: | E55: Tốt | F55: P | H55: Bình thường | L55: Kém
...

Sheet Thang 2
A1: NHẬT KÝ CÔNG TRÌNH
A3: Ngày thi công thứ: | D3: ='Đầu vào'!A54 -> 44
O4: ="Hải phòng, ngày "&DAY(P4)&" tháng "&MONTH(P4)&" năm 2025" -> Hải phòng, ngày 12 tháng 12 năm 2025 | P4: =VLOOKUP('Thang 2'!D3,'Đầu vào'!A:H,2,0) -> 46003
A6: 1. Tình hình thời tiết: | D6: Bình thường | F6: P | H6: Mưa | L6: Nắng
A7: 2. Tình hình nhân lực, thiết bị thi công:
A8: 2.1.Nhân lực: | C8: =VLOOKUP('Thang 2'!D3,'Đầu vào'!A:H,5,0) -> 01 tổ
A9: 2.2.Thiết bị:
B10: =VLOOKUP('Thang 2'!D3,'Đầu vào'!A:H,6,0) -> Máy đào, pông tông, máy đầm cóc
A11: 3. Tình hình thi công:
A12: 3.1. Nội dung công việc thực hiện:
B13: =VLOOKUP('Thang 2'!D3,'Đầu vào'!A:H,3,0) -> - Đào đất lòng kênh bằng máy đào đoạn 5 từ Km: 0+499 đến Km: 0+593 - Đắp đất bờ kênh bằng máy đoạn 4 từ Km: 0+424 đến Km: 0+499
A14: 3.2. Nghiệm thu công việc xây dựng:
B15: =VLOOKUP('Thang 2'!D3,'Đầu vào'!A:H,4,0) -> 0
A16: 4. Các tiêu chí đánh giá:
A17: 4.1. Biện pháp thi công: | E17: Tốt | F17: P | H17: Bình thường | L17: Kém
A19: 4.2. Tiến độ thực hiện: | E19: Tốt | F19: P | H19: Bình thường | L19: Kém
A21: 4.3. Công tác an toàn lao động: | E21: Tốt | F21: P | H21: Bình thường | L21: Kém
A23: 4.4. Công tác vệ sinh môi trường: | E23: Tốt | F23: P | H23: Bình thường | L23: Kém
A25: 5. Những ý kiến trong quá trình thi công xây dựng của các bên liên quan:
B26: - Đồng ý nghiệm thu công việc xây dựng trên để triển khai công việc xây dựng tiếp theo
A27: 6. Ý kiến của nhà thầu thi công xây dựng:
B28: =VLOOKUP('Thang 2'!D3,'Đầu vào'!A:H,8,0) -> 0
C30: TƯ VẤN GIÁM SÁT | K30: NHÀ THẦU THI CÔNG
C36: ='Đầu vào'!$C$7 -> Nguyễn Tuấn Thành | K36: ='Đầu vào'!$C$8 -> Nguyễn Sĩ Thoả
A37: NHẬT KÝ CÔNG TRÌNH
A39: Ngày thi công thứ: | D39: =D3+1 -> 45
O40: ="Hải phòng, ngày "&DAY(P40)&" tháng "&MONTH(P40)&" năm 2025" -> Hải phòng, ngày 13 tháng 12 năm 2025 | P40: =VLOOKUP('Thang 2'!D39,'Đầu vào'!A:H,2,0) -> 46004
A42: 1. Tình hình thời tiết: | D42: Bình thường | F42: P | H42: Mưa | L42: Nắng
A43: 2. Tình hình nhân lực, thiết bị thi công:
A44: 2.1.Nhân lực: | C44: =VLOOKUP('Thang 2'!D39,'Đầu vào'!A:H,5,0) -> 01 tổ
A45: 2.2.Thiết bị:
B46: =VLOOKUP('Thang 2'!D39,'Đầu vào'!A:H,6,0) -> Máy đào, pông tông, máy đầm cóc, ô tô
A47: 3. Tình hình thi công:
A48: 3.1. Nội dung công việc thực hiện:
B49: =VLOOKUP('Thang 2'!D39,'Đầu vào'!A:H,3,0) -> - Đào đất lòng kênh bằng máy đào đoạn 5 từ Km: 0+499 đến Km: 0+593 - Đắp đất bờ kênh bằng máy đoạn 4 từ Km: 0+424 đến Km: 0+499
A50: 3.2. Nghiệm thu công việc xây dựng:
B51: =VLOOKUP('Thang 2'!D39,'Đầu vào'!A:H,4,0) -> 0
A52: 4. Các tiêu chí đánh giá:
A53: 4.1. Biện pháp thi công: | E53: Tốt | F53: P | H53: Bình thường | L53: Kém
A55: 4.2. Tiến độ thực hiện: | E55: Tốt | F55: P | H55: Bình thường | L55: Kém
...

Sheet Thang 3
A1: NHẬT KÝ CÔNG TRÌNH
A3: Ngày thi công thứ: | D3: 74
O4: ="Hải phòng, ngày "&DAY(P4)&" tháng "&MONTH(P4)&" năm 2026" -> Hải phòng, ngày 11 tháng 1 năm 2026 | P4: =VLOOKUP('Thang 3'!D3,'Đầu vào'!A:H,2,0) -> 46033
A6: 1. Tình hình thời tiết: | D6: Bình thường | F6: P | H6: Mưa | L6: Nắng
A7: 2. Tình hình nhân lực, thiết bị thi công:
A8: 2.1.Nhân lực: | C8: =VLOOKUP('Thang 3'!D3,'Đầu vào'!A:H,5,0) -> 01 tổ
A9: 2.2.Thiết bị:
B10: =VLOOKUP('Thang 3'!D3,'Đầu vào'!A:H,6,0) -> Máy đào, pông tông
A11: 3. Tình hình thi công:
A12: 3.1. Nội dung công việc thực hiện:
B13: =VLOOKUP('Thang 3'!D3,'Đầu vào'!A:H,3,0) -> - Đào đất lòng kênh bằng máy đào đoạn 7 từ Km: 0+752 đến Km: 0+888.9 - Đắp đất bờ kênh bằng máy đoạn 6 từ Km: 0+593 đến Km: 0+752 - Đắp đất bờ kênh bằng máy đoạn 7 từ Km: 0+752 đến Km: 0+888.9
A14: 3.2. Nghiệm thu công việc xây dựng:
B15: =VLOOKUP('Thang 3'!D3,'Đầu vào'!A:H,4,0) -> 0
A16: 4. Các tiêu chí đánh giá:
A17: 4.1. Biện pháp thi công: | E17: Tốt | F17: P | H17: Bình thường | L17: Kém
A19: 4.2. Tiến độ thực hiện: | E19: Tốt | F19: P | H19: Bình thường | L19: Kém
A21: 4.3. Công tác an toàn lao động: | E21: Tốt | F21: P | H21: Bình thường | L21: Kém
A23: 4.4. Công tác vệ sinh môi trường: | E23: Tốt | F23: P | H23: Bình thường | L23: Kém
A25: 5. Những ý kiến trong quá trình thi công xây dựng của các bên liên quan:
B26: - Đồng ý nghiệm thu công việc xây dựng trên để triển khai công việc xây dựng tiếp theo
A27: 6. Ý kiến của nhà thầu thi công xây dựng:
B28: =VLOOKUP('Thang 3'!D3,'Đầu vào'!A:H,8,0) -> 0
C30: TƯ VẤN GIÁM SÁT | K30: NHÀ THẦU THI CÔNG
C36: ='Đầu vào'!$C$7 -> Nguyễn Tuấn Thành | K36: ='Đầu vào'!$C$8 -> Nguyễn Sĩ Thoả
A37: NHẬT KÝ CÔNG TRÌNH
A39: Ngày thi công thứ: | D39: =D3+1 -> 75
O40: ="Hải phòng, ngày "&DAY(P40)&" tháng "&MONTH(P40)&" năm 2026" -> Hải phòng, ngày 12 tháng 1 năm 2026 | P40: =VLOOKUP('Thang 3'!D39,'Đầu vào'!A:H,2,0) -> 46034
A42: 1. Tình hình thời tiết: | D42: Bình thường | F42: P | H42: Mưa | L42: Nắng
A43: 2. Tình hình nhân lực, thiết bị thi công:
A44: 2.1.Nhân lực: | C44: =VLOOKUP('Thang 3'!D39,'Đầu vào'!A:H,5,0) -> 01 tổ
A45: 2.2.Thiết bị:
B46: =VLOOKUP('Thang 3'!D39,'Đầu vào'!A:H,6,0) -> Máy đào, pông tông
A47: 3. Tình hình thi công:
A48: 3.1. Nội dung công việc thực hiện:
B49: =VLOOKUP('Thang 3'!D39,'Đầu vào'!A:H,3,0) -> - Đào đất lòng kênh bằng máy đào đoạn 7 từ Km: 0+752 đến Km: 0+888.9 - Đắp đất bờ kênh bằng máy đoạn 6 từ Km: 0+593 đến Km: 0+752 - Đắp đất bờ kênh bằng máy đoạn 7 từ Km: 0+752 đến Km: 0+888.9
A50: 3.2. Nghiệm thu công việc xây dựng:
B51: =VLOOKUP('Thang 3'!D39,'Đầu vào'!A:H,4,0) -> 0
A52: 4. Các tiêu chí đánh giá:
A53: 4.1. Biện pháp thi công: | E53: Tốt | F53: P | H53: Bình thường | L53: Kém
A55: 4.2. Tiến độ thực hiện: | E55: Tốt | F55: P | H55: Bình thường | L55: Kém
...
