Workbook

Sheet Nhat ky
E1: DANH MỤC NHẬT KÝ THI CÔNG CÔNG TRÌNH
E2: Công trình:Sửa chữa tuyến kênh Đồng Dầm (Từ kênh Đại Trà 1 đến Gốc đa Miếu Bà); sửa chữa máng inox Đội 3 - Đội 5 thôn Phong Cầu 1, thôn Phong Cầu 2, xã Kiến Minh
A5: Khởi công | B5: Hoàn thành | E5: Stt | F5: Ngày tháng năm | G5: Nội dung nhật ký | H5: Nội dung công việc nghiệm thu/lấy mẫu | I5: Số BB nghiệm thu công việc
A6: 45960 | B6: =+A6+C6 -> 46022 | C6: 62 | E6: I | G6: Chuẩn bị thi công
A7: Hợp đồng: | B7: 45960 | E7: 1 | F7: 45960 | G7: Quyết định giao nhiệm vụ thi công
A8: Hiệu lực HĐ: | B8: 45960 | E8: 2 | F8: 45568 | G8: Thông báo khởi công
E9: 3 | F9: 45570 | G9: Biên bản bàn giao mặt bằng công trình
E10: 4 | F10: 45570 | G10: Biên bản kiểm tra phòng thí nghiệm
E11: 5 | F11: =+F8+3 -> 45571 | G11: Biên bản kiểm tra điều kiện khởi công
E12: 6 | F12: 45572 | G12: Biên bản kiểm tra nhân lực của nhà thầu
E13: 7 | F13: 45572 | G13: Biên bản kiểm tra máy móc thi công xây dựng
E14: 9 | F14: 45572 | G14: Biên bản kiểm tra công tác quản lý chất lượng thi công
E15: 10 | F15: 3/11/2024 10/11/2024 18/11/2024 | G15: Biên bản lấy mẫu thí nghiệm.
E16: II
E17: * | F17: =+F14+1 -> 45573 | G17: Bắt đầu công việc
F18: =+F17 -> 45573 | G18: '- Tập kết phao thép và máy đào tại hiện trường; lắp ghép phao thép - Phiếu yêu cầu nghiệm thu: hoàn thành công việc tập kết phao thép, máy đào và lắp ghép phao thép phục vụ thi công | I18: PYC
F19: =+F18+1 -> 45574 | G19: *Nghiệm thu công việc xây dựng: Tập kết phao thép, máy đào và lắp ghép phao thép phục vụ thi công. * Công việc tiếp theo: - Chặt cây cối, phát dọn mặt bằng công trình | H19: *Nghiệm thu công việc xây dựng: Tập kết phao thép, máy đào và lắp ghép phao thép phục vụ thi công. | I19: 01
F20: =+F19+1 -> 45575 | G20: - Chặt cây cối, phát dọn mặt bằng công trình - Vận chuyển cây cối ra vị trí tập kết
F21: =+F20+1 -> 45576 | G21: - Chặt cây cối, phát dọn mặt bằng công trình - Vận chuyển cây cối ra vị trí tập kết - Phiếu yêu cầu nghiệm thu hoàn thành công việc xây dựng: Chặt cây cối, phát quang mặt bằng công trình, vận chuyển cây cối ra vị trí tập kết | I21: PYC
F22: =+F21+1 -> 45577 | G22: *Nghiệm thu công việc xây dựng: Chặt cây cối, phát quang mặt bằng công trình, vận chuyển cây cối ra vị trí tập kết * Công việc tiếp theo: Đào đất lòng kênh bằng máy đoạn 1 từ mặt cắt 1-15 | H22: *Nghiệm thu công việc xây dựng: Chặt cây cối, phát quang mặt bằng công trình, vận chuyển cây cối ra vị trí tập kết | I22: 02
F23: =+F22+1 -> 45578 | G23: - Đào đất lòng kênh bằng máy đào đoạn 1 từ mặt cắt 1 đến mặt cắt 5
F24: =+F23+1 -> 45579 | G24: - Đào đất lòng kênh bằng máy đào đoạn 1 từ mặt cắt 1 đến mặt cắt 5
F25: =+F24+1 -> 45580 | G25: - Đào đất lòng kênh bằng máy đào đoạn 1 từ mặt cắt 5 đến mặt cắt 10
F26: =+F25+1 -> 45581 | G26: - Đào đất lòng kênh bằng máy đào đoạn 1 từ mặt cắt 5 đến mặt cắt 10
F27: =+F26+1 -> 45582 | G27: - Đào đất lòng kênh bằng máy đào đoạn 1 từ mặt cắt 10 đến mặt cắt 15
F28: =+F27+1 -> 45583 | G28: - Đào đất lòng kênh bằng máy đào đoạn 1 từ mặt cắt 10 đến mặt cắt 15 * Phiếu yêu cầu nghiệm thu công việc xây dựng: - Đào đất lòng kênh bằng máy đào đoạn 1 từ mặt cắt 1-15 | I28: PYC
F29: =+F28+1 -> 45584 | G29: *Nghiệm thu công việc xây dựng: - Đào đất lòng kênh bằng máy đào đoạn 1 từ mặt cắt 1-15 * Công việc tiếp theo: - Đào đất lòng kênh bằng máy đào đoạn 1 từ mặt cắt 15 đến mặt cắt 29 - Đắp đất bờ kênh bằng máy đoạn 1 từ mặt cắt 1-15 - Đào đất lòng kênh bằng máy đào đoạn 2 từ mặt cắt 1 đến mặt cắt 6 | H29: *Nghiệm thu công việc xây dựng: - Đào đất lòng kênh bằng máy đào đoạn 1 từ mặt cắt 1 đến mặt cắt 15 | I29: 03
F30: =+F29+1 -> 45585 | G30: - Đào đất lòng kênh bằng máy đào đoạn 1 từ mặt cắt 15 đến mặt cắt 20 - Đắp đất bờ kênh bằng máy đoạn 1 từ mặt cắt 1 đến mặt cắt 5
F31: =+F30+1 -> 45586 | G31: - Đào đất lòng kênh bằng máy đào đoạn 1 từ mặt cắt 15 đến mặt cắt 20 - Đắp đất bờ kênh bằng máy đoạn 1 từ mặt cắt 1 đến mặt cắt 5
F32: =+F31+1 -> 45587 | G32: - Đào đất lòng kênh bằng máy đào từ đoạn 1 mặt cắt 20 đến mặt cắt 25 - Đắp đất bờ kênh bằng máy đoạn 1 từ mặt cắt 5 đến mặt cắt 10
F33: =+F32+1 -> 45588 | G33: - Đào đất lòng kênh bằng máy đào đoạn 1 từ mặt cắt 20 đến mặt cắt 25 - Đắp đất bờ kênh bằng máy đoạn 1 từ mặt cắt 5 đến mặt cắt 10
F34: =+F33+1 -> 45589 | G34: - Đào đất lòng kênh bằng máy đào đoạn 2 từ mặt cắt 25 đến mặt cắt 29 - Đắp đất bờ kênh bằng máy đoạn 1 từ mặt cắt 10 đến mặt cắt 15 '- Đào đất lòng kênh bằng máy đào đoạn 2 từ mặt cắt 1 đến mặt cắt 6
F35: =+F34+1 -> 45590 | G35: - Đào đất lòng kênh bằng máy đào đoạn 2 từ mặt cắt 25 đến mặt cắt 29 - Đắp đất bờ kênh bằng máy đoạn 1 từ mặt cắt 10 đến mặt cắt 15 '- Đào đất lòng kênh bằng máy đào đoạn 2 từ mặt cắt 1 đến mặt cắt 6
F36: =+F35+1 -> 45591 | G36: - Đào đất lòng kênh bằng máy đào đoạn 2 từ mặt cắt 25 đến mặt cắt 29 - Đắp đất bờ kênh bằng máy đoạn 1 từ mặt cắt 10 đến mặt cắt 15 - Đào đất lòng kênh bằng máy đào đoạn 2 từ mặt cắt 1 đến mặt cắt 6 *Phiếu yêu cầu nghiệm thu công việc: - Đào đất lòng kênh bằng máy đào đoạn 1 từ mặt cắt 15 đến mặt cắt 29 - Đắp đất bờ kênh đoạn 1 bằng máy từ mặt cắt 1 đến mặt cắt 15 | I36: PYC
F37: =+F36+1 -> 45592 | G37: * Nghiệm thu công việc: - Đào đất lòng kênh bằng máy đào đoạn 1 từ mặt cắt 15 đến mặt cắt 29 - Đắp đất bờ kênh đoạn 1 bằng máy từ mặt cắt 1 đến mặt cắt 15 * Công việc tiếp theo: - Đắp đất bờ kênh bằng máy đoạn 1 từ mặt cắt 15 đến mặt cắt 29 - Đắp đất bờ kênh bằng thủ công đoạn 1từ mặt cắt 1 đến mặt cắt 15 - Vận chuyển đất thừa ra bãi tập kết bằng ô tô từ mặt cắt 1 đến mặt cắt 15 - Đắp đất bờ kênh bằng máy đoạn 2 từ mặt cắt 1 đến mặt cắt 6 | H37: * Nghiệm thu công việc: - Đào đất lòng kênh bằng máy đào đoạn 1 từ mặt cắt 15 đến mặt cắt 29 - Đắp đất bờ kênh đoạn 1 bằng máy từ mặt cắt 1 đến mặt cắt 15 | I37: 04
F38: =+F37+1 -> 45593 | G38: - Đắp đất bờ kênh đoạn 1 bằng máy từ mặt cắt 15 đến mặt cắt 20 - Đắp đất bờ kênh bằng thủ công đoạn 1 từ mặt cắt 1 đến mặt cắt 5
F39: =+F38+1 -> 45594 | G39: - Đắp đất bờ kênh đoạn 1 bằng máy từ mặt cắt 15 đến mặt cắt 20 - Đắp đất bờ kênh bằng thủ công đoạn 1 từ mặt cắt 1 đến mặt cắt 5
F40: =+F39+1 -> 45595 | G40: - Đắp đất bờ kênh đoạn 1 bằng máy từ mặt cắt 15 đến mặt cắt 20 - Đắp đất bờ kênh bằng thủ công đoạn 1 từ mặt cắt 1 đến mặt cắt 5 - Vận chuyển đất thừa ra bãi tập kết bằng ô tô từ mặt cắt 1 đến mặt cắt 5
F41: =+F40+1 -> 45596 | G41: - Đắp đất bờ kênh đoạn 1 bằng máy từ mặt cắt 20 đến mặt cắt 25 - Đắp đất bờ kênh bằng thủ công đoạn 1 từ mặt cắt 5 đến mặt cắt 10
F42: =+F41+1 -> 45597 | G42: - Đắp đất bờ kênh bằng máy đoạn 1 từ mặt cắt 20 đến mặt cắt 25 - Đắp đất bờ kênh bằng thủ công đoạn 1 từ mặt cắt 5 đến mặt cắt 10
F43: =+F42+1 -> 45598 | G43: - Đắp đất bờ kênh bằng máy đoạn 1 từ mặt cắt 20 đến mặt cắt 25 - Đắp đất bờ kênh bằng thủ công đoạn 1 từ mặt cắt 5 đến mặt cắt 10 - Vận chuyển đất thừa ra bãi tập kết bằng ô tô từ mặt cắt 5 đến mặt cắt 10
F44: =+F43+1 -> 45599 | G44: - Đắp đất bờ kênh bằng máy đoạn 1 từ mặt cắt 25 đến mặt cắt 29 - Đắp đất bờ kênh bằng thủ công đoạn 1 từ mặt cắt 10 đến mặt cắt 15
F45: =+F44+1 -> 45600 | G45: - Đắp đất bờ kênh bằng máy đoạn 1 từ mặt cắt 25 đến mặt cắt 29 - Đắp đất bờ kênh bằng thủ công đoạn 1 từ mặt cắt 10 đến mặt cắt 15
F46: =+F45+1 -> 45601 | G46: - Đắp đất bờ kênh bằng thủ công đoạn 1 từ mặt cắt 10 đến mặt cắt 15 - Đắp đất bờ kênh bằng máy đoạn 2 từ mặt cắt 1 đến mặt cắt 6
F47: =+F46+1 -> 45602 | G47: - Đắp đất bờ kênh bằng thủ công đoạn 1 từ mặt cắt 10 đến mặt cắt 15 - Vận chuyển đất thừa ra bãi tập kết bằng ô tô từ mặt cắt 10 đến mặt cắt 15 - Lấy mẫu thí nghiệm đầm chặt tại vị trí đắp bờ từ mặt cắt 1 đến mặt cắt 15 - Đắp đất bờ kênh bằng máy đoạn 2 từ mặt cắt 1 đến mặt cắt 6 - Di chuyển máy móc thiết bị ra khỏi công trường Phiếu yêu cầu nghiệm thu công việc: '- Đắp đất bờ kênh bằng máy đoạn 1 từ mặt cắt 15 đến mặt cắt 29 - Đắp đất bờ kênh bằng thủ công đoạn 1 từ mặt cắt 1 đến mặt cắt 15 - Vận chuyển đất thừa ra bãi tập kết bằng ô tô từ mặt cắt 1 đến mặt cắt 15 - Di chuyển máy móc thiết bị ra khỏi công trường | H47: Lấy mẫu thí nghiệm đầm chặt tại vị trí đắp bờ từ mặt cắt 1 đến mặt cắt 15 | I47: PYC
F48: =+F47+1 -> 45603 | G48: *Nghiệm thu công việc: '- Đắp đất bờ kênh bằng máy đoạn 1 từ mặt cắt 15 đến mặt cắt 29 - Đắp đất bờ kênh bằng thủ công đoạn 1 từ mặt cắt 1 đến mặt cắt 15 - Vận chuyển đất thừa ra bãi tập kết bằng ô tô từ mặt cắt 1 đến mặt cắt 15 - Di chuyển máy móc thiết bị ra khỏi công trường * Công việc tiếp theo: - Đắp đất bờ kênh bằng thủ công đoạn 1 từ mặt cắt 15 đến mặt cắt 29 - Đắp đất bờ kênh bằng thủ công đoạn 2 từ mặt cắt 1 đến mặt cắt 6 - Vận chuyển đất thừa đổ đi đoạn 1 từ mặt cắt 15 đến mặt cắt 29 - Vận chuyển đất thừa đổ đi đoạn 2 từ mặt cắt 1 đến mặt cắt 6 | H48: *Nghiệm thu công việc: - Đắp đất bờ kênh bằng máy đoạn 1 từ mặt cắt 15 đến mặt cắt 29 - Đắp đất bờ kênh bằng thủ công đoạn 1 từ mặt cắt 1 đến mặt cắt 15 - Vận chuyển đất thừa ra bãi tập kết bằng ô tô từ mặt cắt 1 đến mặt cắt 15 - Di chuyển máy móc thiết bị ra khỏi công trường | I48: 5
F49: =+F48+1 -> 45604 | G49: - Đắp đất bờ kênh bằng thủ công đoạn 1 từ mặt cắt 15 đến mặt cắt 20
F50: =+F49+1 -> 45605 | G50: - Đắp đất bờ kênh bằng thủ công đoạn 1 từ mặt cắt 15 đến mặt cắt 20
F51: =+F50+1 -> 45606 | G51: - Đắp đất bờ kênh bằng thủ công đoạn 1 từ mặt cắt 15 đến mặt cắt 20 - Vận chuyển đất thừa đổ đi đoạn 1 từ mặt cắt 15 đến mặt cắt 20
F52: =+F51+1 -> 45607 | G52: - Đắp đất bờ kênh bằng thủ công đoạn 1 từ mặt cắt 20 đến mặt cắt 25
F53: =+F52+1 -> 45608 | G53: - Đắp đất bờ kênh bằng thủ công đoạn 1 từ mặt cắt 20 đến mặt cắt 25
F54: =+F53+1 -> 45609 | G54: - Đắp đất bờ kênh bằng thủ công đoạn 1 từ mặt cắt 20 đến mặt cắt 25 - Vận chuyển đất thừa đổ đi đoạn 1 từ mặt cắt 20 đến mặt cắt 25
F55: =+F54+1 -> 45610 | G55: - Đắp đất bờ kênh bằng thủ công đoạn 1 từ mặt cắt 25 đến mặt cắt 29
F56: =+F55+1 -> 45611 | G56: - Đắp đất bờ kênh bằng thủ công đoạn 1 từ mặt cắt 25 đến mặt cắt29 - Vận chuyển đất thừa đổ đi đoạn 1 từ mặt cắt 25 đến mặt cắt 29 | H56: Lấy mẫu thí nghiệm đầm chặt tại vị trí đắp bờ đoạn 1 từ mặt cắt 15 đến mặt cắt 29
F57: =+F56+1 -> 45612 | G57: - Đắp đất bờ kênh bằng thủ công đoạn 2 từ mặt cắt 1đến mặt cắt 6
F58: =+F57+1 -> 45613 | G58: - Đắp đất bờ kênh bằng thủ công đoạn 2 từ mặt cắt 1 đến mặt cắt 6
F59: =+F58+1 -> 45614 | G59: - Đắp đất bờ kênh bằng thủ công đoạn 2 từ mặt cắt 1 đến mặt cắt 6 - Vận chuyển đất thừa đổ đi đoạn 2 từ mặt cắt 1 đến mặt cắt 6 Phiếu yêu cầu nghiệm thu công việc: - Đắp đất bờ kênh bằng thủ công đoạn 1 từ mặt cắt 15 đến mặt cắt 29 - Đắp đất bờ kênh bằng thủ công đoạn 2 từ mặt cắt 1 đến mặt cắt 6 - Vận chuyển đất thừa đổ đi đoạn 1 từ mặt cắt 15 đến mặt cắt 29 - Vận chuyển đất thừa đổ đi đoạn 2 từ mặt cắt 1 đến mặt cắt 6 | H59: Lấy mẫu thí nghiệm đầm chặt tại vị trí đắp bờ đoạn 2 từ mặt cắt 1 đến mặt cắt 6 | I59: PYC
F60: =+F59+1 -> 45615 | G60: *Nghiệm thu công việc: - Đắp đất bờ kênh bằng thủ công đoạn 1 từ mặt cắt 15đến mặt cắt 29 - Đắp đất bờ kênh bằng thủ công đoạn 2 từ mặt cắt 1 đến mặt cắt 6 - Vận chuyển đất thừa đổ đi đoạn 1 từ mặt cắt 15 đến mặt cắt 29 - Vận chuyển đất thừa đổ đi đoạn 2 từ mặt cắt 1 đến mặt cắt 6 | H60: *Nghiệm thu công việc: - Đắp đất bờ kênh bằng thủ công đoạn 1 từ mặt cắt 15 đến mặt cắt 29 - Đắp đất bờ kênh bằng thủ công đoạn 2 từ mặt cắt 1đến mặt cắt 6 - Vận chuyển đất thừa đổ đi đoạn 1 từ mặt cắt 15 đến mặt cắt 29 - Vận chuyển đất thừa đổ đi đoạn 2 từ mặt cắt 1 đến mặt cắt 6 | I60: 06
E61: IV | F61: =+F60+1 -> 45616 | G61: Nghiệm thu giai đoạn: Hoàn thành Nạo vét, đắp bờ kênh Liên huyện An Lão - Kiến Thụy tiếp nguồn vào trạm bơm An Áo, Tiên Cầm từ UBND xã An Thái đến trạm bơm Tiên Cầm, trạm bơm An Áo, L=1600m.
E62: V | F62: =+F61+1 -> 45617 | G62: Nghiệm thu đưa vào sử dụng: Công trình: Kênh Liên huyện An Lão - Kiến Thụy tiếp nguồn vào trạm bơm An Áo, Tiên Cầm - Hạng mục: Nạo vét, đắp bờ từ UBND xã An Thái đến trạm bơm Tiên Cầm, trạm bơm An Áo, L=1600m.

Sheet Đầu vào
A1: DANH MỤC NHẬT KÝ THI CÔNG CÔNG TRÌNH
A2: Công trình:Sửa chữa tuyến kênh Đồng Dầm (Từ kênh Đại Trà 1 đến Gốc đa Miếu Bà); sửa chữa máng inox Đội 3 - Đội 5 thôn Phong Cầu 1, thôn Phong Cầu 2, xã Kiến Minh
B5: Kỹ thuật
B6: Chủ đầu tư
B7: Tư vấn giám sát | C7: Nguyễn Tuấn Thành
B8: Nhà thầu thi công | C8: Nguyễn Sĩ Thoả
A10: TT | B10: Ngày | C10: Nội dung công việc | D10: Nội dung nghiệm thu | E10: Nhân lực | F10: Máy móc thiết bị | G10: Ý kiến các bên | H10: Ý kiến nhà thầu TC
A11: 1 | B11: 45960 | C11: - Biên bản bàn giao mặt bằng công trình
A12: =A11+1 -> 2 | B12: =+B11+1 -> 45961 | C12: - Tập kết pông tông, máy đào, tấm chống lầy tại hiện trường
A13: =A12+1 -> 3 | B13: =+B12+1 -> 45962 | C13: - Chặt cây cối, phát dọn mặt bằng công trình - Vận chuyển cây cối ra vị trí tập kết | E13: 0 tổ
A14: =A13+1 -> 4 | B14: =+B13+1 -> 45963 | C14: - Chặt cây cối, phát dọn mặt bằng công trình - Vận chuyển cây cối ra vị trí tập kết | E14: 01 tổ | F14: Máy đào, pông tông
A15: =A14+1 -> 5 | B15: =+B14+1 -> 45964 | C15: =C16 -> - Chặt cây cối, phát dọn mặt bằng công trình - Vận chuyển cây cối ra vị trí tập kết | D15: Tập kết pông tông, máy đào, lắp ghép tấm chống lầy phục vụ thi công. | E15: 01 tổ | F15: Máy đào, pông tông
A16: =A15+1 -> 6 | B16: =+B15+1 -> 45965 | C16: - Chặt cây cối, phát dọn mặt bằng công trình - Vận chuyển cây cối ra vị trí tập kết | E16: 01 tổ
A17: =A16+1 -> 7 | B17: =+B16+1 -> 45966 | C17: - Chặt cây cối, phát dọn mặt bằng công trình - Vận chuyển cây cối ra vị trí tập kết | E17: 01 tổ
A18: =A17+1 -> 8 | B18: =+B17+1 -> 45967 | C18: =C19 -> - Đào đất lòng kênh bằng máy đào đoạn 1 từ Km: 0+000.00 đến Km: 0+132 | D18: Chặt cây cối, phát quang mặt bằng công trình, vận chuyển cây cối ra vị trí tập kết | E18: 01 tổ | F18: Máy đào, pông tông
A19: =A18+1 -> 9 | B19: =+B18+1 -> 45968 | C19: - Đào đất lòng kênh bằng máy đào đoạn 1 từ Km: 0+000.00 đến Km: 0+132 | E19: 01 tổ | F19: Máy đào, pông tông
A20: =A19+1 -> 10 | B20: =+B19+1 -> 45969 | C20: - Đào đất lòng kênh bằng máy đào đoạn 1 từ Km: 0+000.00 đến Km: 0+132 | E20: 01 tổ | F20: Máy đào, pông tông
A21: =A20+1 -> 11 | B21: =+B20+1 -> 45970 | C21: - Đào đất lòng kênh bằng máy đào đoạn 1 từ Km: 0+000.00 đến Km: 0+132 | E21: 01 tổ | F21: Máy đào, pông tông
A22: =A21+1 -> 12 | B22: =+B21+1 -> 45971 | C22: - Đào đất lòng kênh bằng máy đào đoạn 1 từ Km: 0+000.00 đến Km: 0+132 | E22: 01 tổ | F22: Máy đào, pông tông
A23: =A22+1 -> 13 | B23: =+B22+1 -> 45972 | C23: - Đào đất lòng kênh bằng máy đào đoạn 1 từ Km: 0+000.00 đến Km: 0+132 | E23: 01 tổ | F23: Máy đào, pông tông
A24: =A23+1 -> 14 | B24: =+B23+1 -> 45973 | C24: - Đào đất lòng kênh bằng máy đào đoạn 1 từ Km: 0+000.00 đến Km: 0+132 | E24: 01 tổ | F24: Máy đào, pông tông
A25: =A24+1 -> 15 | B25: =+B24+1 -> 45974 | C25: - Đào đất lòng kênh bằng máy đào đoạn 1 từ Km: 0+000.00 đến Km: 0+132 | E25: 01 tổ | F25: Máy đào, pông tông
A26: =A25+1 -> 16 | B26: =+B25+1 -> 45975 | C26: - Đào đất lòng kênh bằng máy đào đoạn 1 từ Km: 0+000.00 đến Km: 0+132 | E26: 01 tổ | F26: Máy đào, pông tông
A27: =A26+1 -> 17 | B27: =+B26+1 -> 45976 | C27: - Đào đất lòng kênh bằng máy đào đoạn 1 từ Km: 0+000.00 đến Km: 0+132 | E27: 01 tổ | F27: Máy đào, pông tông
A28: =A27+1 -> 18 | B28: =+B27+1 -> 45977 | C28: =C29 -> - Đào đất lòng kênh bằng máy đào đoạn 2 từ Km: 0+132 đến Km: 0+297 - Đắp đất bờ kênh bằng máy đoạn 1 từ Km: 0+000.00 đến Km: 0+132 | E28: 01 tổ | F28: Máy đào, pông tông
A29: =A28+1 -> 19 | B29: =+B28+1 -> 45978 | C29: - Đào đất lòng kênh bằng máy đào đoạn 2 từ Km: 0+132 đến Km: 0+297 - Đắp đất bờ kênh bằng máy đoạn 1 từ Km: 0+000.00 đến Km: 0+132 | E29: 01 tổ | F29: Máy đào, pông tông, máy đầm cóc
A30: =A29+1 -> 20 | B30: =+B29+1 -> 45979 | C30: - Đào đất lòng kênh bằng máy đào đoạn 2 từ Km: 0+132 đến Km: 0+297 - Đắp đất bờ kênh bằng máy đoạn 1 từ Km: 0+000.00 đến Km: 0+132 | E30: 01 tổ | F30: 'Máy đào, pông tông, máy đầm cóc
A31: =A30+1 -> 21 | B31: =+B30+1 -> 45980 | C31: - Đào đất lòng kênh bằng máy đào đoạn 2 từ Km: 0+132 đến Km: 0+297 - Đắp đất bờ kênh bằng máy đoạn 1 từ Km: 0+000.00 đến Km: 0+132 | E31: 01 tổ | F31: 'Máy đào, pông tông, máy đầm cóc
A32: =A31+1 -> 22 | B32: =+B31+1 -> 45981 | C32: - Đào đất lòng kênh bằng máy đào đoạn 2 từ Km: 0+132 đến Km: 0+297 - Đắp đất bờ kênh bằng máy đoạn 1 từ Km: 0+000.00 đến Km: 0+132 | E32: 01 tổ | F32: 'Máy đào, pông tông, máy đầm cóc
A33: =A32+1 -> 23 | B33: =+B32+1 -> 45982 | C33: - Đào đất lòng kênh bằng máy đào đoạn 2 từ Km: 0+132 đến Km: 0+297 - Đắp đất bờ kênh bằng máy đoạn 1 từ Km: 0+000.00 đến Km: 0+132 | E33: 01 tổ | F33: 'Máy đào, pông tông, máy đầm cóc
A34: =A33+1 -> 24 | B34: =+B33+1 -> 45983 | C34: - Đào đất lòng kênh bằng máy đào đoạn 2 từ Km: 0+132 đến Km: 0+297 - Đắp đất bờ kênh bằng máy đoạn 1 từ Km: 0+000.00 đến Km: 0+132 | E34: 01 tổ | F34: 'Máy đào, pông tông, máy đầm cóc
A35: =A34+1 -> 25 | B35: =+B34+1 -> 45984 | C35: - Đào đất lòng kênh bằng máy đào đoạn 2 từ Km: 0+132 đến Km: 0+297 - Đắp đất bờ kênh bằng máy đoạn 1 từ Km: 0+000.00 đến Km: 0+132 | E35: 01 tổ | F35: 'Máy đào, pông tông, máy đầm cóc
A36: =A35+1 -> 26 | B36: =+B35+1 -> 45985 | C36: - Đào đất lòng kênh bằng máy đào đoạn 2 từ Km: 0+132 đến Km: 0+297 - Đắp đất bờ kênh bằng máy đoạn 1 từ Km: 0+000.00 đến Km: 0+132 | E36: 01 tổ | F36: 'Máy đào, pông tông, máy đầm cóc
A37: =A36+1 -> 27 | B37: =+B36+1 -> 45986 | C37: - Đào đất lòng kênh bằng máy đào đoạn 2 từ Km: 0+132 đến Km: 0+297 - Đắp đất bờ kênh bằng máy đoạn 1 từ Km: 0+000.00 đến Km: 0+132 | E37: 01 tổ | F37: 'Máy đào, pông tông, máy đầm cóc
A38: =A37+1 -> 28 | B38: =+B37+1 -> 45987 | C38: "- Đào đất lòng kênh bằng máy đào đoạn 3 từ Km: 0+297 đến Km: 0+424 - Đắp đất bờ kênh bằng máy đoạn 2 từ Km: 0+132 đến Km: 0+297 | E38: 01 tổ | F38: 'Máy đào, pông tông, máy đầm cóc
A39: =A38+1 -> 29 | B39: =+B38+1 -> 45988 | C39: =C40 -> "- Đào đất lòng kênh bằng máy đào đoạn 3 từ Km: 0+297 đến Km: 0+424 - Đắp đất bờ kênh bằng máy đoạn 2 từ Km: 0+132 đến Km: 0+297 | E39: 01 tổ | F39: 'Máy đào, pông tông, máy đầm cóc
A40: =A39+1 -> 30 | B40: =+B39+1 -> 45989 | C40: "- Đào đất lòng kênh bằng máy đào đoạn 3 từ Km: 0+297 đến Km: 0+424 - Đắp đất bờ kênh bằng máy đoạn 2 từ Km: 0+132 đến Km: 0+297 | E40: 01 tổ | F40: 'Máy đào, pông tông, máy đầm cóc
A41: =A40+1 -> 31 | B41: =+B40+1 -> 45990 | C41: "- Đào đất lòng kênh bằng máy đào đoạn 3 từ Km: 0+297 đến Km: 0+424 - Đắp đất bờ kênh bằng máy đoạn 2 từ Km: 0+132 đến Km: 0+297 | E41: 01 tổ | F41: 'Máy đào, pông tông, máy đầm cóc
A42: =A41+1 -> 32 | B42: =+B41+1 -> 45991 | C42: "- Đào đất lòng kênh bằng máy đào đoạn 3 từ Km: 0+297 đến Km: 0+424 - Đắp đất bờ kênh bằng máy đoạn 2 từ Km: 0+132 đến Km: 0+297 | E42: 01 tổ | F42: 'Máy đào, pông tông, máy đầm cóc
A43: =A42+1 -> 33 | B43: =+B42+1 -> 45992 | C43: "- Đào đất lòng kênh bằng máy đào đoạn 3 từ Km: 0+297 đến Km: 0+424 - Đắp đất bờ kênh bằng máy đoạn 2 từ Km: 0+132 đến Km: 0+297 | E43: 01 tổ | F43: 'Máy đào, pông tông, máy đầm cóc
A44: =A43+1 -> 34 | B44: =+B43+1 -> 45993 | C44: "- Đào đất lòng kênh bằng máy đào đoạn 3 từ Km: 0+297 đến Km: 0+424 - Đắp đất bờ kênh bằng máy đoạn 2 từ Km: 0+132 đến Km: 0+297 | E44: 01 tổ | F44: 'Máy đào, pông tông, máy đầm cóc
A45: =A44+1 -> 35 | B45: =+B44+1 -> 45994 | C45: "- Đào đất lòng kênh bằng máy đào đoạn 3 từ Km: 0+297 đến Km: 0+424 - Đắp đất bờ kênh bằng máy đoạn 2 từ Km: 0+132 đến Km: 0+297 | E45: 01 tổ | F45: 'Máy đào, pông tông, máy đầm cóc
A46: =A45+1 -> 36 | B46: =+B45+1 -> 45995 | C46: "- Đào đất lòng kênh bằng máy đào đoạn 3 từ Km: 0+297 đến Km: 0+424 - Đắp đất bờ kênh bằng máy đoạn 2 từ Km: 0+132 đến Km: 0+297 | E46: 01 tổ | F46: 'Máy đào, pông tông, máy đầm cóc
A47: =A46+1 -> 37 | B47: =+B46+1 -> 45996 | C47: - Đào đất lòng kênh bằng máy đào đoạn 4 từ Km: 0+424 đến Km: 0+499 - Đắp đất bờ kênh bằng thủ công đoạn 3 Km: 0+297 đến Km: 0+424 | E47: 01 tổ | F47: Máy đào, pông tông, máy đầm cóc
A48: =A47+1 -> 38 | B48: =+B47+1 -> 45997 | C48: - Đào đất lòng kênh bằng máy đào đoạn 4 từ Km: 0+424 đến Km: 0+499 - Đắp đất bờ kênh bằng máy đoạn 3 Km: 0+297 đến Km: 0+424 | E48: 01 tổ | F48: Máy đào, pông tông
A49: =A48+1 -> 39 | B49: =+B48+1 -> 45998 | C49: - Đào đất lòng kênh bằng máy đào đoạn 4 từ Km: 0+424 đến Km: 0+499 - Đắp đất bờ kênh bằng máy đoạn 3 Km: 0+297 đến Km: 0+424 | E49: 01 tổ | F49: Máy đào, pông tông, máy đầm cóc
A50: =A49+1 -> 40 | B50: =+B49+1 -> 45999 | C50: - Đào đất lòng kênh bằng máy đào đoạn 4 từ Km: 0+424 đến Km: 0+499 - Đắp đất bờ kênh bằng máy đoạn 3 Km: 0+297 đến Km: 0+424 | E50: 01 tổ | F50: Máy đào, pông tông, máy đầm cóc
A51: =A50+1 -> 41 | B51: =+B50+1 -> 46000 | C51: - Đào đất lòng kênh bằng máy đào đoạn 4 từ Km: 0+424 đến Km: 0+499 - Đắp đất bờ kênh bằng máy đoạn 3 Km: 0+297 đến Km: 0+424 | E51: 01 tổ | F51: Máy đào, pông tông, máy đầm cóc
... A57: =A56+1 -> 47 | B57: =+B56+1 -> 46006 | C57: - Đào đất lòng kênh bằng máy đào đoạn 5 từ Km: 0+499 đến Km: 0+593 - Đắp đất bờ kênh bằng máy đoạn 4 từ Km: 0+424 đến Km: 0+499 | E57: 01 tổ | F57: Máy đào, pông tông, máy đầm cóc
A58: =A57+1 -> 48 | B58: =+B57+1 -> 46007 | C58: - Công tác gia công máng inox 304 và thép hộp mạ kẽm đỡ máng | E58: 01 tổ
A59: =A58+1 -> 49 | B59: =+B58+1 -> 46008 | C59: - Công tác gia công máng inox 304 và thép hộp mạ kẽm đỡ máng | E59: 01 tổ
A60: =A59+1 -> 50 | B60: =+B59+1 -> 46009 | C60: - Công tác gia công máng inox 304 và thép hộp mạ kẽm đỡ máng | E60: 01 tổ
A61: =A60+1 -> 51 | B61: =+B60+1 -> 46010 | C61: - Công tác gia công máng inox 304 và thép hộp mạ kẽm đỡ máng | E61: 01 tổ
A62: =A61+1 -> 52 | B62: =+B61+1 -> 46011 | D62: - Thành phẩm máng và hộp mạ kẽm đỡ máng
A63: =A62+1 -> 53 | B63: =+B62+1 -> 46012 | C63: - Vận chuyển ống buy D600 vào công trường phục vụ thi công | E63: 01 tổ
A64: =A63+1 -> 54 | B64: =+B63+1 -> 46013 | C64: - Lắp đặt khối móng bê tông đỡ đoạn ống, ống bê tông | E64: 01 tổ | F64: Cần cẩu
A65: =A64+1 -> 55 | B65: =+B64+1 -> 46014 | C65: - Lắp đặt khối móng bê tông đỡ đoạn ống, ống bê tông | E65: 01 tổ | F65: Cần cẩu
A66: =A65+1 -> 56 | B66: =+B65+1 -> 46015 | C66: - Lắp đặt khối móng bê tông đỡ đoạn ống, ống bê tông | E66: 01 tổ | F66: Cần cẩu
A67: =A66+1 -> 57 | B67: =+B66+1 -> 46016 | C67: - Lắp đặt khối móng bê tông đỡ đoạn ống, ống bê tông | E67: 01 tổ | F67: Cần cẩu
A68: =A67+1 -> 58 | B68: =+B67+1 -> 46017 | C68: - Lắp đặt khối móng bê tông đỡ đoạn ống, ống bê tông | E68: 01 tổ | F68: Cần cẩu
A69: =A68+1 -> 59 | B69: =+B68+1 -> 46018 | C69: - Lắp đặt khối móng bê tông đỡ đoạn ống, ống bê tông | E69: 01 tổ | F69: Cần cẩu
A70: =A69+1 -> 60 | B70: =+B69+1 -> 46019 | C70: - Lắp đặt khối móng bê tông đỡ đoạn ống, ống bê tông | E70: 01 tổ | F70: Cần cẩu
A71: =A70+1 -> 61 | B71: =+B70+1 -> 46020 | D71: - Lắp đặt khối móng bê tông đỡ đoạn ống, ống bê tông
A72: =A71+1 -> 62 | B72: =+B71+1 -> 46021 | C72: Nghiệm thu hoàn thành giai đoạn 1
A73: =A72+1 -> 63 | B73: =+B72+1 -> 46022 | C73: Ký biên bản nghiệm thu hoàn thành giai đoạn 1
A74: =A73+1 -> 64 | B74: =+B73+1 -> 46023 | C74: - Đào đất lòng kênh bằng máy đào đoạn 6 từ Km: 0+593 đến Km: 0+752 - Đắp đất bờ kênh bằng máy đoạn 5 từ Km: 0+499 đến Km: 0+593 | E74: 01 tổ | F74: Máy đào, pông tông
A75: =A74+1 -> 65 | B75: =+B74+1 -> 46024 | C75: - Đào đất lòng kênh bằng máy đào đoạn 6 từ Km: 0+593 đến Km: 0+752 - Đắp đất bờ kênh bằng máy đoạn 5 từ Km: 0+499 đến Km: 0+593 | E75: 01 tổ | F75: Máy đào, pông tông
A76: =A75+1 -> 66 | B76: =+B75+1 -> 46025 | C76: - Đào đất lòng kênh bằng máy đào đoạn 6 từ Km: 0+593 đến Km: 0+752 - Đắp đất bờ kênh bằng máy đoạn 5 từ Km: 0+499 đến Km: 0+593 | E76: 01 tổ | F76: Máy đào, pông tông
A77: =A76+1 -> 67 | B77: =+B76+1 -> 46026 | C77: - Đào đất lòng kênh bằng máy đào đoạn 6 từ Km: 0+593 đến Km: 0+752 - Đắp đất bờ kênh bằng máy đoạn 5 từ Km: 0+499 đến Km: 0+593 | E77: 01 tổ | F77: Máy đào, pông tông
A78: =A77+1 -> 68 | B78: =+B77+1 -> 46027 | C78: - Đào đất lòng kênh bằng máy đào đoạn 6 từ Km: 0+593 đến Km: 0+752 - Đắp đất bờ kênh bằng máy đoạn 5 từ Km: 0+499 đến Km: 0+593 | E78: 01 tổ | F78: Máy đào, pông tông
A79: =A78+1 -> 69 | B79: =+B78+1 -> 46028 | C79: - Đào đất lòng kênh bằng máy đào đoạn 6 từ Km: 0+593 đến Km: 0+752 - Đắp đất bờ kênh bằng máy đoạn 5 từ Km: 0+499 đến Km: 0+593 | E79: 01 tổ | F79: Máy đào, pông tông
A80: =A79+1 -> 70 | B80: =+B79+1 -> 46029 | C80: - Đào đất lòng kênh bằng máy đào đoạn 6 từ Km: 0+593 đến Km: 0+752 - Đắp đất bờ kênh bằng máy đoạn 5 từ Km: 0+499 đến Km: 0+593 | E80: 01 tổ | F80: Máy đào, pông tông
A81: =A80+1 -> 71 | B81: =+B80+1 -> 46030 | C81: - Đào đất lòng kênh bằng máy đào đoạn 6 từ Km: 0+593 đến Km: 0+752 - Đắp đất bờ kênh bằng máy đoạn 5 từ Km: 0+499 đến Km: 0+593 | E81: 01 tổ | F81: Máy đào, pông tông
A82: =A81+1 -> 72 | B82: =+B81+1 -> 46031 | C82: - Đào đất lòng kênh bằng máy đào đoạn 7 từ Km: 0+752 đến Km: 0+888.9 - Đắp đất bờ kênh bằng máy đoạn 6 từ Km: 0+593 đến Km: 0+752 - Đắp đất bờ kênh bằng máy đoạn 7 từ Km: 0+752 đến Km: 0+888.9 | E82: 01 tổ | F82: Máy đào, pông tông
A83: =A82+1 -> 73 | B83: =+B82+1 -> 46032 | C83: - Đào đất lòng kênh bằng máy đào đoạn 7 từ Km: 0+752 đến Km: 0+888.9 - Đắp đất bờ kênh bằng máy đoạn 6 từ Km: 0+593 đến Km: 0+752 - Đắp đất bờ kênh bằng máy đoạn 7 từ Km: 0+752 đến Km: 0+888.9 | E83: 01 tổ | F83: Máy đào, pông tông
A84: =A83+1 -> 74 | B84: =+B83+1 -> 46033 | C84: - Đào đất lòng kênh bằng máy đào đoạn 7 từ Km: 0+752 đến Km: 0+888.9 - Đắp đất bờ kênh bằng máy đoạn 6 từ Km: 0+593 đến Km: 0+752 - Đắp đất bờ kênh bằng máy đoạn 7 từ Km: 0+752 đến Km: 0+888.9 | E84: 01 tổ | F84: Máy đào, pông tông
A85: =A84+1 -> 75 | B85: =+B84+1 -> 46034 | C85: - Đào đất lòng kênh bằng máy đào đoạn 7 từ Km: 0+752 đến Km: 0+888.9 - Đắp đất bờ kênh bằng máy đoạn 6 từ Km: 0+593 đến Km: 0+752 - Đắp đất bờ kênh bằng máy đoạn 7 từ Km: 0+752 đến Km: 0+888.9 | E85: 01 tổ | F85: Máy đào, pông tông
... A99: =A98+1 -> 89 | B99: =+B98+1 -> 46048 | C99: - Đào đất lòng kênh bằng máy đào đoạn 7 từ Km: 0+752 đến Km: 0+888.9 - Đắp đất bờ kênh bằng máy đoạn 6 từ Km: 0+593 đến Km: 0+752 - Đắp đất bờ kênh bằng máy đoạn 7 từ Km: 0+752 đến Km: 0+888.9 | E99: 01 tổ | F99: Máy đào, pông tông
A100: =A99+1 -> 90 | B100: =+B99+1 -> 46049 | C100: - Công tác gia công máng inox 304 và thép hộp mạ kẽm đỡ máng | E100: 01 tổ
A101: =A100+1 -> 91 | B101: =+B100+1 -> 46050 | C101: - Công tác gia công máng inox 304 và thép hộp mạ kẽm đỡ máng | E101: 01 tổ
A102: =A101+1 -> 92 | B102: =+B101+1 -> 46051 | D102: - Thành phẩm máng và hộp mạ kẽm đỡ máng
A103: =A102+1 -> 93 | B103: =+B102+1 -> 46052 | C103: - Vận chuyển ống buy D600 vào công trường phục vụ thi công | E103: 01 tổ
A104: =A103+1 -> 94 | B104: =+B103+1 -> 46053 | C104: - Lắp đặt khối móng bê tông đỡ đoạn ống, ống bê tông | E104: 01 tổ | F104: Cần cẩu
A105: =A104+1 -> 95 | B105: =+B104+1 -> 46054 | C105: - Lắp đặt khối móng bê tông đỡ đoạn ống, ống bê tông | E105: 01 tổ | F105: Cần cẩu
A106: =A105+1 -> 96 | B106: =+B105+1 -> 46055 | C106: - Lắp đặt khối móng bê tông đỡ đoạn ống, ống bê tông | E106: 01 tổ | F106: Cần cẩu
A107: =A106+1 -> 97 | B107: =+B106+1 -> 46056 | D107: - Lắp đặt khối móng bê tông đỡ đoạn ống, ống bê tông
A108: =A107+1 -> 98 | B108: =+B107+1 -> 46057 | C108: Nghiệm thu hoàn thành đưa công trình vào sử dụng
A109: =A108+1 -> 99 | B109: =+B108+1 -> 46058 | C109: Ký biên bản nghiệm thu hoàn thành đưa công trình vào sử dụng

Sheet Thang 1
A1: NHẬT KÝ CÔNG TRÌNH
A3: Ngày thi công thứ: | D3: 1
O4: ="Hải phòng, ngày "&DAY(P4)&" tháng "&MONTH(P4)&" năm 2025" -> Hải phòng, ngày 30 tháng 10 năm 2025 | P4: =VLOOKUP('Thang 1'!D3,'Đầu vào'!A:H,2,0) -> 45960
A6: 1. Tình hình thời tiết: | D6: Bình thường | F6: P | H6: Mưa | L6: Nắng
A7: 2. Tình hình nhân lực, thiết bị thi công:
A8: 2.1.Nhân lực: | C8: =VLOOKUP('Thang 1'!D3,'Đầu vào'!A:H,5,0) -> 0
A9: 2.2.Thiết bị:
B10: =VLOOKUP('Thang 1'!D3,'Đầu vào'!A:H,6,0) -> 0
A11: 3. Tình hình thi công:
A12: 3.1. Nội dung công việc thực hiện:
B13: =VLOOKUP('Thang 1'!D3,'Đầu vào'!A:H,3,0) -> - Biên bản bàn giao mặt bằng công trình
A14: 3.2. Nghiệm thu công việc xây dựng:
B15: =VLOOKUP('Thang 1'!D3,'Đầu vào'!A:H,4,0) -> 0
A16: 4. Các tiêu chí đánh giá:
A17: 4.1. Biện pháp thi công: | E17: Tốt | F17: P | H17: Bình thường | L17: Kém
A19: 4.2. Tiến độ thực hiện: | E19: Tốt | F19: P | H19: Bình thường | L19: Kém
A21: 4.3. Công tác an toàn lao động: | E21: Tốt | F21: P | H21: Bình thường | L21: Kém
A23: 4.4. Công tác vệ sinh môi trường: | E23: Tốt | F23: P | H23: Bình thường | L23: Kém
A25: 5. Những ý kiến trong quá trình thi công xây dựng của các bên liên quan:
B26: =VLOOKUP('Thang 1'!D3,'Đầu vào'!A:H,7,0) -> 0
A27: 6. Ý kiến của nhà thầu thi công xây dựng:
B28: =VLOOKUP('Thang 1'!D3,'Đầu vào'!A:H,8,0) -> 0
C30: TƯ VẤN GIÁM SÁT | K30: NHÀ THẦU THI CÔNG
C36: ='Đầu vào'!$C$7 -> Nguyễn Tuấn Thành | K36: ='Đầu vào'!$C$8 -> Nguyễn Sĩ Thoả
A37: NHẬT KÝ CÔNG TRÌNH
A39: Ngày thi công thứ: | D39: =D3+1 -> 2
O40: ="Hải phòng, ngày "&DAY(P40)&" tháng "&MONTH(P40)&" năm 2025" -> Hải phòng, ngày 31 tháng 10 năm 2025 | P40: =VLOOKUP('Thang 1'!D39,'Đầu vào'!A:H,2,0) -> 45961
A42: 1. Tình hình thời tiết: | D42: Bình thường | F42: P | H42: Mưa | L42: Nắng
A43: 2. Tình hình nhân lực, thiết bị thi công:
A44: 2.1.Nhân lực: | C44: =VLOOKUP('Thang 1'!D39,'Đầu vào'!A:H,5,0) -> 0
A45: 2.2.Thiết bị:
B46: =VLOOKUP('Thang 1'!D39,'Đầu vào'!A:H,6,0) -> 0
A47: 3. Tình hình thi công:
A48: 3.1. Nội dung công việc thực hiện:
B49: =VLOOKUP('Thang 1'!D39,'Đầu vào'!A:H,3,0) -> - Tập kết pông tông, máy đào, tấm chống lầy tại hiện trường
A50: 3.2. Nghiệm thu công việc xây dựng:
B51: ='Đầu vào'!D12 -> 0
A52: 4. Các tiêu chí đánh giá:
A53: 4.1. Biện pháp thi công: | E53: Tốt | F53: P | H53: Bình thường | L53: Kém
A55: 4.2. Tiến độ thực hiện: | E55: Tốt | F55: P | H55: Bình thường | L55: Kém
A57: 4.3. Công tác an toàn lao động: | E57: Tốt | F57: P | H57: Bình thường | L57: Kém
A59: 4.4. Công tác vệ sinh môi trường: | E59: Tốt | F59: P | H59: Bình thường | L59: Kém
A61: 5. Những ý kiến trong quá trình thi công xây dựng của các bên liên quan:
B62: Đồng ý nghiệm thu công việc xây dựng trên để triển khai công việc xây dựng tiếp theo
A63: 6. Ý kiến của nhà thầu thi công xây dựng:
B64: =VLOOKUP('Thang 1'!D39,'Đầu vào'!A:H,8,0) -> 0
C66: TƯ VẤN GIÁM SÁT | K66: NHÀ THẦU THI CÔNG
C72: ='Đầu vào'!$C$7 -> Nguyễn Tuấn Thành | K72: ='Đầu vào'!$C$8 -> Nguyễn Sĩ Thoả
A73: NHẬT KÝ CÔNG TRÌNH
A75: Ngày thi công thứ: | D75: =D39+1 -> 3
O76: ="Hải phòng, ngày "&DAY(P76)&" tháng "&MONTH(P76)&" năm 2025" -> Hải phòng, ngày 1 tháng 11 năm 2025 | P76: =VLOOKUP('Thang 1'!D75,'Đầu vào'!A:H,2,0) -> 45962
A78: 1. Tình hình thời tiết: | D78: Bình thường | F78: P | H78: Mưa | L78: Nắng
A79: 2. Tình hình nhân lực, thiết bị thi công:
A80: 2.1.Nhân lực: | C80: =VLOOKUP('Thang 1'!D75,'Đầu vào'!A:H,5,0) -> 0 tổ
A81: 2.2.Thiết bị:
B82: =VLOOKUP('Thang 1'!D75,'Đầu vào'!A:H,6,0) -> 0
A83: 3. Tình hình thi công:
A84: 3.1. Nội dung công việc thực hiện:
B85: =VLOOKUP('Thang 1'!D75,'Đầu vào'!A:H,3,0) -> - Chặt cây cối, phát dọn mặt bằng công trình - Vận chuyển cây cối ra vị trí tập kết
A86: 3.2. Nghiệm thu công việc xây dựng:
B87: =VLOOKUP('Thang 1'!D75,'Đầu vào'!A:H,4,0) -> 0
A88: 4. Các tiêu chí đánh giá:
A89: 4.1. Biện pháp thi công: | E89: Tốt | F89: P | H89: Bình thường | L89: Kém
A91: 4.2. Tiến độ thực hiện: | E91: Tốt | F91: P | H91: Bình thường | L91: Kém
A93: 4.3. Công tác an toàn lao động: | E93: Tốt | F93: P | H93: Bình thường | L93: Kém
A95: 4.4. Công tác vệ sinh môi trường: | E95: Tốt | F95: P | H95: Bình thường | L95: Kém
A97: 5. Những ý kiến trong quá trình thi công xây dựng của các bên liên quan:
B98: =VLOOKUP('Thang 1'!D75,'Đầu vào'!A:H,7,0) -> 0
A99: 6. Ý kiến của nhà thầu thi công xây dựng:
B100: =VLOOKUP('Thang 1'!D75,'Đầu vào'!A:H,8,0) -> 0
C102: TƯ VẤN GIÁM SÁT | K102: NHÀ THẦU THI CÔNG
C108: ='Đầu vào'!$C$7 -> Nguyễn Tuấn Thành | K108: ='Đầu vào'!$C$8 -> Nguyễn Sĩ Thoả
A109: NHẬT KÝ CÔNG TRÌNH
A111: Ngày thi công thứ: | D111: =D75+1 -> 4
O112: ="Hải phòng, ngày "&DAY(P112)&" tháng "&MONTH(P112)&" năm 2025" -> Hải phòng, ngày 2 tháng 11 năm 2025 | P112: =VLOOKUP('Thang 1'!D111,'Đầu vào'!A:H,2,0) -> 45963
A114: 1. Tình hình thời tiết: | D114: Bình thường | F114: P | H114: Mưa | L114: Nắng
A115: 2. Tình hình nhân lực, thiết bị thi công:
A116: 2.1.Nhân lực: | C116: =VLOOKUP('Thang 1'!D111,'Đầu vào'!A:H,5,0) -> 01 tổ
A117: 2.2.Thiết bị:
B118: =VLOOKUP('Thang 1'!D111,'Đầu vào'!A:H,6,0) -> Máy đào, pông tông
A119: 3. Tình hình thi công:
A120: 3.1. Nội dung công việc thực hiện:
B121: =VLOOKUP('Thang 1'!D111,'Đầu vào'!A:H,3,0) -> - Chặt cây cối, phát dọn mặt bằng công trình - Vận chuyển cây cối ra vị trí tập kết
A122: 3.2. Nghiệm thu công việc xây dựng:
B123: =VLOOKUP('Thang 1'!D111,'Đầu vào'!A:H,4,0) -> 0
A124: 4. Các tiêu chí đánh giá:
A125: 4.1. Biện pháp thi công: | E125: Tốt | F125: P | H125: Bình thường | L125: Kém
A127: 4.2. Tiến độ thực hiện: | E127: Tốt | F127: P | H127: Bình thường | L127: Kém
A129: 4.3. Công tác an toàn lao động: | E129: Tốt | F129: P | H129: Bình thường | L129: Kém
A131: 4.4. Công tác vệ sinh môi trường: | E131: Tốt | F131: P | H131: Bình thường | L131: Kém
A133: 5. Những ý kiến trong quá trình thi công xây dựng của các bên liên quan:
A135: 6. Ý kiến của nhà thầu thi công xây dựng:
B136: =VLOOKUP('Thang 1'!D111,'Đầu vào'!A:H,8,0) -> 0
C138: TƯ VẤN GIÁM SÁT | K138: NHÀ THẦU THI CÔNG
C144: ='Đầu vào'!$C$7 -> Nguyễn Tuấn Thành | K144: ='Đầu vào'!$C$8 -> Nguyễn Sĩ Thoả
A145: NHẬT KÝ CÔNG TRÌNH
A147: Ngày thi công thứ: | D147: =D111+1 -> 5
O148: ="Hải phòng, ngày "&DAY(P148)&" tháng "&MONTH(P148)&" năm 2025" -> Hải phòng, ngày 3 tháng 11 năm 2025 | P148: =VLOOKUP('Thang 1'!D147,'Đầu vào'!A:H,2,0) -> 45964
A150: 1. Tình hình thời tiết: | D150: Bình thường | F150: P | H150: Mưa | L150: Nắng
A151: 2. Tình hình nhân lực, thiết bị thi công:
...

Sheet Thang 1 -1
A1: NHẬT KÝ CÔNG TRÌNH
A3: Ngày thi công thứ: | D3: 32
O4: ="Hải phòng, ngày "&DAY(P4)&" tháng "&MONTH(P4)&" năm 2025" -> Hải phòng, ngày 30 tháng 11 năm 2025 | P4: =VLOOKUP('Thang 1 -1'!D3,'Đầu vào'!A:H,2,0) -> 45991
A6: 1. Tình hình thời tiết: | D6: Bình thường | F6: P | H6: Mưa | L6: Nắng
A7: 2. Tình hình nhân lực, thiết bị thi công:
A8: 2.1.Nhân lực: | C8: =VLOOKUP('Thang 1 -1'!D3,'Đầu vào'!A:H,5,0) -> 01 tổ
A9: 2.2.Thiết bị:
B10: =VLOOKUP('Thang 1 -1'!D3,'Đầu vào'!A:H,6,0) -> 'Máy đào, pông tông, máy đầm cóc
A11: 3. Tình hình thi công:
A12: 3.1. Nội dung công việc thực hiện:
B13: =VLOOKUP('Thang 1 -1'!D3,'Đầu vào'!A:H,3,0) -> "- Đào đất lòng kênh bằng máy đào đoạn 3 từ Km: 0+297 đến Km: 0+424 - Đắp đất bờ kênh bằng máy đoạn 2 từ Km: 0+132 đến Km: 0+297
A14: 3.2. Nghiệm thu công việc xây dựng:
B15: =VLOOKUP('Thang 1 -1'!D3,'Đầu vào'!A:H,4,0) -> 0
A16: 4. Các tiêu chí đánh giá:
A17: 4.1. Biện pháp thi công: | E17: Tốt | F17: P | H17: Bình thường | L17: Kém
A19: 4.2. Tiến độ thực hiện: | E19: Tốt | F19: P | H19: Bình thường | L19: Kém
A21: 4.3. Công tác an toàn lao động: | E21: Tốt | F21: P | H21: Bình thường | L21: Kém
A23: 4.4. Công tác vệ sinh môi trường: | E23: Tốt | F23: P | H23: Bình thường | L23: Kém
A25: 5. Những ý kiến trong quá trình thi công xây dựng của các bên liên quan:
B26: =VLOOKUP('Thang 1 -1'!D3,'Đầu vào'!A:H,7,0) -> 0
A27: 6. Ý kiến của nhà thầu thi công xây dựng:
B28: =VLOOKUP('Thang 1 -1'!D3,'Đầu vào'!A:H,8,0) -> 0
C30: TƯ VẤN GIÁM SÁT | K30: NHÀ THẦU THI CÔNG
C36: ='Đầu vào'!$C$7 -> Nguyễn Tuấn Thành | K36: ='Đầu vào'!$C$8 -> Nguyễn Sĩ Thoả
A37: NHẬT KÝ CÔNG TRÌNH
A39: Ngày thi công thứ: | D39: =D3+1 -> 33
O40: ="Hải phòng, ngày "&DAY(P40)&" tháng "&MONTH(P40)&" năm 2025" -> Hải phòng, ngày 1 tháng 12 năm 2025 | P40: =VLOOKUP('Thang 1 -1'!D39,'Đầu vào'!A:H,2,0) -> 45992
A42: 1. Tình hình thời tiết: | D42: Bình thường | F42: P | H42: Mưa | L42: Nắng
A43: 2. Tình hình nhân lực, thiết bị thi công:
A44: 2.1.Nhân lực: | C44: =VLOOKUP('Thang 1 -1'!D39,'Đầu vào'!A:H,5,0) -> 01 tổ
A45: 2.2.Thiết bị:
B46: =VLOOKUP('Thang 1 -1'!D39,'Đầu vào'!A:H,6,0) -> 'Máy đào, pông tông, máy đầm cóc
A47: 3. Tình hình thi công:
A48: 3.1. Nội dung công việc thực hiện:
B49: =VLOOKUP('Thang 1 -1'!D39,'Đầu vào'!A:H,3,0) -> "- Đào đất lòng kênh bằng máy đào đoạn 3 từ Km: 0+297 đến Km: 0+424 - Đắp đất bờ kênh bằng máy đoạn 2 từ Km: 0+132 đến Km: 0+297
A50: 3.2. Nghiệm thu công việc xây dựng:
B51: ='Đầu vào'!D12 -> 0
A52: 4. Các tiêu chí đánh giá:
A53: 4.1. Biện pháp thi công: | E53: Tốt | F53: P | H53: Bình thường | L53: Kém
A55: 4.2. Tiến độ thực hiện: | E55: Tốt | F55: P | H55: Bình thường | L55: Kém
A57: 4.3. Công tác an toàn lao động: | E57: Tốt | F57: P | H57: Bình thường | L57: Kém
A59: 4.4. Công tác vệ sinh môi trường: | E59: Tốt | F59: P | H59: Bình thường | L59: Kém
A61: 5. Những ý kiến trong quá trình thi công xây dựng của các bên liên quan:
B62: Đồng ý nghiệm thu công việc xây dựng trên để triển khai công việc xây dựng tiếp theo
A63: 6. Ý kiến của nhà thầu thi công xây dựng:
B64: =VLOOKUP('Thang 1 -1'!D39,'Đầu vào'!A:H,8,0) -> 0
C66: TƯ VẤN GIÁM SÁT | K66: NHÀ THẦU THI CÔNG
C72: ='Đầu vào'!$C$7 -> Nguyễn Tuấn Thành | K72: ='Đầu vào'!$C$8 -> Nguyễn Sĩ Thoả
A73: NHẬT KÝ CÔNG TRÌNH
A75: Ngày thi công thứ: | D75: =D39+1 -> 34
O76: ="Hải phòng, ngày "&DAY(P76)&" tháng "&MONTH(P76)&" năm 2025" -> Hải phòng, ngày 2 tháng 12 năm 2025 | P76: =VLOOKUP('Thang 1 -1'!D75,'Đầu vào'!A:H,2,0) -> 45993
A78: 1. Tình hình thời tiết: | D78: Bình thường | F78: P | H78: Mưa | L78: Nắng
A79: 2. Tình hình nhân lực, thiết bị thi công:
A80: 2.1.Nhân lực: | C80: =VLOOKUP('Thang 1 -1'!D75,'Đầu vào'!A:H,5,0) -> 01 tổ
A81: 2.2.Thiết bị:
B82: =VLOOKUP('Thang 1 -1'!D75,'Đầu vào'!A:H,6,0) -> 'Máy đào, pông tông, máy đầm cóc
A83: 3. Tình hình thi công:
A84: 3.1. Nội dung công việc thực hiện:
B85: =VLOOKUP('Thang 1 -1'!D75,'Đầu vào'!A:H,3,0) -> "- Đào đất lòng kênh bằng máy đào đoạn 3 từ Km: 0+297 đến Km: 0+424 - Đắp đất bờ kênh bằng máy đoạn 2 từ Km: 0+132 đến Km: 0+297
A86: 3.2. Nghiệm thu công việc xây dựng:
B87: =VLOOKUP('Thang 1 -1'!D75,'Đầu vào'!A:H,4,0) -> 0
A88: 4. Các tiêu chí đánh giá:
A89: 4.1. Biện pháp thi công: | E89: Tốt | F89: P | H89: Bình thường | L89: Kém
A91: 4.2. Tiến độ thực hiện: | E91: Tốt | F91: P | H91: Bình thường | L91: Kém
A93: 4.3. Công tác an toàn lao động: | E93: Tốt | F93: P | H93: Bình thường | L93: Kém
A95: 4.4. Công tác vệ sinh môi trường: | E95: Tốt | F95: P | H95: Bình thường | L95: Kém
A97: 5. Những ý kiến trong quá trình thi công xây dựng của các bên liên quan:
B98: =VLOOKUP('Thang 1 -1'!D75,'Đầu vào'!A:H,7,0) -> 0
A99: 6. Ý kiến của nhà thầu thi công xây dựng:
B100: =VLOOKUP('Thang 1 -1'!D75,'Đầu vào'!A:H,8,0) -> 0
C102: TƯ VẤN GIÁM SÁT | K102: NHÀ THẦU THI CÔNG
C108: ='Đầu vào'!$C$7 -> Nguyễn Tuấn Thành | K108: ='Đầu vào'!$C$8 -> Nguyễn Sĩ Thoả
A109: NHẬT KÝ CÔNG TRÌNH
A111: Ngày thi công thứ: | D111: =D75+1 -> 35
O112: ="Hải phòng, ngày "&DAY(P112)&" tháng "&MONTH(P112)&" năm 2025" -> Hải phòng, ngày 3 tháng 12 năm 2025 | P112: =VLOOKUP('Thang 1 -1'!D111,'Đầu vào'!A:H,2,0) -> 45994
A114: 1. Tình hình thời tiết: | D114: Bình thường | F114: P | H114: Mưa | L114: Nắng
A115: 2. Tình hình nhân lực, thiết bị thi công:
A116: 2.1.Nhân lực: | C116: =VLOOKUP('Thang 1 -1'!D111,'Đầu vào'!A:H,5,0) -> 01 tổ
A117: 2.2.Thiết bị:
B118: =VLOOKUP('Thang 1 -1'!D111,'Đầu vào'!A:H,6,0) -> 'Máy đào, pông tông, máy đầm cóc
A119: 3. Tình hình thi công:
A120: 3.1. Nội dung công việc thực hiện:
B121: =VLOOKUP('Thang 1 -1'!D111,'Đầu vào'!A:H,3,0) -> "- Đào đất lòng kênh bằng máy đào đoạn 3 từ Km: 0+297 đến Km: 0+424 - Đắp đất bờ kênh bằng máy đoạn 2 từ Km: 0+132 đến Km: 0+297
A122: 3.2. Nghiệm thu công việc xây dựng:
B123: =VLOOKUP('Thang 1 -1'!D111,'Đầu vào'!A:H,4,0) -> 0
A124: 4. Các tiêu chí đánh giá:
A125: 4.1. Biện pháp thi công: | E125: Tốt | F125: P | H125: Bình thường | L125: Kém
A127: 4.2. Tiến độ thực hiện: | E127: Tốt | F127: P | H127: Bình thường | L127: Kém
A129: 4.3. Công tác an toàn lao động: | E129: Tốt | F129: P | H129: Bình thường | L129: Kém
A131: 4.4. Công tác vệ sinh môi trường: | E131: Tốt | F131: P | H131: Bình thường | L131: Kém
A133: 5. Những ý kiến trong quá trình thi công xây dựng của các bên liên quan:
A135: 6. Ý kiến của nhà thầu thi công xây dựng:
B136: =VLOOKUP('Thang 1 -1'!D111,'Đầu vào'!A:H,8,0) -> 0
C138: TƯ VẤN GIÁM SÁT | K138: NHÀ THẦU THI CÔNG
C144: ='Đầu vào'!$C$7 -> Nguyễn Tuấn Thành | K144: ='Đầu vào'!$C$8 -> Nguyễn Sĩ Thoả
A145: NHẬT KÝ CÔNG TRÌNH
A147: Ngày thi công thứ: | D147: =D111+1 -> 36
O148: ="Hải phòng, ngày "&DAY(P148)&" tháng "&MONTH(P148)&" năm 2025" -> Hải phòng, ngày 4 tháng 12 năm 2025 | P148: =VLOOKUP('Thang 1 -1'!D147,'Đầu vào'!A:H,2,0) -> 45995
A150: 1. Tình hình thời tiết: | D150: Bình thường | F150: P | H150: Mưa | L150: Nắng
A151: 2. Tình hình nhân lực, thiết bị thi công:
...

Sheet Thang 2
A1: NHẬT KÝ CÔNG TRÌNH
A3: Ngày thi công thứ: | D3: ='Đầu vào'!A54 -> 44
O4: ="Hải phòng, ngày "&DAY(P4)&" tháng "&MONTH(P4)&" năm 2025" -> Hải phòng, ngày 12 tháng 12 năm 2025 | P4: =VLOOKUP('Thang 2'!D3,'Đầu vào'!A:H,2,0) -> 46003
A6: 1. Tình hình thời tiết: | D6: Bình thường | F6: P | H6: Mưa | L6: Nắng
A7: 2. Tình hình nhân lực, thiết bị thi công:
A8: 2.1.Nhân lực: | C8: =VLOOKUP('Thang 2'!D3,'Đầu vào'!A:H,5,0) -> 01 tổ
A9: 2.2.Thiết bị:
B10: =VLOOKUP('Thang 2'!D3,'Đầu vào'!A:H,6,0) -> Máy đào, pông tông, máy đầm cóc
A11: 3. Tình hình thi công:
A12: 3.1. Nội dung công việc thực hiện:
B13: =VLOOKUP('Thang 2'!D3,'Đầu vào'!A:H,3,0) -> - Đào đất lòng kênh bằng máy đào đoạn 5 từ Km: 0+499 đến Km: 0+593 - Đắp đất bờ kênh bằng máy đoạn 4 từ Km: 0+424 đến Km: 0+499
A14: 3.2. Nghiệm thu công việc xây dựng:
B15: =VLOOKUP('Thang 2'!D3,'Đầu vào'!A:H,4,0) -> 0
A16: 4. Các tiêu chí đánh giá:
A17: 4.1. Biện pháp thi công: | E17: Tốt | F17: P | H17: Bình thường | L17: Kém
A19: 4.2. Tiến độ thực hiện: | E19: Tốt | F19: P | H19: Bình thường | L19: Kém
A21: 4.3. Công tác an toàn lao động: | E21: Tốt | F21: P | H21: Bình thường | L21: Kém
A23: 4.4. Công tác vệ sinh môi trường: | E23: Tốt | F23: P | H23: Bình thường | L23: Kém
A25: 5. Những ý kiến trong quá trình thi công xây dựng của các bên liên quan:
B26: - Đồng ý nghiệm thu công việc xây dựng trên để triển khai công việc xây dựng tiếp theo
A27: 6. Ý kiến của nhà thầu thi công xây dựng:
B28: =VLOOKUP('Thang 2'!D3,'Đầu vào'!A:H,8,0) -> 0
C30: TƯ VẤN GIÁM SÁT | K30: NHÀ THẦU THI CÔNG
C36: ='Đầu vào'!$C$7 -> Nguyễn Tuấn Thành | K36: ='Đầu vào'!$C$8 -> Nguyễn Sĩ Thoả
A37: NHẬT KÝ CÔNG TRÌNH
A39: Ngày thi công thứ: | D39: =D3+1 -> 45
O40: ="Hải phòng, ngày "&DAY(P40)&" tháng "&MONTH(P40)&" năm 2025" -> Hải phòng, ngày 13 tháng 12 năm 2025 | P40: =VLOOKUP('Thang 2'!D39,'Đầu vào'!A:H,2,0) -> 46004
A42: 1. Tình hình thời tiết: | D42: Bình thường | F42: P | H42: Mưa | L42: Nắng
A43: 2. Tình hình nhân lực, thiết bị thi công:
A44: 2.1.Nhân lực: | C44: =VLOOKUP('Thang 2'!D39,'Đầu vào'!A:H,5,0) -> 01 tổ
A45: 2.2.Thiết bị:
B46: =VLOOKUP('Thang 2'!D39,'Đầu vào'!A:H,6,0) -> Máy đào, pông tông, máy đầm cóc, ô tô
A47: 3. Tình hình thi công:
A48: 3.1. Nội dung công việc thực hiện:
B49: =VLOOKUP('Thang 2'!D39,'Đầu vào'!A:H,3,0) -> - Đào đất lòng kênh bằng máy đào đoạn 5 từ Km: 0+499 đến Km: 0+593 - Đắp đất bờ kênh bằng máy đoạn 4 từ Km: 0+424 đến Km: 0+499
A50: 3.2. Nghiệm thu công việc xây dựng:
B51: =VLOOKUP('Thang 2'!D39,'Đầu vào'!A:H,4,0) -> 0
A52: 4. Các tiêu chí đánh giá:
A53: 4.1. Biện pháp thi công: | E53: Tốt | F53: P | H53: Bình thường | L53: Kém
A55: 4.2. Tiến độ thực hiện: | E55: Tốt | F55: P | H55: Bình thường | L55: Kém
A57: 4.3. Công tác an toàn lao động: | E57: Tốt | F57: P | H57: Bình thường | L57: Kém
A59: 4.4. Công tác vệ sinh môi trường: | E59: Tốt | F59: P | H59: Bình thường | L59: Kém
A61: 5. Những ý kiến trong quá trình thi công xây dựng của các bên liên quan:
B62: =VLOOKUP('Thang 2'!D39,'Đầu vào'!A:H,7,0) -> 0
A63: 6. Ý kiến của nhà thầu thi công xây dựng:
B64: =VLOOKUP('Thang 2'!D39,'Đầu vào'!A:H,8,0) -> 0
C66: TƯ VẤN GIÁM SÁT | K66: NHÀ THẦU THI CÔNG
C72: ='Đầu vào'!$C$7 -> Nguyễn Tuấn Thành | K72: ='Đầu vào'!$C$8 -> Nguyễn Sĩ Thoả
A73: NHẬT KÝ CÔNG TRÌNH
A75: Ngày thi công thứ: | D75: =D39+1 -> 46
O76: ="Hải phòng, ngày "&DAY(P76)&" tháng "&MONTH(P76)&" năm 2025" -> Hải phòng, ngày 14 tháng 12 năm 2025 | P76: =VLOOKUP('Thang 2'!D75,'Đầu vào'!A:H,2,0) -> 46005
A78: 1. Tình hình thời tiết: | D78: Bình thường | F78: P | H78: Mưa | L78: Nắng
A79: 2. Tình hình nhân lực, thiết bị thi công:
A80: 2.1.Nhân lực: | C80: =VLOOKUP('Thang 2'!D75,'Đầu vào'!A:H,5,0) -> 01 tổ
A81: 2.2.Thiết bị:
B82: =VLOOKUP('Thang 2'!D75,'Đầu vào'!A:H,6,0) -> Máy đào, pông tông, máy đầm cóc
A83: 3. Tình hình thi công:
A84: 3.1. Nội dung công việc thực hiện:
B85: =VLOOKUP('Thang 2'!D75,'Đầu vào'!A:H,3,0) -> - Đào đất lòng kênh bằng máy đào đoạn 5 từ Km: 0+499 đến Km: 0+593 - Đắp đất bờ kênh bằng máy đoạn 4 từ Km: 0+424 đến Km: 0+499
A86: 3.2. Nghiệm thu công việc xây dựng:
B87: =VLOOKUP('Thang 2'!D75,'Đầu vào'!A:H,4,0) -> 0
A88: 4. Các tiêu chí đánh giá:
A89: 4.1. Biện pháp thi công: | E89: Tốt | F89: P | H89: Bình thường | L89: Kém
A91: 4.2. Tiến độ thực hiện: | E91: Tốt | F91: P | H91: Bình thường | L91: Kém
A93: 4.3. Công tác an toàn lao động: | E93: Tốt | F93: P | H93: Bình thường | L93: Kém
A95: 4.4. Công tác vệ sinh môi trường: | E95: Tốt | F95: P | H95: Bình thường | L95: Kém
A97: 5. Những ý kiến trong quá trình thi công xây dựng của các bên liên quan:
B98: =VLOOKUP('Thang 2'!D75,'Đầu vào'!A:H,7,0) -> 0
A99: 6. Ý kiến của nhà thầu thi công xây dựng:
B100: =VLOOKUP('Thang 2'!D75,'Đầu vào'!A:H,8,0) -> 0
C102: TƯ VẤN GIÁM SÁT | K102: NHÀ THẦU THI CÔNG
C108: ='Đầu vào'!$C$7 -> Nguyễn Tuấn Thành | K108: ='Đầu vào'!$C$8 -> Nguyễn Sĩ Thoả
A109: NHẬT KÝ CÔNG TRÌNH
A111: Ngày thi công thứ: | D111: =D75+1 -> 47
O112: ="Hải phòng, ngày "&DAY(P112)&" tháng "&MONTH(P112)&" năm 2025" -> Hải phòng, ngày 15 tháng 12 năm 2025 | P112: =VLOOKUP('Thang 2'!D111,'Đầu vào'!A:H,2,0) -> 46006
A114: 1. Tình hình thời tiết: | D114: Bình thường | F114: P | H114: Mưa | L114: Nắng
A115: 2. Tình hình nhân lực, thiết bị thi công:
A116: 2.1.Nhân lực: | C116: =VLOOKUP('Thang 2'!D111,'Đầu vào'!A:H,5,0) -> 01 tổ
A117: 2.2.Thiết bị:
B118: =VLOOKUP('Thang 2'!D111,'Đầu vào'!A:H,6,0) -> Máy đào, pông tông, máy đầm cóc
A119: 3. Tình hình thi công:
A120: 3.1. Nội dung công việc thực hiện:
B121: =VLOOKUP('Thang 2'!D111,'Đầu vào'!A:H,3,0) -> - Đào đất lòng kênh bằng máy đào đoạn 5 từ Km: 0+499 đến Km: 0+593 - Đắp đất bờ kênh bằng máy đoạn 4 từ Km: 0+424 đến Km: 0+499
A122: 3.2. Nghiệm thu công việc xây dựng:
B123: =VLOOKUP('Thang 2'!D111,'Đầu vào'!A:H,4,0) -> 0
A124: 4. Các tiêu chí đánh giá:
A125: 4.1. Biện pháp thi công: | E125: Tốt | F125: P | H125: Bình thường | L125: Kém
A127: 4.2. Tiến độ thực hiện: | E127: Tốt | F127: P | H127: Bình thường | L127: Kém
A129: 4.3. Công tác an toàn lao động: | E129: Tốt | F129: P | H129: Bình thường | L129: Kém
A131: 4.4. Công tác vệ sinh môi trường: | E131: Tốt | F131: P | H131: Bình thường | L131: Kém
A133: 5. Những ý kiến trong quá trình thi công xây dựng của các bên liên quan:
B134: - Đồng ý nghiệm thu công việc xây dựng trên để triển khai công việc xây dựng tiếp theo
A135: 6. Ý kiến của nhà thầu thi công xây dựng:
B136: =VLOOKUP('Thang 2'!D111,'Đầu vào'!A:H,8,0) -> 0
C138: TƯ VẤN GIÁM SÁT | K138: NHÀ THẦU THI CÔNG
C144: ='Đầu vào'!$C$7 -> Nguyễn Tuấn Thành | K144: ='Đầu vào'!$C$8 -> Nguyễn Sĩ Thoả
A145: NHẬT KÝ CÔNG TRÌNH
A147: Ngày thi công thứ: | D147: =D111+1 -> 48
O148: ="Hải phòng, ngày "&DAY(P148)&" tháng "&MONTH(P148)&" năm 2025" -> Hải phòng, ngày 16 tháng 12 năm 2025 | P148: =VLOOKUP('Thang 2'!D147,'Đầu vào'!A:H,2,0) -> 46007
A150: 1. Tình hình thời tiết: | D150: Bình thường | F150: P | H150: Mưa | L150: Nắng
...

Sheet Thang 3
A1: NHẬT KÝ CÔNG TRÌNH
A3: Ngày thi công thứ: | D3: 74
O4: ="Hải phòng, ngày "&DAY(P4)&" tháng "&MONTH(P4)&" năm 2026" -> Hải phòng, ngày 11 tháng 1 năm 2026 | P4: =VLOOKUP('Thang 3'!D3,'Đầu vào'!A:H,2,0) -> 46033
A6: 1. Tình hình thời tiết: | D6: Bình thường | F6: P | H6: Mưa | L6: Nắng
A7: 2. Tình hình nhân lực, thiết bị thi công:
A8: 2.1.Nhân lực: | C8: =VLOOKUP('Thang 3'!D3,'Đầu vào'!A:H,5,0) -> 01 tổ
A9: 2.2.Thiết bị:
B10: =VLOOKUP('Thang 3'!D3,'Đầu vào'!A:H,6,0) -> Máy đào, pông tông
A11: 3. Tình hình thi công:
A12: 3.1. Nội dung công việc thực hiện:
B13: =VLOOKUP('Thang 3'!D3,'Đầu vào'!A:H,3,0) -> - Đào đất lòng kênh bằng máy đào đoạn 7 từ Km: 0+752 đến Km: 0+888.9 - Đắp đất bờ kênh bằng máy đoạn 6 từ Km: 0+593 đến Km: 0+752 - Đắp đất bờ kênh bằng máy đoạn 7 từ Km: 0+752 đến Km: 0+888.9
A14: 3.2. Nghiệm thu công việc xây dựng:
B15: =VLOOKUP('Thang 3'!D3,'Đầu vào'!A:H,4,0) -> 0
A16: 4. Các tiêu chí đánh giá:
A17: 4.1. Biện pháp thi công: | E17: Tốt | F17: P | H17: Bình thường | L17: Kém
A19: 4.2. Tiến độ thực hiện: | E19: Tốt | F19: P | H19: Bình thường | L19: Kém
A21: 4.3. Công tác an toàn lao động: | E21: Tốt | F21: P | H21: Bình thường | L21: Kém
A23: 4.4. Công tác vệ sinh môi trường: | E23: Tốt | F23: P | H23: Bình thường | L23: Kém
A25: 5. Những ý kiến trong quá trình thi công xây dựng của các bên liên quan:
B26: - Đồng ý nghiệm thu công việc xây dựng trên để triển khai công việc xây dựng tiếp theo
A27: 6. Ý kiến của nhà thầu thi công xây dựng:
B28: =VLOOKUP('Thang 3'!D3,'Đầu vào'!A:H,8,0) -> 0
C30: TƯ VẤN GIÁM SÁT | K30: NHÀ THẦU THI CÔNG
C36: ='Đầu vào'!$C$7 -> Nguyễn Tuấn Thành | K36: ='Đầu vào'!$C$8 -> Nguyễn Sĩ Thoả
A37: NHẬT KÝ CÔNG TRÌNH
A39: Ngày thi công thứ: | D39: =D3+1 -> 75
O40: ="Hải phòng, ngày "&DAY(P40)&" tháng "&MONTH(P40)&" năm 2026" -> Hải phòng, ngày 12 tháng 1 năm 2026 | P40: =VLOOKUP('Thang 3'!D39,'Đầu vào'!A:H,2,0) -> 46034
A42: 1. Tình hình thời tiết: | D42: Bình thường | F42: P | H42: Mưa | L42: Nắng
A43: 2. Tình hình nhân lực, thiết bị thi công:
A44: 2.1.Nhân lực: | C44: =VLOOKUP('Thang 3'!D39,'Đầu vào'!A:H,5,0) -> 01 tổ
A45: 2.2.Thiết bị:
B46: =VLOOKUP('Thang 3'!D39,'Đầu vào'!A:H,6,0) -> Máy đào, pông tông
A47: 3. Tình hình thi công:
A48: 3.1. Nội dung công việc thực hiện:
B49: =VLOOKUP('Thang 3'!D39,'Đầu vào'!A:H,3,0) -> - Đào đất lòng kênh bằng máy đào đoạn 7 từ Km: 0+752 đến Km: 0+888.9 - Đắp đất bờ kênh bằng máy đoạn 6 từ Km: 0+593 đến Km: 0+752 - Đắp đất bờ kênh bằng máy đoạn 7 từ Km: 0+752 đến Km: 0+888.9
A50: 3.2. Nghiệm thu công việc xây dựng:
B51: =VLOOKUP('Thang 3'!D39,'Đầu vào'!A:H,4,0) -> 0
A52: 4. Các tiêu chí đánh giá:
A53: 4.1. Biện pháp thi công: | E53: Tốt | F53: P | H53: Bình thường | L53: Kém
A55: 4.2. Tiến độ thực hiện: | E55: Tốt | F55: P | H55: Bình thường | L55: Kém
A57: 4.3. Công tác an toàn lao động: | E57: Tốt | F57: P | H57: Bình thường | L57: Kém
A59: 4.4. Công tác vệ sinh môi trường: | E59: Tốt | F59: P | H59: Bình thường | L59: Kém
A61: 5. Những ý kiến trong quá trình thi công xây dựng của các bên liên quan:
B62: =VLOOKUP('Thang 3'!D39,'Đầu vào'!A:H,7,0) -> 0
A63: 6. Ý kiến của nhà thầu thi công xây dựng:
B64: =VLOOKUP('Thang 3'!D39,'Đầu vào'!A:H,8,0) -> 0
C66: TƯ VẤN GIÁM SÁT | K66: NHÀ THẦU THI CÔNG
C72: ='Đầu vào'!$C$7 -> Nguyễn Tuấn Thành | K72: ='Đầu vào'!$C$8 -> Nguyễn Sĩ Thoả
A73: NHẬT KÝ CÔNG TRÌNH
A75: Ngày thi công thứ: | D75: =D39+1 -> 76
O76: ="Hải phòng, ngày "&DAY(P76)&" tháng "&MONTH(P76)&" năm 2026" -> Hải phòng, ngày 13 tháng 1 năm 2026 | P76: =VLOOKUP('Thang 3'!D75,'Đầu vào'!A:H,2,0) -> 46035
A78: 1. Tình hình thời tiết: | D78: Bình thường | F78: P | H78: Mưa | L78: Nắng
A79: 2. Tình hình nhân lực, thiết bị thi công:
A80: 2.1.Nhân lực: | C80: =VLOOKUP('Thang 3'!D75,'Đầu vào'!A:H,5,0) -> 01 tổ
A81: 2.2.Thiết bị:
B82: =VLOOKUP('Thang 3'!D75,'Đầu vào'!A:H,6,0) -> Máy đào, pông tông
A83: 3. Tình hình thi công:
A84: 3.1. Nội dung công việc thực hiện:
B85: =VLOOKUP('Thang 3'!D75,'Đầu vào'!A:H,3,0) -> - Đào đất lòng kênh bằng máy đào đoạn 7 từ Km: 0+752 đến Km: 0+888.9 - Đắp đất bờ kênh bằng máy đoạn 6 từ Km: 0+593 đến Km: 0+752 - Đắp đất bờ kênh bằng máy đoạn 7 từ Km: 0+752 đến Km: 0+888.9
A86: 3.2. Nghiệm thu công việc xây dựng:
B87: =VLOOKUP('Thang 3'!D75,'Đầu vào'!A:H,4,0) -> 0
A88: 4. Các tiêu chí đánh giá:
A89: 4.1. Biện pháp thi công: | E89: Tốt | F89: P | H89: Bình thường | L89: Kém
A91: 4.2. Tiến độ thực hiện: | E91: Tốt | F91: P | H91: Bình thường | L91: Kém
A93: 4.3. Công tác an toàn lao động: | E93: Tốt | F93: P | H93: Bình thường | L93: Kém
A95: 4.4. Công tác vệ sinh môi trường: | E95: Tốt | F95: P | H95: Bình thường | L95: Kém
A97: 5. Những ý kiến trong quá trình thi công xây dựng của các bên liên quan:
B98: =VLOOKUP('Thang 3'!D75,'Đầu vào'!A:H,7,0) -> 0
A99: 6. Ý kiến của nhà thầu thi công xây dựng:
B100: =VLOOKUP('Thang 3'!D75,'Đầu vào'!A:H,8,0) -> 0
C102: TƯ VẤN GIÁM SÁT | K102: NHÀ THẦU THI CÔNG
C108: ='Đầu vào'!$C$7 -> Nguyễn Tuấn Thành | K108: ='Đầu vào'!$C$8 -> Nguyễn Sĩ Thoả
A109: NHẬT KÝ CÔNG TRÌNH
A111: Ngày thi công thứ: | D111: =D75+1 -> 77
O112: ="Hải phòng, ngày "&DAY(P112)&" tháng "&MONTH(P112)&" năm 2026" -> Hải phòng, ngày 14 tháng 1 năm 2026 | P112: =VLOOKUP('Thang 3'!D111,'Đầu vào'!A:H,2,0) -> 46036
A114: 1. Tình hình thời tiết: | D114: Bình thường | F114: P | H114: Mưa | L114: Nắng
A115: 2. Tình hình nhân lực, thiết bị thi công:
A116: 2.1.Nhân lực: | C116: =VLOOKUP('Thang 3'!D111,'Đầu vào'!A:H,5,0) -> 01 tổ
A117: 2.2.Thiết bị:
B118: =VLOOKUP('Thang 3'!D111,'Đầu vào'!A:H,6,0) -> Máy đào, pông tông
A119: 3. Tình hình thi công:
A120: 3.1. Nội dung công việc thực hiện:
B121: =VLOOKUP('Thang 3'!D111,'Đầu vào'!A:H,3,0) -> - Đào đất lòng kênh bằng máy đào đoạn 7 từ Km: 0+752 đến Km: 0+888.9 - Đắp đất bờ kênh bằng máy đoạn 6 từ Km: 0+593 đến Km: 0+752 - Đắp đất bờ kênh bằng máy đoạn 7 từ Km: 0+752 đến Km: 0+888.9
A122: 3.2. Nghiệm thu công việc xây dựng:
B123: =VLOOKUP('Thang 3'!D111,'Đầu vào'!A:H,4,0) -> 0
A124: 4. Các tiêu chí đánh giá:
A125: 4.1. Biện pháp thi công: | E125: Tốt | F125: P | H125: Bình thường | L125: Kém
A127: 4.2. Tiến độ thực hiện: | E127: Tốt | F127: P | H127: Bình thường | L127: Kém
A129: 4.3. Công tác an toàn lao động: | E129: Tốt | F129: P | H129: Bình thường | L129: Kém
A131: 4.4. Công tác vệ sinh môi trường: | E131: Tốt | F131: P | H131: Bình thường | L131: Kém
A133: 5. Những ý kiến trong quá trình thi công xây dựng của các bên liên quan:
B134: - Đồng ý nghiệm thu công việc xây dựng trên để triển khai công việc xây dựng tiếp theo
A135: 6. Ý kiến của nhà thầu thi công xây dựng:
B136: =VLOOKUP('Thang 3'!D111,'Đầu vào'!A:H,8,0) -> 0
C138: TƯ VẤN GIÁM SÁT | K138: NHÀ THẦU THI CÔNG
C144: ='Đầu vào'!$C$7 -> Nguyễn Tuấn Thành | K144: ='Đầu vào'!$C$8 -> Nguyễn Sĩ Thoả
A145: NHẬT KÝ CÔNG TRÌNH
A147: Ngày thi công thứ: | D147: =D111+1 -> 78
O148: ="Hải phòng, ngày "&DAY(P148)&" tháng "&MONTH(P148)&" năm 2026" -> Hải phòng, ngày 15 tháng 1 năm 2026 | P148: =VLOOKUP('Thang 3'!D147,'Đầu vào'!A:H,2,0) -> 46037
A150: 1. Tình hình thời tiết: | D150: Bình thường | F150: P | H150: Mưa | L150: Nắng
...
