Workbook
Name \0: '[1]PNT-QUOT-#3'!#REF!
Name \0: '[1]PNT-QUOT-#3'!#REF!
Name \d: #N/A
Name \z: '[1]COAT&WRAP-QIOT-#3'!#REF!
Name \z: '[1]COAT&WRAP-QIOT-#3'!#REF!
Name _: #N/A
Name _1: #REF!
Name _1: #REF!
Name _2: #REF!
Name _3: '[2]MAIN GATE HOUSE'!#REF!
Name _4: '[2]MAIN GATE HOUSE'!#REF!
Name _6: '[2]MAIN GATE HOUSE'!#REF!
Name _7: '[2]MAIN GATE HOUSE'!#REF!
Name _A65700: '[3]MTO REV.2(ARMOR)'!#REF!
Name _A65800: '[3]MTO REV.2(ARMOR)'!#REF!
Name _A66000: '[3]MTO REV.2(ARMOR)'!#REF!
Name _A67000: '[3]MTO REV.2(ARMOR)'!#REF!
Name _A68000: '[3]MTO REV.2(ARMOR)'!#REF!
Name _A70000: '[3]MTO REV.2(ARMOR)'!#REF!
Name _A75000: '[3]MTO REV.2(ARMOR)'!#REF!
Name _A85000: '[3]MTO REV.2(ARMOR)'!#REF!
Name _abb91: #REF!
Name _CON1: #REF!
Name _CON2: #REF!
Name _CT250: '[4]dongia (2)'!#REF!
Name _ddn400: #REF!
Name _ddn600: #REF!
Name _dgt100: '[4]dongia (2)'!#REF!
Name _GID1: '[4]LKVL-CK-HT-GD1'!$A$4
Name _gon4: #REF!
Name _MAC12: #REF!
Name _MAC46: #REF!
Name _NCL100: #REF!
Name _NCL200: #REF!
Name _NCL250: #REF!
Name _NET2: #REF!
Name _nin190: #REF!
Name _oto10: [5]VL!#REF!
Name _sc1: #REF!
Name _SC2: #REF!
Name _sc3: #REF!
Name _SN3: #REF!
Name _tct3: [6]gVL!$Q$23
Name _th100: '[4]dongia (2)'!#REF!
Name _TH160: '[4]dongia (2)'!#REF!
Name _TL1: #REF!
Name _TL2: #REF!
Name _TL3: #REF!
Name _TLA120: #REF!
Name _TLA35: #REF!
Name _TLA50: #REF!
Name _TLA70: #REF!
Name _TLA95: #REF!
Name _TR250: '[4]dongia (2)'!#REF!
Name _tr375: [4]giathanh1!#REF!
Name _tz593: #REF!
Name _VL100: #REF!
Name _VL200: #REF!
Name _VL250: #REF!
Name A: '[1]PNT-QUOT-#3'!#REF!

Sheet foxz

Sheet KL
A1: BẢNG TÍNH KHỐI LƯỢNG
A2: =[34]TH!A2 -> CÔNG TRÌNH: KÊNH CẦU ĐEN, L=4800M
A3: =[34]TH!A3 -> ĐỊA ĐIỂM: XÃ KIẾN MINH, PHƯỜNG DƯƠNG KINH - TP. HẢI PHÒNG
B5: Tæng hîp khèi l­îng
B6: STT | C6: Danh mục công tác | G6: Diễn giải khối lượng | I6: Khối lượng | J6: Đơn vị
B7: 1 | C7: Tổng chiều dài tuyến | I7: ='[34]KL đào, đắp'!C200 -> 4800 | J7: m
B8: 2 | C8: Tổng khối lượng đất đắp | I8: =+I9+I10 -> 17694.2 | J8: m3 | N8: =+I8*1.07-I11 -> -333.456
C9: Khối lượng đất đắp bằng máy | I9: ='[34]KL đào, đắp'!K205 -> 12197 | N9: =+I11-N8 -> 19599.706
C10: Khối lượng đất đắp thủ công | I10: ='[34]KL đào, đắp'!K207 -> 5497.2
B11: 3 | C11: Khối lượng đất đào | I11: ='[34]KL đào, đắp'!K204 -> 19266.25 | J11: m3 | M11: =+I11-I8 -> 1572.05
B12: 4 | C12: Khối lượng đất vận chuyển | I12: 0 | J12: m3
B13: 4 | C13: Thuê phao thép (trọng tải 60 tấn) | I13: =+I15+I17 -> 142.87157 | J13: ca
C14: Theo định mức AB.27111 để đào 100 m3 đất cấp I cần 0,325 ca máy đào 0,8m3
C15: Do đó số ca phục vụ đào kênh: | G15: =I11&"x0,325/100=" -> 19266,25x0,325/100= | I15: =I11*0.325/100 -> 62.615313 | J15: ca
C16: Theo định mức TLB.22411 để đắp 100 m3 đất cấp I cần 0,658 ca máy đào 0,65m3
C17: Do đó số ca phục vụ đắp bờ: | G17: =I9&"x0,658/100=" -> 12197x0,658/100= | I17: =I9*0.658/100 -> 80.25626 | J17: ca | O17: =+I17-25 -> 55.25626
B18: 5 | C18: Đóng cọc tre gia cố chân bờ, 3 cặp cọc/m, cọc tre dài 2,5m | I18: =SUM(I19:I20) -> 3375 | J18: m | M18: =+I20+#REF!+#REF! -> #REF!
C19: Đóng cọc tre phía kênh xây từ cọc C4+25 đến cọc C5+25m chiều dài L=17m | G19: 50*2*3*2,5= | I19: =50*2*3*2.5 -> 750
C20: Đóng cọc tre phía kênh xây từ cọc C24+25 đến cọc C28 chiều dài L=175m | G20: 175*2*3*2,8= | I20: =175*2*3*2.5 -> 2625
B21: 6 | C21: Ép phên tre gia cố 0,8m | I21: =I22 -> 180 | J21: m2 | M21: =(61+38+52)*0.8 -> 120.8
G22: (50+175)*0,8= | I22: =(50+175)*0.8 -> 180
B23: 5 | C23: Ô tô đầu kéo vận chuyển máy đào đến và đi khỏi công trường | I23: 2 | J23: ca
B24: 6 | C24: Rơ móc vận chuyển máy đào đến và đi khói công trường | I24: 2 | J24: ca
B25: 7 | C25: Ô tô gắn cần trục 16T vận chuyển phao thép đến và đi khỏi công trường | I25: 2 | J25: ca
B26: 8 | C26: Nhân công bậc 4/7 lắp ghép, tháo dỡ phao thép, đấu nối điện | I26: 4 | J26: công
C27: 3 công/ (lắp dựng, tháo dỡ)
B28: 9 | C28: Đóng cọc tre từ MC41 đến MC43, chiều dài L1=90m; từ MC48 đến MC54, L2=330m mật độ 5 cặp cọc/1mcọc tre dài 2,8m; cọc tre giằng đầu cọc = 40m | G28: =+N28&"*2,8*2*5=" -> 420*2,8*2*5= | I28: =(N28*2.8*2*5) -> 11760 | J28: m | L28: Lcọc tre= | N28: =90+330 -> 420
B29: 10 | C29: Tre giằng đầu cọc | I29: =+N28 -> 420 | J29: m
B30: 10 | C30: Ép phên tre | G30: =+N28&"*0,8=" -> 420*0,8= | I30: =N28*0.8 -> 336 | J30: m2
B31: 12 | C31: Thép ly 4 quấn đầu cọc | G31: =+"5*0,7*0,0986*"&N28 -> 5*0,7*0,0986*420 | I31: =5*0.7*0.0986*N28 -> 144.942 | J31: kg
B32: 13 | C32: Chặt cây trên bờ kênh, giải phóng mặt bằng phục vụ thi công | I32: =[34]TH!I18 -> 17502.5 | J32: m2
M36: NẠO VÉT, ĐẮP BỜ KÊNH ĐÔNG TÁC (ĐOẠN TỪ TRẠM BƠM ĐẦM CHỢ VỀ PHÍA NGÃ BA KÊNH ĐÔNG TÁC VÀ KÊNH ĐẠI HỢP, CHIỀU DÀI L=1.400M)

Sheet TH
A1: BẢNG TÍNH KHỐI LƯỢNG KÊNH
A2: ='KL đào, đắp'!A2 -> Công trình: Nạo vét, đắp bờ kênh hút trạm bơm Văn Cao
A3: ='KL đào, đắp'!A3 -> Địa điểm: Xã Kiến Thụy, thành phố Hải Phòng
A5: Số TT | B5: Danh mục công tác | C5: Đơn vị | D5: Số bộ phận giống nhau | E5: Kích thước | H5: K. hút TB Văn Cao | I5: Tổng cộng
E6: Dài (m) | F6: Rộng (m) | G6: Cao (m) | N6: 12912 | O6: 1545
A7: 1 | B7: Đào kênh B =< 6m | C7: m3 | I7: =SUM(I8:I9) -> 823.85
A8: 1.1 | B8: Đào bằng máy đào 0,8m3 trên phao thép | E8: Theo bảng KL | H8: =+'KL đào, đắp'!O18 -> 823.85 | I8: =SUM(H8:H8) -> 823.85 | J8: =+I8/100 -> 8.2385 | N8: =N6+O6 -> 14457
A9: 1.2 | B9: Đào kênh bằng máy đào 0,4m3 trên tấm chống lầy | I9: =SUM(H9:H9) -> 0 | K9: =0.14*3310 -> 463.4
A10: 2 | B10: Đắp đất bờ kênh (K=0.85) | C10: m3 | I10: =I11+I12 -> 819.513 | L10: =+I7-I10 -> 4.337
A11: 2.1 | B11: Đất đắp bằng thủ công | E11: Theo bảng KL | H11: =+'KL đào, đắp'!O20 -> 104.65 | I11: =+H11*1.07 -> 111.9755
A12: 2.2 | B12: Đất đắp bằng máy | E12: Theo bảng KL | H12: =+'KL đào, đắp'!O19 -> 661.25 | I12: =+H12*1.07 -> 707.5375 | J12: =+I12/100 -> 7.075375
A13: 3 | B13: Phao thép phục vụ thi công | C13: ca | H13: =SUM(H14:H15) -> 7.0285375 | I13: =SUM(I14:I15) -> 7.0285375 | O13: =1558*9 -> 14022 | S13: =1503*9 -> 13527
A14: 3.1 | B14: Theo định mức AB.27111để đào 100m3 đất cấp I cần 0,325 ca máy đào 0,8m3 | D14: 1 | F14: 0.325 | G14: 0.01 | H14: =(H8-I16)*$F$14*$G$14 -> 2.6775125 | I14: =SUM(H14:H14) -> 2.6775125
A15: 3.2 | B15: Theo định mức TLB.22411 để đắp bờ bao cho100m3 đất cần 0,658 ca máy đào 0,65m3 | D15: 1 | F15: 0.658 | G15: 0.01 | H15: =H12*$F$15*$G$15 -> 4.351025 | I15: =SUM(H15:H15) -> 4.351025 | Q15: =4*1503 -> 6012 | R15: =Q15+6506 -> 12518
A16: 3.3 | B16: Phần khối lượng không sử dụng máy đào đứng trên phao | I16: =+H17+H18+H19 -> 0
B17: Đào từ mc 20 đến mc 25 | H17: 0
B18: Đào từ mc 28 đến mc 30 | H18: 0
B19: Đào từ mc 35 đến mc 43 | H19: 0
A20: 4 | B20: Thép tấm chống lầy phục vụ thi công 1,2x5x0,005) (khấu hao 1 tháng = (1,5+5%)*3,76 tấn | C20: kg
A21: 4 | B21: Đất đào thừa vận chuyển đổ đi 3km bằng ô tô 5T | C21: m3 | H21: =H8-(H11+H12)*1.07 -> 4.337 | I21: =SUM(H21:H21) -> 4.337 | J21: =+I21/100 -> 0.04337
A22: 4 | B22: Dọn mặt bằng thi công | C22: m2 | E22: Theo bảng KL | H22: =+'KL đào, đắp'!O21 -> 287.25 | I22: =+H22 -> 287.25 | J22: =+I22/100 -> 2.8725
A23: 5 | B23: Ô tô đầu kéo 150CV + rơ mooc vận chuyển máy xúc đến và về (máy xúc gầu 0,8m3) | C23: ca | I23: =+SUM(H24:H25) -> 2
B24: Vận chuyển đến công trường | H24: 1
B25: Vận chuyển ra khỏi công trường | H25: 1
A26: 6 | B26: Ô tô gắn cần trục 10T vận chuyển phao thép đến và về | C26: ca | I26: =+SUM(H27:H34) -> 2
B27: Vận chuyển đến công trường | H27: 1
B28: Qua cầu vị trí C5+40 | H28: 0
B29: Qua cầu vị trí C8+40 | H29: 0
B30: Qua cầu vị trí C13+5 | H30: 0
B31: Qua cầu vị trí C18 | H31: 0
B32: Qua cầu vị trí C49+30 | H32: 0
B33: Qua đường vị trí C40+20 | H33: 0
B34: Vận chuyển ra khỏi công trường | H34: 1
A35: 7 | B35: Nhân công 3/7: Lắp ghép phao thép để thi công, tháo dỡ phao thép khi hoàn thành (3công/ lần) | C35: công | I35: =+SUM(H36:H43) -> 3
B36: Lắp ghép phao thép | H36: 1.5
B37: Qua cầu vị trí C5+40 | H37: 0
B38: Qua cầu vị trí C8+40 | H38: 0
B39: Qua cầu vị trí C13+5 | H39: 0
B40: Qua cầu vị trí C18 | H40: 0
B41: Qua cầu vị trí C49+30 | H41: 0
...

Sheet KL đào, đắp
A1: BẢNG TÍNH KHỐI LƯỢNG
A2: Công trình: Nạo vét, đắp bờ kênh hút trạm bơm Văn Cao
A3: Địa điểm: Xã Kiến Thụy, thành phố Hải Phòng
A5: Mặt cắt | B5: Khoảng cách (m) | C5: Áp dụng (m) | E5: Diện tích (m2) | H5: Khối lượng (m3) | K5: Dọn dẹp mặt bằng | M5: Dọn dẹp mặt bằng (m2) | Q5: Ghi chú
E6: Đất đào bằng máy | F6: Đất đắp bằng máy | G6: Đất đắp thủ công | H6: Đất đào bằng máy | I6: Đất đắp bằng máy | J6: Đất đắp thủ công | K6: Chiều rộng (m) | L6: Diện tích (m2) | M6: Bờ trái (m) | N6: Bờ phải (m) | O6: Tổng cộng (m) | P6: Diện tích (m2)
A7: 1 | C7: =+B8/2 -> 25 | E7: 6.64 | F7: 6.59 | G7: 1 | H7: =C7*E7 -> 166 | I7: =C7*F7 -> 164.75 | J7: =C7*G7 -> 25 | K7: 6.75 | L7: =C7*K7 -> 168.75 | M7: 1.4 | N7: 1.35 | O7: =+M7+N7 -> 2.75 | P7: =C7*O7 -> 68.75
B8: 50
A9: 2 | C9: =+B8/2+B10/2 -> 50 | E9: 7.02 | F9: 6.35 | G9: 1.01 | H9: =C9*E9 -> 351 | I9: =C9*F9 -> 317.5 | J9: =C9*G9 -> 50.5 | K9: 5.35 | L9: =C9*K9 -> 267.5 | M9: 1.4 | N9: 1.4 | O9: =+M9+N9 -> 2.8 | P9: =C9*O9 -> 140
B10: 50
A11: 3 | C11: =+B10/2+B12/2 -> 35 | E11: 6.89 | F11: 4.7 | G11: 0.75 | H11: =C11*E11 -> 241.15 | I11: =C11*F11 -> 164.5 | J11: =C11*G11 -> 26.25 | K11: 6.79 | L11: =C11*K11 -> 237.65 | M11: 0.8 | N11: 1.1 | O11: =+M11+N11 -> 1.9 | P11: =C11*O11 -> 66.5
B12: 20
A13: 4 | C13: =+B12/2 -> 10 | E13: 6.57 | F13: 1.45 | G13: 0.29 | H13: =C13*E13 -> 65.7 | I13: =C13*F13 -> 14.5 | J13: =C13*G13 -> 2.9 | K13: 7.27 | L13: =C13*K13 -> 72.7 | M13: 1.2 | N13: 0 | O13: =+M13+N13 -> 1.2 | P13: =C13*O13 -> 12
A14: Tổng cộng | B14: =SUM(B7:B13) -> 120 | C14: =SUM(C7:C13) -> 120 | H14: =SUM(H7:H13) -> 823.85 | I14: =SUM(I7:I13) -> 661.25 | J14: =SUM(J7:J13) -> 104.65 | O14: =SUM(O7:O13) -> 8.65 | P14: =SUM(P7:P13) -> 287.25
A16: TỔNG HỢP KHỐI LƯỢNG
A17: 1. | B17: Chiều dài tuyến kênh: | O17: =+B14 -> 120 | P17: m
A18: 2. | B18: Khối lượng đất đào bằng máy: | O18: =+H14 -> 823.85 | P18: m3 | R18: =+O18-(O19+O20)*1.07 -> 4.337
A19: 3. | B19: Khối lượng đất đắp bằng máy: | O19: =+I14 -> 661.25 | P19: m3
A20: 4. | B20: Khối lượng đất đắp bằng thủ công: | O20: =+J14 -> 104.65 | P20: m3
A21: 5. | B21: Khối lượng dọn mặt bằng: | O21: =+P14 -> 287.25 | P21: m2

Sheet Khao sat
A1: BẢNG TỔNG HỢP KHỐI LƯỢNG KHẢO SÁT ĐỊA HÌNH
A2: ='KL đào, đắp'!A2 -> Công trình: Nạo vét, đắp bờ kênh hút trạm bơm Văn Cao
A3: ='KL đào, đắp'!A3 -> Địa điểm: Xã Kiến Thụy, thành phố Hải Phòng
A5: TT | B5: Hạng mục | C5: Cắt | D5: Cắt ngang | K5: BĐ tỷ lệ1:200 | M5: Khống chế | N5: T. chuẩn | O5: Cắm tim
C6: dọc | D6: Số | F6: Ch.dài | H6: Tổng | I6: T. cạn | J6: D. nước | K6: T. cạn | L6: D. nước | M6: đ/c cấp 2 | N6: kỹ thuật | O6: tuyến ct
C7: (m) | D7: m/c | F7: T.bình | H7: (m) | I7: (m) | J7: (m) | K7: (ha) | L7: (ha) | M7: (điểm) | N7: (km) | O7: (điểm)
A8: 1 | B8: Cắt dọc, cắt ngang | K8: 0 | L8: =K8 -> 0 | M8: 0 | N8: =C9/1000 -> 0.12
B9: * CD + CN: | C9: =+'KL đào, đắp'!B14 -> 120 | D9: 4 | E9: x | F9: 25 | G9: = | H9: =D9*F9 -> 100 | I9: =H9*0.55 -> 55 | J9: =H9-I9 -> 45
B10: Cộng: | C10: =+C9 -> 120 | H10: =+H9 -> 100 | I10: =+I9 -> 55 | J10: =+J9 -> 45 | K10: =+K9 -> 0 | L10: =+L9 -> 0 | M10: =+M9 -> 0 | N10: =+N8 -> 0.12 | O10: =SUM(O8:O9) -> 0

Sheet Cao do
A1: Mặt cắt | B1: Cao độ nhập | F1: Hàm chuyển dấu , thành . | J1: Giá trị nhập vào file *.csv (lisp)
B2: Bờ trái | C2: Đáy | D2: Bờ phải | F2: Bờ trái | G2: Đáy | H2: Bờ phải | J2: Bờ trái | K2: Đáy | L2: Bờ phải
A3: A | B3: 2.5 | C3: -0.03 | D3: 1.45 | E3: -0.9 | F3: =SUBSTITUTE(VALUE(B3),",",".") -> 2.5 | G3: =SUBSTITUTE(VALUE(C3),",",".") -> -0.03 | H3: =SUBSTITUTE(VALUE(D3),",",".") -> 1.45 | I3: =SUBSTITUTE(VALUE(E3),",",".") -> -0.9 | J3: =$A3&","&F3 -> A,2.5 | K3: =$A3&","&G3 -> A,-0.03 | L3: =$A3&","&H3 -> A,1.45 | M3: =$A3&","&I3 -> A,-0.9
A4: 1 | B4: 1.6 | C4: 0.21 | D4: 1.6 | E4: -0.9 | F4: =SUBSTITUTE(VALUE(B4),",",".") -> 1.6 | G4: =SUBSTITUTE(VALUE(C4),",",".") -> 0.21 | H4: =SUBSTITUTE(VALUE(D4),",",".") -> 1.6 | I4: =SUBSTITUTE(VALUE(E4),",",".") -> -0.9 | J4: =$A4&","&F4 -> 1,1.6 | K4: =$A4&","&G4 -> 1,0.21 | L4: =$A4&","&H4 -> 1,1.6 | M4: =$A4&","&I4 -> 1,-0.9
A5: 2 | B5: 1.6 | C5: 0.24 | D5: 1.55 | E5: -0.9 | F5: =SUBSTITUTE(VALUE(B5),",",".") -> 1.6 | G5: =SUBSTITUTE(VALUE(C5),",",".") -> 0.24 | H5: =SUBSTITUTE(VALUE(D5),",",".") -> 1.55 | I5: =SUBSTITUTE(VALUE(E5),",",".") -> -0.9 | J5: =$A5&","&F5 -> 2,1.6 | K5: =$A5&","&G5 -> 2,0.24 | L5: =$A5&","&H5 -> 2,1.55 | M5: =$A5&","&I5 -> 2,-0.9
A6: 3 | B6: 1.55 | C6: 0.21 | D6: 1.65 | E6: -0.9 | F6: =SUBSTITUTE(VALUE(B6),",",".") -> 1.55 | G6: =SUBSTITUTE(VALUE(C6),",",".") -> 0.21 | H6: =SUBSTITUTE(VALUE(D6),",",".") -> 1.65 | I6: =SUBSTITUTE(VALUE(E6),",",".") -> -0.9 | J6: =$A6&","&F6 -> 3,1.55 | K6: =$A6&","&G6 -> 3,0.21 | L6: =$A6&","&H6 -> 3,1.65 | M6: =$A6&","&I6 -> 3,-0.9
A7: 4 | B7: 1.55 | C7: 0.24 | D7: 1.65 | E7: -0.9 | F7: =SUBSTITUTE(VALUE(B7),",",".") -> 1.55 | G7: =SUBSTITUTE(VALUE(C7),",",".") -> 0.24 | H7: =SUBSTITUTE(VALUE(D7),",",".") -> 1.65 | I7: =SUBSTITUTE(VALUE(E7),",",".") -> -0.9 | J7: =$A7&","&F7 -> 4,1.55 | K7: =$A7&","&G7 -> 4,0.24 | L7: =$A7&","&H7 -> 4,1.65 | M7: =$A7&","&I7 -> 4,-0.9
A8: 5 | B8: 1.55 | C8: 0.25 | D8: 1.55 | E8: -0.9 | F8: =SUBSTITUTE(VALUE(B8),",",".") -> 1.55 | G8: =SUBSTITUTE(VALUE(C8),",",".") -> 0.25 | H8: =SUBSTITUTE(VALUE(D8),",",".") -> 1.55 | I8: =SUBSTITUTE(VALUE(E8),",",".") -> -0.9 | J8: =$A8&","&F8 -> 5,1.55 | K8: =$A8&","&G8 -> 5,0.25 | L8: =$A8&","&H8 -> 5,1.55 | M8: =$A8&","&I8 -> 5,-0.9
A9: 6 | B9: 1.55 | C9: 0.24 | D9: 1.45 | E9: -0.9 | F9: =SUBSTITUTE(VALUE(B9),",",".") -> 1.55 | G9: =SUBSTITUTE(VALUE(C9),",",".") -> 0.24 | H9: =SUBSTITUTE(VALUE(D9),",",".") -> 1.45 | I9: =SUBSTITUTE(VALUE(E9),",",".") -> -0.9 | J9: =$A9&","&F9 -> 6,1.55 | K9: =$A9&","&G9 -> 6,0.24 | L9: =$A9&","&H9 -> 6,1.45 | M9: =$A9&","&I9 -> 6,-0.9
A10: 7 | B10: 1.55 | C10: 0.25 | D10: 1.45 | E10: -0.9 | F10: =SUBSTITUTE(VALUE(B10),",",".") -> 1.55 | G10: =SUBSTITUTE(VALUE(C10),",",".") -> 0.25 | H10: =SUBSTITUTE(VALUE(D10),",",".") -> 1.45 | I10: =SUBSTITUTE(VALUE(E10),",",".") -> -0.9 | J10: =$A10&","&F10 -> 7,1.55 | K10: =$A10&","&G10 -> 7,0.25 | L10: =$A10&","&H10 -> 7,1.45 | M10: =$A10&","&I10 -> 7,-0.9
A11: 8 | B11: 1.55 | C11: 0.24 | D11: 1.45 | E11: -0.9 | F11: =SUBSTITUTE(VALUE(B11),",",".") -> 1.55 | G11: =SUBSTITUTE(VALUE(C11),",",".") -> 0.24 | H11: =SUBSTITUTE(VALUE(D11),",",".") -> 1.45 | I11: =SUBSTITUTE(VALUE(E11),",",".") -> -0.9 | J11: =$A11&","&F11 -> 8,1.55 | K11: =$A11&","&G11 -> 8,0.24 | L11: =$A11&","&H11 -> 8,1.45 | M11: =$A11&","&I11 -> 8,-0.9
A12: 9 | B12: 1.5 | C12: 0.16 | D12: 1.4 | E12: -0.9 | F12: =SUBSTITUTE(VALUE(B12),",",".") -> 1.5 | G12: =SUBSTITUTE(VALUE(C12),",",".") -> 0.16 | H12: =SUBSTITUTE(VALUE(D12),",",".") -> 1.4 | I12: =SUBSTITUTE(VALUE(E12),",",".") -> -0.9 | J12: =$A12&","&F12 -> 9,1.5 | K12: =$A12&","&G12 -> 9,0.16 | L12: =$A12&","&H12 -> 9,1.4 | M12: =$A12&","&I12 -> 9,-0.9
A13: 10 | B13: 1.5 | C13: 0.22 | D13: 1.4 | E13: -0.9 | F13: =SUBSTITUTE(VALUE(B13),",",".") -> 1.5 | G13: =SUBSTITUTE(VALUE(C13),",",".") -> 0.22 | H13: =SUBSTITUTE(VALUE(D13),",",".") -> 1.4 | I13: =SUBSTITUTE(VALUE(E13),",",".") -> -0.9 | J13: =$A13&","&F13 -> 10,1.5 | K13: =$A13&","&G13 -> 10,0.22 | L13: =$A13&","&H13 -> 10,1.4 | M13: =$A13&","&I13 -> 10,-0.9
A14: 11 | B14: 1.5 | C14: 0.22 | D14: 1.4 | E14: -0.9 | F14: =SUBSTITUTE(VALUE(B14),",",".") -> 1.5 | G14: =SUBSTITUTE(VALUE(C14),",",".") -> 0.22 | H14: =SUBSTITUTE(VALUE(D14),",",".") -> 1.4 | I14: =SUBSTITUTE(VALUE(E14),",",".") -> -0.9 | J14: =$A14&","&F14 -> 11,1.5 | K14: =$A14&","&G14 -> 11,0.22 | L14: =$A14&","&H14 -> 11,1.4 | M14: =$A14&","&I14 -> 11,-0.9
A15: 12 | B15: 1.5 | C15: 0.21 | D15: 1.35 | E15: -0.9 | F15: =SUBSTITUTE(VALUE(B15),",",".") -> 1.5 | G15: =SUBSTITUTE(VALUE(C15),",",".") -> 0.21 | H15: =SUBSTITUTE(VALUE(D15),",",".") -> 1.35 | I15: =SUBSTITUTE(VALUE(E15),",",".") -> -0.9 | J15: =$A15&","&F15 -> 12,1.5 | K15: =$A15&","&G15 -> 12,0.21 | L15: =$A15&","&H15 -> 12,1.35 | M15: =$A15&","&I15 -> 12,-0.9
... A33: 30 | B33: 1.3 | C33: 0.35 | D33: 1.4 | E33: -0.86 | F33: =SUBSTITUTE(VALUE(B33),",",".") -> 1.3 | G33: =SUBSTITUTE(VALUE(C33),",",".") -> 0.35 | H33: =SUBSTITUTE(VALUE(D33),",",".") -> 1.4 | I33: =SUBSTITUTE(VALUE(E33),",",".") -> -0.86 | J33: =$A33&","&F33 -> 30,1.3 | K33: =$A33&","&G33 -> 30,0.35 | L33: =$A33&","&H33 -> 30,1.4 | M33: =$A33&","&I33 -> 30,-0.86
A34: B | B34: 1.3 | C34: 0.35 | D34: 1.35 | E34: -0.86 | F34: =SUBSTITUTE(VALUE(B34),",",".") -> 1.3 | G34: =SUBSTITUTE(VALUE(C34),",",".") -> 0.35 | H34: =SUBSTITUTE(VALUE(D34),",",".") -> 1.35 | I34: =SUBSTITUTE(VALUE(E34),",",".") -> -0.86 | J34: =$A34&","&F34 -> B,1.3 | K34: =$A34&","&G34 -> B,0.35 | L34: =$A34&","&H34 -> B,1.35 | M34: =$A34&","&I34 -> B,-0.86
A35: A | B35: 1.7 | C35: 0.12 | D35: 1.55 | F35: =SUBSTITUTE(VALUE(B35),",",".") -> 1.7 | G35: =SUBSTITUTE(VALUE(C35),",",".") -> 0.12 | H35: =SUBSTITUTE(VALUE(D35),",",".") -> 1.55 | J35: =$A35&","&F35 -> A,1.7 | K35: =$A35&","&G35 -> A,0.12 | L35: =$A35&","&H35 -> A,1.55
A36: 1 | B36: 1.7 | C36: 0.14 | D36: 1.5 | F36: =SUBSTITUTE(VALUE(B36),",",".") -> 1.7 | G36: =SUBSTITUTE(VALUE(C36),",",".") -> 0.14 | H36: =SUBSTITUTE(VALUE(D36),",",".") -> 1.5 | J36: =$A36&","&F36 -> 1,1.7 | K36: =$A36&","&G36 -> 1,0.14 | L36: =$A36&","&H36 -> 1,1.5
A37: 2 | B37: 1.5 | C37: 0.14 | D37: 1.5 | F37: =SUBSTITUTE(VALUE(B37),",",".") -> 1.5 | G37: =SUBSTITUTE(VALUE(C37),",",".") -> 0.14 | H37: =SUBSTITUTE(VALUE(D37),",",".") -> 1.5 | J37: =$A37&","&F37 -> 2,1.5 | K37: =$A37&","&G37 -> 2,0.14 | L37: =$A37&","&H37 -> 2,1.5
A38: 3 | B38: 1.45 | C38: 0.14 | D38: 1.5 | F38: =SUBSTITUTE(VALUE(B38),",",".") -> 1.45 | G38: =SUBSTITUTE(VALUE(C38),",",".") -> 0.14 | H38: =SUBSTITUTE(VALUE(D38),",",".") -> 1.5 | J38: =$A38&","&F38 -> 3,1.45 | K38: =$A38&","&G38 -> 3,0.14 | L38: =$A38&","&H38 -> 3,1.5
A39: 4 | B39: 1.45 | C39: 0.12 | D39: 1.45 | F39: =SUBSTITUTE(VALUE(B39),",",".") -> 1.45 | G39: =SUBSTITUTE(VALUE(C39),",",".") -> 0.12 | H39: =SUBSTITUTE(VALUE(D39),",",".") -> 1.45 | J39: =$A39&","&F39 -> 4,1.45 | K39: =$A39&","&G39 -> 4,0.12 | L39: =$A39&","&H39 -> 4,1.45
A40: 5 | B40: 1.45 | C40: 0.12 | D40: 1.5 | F40: =SUBSTITUTE(VALUE(B40),",",".") -> 1.45 | G40: =SUBSTITUTE(VALUE(C40),",",".") -> 0.12 | H40: =SUBSTITUTE(VALUE(D40),",",".") -> 1.5 | J40: =$A40&","&F40 -> 5,1.45 | K40: =$A40&","&G40 -> 5,0.12 | L40: =$A40&","&H40 -> 5,1.5
A41: 6 | B41: 1.45 | C41: 0.12 | D41: 1.5 | F41: =SUBSTITUTE(VALUE(B41),",",".") -> 1.45 | G41: =SUBSTITUTE(VALUE(C41),",",".") -> 0.12 | H41: =SUBSTITUTE(VALUE(D41),",",".") -> 1.5 | J41: =$A41&","&F41 -> 6,1.45 | K41: =$A41&","&G41 -> 6,0.12 | L41: =$A41&","&H41 -> 6,1.5
A42: 7 | B42: 1.55 | C42: 0.1 | D42: 1.6 | F42: =SUBSTITUTE(VALUE(B42),",",".") -> 1.55 | G42: =SUBSTITUTE(VALUE(C42),",",".") -> 0.1 | H42: =SUBSTITUTE(VALUE(D42),",",".") -> 1.6 | J42: =$A42&","&F42 -> 7,1.55 | K42: =$A42&","&G42 -> 7,0.1 | L42: =$A42&","&H42 -> 7,1.6
A43: 8 | B43: 1.55 | C43: 0.14 | D43: 1.5 | F43: =SUBSTITUTE(VALUE(B43),",",".") -> 1.55 | G43: =SUBSTITUTE(VALUE(C43),",",".") -> 0.14 | H43: =SUBSTITUTE(VALUE(D43),",",".") -> 1.5 | J43: =$A43&","&F43 -> 8,1.55 | K43: =$A43&","&G43 -> 8,0.14 | L43: =$A43&","&H43 -> 8,1.5
A44: 9 | B44: 1.35 | C44: 0.11 | D44: 1.5 | F44: =SUBSTITUTE(VALUE(B44),",",".") -> 1.35 | G44: =SUBSTITUTE(VALUE(C44),",",".") -> 0.11 | H44: =SUBSTITUTE(VALUE(D44),",",".") -> 1.5 | J44: =$A44&","&F44 -> 9,1.35 | K44: =$A44&","&G44 -> 9,0.11 | L44: =$A44&","&H44 -> 9,1.5
A45: 10 | B45: 1.3 | C45: 0.07 | D45: 1.5 | F45: =SUBSTITUTE(VALUE(B45),",",".") -> 1.3 | G45: =SUBSTITUTE(VALUE(C45),",",".") -> 0.07 | H45: =SUBSTITUTE(VALUE(D45),",",".") -> 1.5 | J45: =$A45&","&F45 -> 10,1.3 | K45: =$A45&","&G45 -> 10,0.07 | L45: =$A45&","&H45 -> 10,1.5
A46: 11 | B46: 1.4 | C46: 0.06 | D46: 1.5 | F46: =SUBSTITUTE(VALUE(B46),",",".") -> 1.4 | G46: =SUBSTITUTE(VALUE(C46),",",".") -> 0.06 | H46: =SUBSTITUTE(VALUE(D46),",",".") -> 1.5 | J46: =$A46&","&F46 -> 11,1.4 | K46: =$A46&","&G46 -> 11,0.06 | L46: =$A46&","&H46 -> 11,1.5
A47: b | B47: 1.4 | C47: 0.05 | D47: 1.5 | F47: =SUBSTITUTE(VALUE(B47),",",".") -> 1.4 | G47: =SUBSTITUTE(VALUE(C47),",",".") -> 0.05 | H47: =SUBSTITUTE(VALUE(D47),",",".") -> 1.5 | J47: =$A47&","&F47 -> b,1.4 | K47: =$A47&","&G47 -> b,0.05 | L47: =$A47&","&H47 -> b,1.5
A48: A | B48: 1.8 | C48: 0.05 | D48: 1.8 | F48: =SUBSTITUTE(VALUE(B48),",",".") -> 1.8 | G48: =SUBSTITUTE(VALUE(C48),",",".") -> 0.05 | H48: =SUBSTITUTE(VALUE(D48),",",".") -> 1.8 | J48: =$A48&","&F48 -> A,1.8 | K48: =$A48&","&G48 -> A,0.05 | L48: =$A48&","&H48 -> A,1.8
A49: 1 | B49: 1.35 | C49: 0.33 | D49: 1.5 | F49: =SUBSTITUTE(VALUE(B49),",",".") -> 1.35 | G49: =SUBSTITUTE(VALUE(C49),",",".") -> 0.33 | H49: =SUBSTITUTE(VALUE(D49),",",".") -> 1.5 | J49: =$A49&","&F49 -> 1,1.35 | K49: =$A49&","&G49 -> 1,0.33 | L49: =$A49&","&H49 -> 1,1.5
A50: 2 | B50: 1.3 | C50: 0.38 | D50: 1.5 | F50: =SUBSTITUTE(VALUE(B50),",",".") -> 1.3 | G50: =SUBSTITUTE(VALUE(C50),",",".") -> 0.38 | H50: =SUBSTITUTE(VALUE(D50),",",".") -> 1.5 | J50: =$A50&","&F50 -> 2,1.3 | K50: =$A50&","&G50 -> 2,0.38 | L50: =$A50&","&H50 -> 2,1.5
A51: 3 | B51: 1.25 | C51: 0.38 | D51: 1.5 | F51: =SUBSTITUTE(VALUE(B51),",",".") -> 1.25 | G51: =SUBSTITUTE(VALUE(C51),",",".") -> 0.38 | H51: =SUBSTITUTE(VALUE(D51),",",".") -> 1.5 | J51: =$A51&","&F51 -> 3,1.25 | K51: =$A51&","&G51 -> 3,0.38 | L51: =$A51&","&H51 -> 3,1.5
A52: 4 | B52: 1.3 | C52: 0.43 | D52: 1.35 | F52: =SUBSTITUTE(VALUE(B52),",",".") -> 1.3 | G52: =SUBSTITUTE(VALUE(C52),",",".") -> 0.43 | H52: =SUBSTITUTE(VALUE(D52),",",".") -> 1.35 | J52: =$A52&","&F52 -> 4,1.3 | K52: =$A52&","&G52 -> 4,0.43 | L52: =$A52&","&H52 -> 4,1.35
A53: 5 | B53: 1.3 | C53: 0.37 | D53: 1.35 | F53: =SUBSTITUTE(VALUE(B53),",",".") -> 1.3 | G53: =SUBSTITUTE(VALUE(C53),",",".") -> 0.37 | H53: =SUBSTITUTE(VALUE(D53),",",".") -> 1.35 | J53: =$A53&","&F53 -> 5,1.3 | K53: =$A53&","&G53 -> 5,0.37 | L53: =$A53&","&H53 -> 5,1.35
A54: 6 | B54: 1.35 | C54: 0.37 | D54: 1.3 | F54: =SUBSTITUTE(VALUE(B54),",",".") -> 1.35 | G54: =SUBSTITUTE(VALUE(C54),",",".") -> 0.37 | H54: =SUBSTITUTE(VALUE(D54),",",".") -> 1.3 | J54: =$A54&","&F54 -> 6,1.35 | K54: =$A54&","&G54 -> 6,0.37 | L54: =$A54&","&H54 -> 6,1.3
A55: B | B55: 1.3 | C55: 0.32 | D55: 1.3 | F55: =SUBSTITUTE(VALUE(B55),",",".") -> 1.3 | G55: =SUBSTITUTE(VALUE(C55),",",".") -> 0.32 | H55: =SUBSTITUTE(VALUE(D55),",",".") -> 1.3 | J55: =$A55&","&F55 -> B,1.3 | K55: =$A55&","&G55 -> B,0.32 | L55: =$A55&","&H55 -> B,1.3
A56: A | B56: 3 | C56: 0.09 | D56: 1.5 | F56: =SUBSTITUTE(VALUE(B56),",",".") -> 3 | G56: =SUBSTITUTE(VALUE(C56),",",".") -> 0.09 | H56: =SUBSTITUTE(VALUE(D56),",",".") -> 1.5 | J56: =$A56&","&F56 -> A,3 | K56: =$A56&","&G56 -> A,0.09 | L56: =$A56&","&H56 -> A,1.5
A57: 1 | B57: 3 | C57: 0.06 | D57: 1.55 | F57: =SUBSTITUTE(VALUE(B57),",",".") -> 3 | G57: =SUBSTITUTE(VALUE(C57),",",".") -> 0.06 | H57: =SUBSTITUTE(VALUE(D57),",",".") -> 1.55 | J57: =$A57&","&F57 -> 1,3 | K57: =$A57&","&G57 -> 1,0.06 | L57: =$A57&","&H57 -> 1,1.55
...
