Workbook

Sheet Tổng hợp
A1: C.TY TNHH MTV KHAI THÁC CTTL ĐA ĐỘ TRẠM KTCTTL KIẾN THỤY | E1: CỘNG HÒA XÃ HỘI CHỦ NGHĨA VIỆT NAM Độc Lập - Tự do - Hạnh Phúc
E2: Hải Phòng, ngày tháng năm 2026
A3: TỔNG HỢP DỰ TRÙ
A4: CHI PHÍ VẬT TƯ NGUYÊN NHIÊN LIỆU PHỤC VỤ CHO CÔNG TÁC QUẢN LÝ VẬN HÀNH
A5: TRẠM KTCTTL KIẾN THUỴ 6 THÁNG NĂM 2026
A7: TT | B7: Vật tư, nguyên nhiên liệu | C7: Đơn vị | D7: Vật tư, nhiên liệu trong vận hành, bảo dưỡng máy đóng mở (Trạm Kiến Thuỵ) | E7: Vật tư, nhiên liệu trong vận hành, bảo dưỡng máy bơm, động cơ (Trạm Kiến Thuỵ) | F7: Tổng Khối lượng tiêu hao vật tư | G7: Đơn giá (đồng) | H7: Thành tiền (đồng)
A8: 1 | B8: Dầu nhờn | C8: lít/năm | D8: ='2. Cống, CTTK K. Thuỵ'!J5 -> 19.589 | E8: ='4.Trạm bơm K. Thuỵ'!I5 -> 85.20625 | F8: =D8+E8 -> 104.79525 | G8: 102000 | H8: =F8*G8 -> 10689116
A9: 2 | B9: Diezel | C9: lít/năm | D9: ='2. Cống, CTTK K. Thuỵ'!K5 -> 71.892 | E9: ='4.Trạm bơm K. Thuỵ'!J5 -> 31.1176 | F9: =D9+E9 -> 103.0096 | G9: 27220 | H9: =F9*G9 -> 2803921.3
A10: 3 | B10: Mỡ các loại | C10: kg/năm | D10: ='2. Cống, CTTK K. Thuỵ'!L5 -> 67.794 | E10: ='4.Trạm bơm K. Thuỵ'!K5 -> 312.88836 | F10: =D10+E10 -> 380.68236 | G10: 85000 | H10: =F10*G10 -> 32358001
A11: 4 | B11: Giẻ lau | C11: kg/năm | D11: ='2. Cống, CTTK K. Thuỵ'!M5 -> 72.374 | E11: ='4.Trạm bơm K. Thuỵ'!L5 -> 37.2885 | F11: =D11+E11 -> 109.6625 | G11: 12000 | H11: =F11*G11 -> 1315950
A12: 5 | B12: Sợi Amiăng | C12: kg/năm | E12: ='4.Trạm bơm K. Thuỵ'!M5 -> 52.73675 | F12: =D12+E12 -> 52.73675 | G12: 128000 | H12: =F12*G12 -> 6750304
A13: Cộng (I) | H13: =SUM(H8:H12) -> 53917291
A14: Thuế giá trị gia tăng 10% (GTGT) | H14: =H13*10% -> 5391729.1
A15: Tổng cộng = I+GTGT | H15: =SUM(H13:H14) -> 59309021
A16: Tròn số | H16: =ROUND(H15,-3) -> 59309000
A17: ( Bằng chữ: Năm mươi chín triệu, ba trăm linh chín nghìn đồng chẵn )
A18: TRẠM KTCTTL KIẾN THUỴ
A19: TRƯỞNG TRẠM | F19: NGƯỜI LẬP
A25: Vũ Hữu Trung | F25: Nguyễn Công Tứ

Sheet 1. DMCS cong
A1: I/ ĐỊNH MỨC CƠ SỞ VẬT TƯ, NHIÊN LIỆU TRONG VẬN HÀNH, BẢO DƯỠNG MÁY ĐÓNG MỞ | J1: Nửa năm | K1: 6 | L1: tháng
G2: Đơn vị: Đơn vị tính /máy/lần | J2: Định kỳ: | K2: 1 | L2: Bổ sung | M2: 5
A3: TT | B3: Hạng mục | D3: Dầu nhờn (lít/năm) | E3: Diezel (lít/năm) | F3: Mỡ các loại (kg/năm) | G3: Giẻ lau (kg/năm) | I3: TT | J3: Dầu nhờn | K3: Dầu Diezel | L3: Mỡ các loại | M3: Giẻ lau
A4: 1 | B4: V1 | C4: Định kỳ | D4: 0.126 | E4: 0.78 | F4: 0.18 | G4: 0.72 | I4: V1 | J4: =D4*$K$2+D5*$M$2 -> 0.361 | K4: =E4*$K$2+E5*$M$2 -> 0.78 | L4: =F4*$K$2+F5*$M$2 -> 0.54 | M4: =G4*$K$2+G5*$M$2 -> 0.72
C5: Bổ sung | D5: 0.047 | E5: 0 | F5: 0.072 | G5: 0 | I5: V2 | J5: =D6*$K$2+D7*$M$2 -> 0.392 | K5: =E6*$K$2+E7*$M$2 -> 0.858 | L5: =F6*$K$2+F7*$M$2 -> 0.646 | M5: =G6*$K$2+G7*$M$2 -> 0.864
A6: 2 | B6: V2 | C6: Định kỳ | D6: 0.132 | E6: 0.858 | F6: 0.216 | G6: 0.864 | I6: V3 | J6: =D8*$K$2+D9*$M$2 -> 0.499 | K6: =E8*$K$2+E9*$M$2 -> 1.287 | L6: =F8*$K$2+F9*$M$2 -> 0.841 | M6: =G8*$K$2+G9*$M$2 -> 1.382
C7: Bổ sung | D7: 0.052 | E7: 0 | F7: 0.086 | G7: 0 | I7: V5; VĐ5 | J7: =D10*$K$2+D11*$M$2 -> 0.695 | K7: =E10*$K$2+E11*$M$2 -> 1.699 | L7: =F10*$K$2+F11*$M$2 -> 1.181 | M7: =G10*$K$2+G11*$M$2 -> 1.825
A8: 3 | B8: V3 | C8: Định kỳ | D8: 0.159 | E8: 1.287 | F8: 0.281 | G8: 1.382 | I8: Máy đóng mở tời Pa lăng Q3T-Q5T | J8: =D12*$K$2+D13*$M$2 -> 0.2 | K8: =E12*$K$2+E13*$M$2 -> 2.46 | L8: =F12*$K$2+F13*$M$2 -> 3.15 | M8: =G12*$K$2+G13*$M$2 -> 2.1
C9: Bổ sung | D9: 0.068 | E9: 0 | F9: 0.112 | G9: 0 | I9: V8; VĐ8 | J9: =D14*$K$2+D15*$M$2 -> 0.85 | K9: =E14*$K$2+E15*$M$2 -> 2.04 | L9: =F14*$K$2+F15*$M$2 -> 1.53 | M9: =G14*$K$2+G15*$M$2 -> 2.19
A10: 4 | B10: V5; VĐ5 | C10: Định kỳ | D10: 0.21 | E10: 1.699 | F10: 0.371 | G10: 1.825 | I10: V10 | J10: =D16*$K$2+D17*$M$2 -> 1.052 | K10: =E16*$K$2+E17*$M$2 -> 2.141 | L10: =F16*$K$2+F17*$M$2 -> 1.838 | M10: =G16*$K$2+G17*$M$2 -> 2.409
C11: Bổ sung | D11: 0.097 | E11: 0 | F11: 0.162 | G11: 0 | I11: VĐ10 | J11: =D18*$K$2+D19*$M$2 -> 1.157 | K11: =E18*$K$2+E19*$M$2 -> 2.355 | L11: =F18*$K$2+F19*$M$2 -> 1.997 | M11: =G18*$K$2+G19*$M$2 -> 2.65
A12: 5 | B12: Máy đóng mở tời Pa lăng Q3T-Q5T | C12: Định kỳ | D12: 0.075 | E12: 1.36 | F12: 1.4 | G12: 1.2 | I12: V20; VĐ20 | J12: =D20*$K$2+D21*$M$2 -> 1.7 | K12: =E20*$K$2+E21*$M$2 -> 3.42 | L12: =F20*$K$2+F21*$M$2 -> 2.56 | M12: =G20*$K$2+G21*$M$2 -> 2.89
C13: Bổ sung | D13: 0.025 | E13: 0.22 | F13: 0.35 | G13: 0.18 | I13: Máy đóng mở Q6T Q10T | J13: =D22*$K$2+D23*$M$2 -> 0.23 | K13: =E22*$K$2+E23*$M$2 -> 2.88 | L13: =F22*$K$2+F23*$M$2 -> 3.9 | M13: =G22*$K$2+G23*$M$2 -> 2.8
A14: 6 | B14: V8; VĐ8 | C14: Định kỳ | D14: 0.25 | E14: 2.04 | F14: 0.48 | G14: 2.19
C15: Bổ sung | D15: 0.12 | E15: 0 | F15: 0.21 | G15: 0
A16: 7 | B16: V10 | C16: Định kỳ | D16: 0.352 | E16: 2.141 | F16: 0.578 | G16: 2.409
C17: Bổ sung | D17: 0.14 | E17: 0 | F17: 0.252 | G17: 0
A18: 8 | B18: VĐ10 | C18: Định kỳ | D18: 0.387 | E18: 2.355 | F18: 0.607 | G18: 2.65
C19: Bổ sung | D19: 0.154 | E19: 0 | F19: 0.278 | G19: 0
A20: 9 | B20: V20; VĐ20 | C20: Định kỳ | D20: 0.6 | E20: 3.42 | F20: 0.81 | G20: 2.89
C21: Bổ sung | D21: 0.22 | E21: 0 | F21: 0.35 | G21: 0
A22: 10 | B22: Máy đóng mở Q6T Q10T | C22: Định kỳ | D22: 0.08 | E22: 1.48 | F22: 1.85 | G22: 1.4
C23: Bổ sung | D23: 0.03 | E23: 0.28 | F23: 0.41 | G23: 0.28
A24: Tần suất thực hiện: Định kỳ 2 lần/năm, bổ sung 1 lần/tháng

Sheet 2. Cống, CTTK K. Thuỵ
A1: I/ VẬT TƯ, NHIÊN LIỆU TRONG VẬN HÀNH, BẢO DƯỠNG MÁY ĐÓNG MỞ 6 THÁNG NĂM 2026 TRẠM KTCTTL KIẾN THUỴ
A2: 1.1. Bảng tổng hợp tiêu hao vật tư, nhiên liệu trong vận hành, bảo dưỡng máy đóng mở | N2: Tổng cả Trạm Kiến Thuỵ 0,5 năm
A3: TT | B3: Tên trạm/ Thiết bị đóng mở | C3: Số cống | E3: Số lượng (máy) | F3: Định mức cơ sở | J3: Hao phí
C4: Cống tưới tiêu | D4: Công trình trên kênh | F4: Dầu nhờn (lít/0,5năm) | G4: Diezel (lít/0,5năm) | H4: Mỡ các loại (kg/0,5năm) | I4: Giẻ lau (kg/0,5năm) | J4: Dầu nhờn (lít) | K4: Dầu Diezel (lít) | L4: Mỡ các loại (kg) | M4: Giẻ lau (kg)
B5: TỔNG | C5: =SUM(C6:C15) -> 18 | D5: =SUM(D6:D15) -> 21 | E5: =SUM(E6:E15) -> 39 | J5: =SUM(J6:J15) -> 19.589 | K5: =SUM(K6:K15) -> 71.892 | L5: =SUM(L6:L15) -> 67.794 | M5: =SUM(M6:M15) -> 72.374
A6: 1 | B6: V1 | C6: =C30 -> 1 | E6: =C6+D6 -> 1 | F6: ='1. DMCS cong'!J4 -> 0.361 | G6: ='1. DMCS cong'!K4 -> 0.78 | H6: ='1. DMCS cong'!L4 -> 0.54 | I6: ='1. DMCS cong'!M4 -> 0.72 | J6: =$E6*F6 -> 0.361 | K6: =$E6*G6 -> 0.78 | L6: =$E6*H6 -> 0.54 | M6: =$E6*I6 -> 0.72
A7: 2 | B7: V2 | E7: =C7+D7 -> 0 | F7: ='1. DMCS cong'!J5 -> 0.392 | G7: ='1. DMCS cong'!K5 -> 0.858 | H7: ='1. DMCS cong'!L5 -> 0.646 | I7: ='1. DMCS cong'!M5 -> 0.864 | J7: =$E7*F7 -> 0 | K7: =$E7*G7 -> 0 | L7: =$E7*H7 -> 0 | M7: =$E7*I7 -> 0
A8: 3 | B8: V3 | D8: =C35+C37+C41+C42+C43+C45+C46+C47+C48+C49+C51 -> 12 | E8: =C8+D8 -> 12 | F8: ='1. DMCS cong'!J6 -> 0.499 | G8: ='1. DMCS cong'!K6 -> 1.287 | H8: ='1. DMCS cong'!L6 -> 0.841 | I8: ='1. DMCS cong'!M6 -> 1.382 | J8: =$E8*F8 -> 5.988 | K8: =$E8*G8 -> 15.444 | L8: =$E8*H8 -> 10.092 | M8: =$E8*I8 -> 16.584
A9: 4 | B9: V5; VĐ5 | C9: =C24+C25+C26+C27+C31+C32+C33 -> 9 | D9: =C52+C53+C54 -> 3 | E9: =C9+D9 -> 12 | F9: ='1. DMCS cong'!J7 -> 0.695 | G9: ='1. DMCS cong'!K7 -> 1.699 | H9: ='1. DMCS cong'!L7 -> 1.181 | I9: ='1. DMCS cong'!M7 -> 1.825 | J9: =$E9*F9 -> 8.34 | K9: =$E9*G9 -> 20.388 | L9: =$E9*H9 -> 14.172 | M9: =$E9*I9 -> 21.9
A10: 5 | B10: Máy đóng mở: Tời, Pa lăng 3T-5T | D10: =C36+C38+C39+C40+C44+C50 -> 6 | E10: =C10+D10 -> 6 | F10: ='1. DMCS cong'!J8 -> 0.2 | G10: ='1. DMCS cong'!K8 -> 2.46 | H10: ='1. DMCS cong'!L8 -> 3.15 | I10: ='1. DMCS cong'!M8 -> 2.1 | J10: =$E10*F10 -> 1.2 | K10: =$E10*G10 -> 14.76 | L10: =$E10*H10 -> 18.9 | M10: =$E10*I10 -> 12.6
A11: 6 | B11: V8; VĐ8 | C11: =C28+C29 -> 3 | E11: =C11+D11 -> 3 | F11: ='1. DMCS cong'!J9 -> 0.85 | G11: ='1. DMCS cong'!K9 -> 2.04 | H11: ='1. DMCS cong'!L9 -> 1.53 | I11: ='1. DMCS cong'!M9 -> 2.19 | J11: =$E11*F11 -> 2.55 | K11: =$E11*G11 -> 6.12 | L11: =$E11*H11 -> 4.59 | M11: =$E11*I11 -> 6.57
A12: 7 | B12: V10 | E12: =C12+D12 -> 0 | F12: ='1. DMCS cong'!J10 -> 1.052 | G12: ='1. DMCS cong'!K10 -> 2.141 | H12: ='1. DMCS cong'!L10 -> 1.838 | I12: ='1. DMCS cong'!M10 -> 2.409 | J12: =$E12*F12 -> 0 | K12: =$E12*G12 -> 0 | L12: =$E12*H12 -> 0 | M12: =$E12*I12 -> 0
A13: 8 | B13: VĐ10 | E13: =C13+D13 -> 0 | F13: ='1. DMCS cong'!J11 -> 1.157 | G13: ='1. DMCS cong'!K11 -> 2.355 | H13: ='1. DMCS cong'!L11 -> 1.997 | I13: ='1. DMCS cong'!M11 -> 2.65 | J13: =$E13*F13 -> 0 | K13: =$E13*G13 -> 0 | L13: =$E13*H13 -> 0 | M13: =$E13*I13 -> 0
A14: 9 | B14: V20; VĐ20 | E14: =C14+D14 -> 0 | F14: ='1. DMCS cong'!J12 -> 1.7 | G14: ='1. DMCS cong'!K12 -> 3.42 | H14: ='1. DMCS cong'!L12 -> 2.56 | I14: ='1. DMCS cong'!M12 -> 2.89 | J14: =$E14*F14 -> 0 | K14: =$E14*G14 -> 0 | L14: =$E14*H14 -> 0 | M14: =$E14*I14 -> 0
A15: 10 | B15: Máy đóng mở: Tời, Pa lăng 6T-10T | C15: =C22+C23 -> 5 | E15: =C15+D15 -> 5 | F15: ='1. DMCS cong'!J13 -> 0.23 | G15: ='1. DMCS cong'!K13 -> 2.88 | H15: ='1. DMCS cong'!L13 -> 3.9 | I15: ='1. DMCS cong'!M13 -> 2.8 | J15: =$E15*F15 -> 1.15 | K15: =$E15*G15 -> 14.4 | L15: =$E15*H15 -> 19.5 | M15: =$E15*I15 -> 14
A17: 1.2. Bảng tính chi tiết tiêu hao vật tư, nhiên liệu trong vận hành, bảo dưỡng máy đóng mở
A18: TT | B18: Tên trạm/ Thiết bị đóng mở | C18: Số cửa | D18: Loại máy | E18: Định mức cơ sở | I18: Hao phí
E19: Dầu nhờn (lít) | F19: Dầu Diezel (lít) | G19: Mỡ các loại (kg) | H19: Giẻ lau (kg) | I19: Dầu nhờn (lít) | J19: Dầu Diezel (lít) | K19: Mỡ các loại (kg) | L19: Giẻ lau (kg)
B20: Trạm Khai thác công trình thủy lợi Kiến Thụy | C20: =C21+C34 -> 39 | I20: =I21+I34 -> 19.589 | J20: =J21+J34 -> 71.892 | K20: =K21+K34 -> 67.794 | L20: =L21+L34 -> 72.374
A21: I | B21: Cống dưới đê | C21: =SUM(C22:C33) -> 18 | I21: =SUM(I22:I33) -> 10.316 | J21: =SUM(J22:J33) -> 36.591 | K21: =SUM(K22:K33) -> 35.259 | L21: =SUM(L22:L33) -> 37.715
A22: 1 | B22: Hòa Bình | C22: 2 | D22: TĐ6 | E22: 0.23 | F22: 2.88 | G22: 3.9 | H22: 2.8 | I22: =C22*E22 -> 0.46 | J22: =C22*F22 -> 5.76 | K22: =C22*G22 -> 7.8 | L22: =C22*H22 -> 5.6
A23: 2 | B23: Đồng Thẻo2 | C23: 3 | D23: TĐ6 | E23: 0.23 | F23: 2.88 | G23: 3.9 | H23: 2.8 | I23: =C23*E23 -> 0.69 | J23: =C23*F23 -> 8.64 | K23: =C23*G23 -> 11.7 | L23: =C23*H23 -> 8.4
A24: 3 | B24: Đáy | C24: 1 | D24: V5 | E24: 0.695 | F24: 1.699 | G24: 1.181 | H24: 1.825 | I24: =C24*E24 -> 0.695 | J24: =C24*F24 -> 1.699 | K24: =C24*G24 -> 1.181 | L24: =C24*H24 -> 1.825
A25: 4 | B25: Xuân Quan | C25: 1 | D25: V5 | E25: 0.695 | F25: 1.699 | G25: 1.181 | H25: 1.825 | I25: =C25*E25 -> 0.695 | J25: =C25*F25 -> 1.699 | K25: =C25*G25 -> 1.181 | L25: =C25*H25 -> 1.825
A26: 5 | B26: Kim Sơn | C26: 1 | D26: V5 | E26: 0.695 | F26: 1.699 | G26: 1.181 | H26: 1.825 | I26: =C26*E26 -> 0.695 | J26: =C26*F26 -> 1.699 | K26: =C26*G26 -> 1.181 | L26: =C26*H26 -> 1.825
A27: 6 | B27: Đa Ngư | C27: 2 | D27: V5 | E27: 0.695 | F27: 1.699 | G27: 1.181 | H27: 1.825 | I27: =C27*E27 -> 1.39 | J27: =C27*F27 -> 3.398 | K27: =C27*G27 -> 2.362 | L27: =C27*H27 -> 3.65
A28: 7 | B28: Thống | C28: 2 | D28: VĐ8 | E28: 0.85 | F28: 2.04 | G28: 1.53 | H28: 2.19 | I28: =C28*E28 -> 1.7 | J28: =C28*F28 -> 4.08 | K28: =C28*G28 -> 3.06 | L28: =C28*H28 -> 4.38
A29: 8 | B29: Ngũ Đoan | C29: 1 | D29: VĐ8 | E29: 0.85 | F29: 2.04 | G29: 1.53 | H29: 2.19 | I29: =C29*E29 -> 0.85 | J29: =C29*F29 -> 2.04 | K29: =C29*G29 -> 1.53 | L29: =C29*H29 -> 2.19
A30: 9 | B30: C.TB Đông Tác | C30: 1 | D30: V1 | E30: 0.361 | F30: 0.78 | G30: 0.54 | H30: 0.72 | I30: =C30*E30 -> 0.361 | J30: =C30*F30 -> 0.78 | K30: =C30*G30 -> 0.54 | L30: =C30*H30 -> 0.72
A31: 10 | B31: Đông Tác | C31: 1 | D31: VĐ5 | E31: 0.695 | F31: 1.699 | G31: 1.181 | H31: 1.825 | I31: =C31*E31 -> 0.695 | J31: =C31*F31 -> 1.699 | K31: =C31*G31 -> 1.181 | L31: =C31*H31 -> 1.825
A32: 11 | B32: Nam Hải | C32: 1 | D32: VĐ5 | E32: 0.695 | F32: 1.699 | G32: 1.181 | H32: 1.825 | I32: =C32*E32 -> 0.695 | J32: =C32*F32 -> 1.699 | K32: =C32*G32 -> 1.181 | L32: =C32*H32 -> 1.825
A33: 12 | B33: Thông | C33: 2 | D33: V5 | E33: 0.695 | F33: 1.699 | G33: 1.181 | H33: 1.825 | I33: =C33*E33 -> 1.39 | J33: =C33*F33 -> 3.398 | K33: =C33*G33 -> 2.362 | L33: =C33*H33 -> 3.65
A34: II | B34: Công trình trên kênh | C34: =SUM(C35:C54) -> 21 | I34: =SUM(I35:I54) -> 9.273 | J34: =SUM(J35:J54) -> 35.301 | K34: =SUM(K35:K54) -> 32.535 | L34: =SUM(L35:L54) -> 34.659
A35: 1 | B35: Đập Đầm Tám | C35: 1 | D35: V3 | E35: 0.499 | F35: 1.287 | G35: 0.841 | H35: 1.382 | I35: =C35*E35 -> 0.499 | J35: =C35*F35 -> 1.287 | K35: =C35*G35 -> 0.841 | L35: =C35*H35 -> 1.382
A36: 2 | B36: Cống Bè Lang | C36: 1 | D36: Pa Lăng | E36: 0.2 | F36: 2.46 | G36: 3.15 | H36: 2.1 | I36: =C36*E36 -> 0.2 | J36: =C36*F36 -> 2.46 | K36: =C36*G36 -> 3.15 | L36: =C36*H36 -> 2.1
A37: 3 | B37: Cống Bè Lang 1 | C37: 1 | D37: V3 | E37: 0.499 | F37: 1.287 | G37: 0.841 | H37: 1.382 | I37: =C37*E37 -> 0.499 | J37: =C37*F37 -> 1.287 | K37: =C37*G37 -> 0.841 | L37: =C37*H37 -> 1.382
A38: 4 | B38: Cống Ông Ghi | C38: 1 | D38: Pa Lăng | E38: 0.2 | F38: 2.46 | G38: 3.15 | H38: 2.1 | I38: =C38*E38 -> 0.2 | J38: =C38*F38 -> 2.46 | K38: =C38*G38 -> 3.15 | L38: =C38*H38 -> 2.1
A39: 5 | B39: Cống Ông Bèn | C39: 1 | D39: Pa Lăng | E39: 0.2 | F39: 2.46 | G39: 3.15 | H39: 2.1 | I39: =C39*E39 -> 0.2 | J39: =C39*F39 -> 2.46 | K39: =C39*G39 -> 3.15 | L39: =C39*H39 -> 2.1
A40: 6 | B40: Cống Đầu kênh hút TB Đoàn Xá 1 | C40: 1 | D40: Pa Lăng | E40: 0.2 | F40: 2.46 | G40: 3.15 | H40: 2.1 | I40: =C40*E40 -> 0.2 | J40: =C40*F40 -> 2.46 | K40: =C40*G40 -> 3.15 | L40: =C40*H40 -> 2.1
A41: 7 | B41: Cống C1 ( Cuối Kênh Đồng Thổ 4 ) | C41: 1 | D41: V3 | E41: 0.499 | F41: 1.287 | G41: 0.841 | H41: 1.382 | I41: =C41*E41 -> 0.499 | J41: =C41*F41 -> 1.287 | K41: =C41*G41 -> 0.841 | L41: =C41*H41 -> 1.382
A42: 8 | B42: Cống Ông Do ( Bờ trái Kênh Đông Tác ) | C42: 1 | D42: V3 | E42: 0.499 | F42: 1.287 | G42: 0.841 | H42: 1.382 | I42: =C42*E42 -> 0.499 | J42: =C42*F42 -> 1.287 | K42: =C42*G42 -> 0.841 | L42: =C42*H42 -> 1.382
A43: 9 | B43: Cống Vĩnh ( Trên kênh Đồng Thẻo ) | C43: 1 | D43: V3 | E43: 0.499 | F43: 1.287 | G43: 0.841 | H43: 1.382 | I43: =C43*E43 -> 0.499 | J43: =C43*F43 -> 1.287 | K43: =C43*G43 -> 0.841 | L43: =C43*H43 -> 1.382
C44: 1 | D44: Pa Lăng | E44: 0.2 | F44: 2.46 | G44: 3.15 | H44: 2.1 | I44: =C44*E44 -> 0.2 | J44: =C44*F44 -> 2.46 | K44: =C44*G44 -> 3.15 | L44: =C44*H44 -> 2.1
A45: 10 | B45: Cống Đầu kênh hút TB Bắc Sơn ( Bờ trái Kênh Đồng Thẻo 2 ) | C45: 0 | D45: V3 | E45: 0.499 | F45: 1.287 | G45: 0.841 | H45: 1.382 | I45: =C45*E45 -> 0 | J45: =C45*F45 -> 0 | K45: =C45*G45 -> 0 | L45: =C45*H45 -> 0
A46: 11 | B46: Đập Nhân ( Trên kênh Cống Thống 1 ) | C46: 2 | D46: V3 | E46: 0.499 | F46: 1.287 | G46: 0.841 | H46: 1.382 | I46: =C46*E46 -> 0.998 | J46: =C46*F46 -> 2.574 | K46: =C46*G46 -> 1.682 | L46: =C46*H46 -> 2.764
A47: 12 | B47: Cống Ông Rốp ( Bờ trái Kênh Cống Thống 1 ) | C47: 1 | D47: V3 | E47: 0.499 | F47: 1.287 | G47: 0.841 | H47: 1.382 | I47: =C47*E47 -> 0.499 | J47: =C47*F47 -> 1.287 | K47: =C47*G47 -> 0.841 | L47: =C47*H47 -> 1.382
A48: 13 | B48: Cống Ông Thụ ( Bờ phải Kênh Cống Thống 1 ) | C48: 1 | D48: V3 | E48: 0.499 | F48: 1.287 | G48: 0.841 | H48: 1.382 | I48: =C48*E48 -> 0.499 | J48: =C48*F48 -> 1.287 | K48: =C48*G48 -> 0.841 | L48: =C48*H48 -> 1.382
A49: 14 | B49: Cống Đầu kênh cống Đáy ( Bờ Phải Kênh Mai Dương 1 ) | C49: 1 | D49: V3 | E49: 0.499 | F49: 1.287 | G49: 0.841 | H49: 1.382 | I49: =C49*E49 -> 0.499 | J49: =C49*F49 -> 1.287 | K49: =C49*G49 -> 0.841 | L49: =C49*H49 -> 1.382
A50: 15 | B50: Cống Lô Cốt ( Bờ Phải Kênh cống Ngũ Đoan ) | C50: 1 | D50: Pa Lăng | E50: 0.2 | F50: 2.46 | G50: 3.15 | H50: 2.1 | I50: =C50*E50 -> 0.2 | J50: =C50*F50 -> 2.46 | K50: =C50*G50 -> 3.15 | L50: =C50*H50 -> 2.1
A51: 16 | B51: Cống Mục Đồng ( Trên kênh Mai Dương 1 ) | C51: 2 | D51: V3 | E51: 0.499 | F51: 1.287 | G51: 0.841 | H51: 1.382 | I51: =C51*E51 -> 0.998 | J51: =C51*F51 -> 2.574 | K51: =C51*G51 -> 1.682 | L51: =C51*H51 -> 2.764
A52: 17 | B52: Cống Xuân Úc | C52: 1 | D52: V5 | E52: 0.695 | F52: 1.699 | G52: 1.181 | H52: 1.825 | I52: =C52*E52 -> 0.695 | J52: =C52*F52 -> 1.699 | K52: =C52*G52 -> 1.181 | L52: =C52*H52 -> 1.825
A53: 18 | B53: Cống Miếu Cháy ( Kim Đới 2 ) | C53: 1 | D53: V5 | E53: 0.695 | F53: 1.699 | G53: 1.181 | H53: 1.825 | I53: =C53*E53 -> 0.695 | J53: =C53*F53 -> 1.699 | K53: =C53*G53 -> 1.181 | L53: =C53*H53 -> 1.825
A54: 19 | B54: Cống Tam Kiệt | C54: 1 | D54: V5 | E54: 0.695 | F54: 1.699 | G54: 1.181 | H54: 1.825 | I54: =C54*E54 -> 0.695 | J54: =C54*F54 -> 1.699 | K54: =C54*G54 -> 1.181 | L54: =C54*H54 -> 1.825
I56: NGƯỜI LẬP
I61: Nguyễn Công Tứ

Sheet 3.DMCS TB
A1: III/ ĐỊNH MỨC CƠ SỞ TIÊU HAO VẬT TƯ, NGUYÊN VẬT LIỆU CHO VẬN HÀNH, BẢO DƯỠNG MÁY MÁY BƠM, ĐỘNG CƠ
F2: Đơn vị: Đơn vị tính /máy/giờ chạy máy
A3: TT | B3: Loại máy bơm (m3/h) | C3: Dầu nhờn (lít/năm) | D3: Dầu Diezel (lít/năm) | E3: Mỡ các loại (kg/năm) | F3: Giẻ lau (kg/năm) | G3: Sợi Amiăng (kg/năm)
A4: I | B4: Máy bơm
A5: 1 | B5: Máy bơm 3600≤QTK< 4500m3/h | C5: 0.0075 | D5: 0.003 | E5: 0.043 | F5: 0.007 | G5: 0.051
A6: 2 | B6: Máy bơm 2000≤QTK< 3600m3/h | C6: 0.0069 | D6: 0.003 | E6: 0.029 | F6: 0.0022 | G6: 0.0041
A7: 3 | B7: Máy bơm 1200≤QTK< 2000m3/h | C7: 0.0057 | D7: 0.002 | E7: 0.0181 | F7: 0.0022 | G7: 0.0035
A8: 4 | B8: Máy bơm 700≤Q TK< 1200m3/h | C8: 0.0045 | D8: 0.002 | E8: 0.0139 | F8: 0.002 | G8: 0.0029
A9: 5 | B9: Máy bơm QTK < 700m3/h | C9: 0.0032 | D9: 0.0012 | E9: 0.0069 | F9: 0.0029 | G9: 0.0024
A10: II | B10: Động cơ
A11: 1 | B11: Động cơ 2 kW ≤ N < 5,5KW
A12: 2 | B12: Động cơ 5,5 kW ≤ N < 11KW | E12: 0.00204 | F12: 0.00017
A13: 3 | B13: Động cơ 11 kW≤ N < 20KW | E13: 0.0024 | F13: 0.0002
A14: 4 | B14: Động cơ 20 kW≤ N < 33KW | E14: 0.00282 | F14: 0.00024
A15: 5 | B15: Động cơ 33 kW≤ N < 65KW | E15: 0.00332 | F15: 0.00028
A16: 6 | B16: Động cơ 65 kW≤ N ≤ 75KW | E16: 0.0039 | F16: 0.00043
A17: Ghi chú: Vật tư, nguyên liệu phụ tính bằng 5% giá trị vật tư, nguyên liệu chính.

Sheet 4.Trạm bơm K. Thuỵ
A1: III/ VẬT TƯ, NGUYÊN VẬT LIỆU CHO VẬN HÀNH, BẢO DƯỠNG MÁY MÁY BƠM, ĐỘNG CƠ 6 THÁNG NĂM 2026 TRẠM KTCTTL KIẾN THUỴ
A2: 3.1. Bảng tổng hợp tiêu hao vật tư, nhiên liệu trong vận hành, bảo dưỡng máy bơm, động cơ
A3: TT | B3: Tên trạm/ Thiết bị đóng mở | C3: Số lượng (máy) | D3: Định mức cơ sở | I3: Hao phí
D4: Dầu nhờn (lít/giờ) | E4: Dầu Diezel (lít/giờ) | F4: Mỡ các loại (kg/giờ) | G4: Giẻ lau (kg/giờ) | H4: Sợi Amiăng (kg/giờ) | I4: Dầu nhờn (lít/năm) | J4: Dầu Diezel (lít/năm) | K4: Mỡ các loại (kg/năm) | L4: Giẻ lau (kg/năm) | M4: Sợi Amiăng (kg/năm)
B5: TỔNG | C5: =C6+C12 -> 130 | I5: =I6+I12 -> 85.20625 | J5: =J6+J12 -> 31.1176 | K5: =K6+K12 -> 312.88836 | L5: =L6+L12 -> 37.2885 | M5: =M6+M12 -> 52.73675
A6: I | B6: Máy bơm | C6: =SUM(C7:C11) -> 65 | I6: =SUM(I7:I11) -> 85.20625 | J6: =SUM(J7:J11) -> 31.1176 | K6: =SUM(K7:K11) -> 269.55915 | L6: =SUM(L7:L11) -> 33.6161 | M6: =SUM(M7:M11) -> 52.73675
A7: 1 | B7: Máy bơm 3600≤QTK< 4500m3/h | D7: 0.0075 | E7: 0.003 | F7: 0.043 | G7: 0.007 | H7: 0.051
A8: 2 | B8: Máy bơm 2000≤QTK< 3600m3/h | C8: 2 | D8: 0.0069 | E8: 0.003 | F8: 0.029 | G8: 0.0022 | H8: 0.0041 | I8: =M46 -> 1.8561 | J8: =N46 -> 0.807 | K8: =O46 -> 4.8689 | L8: =P46 -> 0.5918 | M8: =Q46 -> 1.1029
A9: 3 | B9: Máy bơm 1200≤QTK< 2000m3/h | C9: =C27+C28+C29+C30+C31+C32+C33+C35+C36+C37+C38+C40+C41+C44+C45+C47+C48+C50+C51+C52+C53+C54+C55+C56+C57+C62+C63+C66+C67+C69+C70+C71+C75+C76+C78+C79+C81+C82+C83+C84+C85+C86+C87+C88+C89+C90 -> 46 | D9: 0.0057 | E9: 0.002 | F9: 0.0181 | G9: 0.0022 | H9: 0.0035 | I9: =M27+M28+M29+M30+M31+M32+M33+M35+M36+M37+M38+M40+M41+M44+M45+M47+M48+M50+M51+M52+M53+M54+M55+M56+M57+M62+M63+M66+M67+M69+M70+M71+M75+M76+M78+M79+M81+M82+M83+M84+M85+M86+M87+M88+M89+M90 -> 71.34405 | J9: =N27+N28+N29+N30+N31+N32+N33+N35+N36+N37+N38+N40+N41+N44+N45+N47+N48+N50+N51+N52+N53+N54+N55+N56+N57+N62+N63+N66+N67+N69+N70+N71+N75+N76+N78+N79+N81+N82+N83+N84+N85+N86+N87+N88+N89+N90 -> 25.033 | K9: =O27+O28+O29+O30+O31+O32+O33+O35+O36+O37+O38+O40+O41+O44+O45+O47+O48+O50+O51+O52+O53+O54+O55+O56+O57+O62+O63+O66+O67+O69+O70+O71+O75+O76+O78+O79+O81+O82+O83+O84+O85+O86+O87+O88+O89+O90 -> 226.54865 | L9: =P27+P28+P29+P30+P31+P32+P33+P35+P36+P37+P38+P40+P41+P44+P45+P47+P48+P50+P51+P52+P53+P54+P55+P56+P57+P62+P63+P66+P67+P69+P70+P71+P75+P76+P78+P79+P81+P82+P83+P84+P85+P86+P87+P88+P89+P90 -> 27.5363 | M9: =Q27+Q28+Q29+Q30+Q31+Q32+Q33+Q35+Q36+Q37+Q38+Q40+Q41+Q44+Q45+Q47+Q48+Q50+Q51+Q52+Q53+Q54+Q55+Q56+Q57+Q62+Q63+Q66+Q67+Q69+Q70+Q71+Q75+Q76+Q78+Q79+Q81+Q82+Q83+Q84+Q85+Q86+Q87+Q88+Q89+Q90 -> 43.80775
A10: 4 | B10: Máy bơm 700≤Q TK< 1200m3/h | C10: =C34+C42+C43+C49+C58+C59+C61+C64+C65+C68+C72+C73+C74+C77 -> 14 | D10: 0.0045 | E10: 0.002 | F10: 0.0139 | G10: 0.002 | H10: 0.0029 | I10: =M34+M42+M43+M49+M58+M59+M61+M64+M65+M68+M72+M73+M74+M77 -> 11.1645 | J10: =N34+N42+N43+N49+N58+N59+N61+N64+N65+N68+N72+N73+N74+N77 -> 4.962 | K10: =O34+O42+O43+O49+O58+O59+O61+O64+O65+O68+O72+O73+O74+O77 -> 34.4859 | L10: =P34+P42+P43+P49+P58+P59+P61+P64+P65+P68+P72+P73+P74+P77 -> 4.962 | M10: =Q34+Q42+Q43+Q49+Q58+Q59+Q61+Q64+Q65+Q68+Q72+Q73+Q74+Q77 -> 7.1949
A11: 5 | B11: Máy bơm QTK < 700m3/h | C11: =C39+C60+C80 -> 3 | D11: 0.0032 | E11: 0.0012 | F11: 0.0069 | G11: 0.0029 | H11: 0.0024 | I11: =M39+M60+M80 -> 0.8416 | J11: =N39+N60+N80 -> 0.3156 | K11: =O39+O60+O80 -> 3.6557 | L11: =P39+P60+P80 -> 0.526 | M11: =Q39+Q60+Q80 -> 0.6312
A12: II | B12: Động cơ | C12: =SUM(C13:C17) -> 65 | I12: =SUM(I13:I17) -> 0 | J12: =SUM(J13:J17) -> 0 | K12: =SUM(K13:K17) -> 43.32921 | L12: =SUM(L13:L17) -> 3.6724 | M12: =SUM(M13:M17) -> 0
A13: 1 | B13: Động cơ 2 kW ≤ N < 5,5KW
A14: 2 | B14: Động cơ 5,5 kW ≤ N < 11KW | F14: 0.00204 | G14: 0.00017
A15: 3 | B15: Động cơ 11 kW≤ N < 20KW | C15: =C34+C42+C43+C49+C58+C59+C61+C64+C65+C68+C72+C73+C74+C77+C80 -> 15 | F15: 0.0024 | G15: 0.0002 | K15: =U34+U42+U43+U49+U58+U59+U61+U64+U65+U68+U72+U73+U74+U77+U80 -> 6.5856 | L15: =V34+V42+V43+V49+V58+V59+V61+V64+V65+V68+V72+V73+V74+V77+V80 -> 0.5488
A16: 4 | B16: Động cơ 20 kW≤ N < 33KW | C16: =C27+C28+C29+C30+C31+C32+C35+C36+C37+C38+C39+C40+C41+C44+C45+C47+C48+C50+C51+C52+C53+C54+C55+C56+C57+C60+C63+C66+C67+C69+C70+C71+C75+C78+C79+C81+C82+C84+C85+C86+C87+C88+C89+C90 -> 44 | F16: 0.00282 | G16: 0.00024 | K16: =U27+U28+U29+U30+U31+U32+U35+U36+U37+U38+U39+U40+U41+U44+U45+U47+U48+U50+U51+U52+U53+U54+U55+U56+U57+U60+U63+U66+U67+U69+U70+U71+U75+U78+U79+U81+U82+U84+U85+U86+U87+U88+U89+U90 -> 32.17197 | L16: =V27+V28+V29+V30+V31+V32+V35+V36+V37+V38+V39+V40+V41+V44+V45+V47+V48+V50+V51+V52+V53+V54+V55+V56+V57+V60+V63+V66+V67+V69+V70+V71+V75+V78+V79+V81+V82+V84+V85+V86+V87+V88+V89+V90 -> 2.73804
A17: 5 | B17: Động cơ 33 kW≤ N < 65KW | C17: =C33+C46+C62+C76+C83 -> 6 | F17: 0.00332 | G17: 0.00028 | K17: =U33+U46+U62+U76+U83 -> 4.57164 | L17: =V33+V46+V62+V76+V83 -> 0.38556
A18: 6 | B18: Động cơ 65 kW≤ N ≤ 75KW | F18: 0.0039 | G18: 0.00043
A22: 3.2. Bảng tính tiêu hao vật tư, nhiên liệu trong vận hành, bảo dưỡng máy bơm, động cơ
A23: TT | B23: Tên trạm bơm | C23: Tổng số máy | D23: Công suất (Kw) | E23: Lưu lượng (m3/h) | F23: Số giờ vận hành 2026 | H23: Định mức cơ sở (theo máy bơm) | M23: Hao phí | S23: ĐM cơ sở (Động cơ) | U23: Hao phí
F24: Vụ Chiêm | G24: Vụ Mùa | H24: Dầu nhờn (lít/giờ) | I24: Dầu Diezel (lít/giờ) | J24: Mỡ các loại (kg/giờ) | K24: Giẻ lau (kg/giờ) | L24: Sợi Amiăng (kg/giờ) | M24: Dầu nhờn (lít/năm) | N24: Dầu Diezel (lít/năm) | O24: Mỡ các loại (kg/năm) | P24: Giẻ lau (kg/năm) | Q24: Sợi Amiăng (kg/năm) | S24: Mỡ các loại (kg/giờ) | T24: Giẻ lau (kg/giờ) | U24: Mỡ các loại (kg/năm) | V24: Giẻ lau (kg/năm)
A25: I | B25: Trạm bơm tưới | C25: =SUM(C27:C90) -> 65 | M25: =SUM(M26:M117) -> 85.20625 | N25: =SUM(N26:N117) -> 31.1176 | O25: =SUM(O26:O117) -> 269.55915 | P25: =SUM(P26:P117) -> 33.6161 | Q25: =SUM(Q26:Q117) -> 52.73675 | U25: =SUM(U26:U117) -> 43.32921 | V25: =SUM(V26:V117) -> 3.6724
A26: B | B26: Trạm Khai thác công trình thủy lợi Kiến Thụy
A27: 1 | B27: Lạng Côn | C27: 1 | D27: 22 | E27: 1200 | F27: 192 | G27: 0 | H27: 0.0057 | I27: 0.002 | J27: 0.0181 | K27: 0.0022 | L27: 0.0035 | M27: =($F27+$G27)*H27 -> 1.0944 | N27: =($F27+$G27)*I27 -> 0.384 | O27: =($F27+$G27)*J27 -> 3.4752 | P27: =($F27+$G27)*K27 -> 0.4224 | Q27: =($F27+$G27)*L27 -> 0.672 | S27: 0.00282 | T27: 0.00024 | U27: =($F27+$G27)*S27 -> 0.54144 | V27: =($F27+$G27)*T27 -> 0.04608
A28: 2 | B28: Đại Trà | C28: 1 | D28: 22 | E28: 1200 | F28: 393.5 | G28: 0 | H28: 0.0057 | I28: 0.002 | J28: 0.0181 | K28: 0.0022 | L28: 0.0035 | M28: =($F28+$G28)*H28 -> 2.24295 | N28: =($F28+$G28)*I28 -> 0.787 | O28: =($F28+$G28)*J28 -> 7.12235 | P28: =($F28+$G28)*K28 -> 0.8657 | Q28: =($F28+$G28)*L28 -> 1.37725 | S28: 0.00282 | T28: 0.00024 | U28: =($F28+$G28)*S28 -> 1.10967 | V28: =($F28+$G28)*T28 -> 0.09444
A29: 3 | B29: Đại Đồng 1 | C29: 1 | D29: 22 | E29: 1200 | F29: 136.5 | G29: 0 | H29: 0.0057 | I29: 0.002 | J29: 0.0181 | K29: 0.0022 | L29: 0.0035 | M29: =($F29+$G29)*H29 -> 0.77805 | N29: =($F29+$G29)*I29 -> 0.273 | O29: =($F29+$G29)*J29 -> 2.47065 | P29: =($F29+$G29)*K29 -> 0.3003 | Q29: =($F29+$G29)*L29 -> 0.47775 | S29: 0.00282 | T29: 0.00024 | U29: =($F29+$G29)*S29 -> 0.38493 | V29: =($F29+$G29)*T29 -> 0.03276
A30: 4 | B30: Đại Đồng 2 | C30: 1 | D30: 22 | E30: 1200 | F30: 315.5 | G30: 0 | H30: 0.0057 | I30: 0.002 | J30: 0.0181 | K30: 0.0022 | L30: 0.0035 | M30: =($F30+$G30)*H30 -> 1.79835 | N30: =($F30+$G30)*I30 -> 0.631 | O30: =($F30+$G30)*J30 -> 5.71055 | P30: =($F30+$G30)*K30 -> 0.6941 | Q30: =($F30+$G30)*L30 -> 1.10425 | S30: 0.00282 | T30: 0.00024 | U30: =($F30+$G30)*S30 -> 0.88971 | V30: =($F30+$G30)*T30 -> 0.07572
A31: 5 | B31: Đức Phong | C31: 1 | D31: 22 | E31: 1200 | F31: 174 | G31: 0 | H31: 0.0057 | I31: 0.002 | J31: 0.0181 | K31: 0.0022 | L31: 0.0035 | M31: =($F31+$G31)*H31 -> 0.9918 | N31: =($F31+$G31)*I31 -> 0.348 | O31: =($F31+$G31)*J31 -> 3.1494 | P31: =($F31+$G31)*K31 -> 0.3828 | Q31: =($F31+$G31)*L31 -> 0.609 | S31: 0.00282 | T31: 0.00024 | U31: =($F31+$G31)*S31 -> 0.49068 | V31: =($F31+$G31)*T31 -> 0.04176
A32: 6 | B32: Minh Tân 1 | C32: 1 | D32: 22 | E32: 1200 | F32: 64 | G32: 0 | H32: 0.0057 | I32: 0.002 | J32: 0.0181 | K32: 0.0022 | L32: 0.0035 | M32: =($F32+$G32)*H32 -> 0.3648 | N32: =($F32+$G32)*I32 -> 0.128 | O32: =($F32+$G32)*J32 -> 1.1584 | P32: =($F32+$G32)*K32 -> 0.1408 | Q32: =($F32+$G32)*L32 -> 0.224 | S32: 0.00282 | T32: 0.00024 | U32: =($F32+$G32)*S32 -> 0.18048 | V32: =($F32+$G32)*T32 -> 0.01536
A33: 7 | B33: Minh Tân 2 | C33: 1 | D33: 37 | E33: 1800 | F33: 258 | G33: 0 | H33: 0.0057 | I33: 0.002 | J33: 0.0181 | K33: 0.0022 | L33: 0.0035 | M33: =($F33+$G33)*H33 -> 1.4706 | N33: =($F33+$G33)*I33 -> 0.516 | O33: =($F33+$G33)*J33 -> 4.6698 | P33: =($F33+$G33)*K33 -> 0.5676 | Q33: =($F33+$G33)*L33 -> 0.903 | S33: 0.00332 | T33: 0.00028 | U33: =($F33+$G33)*S33 -> 0.85656 | V33: =($F33+$G33)*T33 -> 0.07224
A34: 8 | B34: Lão Phú 1 | C34: 1 | D34: 15 | E34: 750 | F34: 0 | G34: 0 | H34: 0.0045 | I34: 0.002 | J34: 0.0139 | K34: 0.002 | L34: 0.0029 | M34: =($F34+$G34)*H34 -> 0 | N34: =($F34+$G34)*I34 -> 0 | O34: =($F34+$G34)*J34 -> 0 | P34: =($F34+$G34)*K34 -> 0 | Q34: =($F34+$G34)*L34 -> 0 | S34: 0.0024 | T34: 0.0002 | U34: =($F34+$G34)*S34 -> 0 | V34: =($F34+$G34)*T34 -> 0
A35: 9 | B35: Lão phú 2 ( Thái Lai ) | C35: 1 | D35: 22 | E35: 1200 | F35: 253 | G35: 0 | H35: 0.0057 | I35: 0.002 | J35: 0.0181 | K35: 0.0022 | L35: 0.0035 | M35: =($F35+$G35)*H35 -> 1.4421 | N35: =($F35+$G35)*I35 -> 0.506 | O35: =($F35+$G35)*J35 -> 4.5793 | P35: =($F35+$G35)*K35 -> 0.5566 | Q35: =($F35+$G35)*L35 -> 0.8855 | S35: 0.00282 | T35: 0.00024 | U35: =($F35+$G35)*S35 -> 0.71346 | V35: =($F35+$G35)*T35 -> 0.06072
A36: 10 | B36: Lão Phong | C36: 1 | D36: 22 | E36: 1200 | F36: 214 | G36: 0 | H36: 0.0057 | I36: 0.002 | J36: 0.0181 | K36: 0.0022 | L36: 0.0035 | M36: =($F36+$G36)*H36 -> 1.2198 | N36: =($F36+$G36)*I36 -> 0.428 | O36: =($F36+$G36)*J36 -> 3.8734 | P36: =($F36+$G36)*K36 -> 0.4708 | Q36: =($F36+$G36)*L36 -> 0.749 | S36: 0.00282 | T36: 0.00024 | U36: =($F36+$G36)*S36 -> 0.60348 | V36: =($F36+$G36)*T36 -> 0.05136
A37: 11 | B37: Gò Ngô | C37: 1 | D37: 22 | E37: 1200 | F37: 21 | G37: 0 | H37: 0.0057 | I37: 0.002 | J37: 0.0181 | K37: 0.0022 | L37: 0.0035 | M37: =($F37+$G37)*H37 -> 0.1197 | N37: =($F37+$G37)*I37 -> 0.042 | O37: =($F37+$G37)*J37 -> 0.3801 | P37: =($F37+$G37)*K37 -> 0.0462 | Q37: =($F37+$G37)*L37 -> 0.0735 | S37: 0.00282 | T37: 0.00024 | U37: =($F37+$G37)*S37 -> 0.05922 | V37: =($F37+$G37)*T37 -> 0.00504
A38: 12 | B38: Nãi Sơn 1 | C38: 1 | D38: 22 | E38: 1200 | F38: 28 | G38: 0 | H38: 0.0057 | I38: 0.002 | J38: 0.0181 | K38: 0.0022 | L38: 0.0035 | M38: =($F38+$G38)*H38 -> 0.1596 | N38: =($F38+$G38)*I38 -> 0.056 | O38: =($F38+$G38)*J38 -> 0.5068 | P38: =($F38+$G38)*K38 -> 0.0616 | Q38: =($F38+$G38)*L38 -> 0.098 | S38: 0.00282 | T38: 0.00024 | U38: =($F38+$G38)*S38 -> 0.07896 | V38: =($F38+$G38)*T38 -> 0.00672
... A45: 19 | B45: Đoàn Xá 2 | C45: 1 | D45: 22 | E45: 1200 | F45: 226 | G45: 0 | H45: 0.0057 | I45: 0.002 | J45: 0.0181 | K45: 0.0022 | L45: 0.0035 | M45: =($F45+$G45)*H45 -> 1.2882 | N45: =($F45+$G45)*I45 -> 0.452 | O45: =($F45+$G45)*J45 -> 4.0906 | P45: =($F45+$G45)*K45 -> 0.4972 | Q45: =($F45+$G45)*L45 -> 0.791 | S45: 0.00282 | T45: 0.00024 | U45: =($F45+$G45)*S45 -> 0.63732 | V45: =($F45+$G45)*T45 -> 0.05424
A46: 20 | B46: Đại Hợp 1 | C46: 2 | D46: (02*55) | E46: 2500 | F46: 269 | G46: 0 | H46: 0.0069 | I46: 0.003 | J46: 0.0181 | K46: 0.0022 | L46: 0.0041 | M46: =($F46+$G46)*H46 -> 1.8561 | N46: =($F46+$G46)*I46 -> 0.807 | O46: =($F46+$G46)*J46 -> 4.8689 | P46: =($F46+$G46)*K46 -> 0.5918 | Q46: =($F46+$G46)*L46 -> 1.1029 | S46: 0.00332 | T46: 0.00028 | U46: =($F46+$G46)*S46 -> 0.89308 | V46: =($F46+$G46)*T46 -> 0.07532
A47: 21 | B47: Đại Hợp 2 | C47: 1 | D47: 22 | E47: 1200 | F47: 103.5 | G47: 0 | H47: 0.0057 | I47: 0.002 | J47: 0.0181 | K47: 0.0022 | L47: 0.0035 | M47: =($F47+$G47)*H47 -> 0.58995 | N47: =($F47+$G47)*I47 -> 0.207 | O47: =($F47+$G47)*J47 -> 1.87335 | P47: =($F47+$G47)*K47 -> 0.2277 | Q47: =($F47+$G47)*L47 -> 0.36225 | S47: 0.00282 | T47: 0.00024 | U47: =($F47+$G47)*S47 -> 0.29187 | V47: =($F47+$G47)*T47 -> 0.02484
A48: 22 | B48: Đông Tác | C48: 1 | D48: 22 | E48: 1200 | F48: 3.5 | G48: 0 | H48: 0.0057 | I48: 0.002 | J48: 0.0181 | K48: 0.0022 | L48: 0.0035 | M48: =($F48+$G48)*H48 -> 0.01995 | N48: =($F48+$G48)*I48 -> 0.007 | O48: =($F48+$G48)*J48 -> 0.06335 | P48: =($F48+$G48)*K48 -> 0.0077 | Q48: =($F48+$G48)*L48 -> 0.01225 | S48: 0.00282 | T48: 0.00024 | U48: =($F48+$G48)*S48 -> 0.00987 | V48: =($F48+$G48)*T48 -> 0.00084
A49: 23 | B49: Đầm Chợ | C49: 1 | D49: 11 | E49: 700 | F49: 109 | G49: 0 | H49: 0.0045 | I49: 0.002 | J49: 0.0139 | K49: 0.002 | L49: 0.0029 | M49: =($F49+$G49)*H49 -> 0.4905 | N49: =($F49+$G49)*I49 -> 0.218 | O49: =($F49+$G49)*J49 -> 1.5151 | P49: =($F49+$G49)*K49 -> 0.218 | Q49: =($F49+$G49)*L49 -> 0.3161 | S49: 0.0024 | T49: 0.0002 | U49: =($F49+$G49)*S49 -> 0.2616 | V49: =($F49+$G49)*T49 -> 0.0218
A50: 24 | B50: Ngũ Đoan | C50: 1 | D50: 22 | E50: 1200 | F50: 668 | G50: 0 | H50: 0.0057 | I50: 0.002 | J50: 0.0181 | K50: 0.0022 | L50: 0.0035 | M50: =($F50+$G50)*H50 -> 3.8076 | N50: =($F50+$G50)*I50 -> 1.336 | O50: =($F50+$G50)*J50 -> 12.0908 | P50: =($F50+$G50)*K50 -> 1.4696 | Q50: =($F50+$G50)*L50 -> 2.338 | S50: 0.00282 | T50: 0.00024 | U50: =($F50+$G50)*S50 -> 1.88376 | V50: =($F50+$G50)*T50 -> 0.16032
A51: 25 | B51: Cửa Chùa ( Chùa Ngoài ) | C51: 1 | D51: 22 | E51: 1200 | F51: 488 | G51: 0 | H51: 0.0057 | I51: 0.002 | J51: 0.0181 | K51: 0.0022 | L51: 0.0035 | M51: =($F51+$G51)*H51 -> 2.7816 | N51: =($F51+$G51)*I51 -> 0.976 | O51: =($F51+$G51)*J51 -> 8.8328 | P51: =($F51+$G51)*K51 -> 1.0736 | Q51: =($F51+$G51)*L51 -> 1.708 | S51: 0.00282 | T51: 0.00024 | U51: =($F51+$G51)*S51 -> 1.37616 | V51: =($F51+$G51)*T51 -> 0.11712
A52: 26 | B52: Tân Trào | C52: 1 | D52: 22 | E52: 1200 | F52: 188 | G52: 0 | H52: 0.0057 | I52: 0.002 | J52: 0.0181 | K52: 0.0022 | L52: 0.0035 | M52: =($F52+$G52)*H52 -> 1.0716 | N52: =($F52+$G52)*I52 -> 0.376 | O52: =($F52+$G52)*J52 -> 3.4028 | P52: =($F52+$G52)*K52 -> 0.4136 | Q52: =($F52+$G52)*L52 -> 0.658 | S52: 0.00282 | T52: 0.00024 | U52: =($F52+$G52)*S52 -> 0.53016 | V52: =($F52+$G52)*T52 -> 0.04512
A53: 27 | B53: Đa Ngư | C53: 1 | D53: 22 | E53: 1200 | F53: 250 | G53: 0 | H53: 0.0057 | I53: 0.002 | J53: 0.0181 | K53: 0.0022 | L53: 0.0035 | M53: =($F53+$G53)*H53 -> 1.425 | N53: =($F53+$G53)*I53 -> 0.5 | O53: =($F53+$G53)*J53 -> 4.525 | P53: =($F53+$G53)*K53 -> 0.55 | Q53: =($F53+$G53)*L53 -> 0.875 | S53: 0.00282 | T53: 0.00024 | U53: =($F53+$G53)*S53 -> 0.705 | V53: =($F53+$G53)*T53 -> 0.06
A54: 28 | B54: Gốc Đa | C54: 1 | D54: 22 | E54: 1200 | F54: 341 | G54: 0 | H54: 0.0057 | I54: 0.002 | J54: 0.0181 | K54: 0.0022 | L54: 0.0035 | M54: =($F54+$G54)*H54 -> 1.9437 | N54: =($F54+$G54)*I54 -> 0.682 | O54: =($F54+$G54)*J54 -> 6.1721 | P54: =($F54+$G54)*K54 -> 0.7502 | Q54: =($F54+$G54)*L54 -> 1.1935 | S54: 0.00282 | T54: 0.00024 | U54: =($F54+$G54)*S54 -> 0.96162 | V54: =($F54+$G54)*T54 -> 0.08184
A55: 29 | B55: Bắc Sơn | C55: 1 | D55: 22 | E55: 1200 | F55: 0 | G55: 0 | H55: 0.0057 | I55: 0.002 | J55: 0.0181 | K55: 0.0022 | L55: 0.0035 | M55: =($F55+$G55)*H55 -> 0 | N55: =($F55+$G55)*I55 -> 0 | O55: =($F55+$G55)*J55 -> 0 | P55: =($F55+$G55)*K55 -> 0 | Q55: =($F55+$G55)*L55 -> 0 | S55: 0.00282 | T55: 0.00024 | U55: =($F55+$G55)*S55 -> 0 | V55: =($F55+$G55)*T55 -> 0
A56: 30 | B56: Mả Giềng | C56: 1 | D56: 22 | E56: 1200 | F56: 719 | G56: 0 | H56: 0.0057 | I56: 0.002 | J56: 0.0181 | K56: 0.0022 | L56: 0.0035 | M56: =($F56+$G56)*H56 -> 4.0983 | N56: =($F56+$G56)*I56 -> 1.438 | O56: =($F56+$G56)*J56 -> 13.0139 | P56: =($F56+$G56)*K56 -> 1.5818 | Q56: =($F56+$G56)*L56 -> 2.5165 | S56: 0.00282 | T56: 0.00024 | U56: =($F56+$G56)*S56 -> 2.02758 | V56: =($F56+$G56)*T56 -> 0.17256
A57: 31 | B57: Đại Hà | C57: 1 | D57: 22 | E57: 1200 | F57: 733 | G57: 0 | H57: 0.0057 | I57: 0.002 | J57: 0.0181 | K57: 0.0022 | L57: 0.0035 | M57: =($F57+$G57)*H57 -> 4.1781 | N57: =($F57+$G57)*I57 -> 1.466 | O57: =($F57+$G57)*J57 -> 13.2673 | P57: =($F57+$G57)*K57 -> 1.6126 | Q57: =($F57+$G57)*L57 -> 2.5655 | S57: 0.00282 | T57: 0.00024 | U57: =($F57+$G57)*S57 -> 2.06706 | V57: =($F57+$G57)*T57 -> 0.17592
A58: 32 | B58: Cao Bộ 6 ( Đội 6 ) | C58: 1 | D58: 11 | E58: 700 | F58: 238 | G58: 0 | H58: 0.0045 | I58: 0.002 | J58: 0.0139 | K58: 0.002 | L58: 0.0029 | M58: =($F58+$G58)*H58 -> 1.071 | N58: =($F58+$G58)*I58 -> 0.476 | O58: =($F58+$G58)*J58 -> 3.3082 | P58: =($F58+$G58)*K58 -> 0.476 | Q58: =($F58+$G58)*L58 -> 0.6902 | S58: 0.0024 | T58: 0.0002 | U58: =($F58+$G58)*S58 -> 0.5712 | V58: =($F58+$G58)*T58 -> 0.0476
... A90: 64 | B90: Hòa Liễu | C90: 1 | D90: 22 | E90: 1200 | F90: 574 | G90: 0 | H90: 0.0057 | I90: 0.002 | J90: 0.0181 | K90: 0.0022 | L90: 0.0035 | M90: =($F90+$G90)*H90 -> 3.2718 | N90: =($F90+$G90)*I90 -> 1.148 | O90: =($F90+$G90)*J90 -> 10.3894 | P90: =($F90+$G90)*K90 -> 1.2628 | Q90: =($F90+$G90)*L90 -> 2.009 | S90: 0.00282 | T90: 0.00024 | U90: =($F90+$G90)*S90 -> 1.61868 | V90: =($F90+$G90)*T90 -> 0.13776
P92: NGƯỜI LẬP
P98: Nguyễn Công Tứ
