Workbook

Sheet foxz

Sheet Bảng kê vật tư T6-2026 KH
A1: BẢNG KÊ VẬT TƯ THAY THẾ, SỬA CHỮA
A2: CÁC CÔNG TRÌNH TRẠM BƠM THÁNG 6 NĂM 2026 TRẠM KTCTTL KIẾN THỤY
A3: TT | B3: Tên trạm bơm, Cống | C3: Ống xả D350, tôn dày 3 ly (m) | D3: Bu long (cái) | G3: Gioăng cao su (cái) | J3: Bi bơm 6310 cầu + côn ( Bộ ) | K3: Bi bơm 6313 - 7314 cầu+côn ( Bộ ) | L3: Cao su các đăng D350 ( Cái ) | M3: Bulong các đăng (cái) | N3: Bạc trục máy ( bộ ) | R3: Cánh quạt bơm ( cái ) | U3: Aptomat | X3: Bi động cơ (Vòng) | AA3: Cốt đồng Nhôm | AB3: Đồng hồ A (Cái) | AC3: Đồng hồ V (Cái) | AD3: Buồng hút ( cái ) | AH3: Tiện trục bơm ( cái ) | AI3: Ống nối (Cái) | AJ3: Gối đỡ bạc ( Cái ) | AM3: Buli máy bơm 1200 (Cái) | AN3: Bầu dầu 1200 ( Cái ) | AO3: Bu lông chân máy 1200 ( cái ) | AP3: Ghíp chí (Cái) | AQ3: Kẹp siết (Cái) | AR3: Ốp móc (Cái) | AS3: Bom treo (Cái) | AT3: Lạt (Cái) | AU3: Khóa (Cái) | AV3: Dây hạ thế: Cáp vặn xoắn AC50 (m) | AW3: Bánh răng quả dứa Z14 máy đóng mở V5-kèm trục D36,3 dài 221 (Cái) | AX3: Bệ sắt đỡ động cơ máy V5 (Bộ) | AY3: Mặt bích D650 (cái) | AZ3: Lưới chắn rác ( m2 ) | BB3: Cao su các đăng (Cái) | BC3: Sợi Ami ăng (kg) | BD3: Quấn Động cơ 22 KW (Cái)
D4: M16 - 75 | E4: M18-100 | F4: D 300 | G4: D 350 | H4: D 450 | I4: D 550 | N4: HTĐ 700 (800) | O4: HTĐ 700 | P4: HTĐ 1200 (700) | Q4: HTĐ 1800 | R4: 700 | S4: 1200 | T4: 1800 | U4: 63A (Cái) | V4: 80A (Cái) | W4: 100A (Cái) | X4: 11 kW | Y4: 22 kW | Z4: 33 kW | AD4: 1200 | AE4: 1800 | AF4: 800 | AG4: 700 | AJ4: 1200 ( Cái ) | AK4: 700 ( Cái ) | AL4: 1800 ( Cái ) | AZ4: Kích thước ( m ) | BA4: Diện tích ( m2 )
A5: 1 | B5: Lão Phú 2 | D5: 32 | G5: 2 | J5: 1 | P5: 1 | S5: 1
A6: 2 | B6: Ngũ Đoan | W6: 1 | Y6: 2 | AA6: 8
A7: 3 | B7: Phương Đôi | W7: 1 | AA7: 8 | AQ7: 2 | AR7: 4 | AT7: 4 | AU7: 8 | AV7: 45
A8: 4 | B8: Đại Trà | AQ8: 2 | AR8: 2 | AT8: 4 | AU8: 8
A9: 5 | B9: Chùa Ngoài | W9: 1 | AA9: 8
A10: 6 | B10: Đại Hà | D10: 16 | S10: 1
A11: 7 | B11: Tú Đôi 1 | E11: 36 | H11: 1 | K11: 1 | Q11: 1 | T11: 1
A12: 8 | B12: Đầm Chợ | D12: 16 | J12: 1 | P12: 1 | R12: 1
A13: 9 | B13: Vật tư bổ sung thường xuyên | BB13: 150
B14: Tổng Cộng | D14: =SUM(D5:D13) -> 64 | E14: =SUM(E5:E13) -> 36 | F14: =SUM(F5:F13) -> 0 | G14: =SUM(G5:G13) -> 2 | H14: =SUM(H5:H13) -> 1 | I14: =SUM(I5:I13) -> 0 | J14: =SUM(J5:J13) -> 2 | K14: =SUM(K5:K13) -> 1 | ... BB14: =SUM(BB5:BB13) -> 150 | BC14: =SUM(BC5:BC12) -> 0 | BD14: =SUM(BD5:BD12) -> 0
AR16: NGƯỜI TỔNG HỢP
AR19: Nguyễn Công Tứ

Sheet tổng hợp vật tư KH
A1: C.TY TNHH MTV KHAI THÁC CTTL ĐA ĐỘ TRẠM KTCTTL KIẾN THỤY | C1: CỘNG HÒA XÃ HỘI CHỦ NGHĨA VIỆT NAM Độc Lập - Tự do - Hạnh Phúc
C2: Hải Phòng, ngày tháng năm 2026
A3: TỔNG HỢP KHỐI LƯỢNG
A4: THAY THẾ VẬT TƯ SỬA CHỮA MỘT SỐ CÔNG TRÌNH TRẠM BƠM THÁNG 6 NĂM 2026
A6: TT | B6: Tên vật tư | C6: Đơn vị | D6: Khối lượng | G6: Ghi chú
A7: 1 | B7: Bu lông M16 - 75 | C7: Cái | D7: ='Bảng kê vật tư T6-2026 KH'!D14 -> 64
A8: 2 | B8: Bu lông M18 - 100 | C8: Cái | D8: ='Bảng kê vật tư T6-2026 KH'!E14 -> 36
A9: 3 | B9: Gioăng cao su D300 | C9: Cái | D9: ='Bảng kê vật tư T6-2026 KH'!F14 -> 0
A10: 4 | B10: Gioăng cao su D350 | C10: Cái | D10: ='Bảng kê vật tư T6-2026 KH'!G14 -> 2
A11: 5 | B11: Gioăng cao su D450 | C11: Cái | D11: ='Bảng kê vật tư T6-2026 KH'!H14 -> 1
A12: 6 | B12: Bi bơm 6310 cầu+côn | C12: Bộ | D12: ='Bảng kê vật tư T6-2026 KH'!J14 -> 2
A13: 7 | B13: Bi bơm 6313-7314 cầu+côn | C13: Bộ | D13: ='Bảng kê vật tư T6-2026 KH'!K14 -> 1
A14: 8 | B14: Bạc trục máy HTĐ 1200 (800)(700) | C14: Bộ | D14: ='Bảng kê vật tư T6-2026 KH'!P14 -> 2
A15: 9 | B15: Bạc trục máy HTĐ 1800 | C15: Bộ | D15: ='Bảng kê vật tư T6-2026 KH'!Q14 -> 1
A16: 10 | B16: Cánh quạt bơm HTĐ 700 | C16: Cái | D16: ='Bảng kê vật tư T6-2026 KH'!R14 -> 1
A17: 11 | B17: Cánh quạt bơm HTĐ 1200 | C17: Cái | D17: ='Bảng kê vật tư T6-2026 KH'!S14 -> 2
A18: 12 | B18: Cánh quạt bơm HTĐ 1800 | C18: Cái | D18: ='Bảng kê vật tư T6-2026 KH'!T14 -> 1
A19: 13 | B19: Áptomat 80A | C19: Cái | D19: ='Bảng kê vật tư T6-2026 KH'!V14 -> 0
A20: 13 | B20: Áptomat 100A | C20: Cái | D20: ='Bảng kê vật tư T6-2026 KH'!W14 -> 3
A21: 14 | B21: Bi động cơ 22 Kw | C21: Vòng | D21: ='Bảng kê vật tư T6-2026 KH'!Y14 -> 2
A22: 15 | B22: Cốt đồng nhôm | C22: Cái | D22: ='Bảng kê vật tư T6-2026 KH'!AA14 -> 24
A23: 16 | B23: Kẹp siết | C23: Cái | D23: ='Bảng kê vật tư T6-2026 KH'!AQ14 -> 4
A24: 17 | B24: Ốp móc | C24: Cái | D24: ='Bảng kê vật tư T6-2026 KH'!AR14 -> 6
A25: 19 | B25: Bom treo | C25: Cái | D25: ='Bảng kê vật tư T6-2026 KH'!AS14 -> 0
A26: 18 | B26: Lạt | C26: Cái | D26: ='Bảng kê vật tư T6-2026 KH'!AT14 -> 8
A27: 19 | B27: Khoá | C27: Cái | D27: ='Bảng kê vật tư T6-2026 KH'!AU14 -> 16
A28: 20 | B28: Dây hạ thế: Cáp vặn xoắn AC50 | C28: m | D28: ='Bảng kê vật tư T6-2026 KH'!AV14 -> 45
A29: 21 | B29: Cao su các đăng | C29: Cái | D29: ='Bảng kê vật tư T6-2026 KH'!BB14 -> 150
C31: NGƯỜI LẬP
C35: Nguyễn Công Tứ

Sheet BIỂU 01.2 (2)
A1: CÔNG TY TNHH MTV KHAI THÁC CÔNG TRÌNH THỦY LỢI ĐA ĐỘ | M1: CÔNG HÒA XÃ HỘI CHỦ NGHĨA VIỆT NAM Độc lập - Tự do - Hạnh phúc
A2: TRẠM KTCTTL KIẾN THỤY
P3: Biểu số 01.2
A4: BẢNG TỔNG HỢP BẢO DƯỠNG MÁY MÓC THIẾT BỊ PHỤC VỤ SẢN XUẤT NÔNG NGHIỆP VỤ MÙA 2022
A5: (Kèm theo Thông báo số …../TB- TLĐ ngày …../8/2022)
A7: I. VẬT TƯ, NHIÊN LIỆU BẢO DƯỠNG TRẠM BƠM ĐIỆN
A9: TT | B9: Tên trạm bơm | C9: Số tổ máy | D9: Q ( m3/h ) | E9: P ( Kw ) | F9: S phục vụ ( ha/vụ ) | G9: Thời gian để tưới | H9: Định mức | M9: Dầu nhờn | N9: Dầu DieZel | O9: Mỡ các loại | P9: Sợi Amiăng | Q9: Giẻ lau
F10: Diện tích ( ha ) | H10: Dầu, nhờn | I10: Dầu DieZel | J10: Mỡ các loại | K10: Sợi Amiăng | L10: Giẻ lau
A11: 1 | B11: Nãi Sơn 1 | C11: 1 | D11: 1200 | E11: 22 | F11: 10 | M11: 0.19509091 | N11: 0.10545455 | O11: 0.31636364 | P11: 0.079090909 | Q11: 0.116
A12: 2 | B12: Nãi Sơn 2 | C12: 1 | D12: 540 | E12: 20 | F12: 0 | M12: 0 | N12: 0 | O12: 0 | P12: 0 | Q12: 0
A13: 3 | B13: Nãi Sơn 3 | C13: 1 | D13: 1200 | E13: 22 | F13: 95 | M13: 1.7581593 | N13: 0.95035636 | O13: 2.8510691 | P13: 0.71276727 | Q13: 1.045392
A14: 4 | B14: Lê Xá | C14: 1 | D14: 1200 | E14: 22 | F14: 66.58 | M14: 1.235652 | N14: 0.66791999 | O14: 2.00376 | P14: 0.50093999 | Q14: 0.73471198
A15: 5 | B15: Cây Đa | C15: 1 | D15: 700 | E15: 11 | F15: 24.32 | M15: 0.62726895 | N15: 0.50181516 | O15: 1.5054455 | P15: 0.37636137 | Q15: 0.50181516
A16: 6 | B16: Đông Tác | C16: 1 | D16: 1200 | E16: 22 | F16: 54.4 | M16: 1.0460618 | N16: 0.56543884 | O16: 1.6963165 | P16: 0.42407913 | Q16: 0.62198272
A17: 7 | B17: Đại Hợp 2 | C17: 1 | D17: 1200 | E17: 22 | F17: 43.47 | M17: 0.8398012 | N17: 0.4539466 | O17: 1.3618398 | P17: 0.34045995 | Q17: 0.49934126
A18: 8 | B18: Đại Hợp 1 | C18: 2 | D18: 2500 | E18: 55 | F18: 142.58 | M18: 3.0071418 | N18: 1.8042851 | O18: 3.6085702 | P18: 0.90214255 | Q18: 1.3231424
A19: 9 | B19: Đầm Chợ | C19: 1 | D19: 700 | E19: 11 | F19: 39.69 | M19: 1.0152062 | N19: 0.81216493 | O19: 2.4364948 | P19: 0.6091237 | Q19: 0.81216493
A20: 10 | B20: Đoàn Xá 1 | C20: 1 | D20: 1200 | E20: 22 | F20: 100.6 | M20: 1.9451683 | N20: 1.0514423 | O20: 3.154327 | P20: 0.78858176 | Q20: 1.1565866
A21: 11 | B21: Đoàn Xá 2 | C21: 1 | D21: 1200 | E21: 22 | F21: 114.61 | M21: 2.2293202 | N21: 1.2050379 | O21: 3.6151138 | P21: 0.90377846 | Q21: 1.3255417
A22: 12 | B22: Tiến Lập | C22: 1 | D22: 1200 | E22: 22 | F22: 34 | M22: 0.66092898 | N22: 0.35725891 | O22: 1.0717767 | P22: 0.26794418 | Q22: 0.3929848
... A74: 64 | B74: Minh Tân 2 | C74: 1 | D74: 1800 | E74: 37 | F74: 65.9 | M74: 0.8662969 | N74: 0.41252234 | O74: 1.237567 | P74: 0.30939175 | Q74: 0.45377457
B75: Tổng (I): | F75: =SUM(F11:F74) -> 3594.53 | M75: =SUM(M11:M74) -> 69.117745 | N75: =SUM(N11:N74) -> 39.55482 | O75: =SUM(O11:O74) -> 116.86018 | P75: =SUM(P11:P74) -> 29.215044 | Q75: =SUM(Q11:Q74) -> 42.143806
A76: II. VẬT TƯ, NHIÊN LIỆU, BẢO DƯỠNG MÁY ĐÓNG MỞ
A77: TT | B77: Tên cống | C77: Số cửa cống | D77: Thiết bị đóng mở | E77: Dầu nhờn | F77: Dầu Diezel | L77: Dầu Diezel | M77: Mỡ các loại | N77: Giẻ lau
A78: I | B78: Cống Dưới đê
A79: 1 | B79: Cống TB Đông Tác | C79: 1 | D79: V0 | E79: 0.17 | F79: 0.1 | M79: 0.18 | N79: 0.12
A80: 2 | B80: Cống Đông Tác | C80: 1 | D80: V3 | E80: 0.89 | F80: 0.3 | M80: 0.78 | N80: 1
A81: 3 | B81: Cống Nam Hải | C81: 1 | D81: V3 | E81: 0.89 | F81: 0.3 | M81: 0.78 | N81: 1
A82: 4 | B82: Cống Thông | C82: 2 | D82: V5 | E82: 6.3 | F82: 1.52 | M82: 6 | N82: 6
A83: 5 | B83: Cống Ngũ Đoan | C83: 1 | D83: V3 | E83: 0.89 | F83: 0.3 | M83: 0.78 | N83: 1
A84: 6 | B84: Cống Thống | C84: 1 | D84: Tời 5 T | E84: 2.03 | F84: 0.44 | M84: 3.4 | N84: 1.34
A85: 7 | B85: Cống Đa Ngư | C85: 2 | D85: V3 | E85: 1.78 | F85: 0.6 | M85: 1.56 | N85: 2
A86: 8 | B86: Cống Kim Sơn ( Mom Hầu ) | C86: 1 | D86: V3 | E86: 0.89 | F86: 0.3 | M86: 0.78 | N86: 1
A87: 9 | B87: Cống Đồng Thẻo | C87: 3 | D87: Tời 6 T | E87: 6.09 | F87: 1.32 | M87: 10.2 | N87: 4.02
A88: 10 | B88: Cống Hòa Bình | C88: 2 | D88: Pa Lăng | E88: 3.6 | F88: 0.8 | M88: 6.1 | N88: 1.66
A89: 11 | B89: Cống Xuân Quan | C89: 1 | D89: V3 | E89: 0.89 | F89: 0.3 | M89: 0.78 | N89: 1
A90: 12 | B90: Cống Đáy | C90: 1 | D90: V3 | E90: 0.89 | F90: 0.3 | M90: 0.78 | N90: 1
A91: II | B91: Cống Trên kênh
A92: 1 | B92: Đập Đầm Tám | C92: 1 | D92: V3 | E92: 0.62 | F92: 0.3 | M92: 0.715 | N92: 1
A93: 2 | B93: Cống Bè Lang | C93: 1 | D93: Pa Lăng | E93: 1.59 | F93: 0.4 | M93: 2.65 | N93: 0.83
...

Sheet BIỂU 01.2
A1: CÔNG TY TNHH MTV KHAI THÁC CÔNG TRÌNH THỦY LỢI ĐA ĐỘ | M1: CÔNG HÒA XÃ HỘI CHỦ NGHĨA VIỆT NAM Độc lập - Tự do - Hạnh phúc
A2: TRẠM KTCTTL KIẾN THỤY
P3: Biểu số 01.2
A4: BẢNG TỔNG HỢP BẢO DƯỠNG MÁY MÓC THIẾT BỊ PHỤC VỤ SẢN XUẤT NÔNG NGHIỆP VỤ MÙA 2022
A5: (Kèm theo Thông báo số …../TB- TLĐ ngày …../8/2022)
A7: I. VẬT TƯ, NHIÊN LIỆU BẢO DƯỠNG TRẠM BƠM ĐIỆN
A9: TT | B9: Tên trạm bơm | C9: Số tổ máy | D9: Q ( m3/h ) | E9: P ( Kw ) | F9: S phục vụ ( ha/vụ ) | G9: Thời gian để tưới | H9: Định mức | M9: Dầu nhờn | N9: Dầu DieZel | O9: Mỡ các loại | P9: Sợi Amiăng | Q9: Giẻ lau
F10: Diện tích ( ha ) | H10: Dầu, nhờn | I10: Dầu DieZel | J10: Mỡ các loại | K10: Sợi Amiăng | L10: Giẻ lau
A11: 1 | B11: Nãi Sơn 1 | C11: 1 | D11: 1200 | E11: 22 | F11: 10 | M11: 0.19509091 | N11: 0.10545455 | O11: 0.31636364 | P11: 0.079090909 | Q11: 0.116
A12: 2 | B12: Nãi Sơn 2 | C12: 1 | D12: 540 | E12: 20 | F12: 0 | M12: 0 | N12: 0 | O12: 0 | P12: 0 | Q12: 0
A13: 3 | B13: Nãi Sơn 3 | C13: 1 | D13: 1200 | E13: 22 | F13: 95 | M13: 1.7581593 | N13: 0.95035636 | O13: 2.8510691 | P13: 0.71276727 | Q13: 1.045392
A14: 4 | B14: Lê Xá | C14: 1 | D14: 1200 | E14: 22 | F14: 66.58 | M14: 1.235652 | N14: 0.66791999 | O14: 2.00376 | P14: 0.50093999 | Q14: 0.73471198
A15: 5 | B15: Cây Đa | C15: 1 | D15: 700 | E15: 11 | F15: 24.32 | M15: 0.62726895 | N15: 0.50181516 | O15: 1.5054455 | P15: 0.37636137 | Q15: 0.50181516
A16: 6 | B16: Đông Tác | C16: 1 | D16: 1200 | E16: 22 | F16: 54.4 | M16: 1.0460618 | N16: 0.56543884 | O16: 1.6963165 | P16: 0.42407913 | Q16: 0.62198272
A17: 7 | B17: Đại Hợp 2 | C17: 1 | D17: 1200 | E17: 22 | F17: 43.47 | M17: 0.8398012 | N17: 0.4539466 | O17: 1.3618398 | P17: 0.34045995 | Q17: 0.49934126
A18: 8 | B18: Đại Hợp 1 | C18: 2 | D18: 2500 | E18: 55 | F18: 142.58 | M18: 3.0071418 | N18: 1.8042851 | O18: 3.6085702 | P18: 0.90214255 | Q18: 1.3231424
A19: 9 | B19: Đầm Chợ | C19: 1 | D19: 700 | E19: 11 | F19: 39.69 | M19: 1.0152062 | N19: 0.81216493 | O19: 2.4364948 | P19: 0.6091237 | Q19: 0.81216493
A20: 10 | B20: Đoàn Xá 1 | C20: 1 | D20: 1200 | E20: 22 | F20: 100.6 | M20: 1.9451683 | N20: 1.0514423 | O20: 3.154327 | P20: 0.78858176 | Q20: 1.1565866
A21: 11 | B21: Đoàn Xá 2 | C21: 1 | D21: 1200 | E21: 22 | F21: 114.61 | M21: 2.2293202 | N21: 1.2050379 | O21: 3.6151138 | P21: 0.90377846 | Q21: 1.3255417
A22: 12 | B22: Tiến Lập | C22: 1 | D22: 1200 | E22: 22 | F22: 34 | M22: 0.66092898 | N22: 0.35725891 | O22: 1.0717767 | P22: 0.26794418 | Q22: 0.3929848
... A74: 64 | B74: Minh Tân 2 | C74: 1 | D74: 1800 | E74: 37 | F74: 65.9 | M74: 0.8662969 | N74: 0.41252234 | O74: 1.237567 | P74: 0.30939175 | Q74: 0.45377457
B75: Tổng (I): | F75: =SUM(F11:F74) -> 3594.53 | M75: =SUM(M11:M74) -> 69.117745 | N75: =SUM(N11:N74) -> 39.55482 | O75: =SUM(O11:O74) -> 116.86018 | P75: =SUM(P11:P74) -> 29.215044 | Q75: =SUM(Q11:Q74) -> 42.143806
A76: II. VẬT TƯ, NHIÊN LIỆU, BẢO DƯỠNG MÁY ĐÓNG MỞ
A77: TT | B77: Tên cống | C77: Số cửa cống | D77: Thiết bị đóng mở | E77: Dầu nhờn | F77: Dầu Diezel | L77: Dầu Diezel | M77: Mỡ các loại | N77: Giẻ lau
A78: I | B78: Cống Dưới đê
A79: 1 | B79: Cống TB Đông Tác | C79: 1 | D79: V0 | E79: 0.17 | F79: 0.1 | M79: 0.18 | N79: 0.12
A80: 2 | B80: Cống Đông Tác | C80: 1 | D80: V3 | E80: 0.89 | F80: 0.3 | M80: 0.78 | N80: 1
A81: 3 | B81: Cống Nam Hải | C81: 1 | D81: V3 | E81: 0.89 | F81: 0.3 | M81: 0.78 | N81: 1
A82: 4 | B82: Cống Thông | C82: 2 | D82: V5 | E82: 6.3 | F82: 1.52 | M82: 6 | N82: 6
A83: 5 | B83: Cống Ngũ Đoan | C83: 1 | D83: V3 | E83: 0.89 | F83: 0.3 | M83: 0.78 | N83: 1
A84: 6 | B84: Cống Thống | C84: 1 | D84: Tời 5 T | E84: 2.03 | F84: 0.44 | M84: 3.4 | N84: 1.34
A85: 7 | B85: Cống Đa Ngư | C85: 2 | D85: V3 | E85: 1.78 | F85: 0.6 | M85: 1.56 | N85: 2
A86: 8 | B86: Cống Kim Sơn ( Mom Hầu ) | C86: 1 | D86: V3 | E86: 0.89 | F86: 0.3 | M86: 0.78 | N86: 1
A87: 9 | B87: Cống Đồng Thẻo | C87: 3 | D87: Tời 6 T | E87: 6.09 | F87: 1.32 | M87: 10.2 | N87: 4.02
A88: 10 | B88: Cống Hòa Bình | C88: 2 | D88: Pa Lăng | E88: 3.6 | F88: 0.8 | M88: 6.1 | N88: 1.66
A89: 11 | B89: Cống Xuân Quan | C89: 1 | D89: V3 | E89: 0.89 | F89: 0.3 | M89: 0.78 | N89: 1
A90: 12 | B90: Cống Đáy | C90: 1 | D90: V3 | E90: 0.89 | F90: 0.3 | M90: 0.78 | N90: 1
A91: II | B91: Cống Trên kênh
A92: 1 | B92: Đập Đầm Tám | C92: 1 | D92: V3 | E92: 0.62 | F92: 0.3 | M92: 0.715 | N92: 1
A93: 2 | B93: Cống Bè Lang | C93: 1 | D93: Pa Lăng | E93: 1.59 | F93: 0.4 | M93: 2.65 | N93: 0.83
...

Sheet BIỂU 01.3
A1: CÔNG TY TNHH MTV KHAI THÁC CÔNG TRÌNH THỦY LỢI ĐA ĐỘ | H1: CÔNG HÒA XÃ HỘI CHỦ NGHĨA VIỆT NAM Độc lập - Tự do - Hạnh phúc
A2: TRẠM KTCTTL KIẾN THỤY
L4: Biểu số 03
A5: DANH MỤC SỬA CHỮA CÁC CÔNG TRÌNH CẤP BÁCH PHỤC VỤ SẢN XUẤT NÔNG NGHIỆP VỤ MÙA 2022
A6: (Kèm theo Thông báo số …../TB- TLĐ ngày …../8/2022)
A8: TT | C8: Tên công trình | D8: Địa điểm | E8: Hiện trạng | I8: Quy mô sửa chữa | K8: Kinh phí (Triệu đồng) | L8: Thứ tự ưu tiên | M8: Ghi chú
E9: Quy mô | F9: Năm xây dựng | G9: Tình trạng xuống cấp | H9: Hình ảnh hiện trạng | I9: Nội dung sửa chữa | J9: Kích thước
A10: I | C10: Các công trình cống dưới đê, cống bờ Đa Độ, cống đầu kênh, cống trên kênh cấp I, nhà quản lý cống, văn phòng trụ sở
A11: 1 | B11: 1 | C11: Sửa chữa chống dột, trần mái nhà tầng 2 khu nhà làm việc đ/c Trạm trưởng | D11: Thị trấn Núi Đối | E11: 100m2 | G11: Mái nhà bị ngấm dột, trần nhà bị hỏng | I11: Sữa chữa | J11: 100 m2 | L11: 4
A12: 6 | C12: Thay thế cửa sổ, cửa đi của 1 số phòng làm việc, nhà quản lý, nhà máy trạm bơm, cống của công trình trên địa bàn huyện Kiến Thụy | D12: Huyện Kiến Thụy | E12: Theo hiện trạng thực tế | G12: Cánh cửa gỗ bị mục, mọt, hỏng | I12: Thay mới | J12: 95 m2 | L12: 8
A13: II | C13: Các công trình trạm bơm điện
A14: III | C14: Các công trình kênh tưới sau trạm bơm
A15: 1 | C15: Kênh tưới sau TB Đoàn Xá 1 | D15: Xã Đoàn Xá | E15: 3086 m | G15: - Đổ vỡ không thể sử dụng 17m - Đoạn từ bể xả rẽ về 2 phía , dài 523 m: một số chỗ tường nghiêng, tách chân tường với đáy, vữa trát tróc dụng, một bên một số chỗ không còn áp trúc | I15: - Xây mới - Nâng cấp | J15: - 17 m - 523 m | K15: 270 | L15: 3
A16: 3 | C16: Kênh tưới sau TB Tú Đôi1 | D16: Xã Kiến Quốc | E16: 1106 m | G16: Đoạn từ bể xả đến cầu máng 380m dò đáy, nứt tường, không có áp trúc | I16: Sửa chữa , nâng cấp | J16: 380 m | K16: 190 | L16: 5
A17: 5 | C17: Kênh tưới sau TB Đa Ngư | D17: Xã Tân Trào | E17: 770 m | G17: Đoạn từ từ bể xả về phía cuối tuyến 250 m: Tường nghiêng, đứt tách chân, vữa trát tróc dụng, hông còn áp trúc | I17: Sửa chữa , nâng cấp | J17: 250 m | K17: 125 | L17: 1
A18: IV | C18: Các công trình giải tỏa, nạo vét, đắp bờ kênh cấp I
A19: 1 | C19: Kênh hút TB Úc Gián | D19: Xã Thuận Thiên | E19: 119 m | G19: Lòng kênh nông đầy và bị co hẹp | I19: Nạo vét | J19: 119 m | K19: 143 | L19: 1
A20: 2 | C20: Kênh hút TB Tân Trào | D20: Xã Tân trào | E20: 265 m | G20: Lòng kênh nông đầy và bị co hẹp | I20: Nạo vét | J20: 265 m | K20: 318 | L20: 2
C21: TỔNG CỘNG
A23: TRẠM KTCTTL KIẾN THỤY | H23: Kiến Thụy, ngày tháng năm 2022
A24: TRƯỞNG TRẠM | I24: Người lập

Sheet Bảng dự trù  kinh phí 
A1: C.TY TNHH MTV KHAI THÁC CTTL ĐA ĐỘ TRẠM KTCTTL KIẾN THỤY | D1: CỘNG HÒA XÃ HỘI CHỦ NGHĨA VIỆT NAM Độc Lập - Tự do - Hạnh Phúc
D2: Hải Phòng, ngày tháng năm 2026
A3: BẢNG DỰ TRÙ KINH PHÍ Thay thế vật tư sửa chữa một số công trình trạm bơm Tháng 6 năm 2026
A5: TT | B5: Tên vật tư | E5: Đơn vị | F5: Khối lượng | G5: Đơn giá ( đ ) | H5: Thành tiền ( đ )
A6: 1 | B6: Bu lông M16 - 75 | E6: Cái | F6: ='tổng hợp vật tư KH'!D7 -> 64 | G6: 22013 | H6: =F6*G6 -> 1408832
A7: 2 | B7: Bu lông M18 - 100 | E7: Cái | F7: ='tổng hợp vật tư KH'!D8 -> 36 | G7: 25000 | H7: =F7*G7 -> 900000
A8: 3 | B8: Gioăng cao su D300 | E8: Cái | F8: ='tổng hợp vật tư KH'!D9 -> 0 | G8: 55000 | H8: =F8*G8 -> 0
A9: 3 | B9: Gioăng cao su D350 | E9: Cái | F9: ='tổng hợp vật tư KH'!D10 -> 2 | G9: 55000 | H9: =F9*G9 -> 110000
A10: 4 | B10: Gioăng cao su D450 | E10: Cái | F10: ='tổng hợp vật tư KH'!D11 -> 1 | G10: 60000 | H10: =F10*G10 -> 60000
A11: 5 | B11: Bi bơm 6310 cầu+côn | E11: Bộ | F11: ='tổng hợp vật tư KH'!D12 -> 2 | G11: 1041000 | H11: =F11*G11 -> 2082000
A12: 6 | B12: Bi bơm 6313-7314 cầu+côn | E12: Bộ | F12: ='tổng hợp vật tư KH'!D13 -> 1 | G12: 1320000 | H12: =F12*G12 -> 1320000
A13: 7 | B13: Bạc trục máy HTĐ 1200 (800)(700) | E13: Bộ | F13: ='tổng hợp vật tư KH'!D14 -> 2 | G13: 1100000 | H13: =F13*G13 -> 2200000
A14: 8 | B14: Bạc trục máy HTĐ 1800 | E14: Bộ | F14: ='tổng hợp vật tư KH'!D15 -> 1 | G14: 1680000 | H14: =F14*G14 -> 1680000
A15: 9 | B15: Cánh quạt bơm HTĐ 700 | E15: Cái | F15: ='tổng hợp vật tư KH'!D16 -> 1 | G15: 1440000 | H15: =F15*G15 -> 1440000
A16: 10 | B16: Cánh quạt bơm HTĐ 1200 | E16: Cái | F16: ='tổng hợp vật tư KH'!D17 -> 2 | G16: 1980000 | H16: =F16*G16 -> 3960000
A17: 11 | B17: Cánh quạt bơm HTĐ 1800 | E17: Cái | F17: ='tổng hợp vật tư KH'!D18 -> 1 | G17: 3480000 | H17: =F17*G17 -> 3480000
... A28: 21 | B28: Cao su các đăng | E28: Cái | F28: ='tổng hợp vật tư KH'!D29 -> 150 | G28: 7500 | H28: =F28*G28 -> 1125000
A29: Cộng | H29: =SUM(H6:H28) -> 28466332
A30: Thuế GTGT (10%) | H30: =H29*10% -> 2846633.2
A31: Tổng cộng = Cộng + GTGT | H31: =H29+H30 -> 31312965
A32: Tròn số | H32: =ROUND(H31,-3) -> 31313000
A33: Bằng chữ: Ba mươi mốt triệu, ba trăm mười ba nghìn đồng chẵn
A34: TRẠM KTCTTL KIẾN THỤY TRƯỞNG TRẠM | E34: NGƯỜI LẬP
A38: Vũ Hữu Trung | E38: Nguyễn Công Tứ

Sheet kênh tưới
A1: CÔNG TY TNHH MTV KHAI THÁC CÔNG TRÌNH THỦY LỢI ĐA ĐỘ | H1: CỘNG HÒA XÃ HỘI CHỦ NGHĨA VIỆT NAM Độc lập - Tự do - Hạnh phúc
A2: TRẠM KTCTTL KIẾN THỤY
L4: Biểu số 02
A5: KẾ HOẠCH SỬA CHỮA CẤP BÁCH
A6: CÁC TUYẾN KÊNH TƯỚI SAU TRẠM BƠM VỤ MÙA NĂM 2023
A8: TT | C8: Tên công trình | D8: Địa điểm | E8: Hiện trạng | I8: Quy mô sửa chữa | K8: Thứ tự ưu tiên | L8: Ghi chú (Tên tuyến kênh tưới sau TB) | M8: Tình hình xử lý
E9: Quy mô (m) | F9: Năm xây dựng | G9: Tình trạng xuống cấp | H9: Hình ảnh hiện trạng | I9: Nội dung sửa chữa | J9: Kích thước (m)
A10: 1 | C10: Kênh tưới sau TB Đại Hợp 1 | D10: Xã Đại Hợp | E10: 1751 | G10: Đáy kênh: Nứt, sụt, rò rỉ. Tường kênh: Nghiêng, đổ vỡ nhiều đoạn, nứt dọc tường | I10: Sửa chữa | J10: 230 | K10: 1 | L10: K.c1 - 2 TB Đại Hợp 1( Từ vị trí cách bể xả 145m : K0+145 đến K0+375) đoạn sát đường nhựa hướng về TB Đại Hợp 2 | M10: Chưa xử lý
A11: 2 | C11: Kênh tưới sau TB Sau Kho | D11: Xã Du Lễ | E11: 570 | G11: Vỡ 1 bên tường máng | I11: Sửa chữa | J11: 35 | K11: 2 | L11: K.c 1 - 1 TB Sau Kho. Vị trí cách bể xả 40 m | M11: Đã xử lý
A12: 3 | C12: Kênh tưới sau TB Kỳ Sơn | D12: Xã Tân Trào | E12: 1384 | G12: Vỡ 1 bên tường máng | I12: Sửa chữa | J12: 30 | K12: 3 | L12: K.c 1 - 1 TB Kỳ Sơn. Vị trí cách bể xả 100 m | M12: Đã xử lý
A13: 4 | C13: Kênh tưới sau TB Tân Trào | D13: Xã Tân Trào | E13: 542 | G13: Vỡ 1 bên tường máng | I13: Sửa chữa | J13: 20 | K13: 4 | L13: K.c 1 TB Tân Trào. Vị trí cách bể xả 300 m | M13: Chưa xử lý
A14: 5 | C14: Bể xả TB Trà Phương 1 | D14: Xã Thụy Hương | G14: Nứt tường, dò đáy, tụt đáy bể xả, thất thoát nước | I14: Sửa chữa | J14: BxH = 1,9x 1,5 | K14: 5 | M14: Đã xử lý
A15: 6 | C15: Bể xả TB Minh Tân 2 | D15: Xã Minh Tân | G15: Nứt tường, dò đáy, tụt đáy bể xả, thất thoát nước | I15: - Sửa chữa xây tường - Láng đáy | J15: - BxLxH= 3x30x1,5 - S = 45 m2 | K15: 6 | M15: Chưa xử lý
A16: 7 | C16: Bể xả TB Đức Phong | D16: Xã Đại Đồng | G16: Nứt tường, dò đáy, tụt đáy bể xả, thất thoát nước | I16: - Sửa chữa xây tường - Láng đáy | J16: - BxLxH= 2,4x10x1,3 - S = 26 m2 | K16: 7 | M16: Chưa xử lý
A17: 8 | C17: Kênh tưới sau TB Lão Phú 2 | D17: Xã Tân Phong | E17: 735 | G17: Đáy kênh: Nứt, sụt, rò rỉ. Tường kênh: Nghiêng, đổ vỡ nhiều đoạn, nứt dọc tường | I17: Sửa chữa | J17: 225 | K17: 8 | L17: K.c1 - 3 TB Lão Phú 2 ( Từ vị đầu tuyến : K0 đến K0 + 225) ngay sát đường bê tông | M17: Chưa xử lý
A18: 9 | C18: Kênh tưới sau TB Đại Hà | D18: Xã Đại Hà | E18: 1089 | G18: Đáy kênh: Nứt, sụt, rò rỉ. Tường kênh: Nghiêng, đổ vỡ nhiều đoạn, nứt dọc tường | I18: Sửa chữa | J18: 563 | K18: 9 | L18: K.c1 - 1 TB Đại Hà ( Từ vị trí bể xả : K0 đến K0+563) | M18: Chưa xử lý
A19: 10 | C19: Kênh tưới sau TB Mả Giềng | D19: Xã Đại Hà | E19: 1550 | G19: Đáy kênh: Nứt, sụt, rò rỉ. Tường kênh: Nghiêng, đổ vỡ nhiều đoạn, nứt dọc tường | I19: Sửa chữa | J19: 568 | K19: 10 | L19: K.c1 - 3 TB Mả Giềng ( cả tuyến Kc 1-3 ) | M19: Chưa xử lý
A20: 11 | C20: Kênh tưới sau TB Gốc Đa | D20: Xã Tân Trào | E20: 1013 | G20: Đáy kênh: Nứt, sụt, rò rỉ. Tường kênh: Nghiêng, đổ vỡ nhiều đoạn, nứt dọc tường | I20: Sửa chữa | J20: 300 | K20: 11 | L20: K.c1 TB Gốc Đa ( Từ bể xả đến hết tuyến ) | M20: Chưa xử lý
A21: TỔNG CỘNG | E21: =SUM(E10:E20) -> 8634 | J21: =J10+J11+J12+J13+J17+J18+J19+J20 -> 1971
H23: Kiến Thụy, ngày tháng năm 2023
A24: TRẠM KTCTTL KIẾN THỤY | H24: Người lập
A25: TRƯỞNG TRẠM
A28: Vũ Hữu Trung | H28: Phạm Thị Diễm Hương

Sheet kênh chìm
A1: CÔNG TY TNHH MTV KHAI THÁC CÔNG TRÌNH THỦY LỢI ĐA ĐỘ | H1: CỘNG HÒA XÃ HỘI CHỦ NGHĨA VIỆT NAM
A2: TRẠM KTCTL KIẾN THỤY | H2: Độc lập - Tự do - Hạnh Phúc
L4: Biểu số 03
A5: KẾ HOẠCH SỬA CHỮA CẤP BÁCH
A6: CÁC TUYẾN KÊNH CẤP 1, 2 VỤ MÙA NĂM 2023
A8: TT | B8: Tên công trình | C8: Địa điểm | D8: Hiện trạng | I8: Quy mô sửa chữa | K8: Kinh phí (Triệu đồng) | L8: Thứ tự ưu tiên | M8: Ghi chú
D9: Chiều dài (m) | G9: Tình trạng xuống cấp | H9: Hình ảnh hiện trạng | I9: Nội dung sửa chữa | J9: Chiều dài (m)
A10: 1 | B10: Kênh hút TB Úc Gián | C10: Xã Thuận Thiên | D10: 119 | G10: Lòng kênh nông đầy, co hẹp | I10: Nạo vét , đắp bở | J10: 119 | L10: 1
A11: 2 | B11: Kênh cống Thống 1 | C11: Xã Đại Hà, Xã Tân Trào | D11: 5991 | G11: Đoạn từ TB Cửa In đến cống ông Thụ chiều dài 733 m lòng kênh nông đầy, co hẹp | I11: Nạo vét , đắp bở | J11: 733 | L11: 2
A12: 3 | B12: Kênh Minh Tân 1 | C12: Xã Minh Tân | D12: 3138 | G12: Đoạn từ TB Minh Tân 1 đến Cống Vịt : 2110m lòng kênh nông đầy | I12: Nạo vét , đắp bở | J12: 2110 | L12: 3
A13: 4 | B13: Kênh Đại Trà 1 | C13: Xã Đông Phương | D13: 5342 | G13: Đoạn từ cống sau chùa Lạng Côn đến cống Chéo: 1870m lòng kênh nông đầy , ùn tắc nặng. | I13: Nạo vét , đắp bở | J13: 1870 | L13: 4
A14: 5 | B14: Kênh hút TB Kỳ Sơn | C14: Xã Tân Trào | D14: 740 | G14: Lòng kênh nông đầy, co hẹp | I14: Nạo vét , đắp bở | J14: 740 | L14: 5
A15: 6 | B15: Kênh Đức Phong 1 | C15: Xã Đại Đồng | D15: 3882 | G15: Đoạn từ cống ông Đằng đến tiếp giáp p. Hòa Nghĩa - q.Dương Kinh : 2462 m Lòng kênh nông đầy, co hẹp | I15: Nạo vét , đắp bở | J15: 2462 | L15: 6
A16: 7 | B16: Kênh ngăn mặn Đại Hợp | C16: Xã Đại Hợp | D16: 4024 | G16: Đoạn từ đường thanh niên đến nút giao với kênh Đông Tác : 2053m . Lòng kênh nông đầy | I16: Nạo vét , đắp bở | J16: 2053 | L16: 7
A17: TỔNG CỘNG | D17: =SUM(D10:D16) -> 23236 | J17: =SUM(J10:J16) -> 10087
H18: Kiến Thụy, ngày tháng năm 2023
A19: TRẠM KTCTTL KIẾN THỤY | H19: Người lập
A20: TRƯỞNG TRẠM
A23: Vũ Hữu Trung | H23: Phạm Thị Diễm Hương

Sheet BIỂU 01
A1: CÔNG TY TNHH MTV KHAI THÁC CÔNG TRÌNH THỦY LỢI ĐA ĐỘ | H1: CÔNG HÒA XÃ HỘI CHỦ NGHĨA VIỆT NAM Độc lập - Tự do - Hạnh phúc
A2: TRẠM KTCTTL KIẾN THỤY
K4: Biểu số 01
A5: KẾ HOẠCH SỬA CHỮA CÁC TRẠM BƠM ĐIỆN, NHÀ QUẢN LÝ TRẠM BƠM NĂM 2023
A6: (Kèm theo Thông báo số …../TB- TLĐ ngày …../8/2022)
A8: TT | B8: Tên công trình | C8: Địa điểm | D8: Hiện trạng | I8: Quy mô nâng cấp | J8: Kinh phí dự kiến (Triệu đồng) | K8: Thứ tự ưu tiên | L8: Ghi chú
D9: Loại máy | E9: Công suất | F9: Năm xây dựng | G9: Tình trạng xuống cấp | H9: Hình ảnh hiện trạng
A10: I | B10: Cải tạo, nâng cấp trạm bơm điện
A11: 2 | B11: Nâng cấp trạm bơm Trà Phương 2 | C11: Xã Thụy Hương | D11: Trục ngang | E11: 650 | F11: 2004 | G11: Trạm bơm xuống cấp
A12: 1
A13: 2
A14: 3
A15: 4
A16: 5
A17: 6
A18: 7
A19: 8
A20: 9
A21: 10
A22: 11
A23: 12
... A30: 19
A31: II | B31: Xây dựng nhà quản lý trạm bơm
A32: 1
A33: 2
A34: 3
A35: 4
B36: TỔNG CỘNG
A37: TRẠM KTCTTL KIẾN THỤY | I37: Kiến Thụy, ngày tháng năm 2022
A38: TRƯỞNG TRẠM | I38: Người lập
A42: ……………………………. | I42: ………………………..

Sheet BIỂU 02
A1: CÔNG TY TNHH MTV KHAI THÁC CÔNG TRÌNH THỦY LỢI ĐA ĐỘ | H1: CÔNG HÒA XÃ HỘI CHỦ NGHĨA VIỆT NAM Độc lập - Tự do - Hạnh phúc
A2: TRẠM KTCTTL KIẾN THỤY
K4: Biểu số 02
A5: KẾ HOẠCH SỬA CHỮA CÁC CỐNG BỜ ĐA ĐỘ, CỐNG ĐẦU KÊNH, CỐNG TRÊN KÊNH NĂM 2023
A6: (Kèm theo Thông báo số …../TB- TLĐ ngày …../8/2022)
A8: TT | B8: Tên công trình | C8: Địa điểm | D8: Vị trí | E8: Hiện trạng | I8: Quy mô nâng cấp | J8: Kinh phí (Triệu đồng) | K8: Thứ tự ưu tiên | L8: Ghi chú
E9: Quy mô | F9: Năm xây dựng | G9: Tình trạng xuống cấp | H9: Hình ảnh hiện trạng
A10: I | B10: Các cống bờ Đa Độ
A11: 1
A12: 2
A13: … | B13: ……………………………………………..
A14: II | B14: Các cống đầu kênh
A15: 1
A16: 2
A17: 3
A18: 4
A19: 5
A20: 6
A21: 7
A22: 8
A23: 9
A24: 10
A25: 11
A26: 12
... A42: 28
A43: 29 | B43: ……………………………………………..
A44: 30
B45: TỔNG CỘNG | J45: =SUM(J41:J44) -> 0
A46: TRẠM KTCTTL KIẾN THỤY | I46: Kiến Thụy, ngày tháng năm 2022
A47: TRƯỞNG TRẠM | I47: Người lập
A51: ………………………………………. | I51: …………………………………

Sheet BIỂU 03
A1: CÔNG TY TNHH MTV KHAI THÁC CÔNG TRÌNH THỦY LỢI ĐA ĐỘ | F1: CÔNG HÒA XÃ HỘI CHỦ NGHĨA VIỆT NAM Độc lập - Tự do - Hạnh phúc
A2: TRẠM KTCTTL KIẾN THỤY
K4: Biểu số 03
A5: KẾ HOẠCH SỬA CHỮA CÁC TUYẾN KÊNH TƯỚI SAU TRẠM BƠM NĂM 2023
A6: (Kèm theo Thông báo số …../TB- TLĐ ngày …../8/2022)
A8: TT | C8: Tên công trình | D8: Địa điểm | E8: Hiện trạng | I8: Quy mô sửa chữa | J8: Kinh phí (Triệu đồng) | K8: Thứ tự ưu tiên | L8: Ghi chú
E9: Quy mô | F9: Năm xây dựng | G9: Tình trạng xuống cấp | H9: Hình ảnh hiện trạng
C35: TỔNG CỘNG
A36: TRẠM KTCTTL KIẾN THỤY. | H36: Kiến Thụy, ngày tháng năm 2022
A37: TRƯỞNG TRẠM | I37: Người lập
A41: ………………………… | I41: ………………….

Sheet BIỂU 04
A1: CÔNG TY TNHH MTV KHAI THÁC CÔNG TRÌNH THỦY LỢI ĐA ĐỘ | I1: CỘNG HÒA XÃ HỘI CHỦ NGHĨA ViỆT NAM
A2: TRẠM KTCTL KIẾN THỤY | I2: Độc lập- Tự do- Hạnh Phúc
K4: Biểu số 04
A5: KẾ HOẠCH SỬA CHỮA CÁC TUYẾN KÊNH CẤP 1, 2 NĂM 2023
A6: (Kèm theo Thông báo số …../TB- TLĐ ngày …../8/2022)
A8: TT | B8: Tên công trình | C8: Địa điểm | D8: Hiện trạng | I8: Quy mô sửa chữa | J8: Kinh phí (Triệu đồng) | K8: Thứ tự ưu tiên | L8: Ghi chú
D9: Chiều dài | G9: Tình trạng xuống cấp | H9: Hình ảnh hiện trạng
A10: 1 | E10: 200 | F10: =D10x -> #NAME?
A11: 2
A12: 3
A13: 4
A14: 5
A15: 6
A16: 7
A17: 8
A18: 9
A19: 10
A20: 11
A21: 12
A22: 13
... A39: 30
A40: 31 | B40: ……………………………………………..
A41: 32
B42: TỔNG CỘNG
A43: TRẠM KTCTTK KIẾN THỤY | I43: Kiến Thụy, ngày tháng 8 năm 2022
A44: TRƯỞNG TRẠM | I44: Người tổng hợp
A47: ………………… | I47: …………………………..

Sheet BIỂU 05
A1: CÔNG TY TNHH MTV KHAI THÁC CÔNG TRÌNH THỦY LỢI ĐA ĐỘ | H1: CỘNG HÒA XÃ HỘI CHỦ NGHĨA VIỆT NAM
A2: TRẠM KTCTTL KIẾN THỤY | H2: Độc lập- Tự do- Hạnh Phúc
J4: Biểu số 05
A5: KẾ HOẠCH SỬA CHỮA MÁY MÓC, THIẾT BỊ NĂM 2023
A6: (Kèm theo Thông báo số …../TB- TLĐ ngày …../8/2022)
A8: TT | B8: Tên công trình | C8: Địa điểm | D8: Hiện trạng máy móc, thiết bị | H8: Quy mô sửa chữa | I8: Kinh phí (Triệu đồng) | J8: Thứ tự ưu tiên | K8: Ghi chú
D9: Loại máy móc, thiết bị | E9: Năm sửa chữa gần đây nhất | F9: Tình trạng xuống cấp | G9: Hình ảnh hiện trạng
A10: I | B10: Các công trình Trạm bơm
A11: 1
A12: 2
A13: 3
A14: 4
A15: 5
A16: 6
A17: 7
A18: 8
A19: 9
A20: 10
A21: 11
A22: 12
... A32: 22
A33: …
A34: II | B34: Các công trình Cống
A35: 1
A36: 2
A37: 3
A38: 4
B39: TỔNG CỘNG | I39: =SUM(I34:I34) -> 0
A40: TRẠMKTCTTL KIẾN THỤY | H40: Kiến Thụy, ngày tháng 8 năm 2022
A41: TRƯỞNG TRẠM | H41: Người lập
A45: …………………… | H45: ……………………….

Sheet BIỂU 06
A1: CÔNG TY TNHH MTV KHAI THÁC CÔNG TRÌNH THỦY LỢI ĐA ĐỘ | M1: CÔNG HÒA XÃ HỘI CHỦ NGHĨA VIỆT NAM Độc lập - Tự do - Hạnh phúc
A2: TRẠM KTCTTL KIẾN THỤY
P3: Biểu số 06
A4: KẾ HOẠCH BẢO TRÌ, BẢO DƯỠNG MÁY MÓC THIẾT BỊ NĂM 2023
A5: (Kèm theo Thông báo số …../TB- TLĐ ngày …../8/2022)
A7: I. VẬT TƯ, NHIÊN LIỆU BẢO DƯỠNG TRẠM BƠM ĐIỆN
A9: Kiến Thụy+11:31, ngày tháng 8 năm 2022 | B9: Tên trạm bơm | C9: Số tổ máy | D9: Q ( m3/h ) | E9: P ( Kw ) | F9: S phục vụ ( ha/vụ ) | G9: Thời gian để tưới | H9: Định mức | M9: Dầu nhờn | N9: Dầu DieZel | O9: Mỡ các loại | P9: Sợi Amiăng | Q9: Giẻ lau
F10: Diện tích ( ha ) | H10: Dầu, nhờn | I10: Dầu DieZel | J10: Mỡ các loại | K10: Sợi Amiăng | L10: Giẻ lau
A11: 1
A12: 2
A13: 3
A14: 4
A15: 5
A16: 6
A17: 7
A18: 8
A19: 9
A20: 10
A21: 11
A22: 12
... A31: 21
B32: Tổng (I):
A33: II. VẬT TƯ, NHIÊN LIỆU, BẢO DƯỠNG MÁY ĐÓNG MỞ
B34: TT | C34: Tên cống | D34: Số cửa cống | E34: Thiết bị đóng mở | F34: Dầu nhờn | M34: Dầu Diezel | N34: Mỡ các loại | O34: Giẻ lau
B35: 1
B36: 2
B37: 3
B38: 4
B39: Tổng (II):
B40: Tổng cộng (I+II):
A42: TRẠM KTCTTL KIẾN THỤY | N42: Kiến Thụy, ngày tháng 8 năm 2022
A43: TRƯỞNG TRẠM | N43: Người lập
A47: …………………… | N47: ……………………….

Sheet BIỂU 07
A1: CÔNG TY TNHH MTV KHAI THÁC CÔNG TRÌNH THỦY LỢI ĐA ĐỘ | G1: CỘNG HÒA XÃ HỘI CHỦ NGHĨA ViỆT NAM
A2: TRẠM KTCTTL KIẾN THỤY | G2: Độc lập- Tự do- Hạnh Phúc
J4: Biểu số 07
A5: KẾ HOẠCH SỬA CHỮA CÁC TRỤ SỞ LÀM VIỆC NĂM 2023
A6: (Kèm theo Thông báo số …../TB- TLĐ ngày …../8/2022)
A8: TT | B8: Tên công trình | C8: Địa điểm | D8: Hiện trạng | H8: Quy mô cải tạo, nâng cấp | I8: Kinh phí (Triệu đồng) | J8: Thứ tự ưu tiên | K8: Ghi chú
D9: Quy mô | E9: Năm xây dựng | F9: Tình trạng xuống cấp | G9: Hình ảnh hiện trạng
A10: 1
A11: 2
A12: 3
A13: 4
A14: 5
A15: 6
A16: 7
A17: 8
A18: 9
A19: 10
A20: 11
A21: 12
... A33: 24
A34: TRẠM KTCTTL KIẾN THỤY | H34: Kiến Thụy ngày tháng 8 năm 2022
A35: TRƯỞNG TRẠM | H35: Người tổng hợp
A39: …………………… | H39: …………………………..
