Workbook
Name Table1: 'Chu so'!$B$31:$C$41
Name Table2: 'Chu so'!$E$31:$F$41
Name Table4: 'Chu so'!$K$31:$L$41
Name Table5: 'Chu so'!$N$31:$O$41

Sheet SGV

Sheet DTCBĐT
A1: BẢNG TỔNG HỢP DỰ TOÁN CHI PHÍ CHUẨN BỊ ĐẦU TƯ
A2: CÔNG TRÌNH: XÂY MỚI 4 PHÒNG HỌC 2 TẦNG TRƯỜNG THCS CHIẾN THẮNG, HUYỆN AN LÃO, TP HẢI PHÒNG
A3: ĐỊA ĐIỂM: XÃ CHIẾN THẮNG, HUYỆN AN LÃO, TP HẢI PHÒNG
A4: Đơn vị tính: đồng
A5: TT | B5: Nội dung chi phí | C5: Ký hiệu | D5: Căn cứ lập | E5: Cách tính | F5: Chi phí trước thuế | G5: Thuế GTGT | H5: Chi phí sau thuế | I5: Ghi chú
A6: [1] | B6: [2] | C6: [3] | D6: [4] | E6: [5] | F6: [6] | G6: [7] | H6: [8] = [6] + [7] | I6: [9]
A7: I | B7: CHI PHÍ XÂY DỰNG | C7: GXD | E7: Theo Báo cáo đề xuất | F7: =THDT!E6 -> 1.5018819e+09 | I7: ="Gxd-chi phí xây dựng trước thuế - được tính sơ bộ trong tổng mức đầu tư của dự án là "&F7&" đồng tại Báo cáo số đề xuất chủ trương đầu tư" -> Gxd-chi phí xây dựng trước thuế - được tính sơ bộ trong tổng mức đầu tư của dự án là 1501881900,209 đồng tại Báo cáo số đề xuất chủ trương đầu tư | J7: =H7 -> 0
A8: III | B8: CHI PHÍ QUẢN LÝ DỰ ÁN | E8: 3.1 | F8: =F9 -> 0 | G8: =10%*F8 -> 0 | H8: =F8+G8 -> 0
A9: 3.1 | B9: Chi phí quản lý dự án | C9: GQLDA | D9: TT 16/2019/TT-BXD | E9: =J9&"%*Gxd" -> 0,03446%*Gxd | F9: =(F7)*J9%*0 -> 0 | G9: =10%*F9 -> 0 | H9: =F9+G9 -> 0 | I9: TT 16/2019/TT-BXD | J9: =THDT!I13 -> 0.03446 | K9: %
A10: II | B10: CHI PHÍ CHUẨN BỊ ĐẦU TƯ | C10: GCBĐT | E10: 2.1+...+2.7 | F10: =SUM(F11:F17) -> #REF! | G10: =SUM(G11:G17) -> #REF! | H10: =SUM(H11:H17) -> #REF!
A11: 2.1 | B11: Chi phí lập Báo cáo đề xuất chủ trương đầu tư | C11: Gtv1 | D11: NĐ 136/2015/NĐ-CP; TT 16/2019/TT-BXD | E11: =J11&"%*Gxd" -> #REF! | F11: =J11%*F7 -> #REF! | G11: =10%*F11 -> #REF! | H11: =ROUND(F11+G11,-3) -> #REF! | I11: Bảng số 2.1 của Thông tư 16/2019/TT - BXD 26/12/2019 V/v Hướng dẫn xác định chi phí quản lý dự án và tư vấn ĐTXD | J11: =THDT!#REF! -> #REF! | K11: %
A12: 2.2 | B12: Chi phí khảo sát địa hình | C12: Gtv2 | D12: TT 09/2019/TT-BXD | E12: DT chi tiết | F12: =THDT!#REF! -> #REF! | G12: =10%*F12 -> #REF! | H12: =ROUND(F12+G12,-3) -> #REF! | I12: TT 09/2019/TT-BXD | K12: %
A13: 2.3 | B13: Chi phí lập nhiệm vụ khảo sát xây dựng | C13: Gtv3 | D13: TT 09/2019/TT-BXD | E13: =J13&"%*Gtv2" -> #REF! | F13: =J13%*(F12) -> #REF! | G13: =10%*F13 -> #REF! | H13: =ROUND(F13+G13,-3) -> #REF! | I13: Theo Điều 6 thông tư 01/2017/TT-BXD ngày 6/2/2017 | J13: =THDT!#REF! -> #REF! | K13: %
A14: 2.4 | B14: Chi phí giám sát khảo sát xây dựng | C14: Gtv4 | D14: TT 16/2019/TT-BXD | E14: =J14&"%*Gtv2" -> #REF! | F14: =J14%*(F12) -> #REF! | G14: =10%*F14 -> #REF! | H14: =ROUND(F14+G14,-3) -> #REF! | I14: Theo bảng số 2.23 Thông tư 16/2019/TT - BXD 26/12/2019 V/v Hướng dẫn xác định chi phí quản lý dự án và tư vấn ĐTXD | J14: =THDT!#REF! -> #REF! | K14: %
A15: 2.5 | B15: Chi phí lập Báo cáo kinh tế kỹ thuật | C15: Gtv5 | D15: TT 16/2019/TT-BXD | E15: =IF($F$7*J15%>5000000,J15&"%*Gxd","Định mức tối thiểu") -> #REF! | F15: =IF(F7*J15%>5000000,F7*J15%,5000000) -> #REF! | G15: =10%*F15 -> #REF! | H15: =ROUND(F15+G15,-3) -> #REF! | I15: Theo bảng số 2.3 của Thông tư 16/2019/TT - BXD 26/12/2019 V/v Hướng dẫn xác định chi phí quản lý dự án và tư vấn ĐTXD (Định mức chi phí lập BC kinh tế kỹ thuật) | J15: =THDT!#REF! -> #REF! | K15: %
A16: 2.6 | B16: Chi phí thẩm tra thiết kế BVTC | C16: Gtv6 | D16: TT 16/2019/TT-BXD | E16: =IF($F$7*J16%>2000000,J16&"%*Gxd","Định mức tối thiểu") -> #REF! | F16: =IF(F7*J16%>2000000,F7*J16%,2000000) -> #REF! | G16: =10%*F16 -> #REF! | H16: =ROUND(F16+G16,-3) -> #REF! | I16: Theo bảng số 2.16 của Thông tư 16/2019/TT - BXD 26/12/2019 V/v Hướng dẫn xác định chi phí quản lý dự án và tư vấn ĐTXD (Định mức chi phí thẩm tra thiết kế xây dựng) | J16: =THDT!#REF! -> #REF! | K16: %
A17: 2.7 | B17: Chi phí thẩm tra dự toán | C17: Gtv7 | D17: TT 16/2019/TT-BXD | E17: =IF($F$7*J17%>2000000,J17&"%*Gxd","Định mức tối thiểu") -> #REF! | F17: =IF(F7*J17%>2000000,F7*J17%,2000000) -> #REF! | G17: =10%*F17 -> #REF! | H17: =ROUND(F17+G17,-3) -> #REF! | I17: Theo bảng số 2.17 của Thông tư 16/2019/TT - BXD 26/12/2019 V/v Hướng dẫn xác định chi phí quản lý dự án và tư vấn ĐTXD (Định mức chi phí thẩm tra dự toán xây dựng) | J17: =THDT!#REF! -> #REF! | K17: %
B18: TỔNG CHI PHÍ CHUẨN BỊ ĐẦU TƯ | C18: TDT | E18: (II) | H18: =H8+H10 -> #REF!
B19: LÀM TRÒN | H19: =ROUND(H18,-3) -> #REF!
A20: (Bằng chữ : Hai trăm linh chín triệu, sáu trăm bốn mươi hai nghìn đồng chẵn./.)
J21: =H19-J20 -> #REF!
H22: An Lão, ngày tháng 8 năm 2020
G23: PHÒNG KINH TẾ VÀ HẠ TẦNG
B24: NGƯỜI LẬP | G24: TRƯỞNG PHÒNG
B29: Nguyễn Thế Phong | G29: Đào Văn Tần

Sheet THDT
A1: BẢNG TỔNG MỨC ĐẦU TƯ XÂY DỰNG
A2: DỰ ÁN : SỬA CHỮA, CẢI TẠO NHÀ VĂN HÓA THÔN ĐẠI THẮNG VÀ CÁC HẠNG MỤC PHỤ TRỢ
A3: Đơn vị tính: đồng
A4: TT | B4: Nội dung chi phí | C4: Ký hiệu | D4: Cách tính | E4: Chi phí trước thuế | F4: Thuế GTGT | G4: Chi phí sau thuế (làm tròn)
A5: [1] | B5: [2] | C5: [3] | D5: [5] | E5: [6] | F5: [7] | G5: [8] = [6] + [7]
A6: I | B6: CHI PHÍ XÂY DỰNG | C6: GXD | D6: 1.1+1.3 | E6: =SUM(E7:E9) -> 1.5018819e+09 | F6: =SUM(F7:F9) -> 1.2015055e+08 | G6: =ROUND(E6+F6,-3) -> 1622032000 | I6: 1269799000 | J6: =G6-I6 -> 352233000
A7: 1.1 | B7: Chi phí xây lắp Nhà văn hóa | C7: GXD1 | D7: Bảng THDT CPXD | E7: 8.6563104e+08 | F7: =E7*8% -> 69250483 | G7: =ROUND(E7+F7,-3) -> 934882000 | I7: =+'[1]TH chi phí XD'!$C$5 -> 8.6563104e+08
A8: 1.2 | B8: Chi phí xây lắp Nhà vệ sinh | C8: GXD2 | D8: Bảng THDT CPXD | E8: 2.5584521e+08 | F8: =E8*8% -> 20467617 | G8: =ROUND(E8+F8,-3) -> 276313000 | I8: =+'[1]TH chi phí XD'!$C$6 -> 2.5584521e+08
A9: 1.3 | B9: Chi phí xây lắp Sân | C9: GXD3 | D9: Bảng THDT CPXD | E9: 3.8040565e+08 | F9: =E9*8% -> 30432452 | G9: =ROUND(E9+F9,-3) -> 410838000 | I9: =+'[1]TH chi phí XD'!$C$7 -> 3.8040565e+08
A10: II | B10: CHI PHÍ MUA SẮM THIẾT BỊ | C10: GTB | D10: 2.1 | E10: =E11 -> 54100000 | F10: =F11 -> 4328000 | G10: =ROUND(E10+F10,-3) -> 58428000
A11: 2.1 | B11: Chi phí mua sắm thiết bị | C11: GTB1 | D11: Bảng THDT TB | E11: 54100000 | F11: =E11*8% -> 4328000 | G11: =ROUND(E11+F11,) -> 58428000
A12: III | B12: CHI PHÍ QUẢN LÝ DỰ ÁN | D12: 3.1 | E12: =E13 -> 53619136 | F12: =F13 -> 4289530.9 | G12: =ROUND(E12+F12,-3) -> 57909000
A13: 3.1 | B13: Chi phí quản lý dự án | C13: GQLDA | D13: 3,446% * (Gxd+Gtb) | E13: =H13%*(E6+E10) -> 53619136 | F13: =8%*E13 -> 4289530.9 | G13: =E13+F13 -> 57908667 | H13: 3.446 | I13: =ROUND((K13-((K13-J13)/(L13-M13))*(N13-M13)),6) -> 0.03446 | J13: 0.03446 | K13: 0.03446 | L13: 0 | M13: 10 | N13: =O13/10^9 -> 1.68046 | O13: =+G6+G10 -> 1680460000
A14: IV | B14: CHI PHÍ TƯ VẤN ĐẦU TƯ XÂY DỰNG | C14: GTV | D14: 4.1+...+4.5 | E14: =SUM(E15:E19) -> 1.4903297e+08 | F14: =SUM(F15:F19) -> 11922638 | G14: =ROUND(SUM(G15:G19),-3) -> 160956000
A15: 4.1 | B15: Chi phí lập Báo cáo kinh tế kỹ thuật | C15: Gtv1 | D15: =H15&"%*(Gxd+Gtb)" -> 5,8876%*(Gxd+Gtb) | E15: =(E6+E10)*H15% -> 91609990 | F15: =8%*E15 -> 7328799.2 | G15: =ROUND(E15+F15,-3) -> 98939000 | H15: 5.8876 | I15: =ROUND((K15-((K15-J15)/(L15-M15))*(N15-M15)),6) -> 0.058876 | J15: 0.065 | K15: 0.047 | L15: 1 | M15: 3 | N15: =O15/10^9 -> 1.68046 | O15: =+O13 -> 1680460000 | P15: =Q15/10^9 -> 0 | Q15: =+Q14 -> 0
A16: 4.2 | B16: Chi phí thẩm tra Báo cáo kinh tế - kỹ thuật, phần thiết kế | C16: Gtv2 | D16: =H16&"%*Gxd" -> 0,258%*Gxd | E16: =E6*H16% -> 3874855.3 | F16: =8%*E16 -> 309988.42 | G16: =ROUND(E16+F16,-3) -> 4185000 | H16: 0.258 | I16: =ROUND((K16-((K16-J16)/(L16-M16))*(N16-M16)),6) -> 0.00258 | J16: 0.00258 | K16: 0.00258 | L16: 0 | M16: 10 | N16: =O16/10^9 -> 1.68046 | O16: =+O15 -> 1680460000 | P16: =Q16/10^9 -> 0 | Q16: =+Q15 -> 0
A17: 4.3 | B17: Chi phí thẩm tra Báo cáo kinh tế - kỹ thuật, phần dự toán | C17: Gtv3 | D17: =H17&"%*Gxd" -> 0,25%*Gxd | E17: =E6*H17% -> 3754704.8 | F17: =8%*E17 -> 300376.38 | G17: =ROUND(E17+F17,-3) -> 4055000 | H17: 0.25 | I17: =ROUND((K17-((K17-J17)/(L17-M17))*(N17-M17)),6) -> 0.0025 | J17: 0.0025 | K17: 0.0025 | L17: 0 | M17: 10 | N17: =O17/10^9 -> 1.68046 | O17: =+O15 -> 1680460000 | P17: =Q17/10^9 -> 0 | Q17: =+Q16 -> 0
A18: 4.4 | B18: Chi phí giám sát thi công XD | C18: Gtv4 | D18: =H18&"%*Gxd" -> 3,285%*Gxd | E18: =H18%*$E$6 -> 49336820 | F18: =8%*E18 -> 3946945.6 | G18: =ROUND(E18+F18,-3) -> 53284000 | H18: 3.285 | I18: =ROUND((K18-((K18-J18)/(L18-M18))*(N18-M18)),6) -> 0.03285 | J18: 0.03285 | K18: 0.03285 | L18: 0 | M18: 10 | N18: =O18/10^9 -> 1.68046 | O18: =+O17 -> 1680460000 | P18: =Q18/10^9 -> 0 | Q18: =+Q16 -> 0
A19: 4.5 | B19: Chi phí giám sát lắp đặt thiết bị | C19: Gtv5 | D19: =H19&"%*Gtb" -> 0,844%*Gtb | E19: =H19%*$E$10 -> 456604 | F19: =8%*E19 -> 36528.32 | G19: =ROUND(E19+F19,-3) -> 493000 | H19: 0.844 | P19: =Q19/10^9 -> 0 | Q19: =+Q18 -> 0
A20: V | B20: CHI PHÍ KHÁC | C20: GK | D20: 5.1+...+5.3 | E20: =SUM(E21:E23) -> 24495956 | F20: =SUM(F22:F22) -> 0 | G20: =ROUND(SUM(G21:G23),-3) -> 25976000
A21: 5.1 | B21: Chi phí thẩm định | C21: G1 | D21: Định mức tối thiểu | E21: 500000 | G21: =ROUND(E21+F21,-3) -> 500000
A22: 5.2 | B22: Chi phí thẩm tra, phê duyệt quyết toán | C22: G2 | D22: =H22&"%*TMĐT *50%" -> 0,57%*TMĐT *50% | E22: =H22%*$I$25*0.5 -> 5493050.1 | G22: =ROUND(E22+F22,-3) -> 5493000 | H22: 0.57 | I22: =ROUND((K22-((K22-J22)/(L22-M22))*(N22-M22)),6) -> 0.001814 | J22: 0.0016 | K22: 0.0011 | L22: 15 | M22: 50 | N22: =O22/10^9 -> 0.011922638 | O22: =+F14 -> 11922638
A23: 5.3 | B23: Chi phí kiểm toán độc lập | C23: G3 | D23: =H23&"%*TMĐT " -> 0,96%*TMĐT | E23: =H23%*$I$25 -> 18502906 | F23: =8%*E23 -> 1480232.4 | G23: =ROUND(E23+F23,-3) -> 19983000 | H23: 0.96 | I23: =ROUND((K23-((K23-J23)/(L23-M23))*(N23-M23)),6) -> 0.006935 | J23: 0.00645 | K23: 0.0045 | L23: 10 | M23: 50 | N23: =O23/10^9 -> 0.057909 | O23: =$K$30 -> 57909000
A24: VI | B24: DỰ PHÒNG CHI | C24: GK | D24: 0.05 | E24: =SUM(E25:E26) -> 0 | F24: =SUM(F25:F25) -> 0 | G24: =ROUND(D24*(G6+G12+G14+G20),-3) -> 93344000 | I24: =ROUND((K24-((K24-J24)/(L24-M24))*(N24-M24)),6) -> 0.004079 | J24: 0.0039 | K24: 0.00285 | L24: 10 | M24: 50 | N24: =O24/10^9 -> 3.198 | O24: =I28 -> 3198000000
B25: TỔNG DỰ TOÁN | C25: TDT | G25: =ROUND(G6+G10+G12+G14+G20+G24,-3) -> 2018645000 | I25: 1927386000 | J25: =G25-G24 -> 1925301000 | K25: 2480472000
B26: LÀM TRÒN | G26: =ROUND(G25,-3) -> 2018645000
A27: ='Chu so'!B1 -> (Bằng chữ : Hai tỷ, không trăm mười tám triệu, sáu trăm bốn mươi lăm nghìn đồng./.)
E28: Kiến Hưng, ngày tháng 3 năm 2026 | I28: 3198000000 | K28: =G6 -> 1622032000
K29: =G10 -> 58428000
A30: CHỦ ĐẦU TƯ | E30: ĐƠN VỊ LẬP | K30: =G12 -> 57909000
I31: =I28-G25 -> 1179355000 | K31: =G14 -> 160956000
K32: =G20 -> 25976000
K33: =#REF! -> #REF!
C35: CN. Vũ Thị Huế
K36: =G24 -> 93344000
J38: Chi khác | K38: 13326000 | L38: =G20 -> 25976000 | M38: =L38-K38 -> 12650000
J39: Dự phòng | K39: 50763780 | L39: =#REF! -> #REF! | M39: =L39-K39 -> #REF!
J40: Tổng | K40: =ROUND(K35+K36+K37+K38+K39,-3) -> 157434000 | L40: =ROUND(L35+L36+L37+L38+L39,-3) -> #REF! | M40: =ROUND(M35+M36+M37+M38+M39,-3) -> #REF!

Sheet TT 12-2021
A1: Theo Phụ lục I kèm theo Thông tư số 12/2021/TT-BXD ngày 31 tháng 8 năm 2021 của Bộ Xây dựng
A2: Định mức chi phí quản lý dự án và tư vấn đầu tư xây dựng
A4: Chi phí xây dựng (Gxd): | C4: =THDT!E6/1000000000 -> 1.5018819 | E4: (tỷ đồng)
A5: Chi phí thiết bị (Gtb): | C5: =THDT!E10/1000000000 -> 0.0541 | E5: (tỷ đồng)
A6: Chi phí bồi thường giải phóng mặt bằng, tái định cư (Ggpmb): | C6: 0 | E6: (tỷ đồng)
A7: Chi phí quản lý dự án (Gqlda): | C7: 0 | E7: (tỷ đồng)
A8: Chi phí tư vấn đầu tư xây dựng (Gtv): | C8: 0 | E8: (tỷ đồng)
A9: Tổng mức đầu tư (Gxdct): | C9: =THDT!I25/1000000000 -> 1.927386 | E9: (tỷ đồng)
A10: Tổng mức đầu tư không có chi phí giải phóng mặt bằng(Gxdct-Ggpmb): | C10: =C9-C6 -> 1.927386 | E10: (tỷ đồng)
A11: Chi phí khảo sát xây dựng (Gks) | C11: 0 | E11: (tỷ đồng)
A13: GSLD$
A16: Bảng 1.1: Định mức chi phí quản lý dự án
K17: Đơn vị tính: tỷ lệ %
A18: QLDA79^ | N18: ^
A19: TT | B19: Loại công trình | C19: Chi phí xây dựng và chi phí thiết bị (chưa có thuế GTGT) (tỷ đồng) | O19: Giá trị | P19: Cận dưới | Q19: Cận trên
C20: <= 10 | D20: 20 | E20: 50 | F20: 100 | G20: 200 | H20: 500 | I20: 1000 | J20: 2000 | K20: 5000 | L20: 10000 | M20: 20000 | N20: 30000 | O20: =$C$4+$C$5 -> 1.5559819 | P20: =IF(O20<D20,10,IF(O20>N20,N20,HLOOKUP(O20,D20:N20,1))) -> 10 | Q20: =IF(O20<10,10,IF(O20<20,20,IF(O20>N20,N20,INDEX(D20:N20,MATCH(O20,D20:N20,1)+1)))) -> 10
A21: 1 | B21: Công trình dân dụng | C21: 3.446 | D21: 2.923 | E21: 2.61 | F21: 2.017 | G21: 1.886 | H21: 1.514 | I21: 1.239 | J21: 0.958 | K21: 0.711 | L21: 0.51 | M21: 0.381 | N21: 0.305 | O21: =IF(Q$20=P$20,P21,ROUND(P21-((P21-Q21)/(Q$20-P$20))*(O$20-P$20),3)) -> 3.446 | P21: =IF(P$20=10,C21,HLOOKUP($P$20,$D$20:$N$25,2,TRUE)) -> 3.446 | Q21: =IF(Q$20=10,C21,HLOOKUP($Q$20,$D$20:$N$25,2,TRUE)) -> 3.446
A22: 2 | B22: Công trình công nghiệp | C22: 3.557 | D22: 3.018 | E22: 2.694 | F22: 2.082 | G22: 1.947 | H22: 1.564 | I22: 1.279 | J22: 1.103 | K22: 0.734 | L22: 0.527 | M22: 0.393 | N22: 0.314 | O22: =IF(Q$20=P$20,P22,ROUND(P22-((P22-Q22)/(Q$20-P$20))*(O$20-P$20),3)) -> 3.557 | P22: =IF(P$20=10,C22,HLOOKUP($P$20,$D$20:$N$25,3,TRUE)) -> 3.557 | Q22: =IF(Q$20=10,C22,HLOOKUP($Q$20,$D$20:$N$25,3,TRUE)) -> 3.557
A23: 3 | B23: Công trình giao thông | C23: 3.024 | D23: 2.566 | E23: 2.292 | F23: 1.771 | G23: 1.655 | H23: 1.329 | I23: 1.088 | J23: 0.937 | K23: 0.624 | L23: 0.448 | M23: 0.335 | N23: 0.268 | O23: =IF(Q$20=P$20,P23,ROUND(P23-((P23-Q23)/(Q$20-P$20))*(O$20-P$20),3)) -> 3.024 | P23: =IF(P$20=10,C23,HLOOKUP($P$20,$D$20:$N$25,4,TRUE)) -> 3.024 | Q23: =IF(Q$20=10,C23,HLOOKUP($Q$20,$D$20:$N$25,4,TRUE)) -> 3.024
A24: 4 | B24: Công trình nông nghiệp và phát triển nông thôn | C24: 3.263 | D24: 2.769 | E24: 2.473 | F24: 1.91 | G24: 1.786 | H24: 1.434 | I24: 1.174 | J24: 1.012 | K24: 0.674 | L24: 0.484 | M24: 0.361 | N24: 0.289 | O24: =IF(Q$20=P$20,P24,ROUND(P24-((P24-Q24)/(Q$20-P$20))*(O$20-P$20),3)) -> 3.263 | P24: =IF(P$20=10,C24,HLOOKUP($P$20,$D$20:$N$25,5,TRUE)) -> 3.263 | Q24: =IF(Q$20=10,C24,HLOOKUP($Q$20,$D$20:$N$25,5,TRUE)) -> 3.263
A25: 5 | B25: Công trình hạ tầng kỹ thuật | C25: 2.901 | D25: 2.461 | E25: 2.198 | F25: 1.593 | G25: 1.56 | H25: 1.275 | I25: 1.071 | J25: 0.899 | K25: 0.599 | L25: 0.429 | M25: 0.321 | N25: 0.257 | O25: =IF(Q$20=P$20,P25,ROUND(P25-((P25-Q25)/(Q$20-P$20))*(O$20-P$20),3)) -> 2.901 | P25: =IF(P$20=10,C25,HLOOKUP($P$20,$D$20:$N$25,6,TRUE)) -> 2.901 | Q25: =IF(Q$20=10,C25,HLOOKUP($Q$20,$D$20:$N$25,6,TRUE)) -> 2.901
A26: QLDA79$
A28: Bảng 2.1: Định mức chi phí lập báo cáo nghiên cứu tiền khả thi
K29: Đơn vị tính: tỷ lệ %
A30: NCTKT79^ | N30: ^
A31: TT | B31: Loại công trình | C31: Chi phí xây dựng và chi phí thiết bị (chưa có thuế GTGT) (tỷ đồng) | O31: Giá trị | P31: Cận dưới | Q31: Cận trên
C32: <= 15 | D32: 20 | E32: 50 | F32: 100 | G32: 200 | H32: 500 | I32: 1000 | J32: 2000 | K32: 5000 | L32: 10000 | M32: 20000 | N32: 30000 | O32: =$C$4+$C$5 -> 1.5559819 | P32: =IF(O32<D32,15,IF(O32>N32,N32,HLOOKUP(O32,D32:N32,1))) -> 15 | Q32: =IF(O32<15,15,IF(O32<20,20,IF(O32>N32,N32,INDEX(D32:N32,MATCH(O32,D32:N32,1)+1)))) -> 15
A33: 1 | B33: Công trình dân dụng | C33: 0.668 | D33: 0.503 | E33: 0.376 | F33: 0.24 | G33: 0.161 | H33: 0.1 | I33: 0.086 | J33: 0.073 | K33: 0.05 | L33: 0.04 | M33: 0.026 | N33: 0.022 | O33: =IF(Q$32=P$32,P33,ROUND(P33-((P33-Q33)/(Q$32-P$32))*(O$32-P$32),3)) -> 0.668 | P33: =IF(P$32=0,0,IF(P$32=15,C33,HLOOKUP($P$32,$D$32:$N$37,2,TRUE))) -> 0.668 | Q33: =IF(Q$32=0,0,IF(Q$32=15,C33,HLOOKUP($Q$32,$D$32:$N$37,2,TRUE))) -> 0.668
A34: 2 | B34: Công trình công nghiệp | C34: 0.757 | D34: 0.612 | E34: 0.441 | F34: 0.294 | G34: 0.206 | H34: 0.163 | I34: 0.141 | J34: 0.11 | K34: 0.074 | L34: 0.057 | M34: 0.034 | N34: 0.027 | O34: =IF(Q$32=P$32,P34,ROUND(P34-((P34-Q34)/(Q$32-P$32))*(O$32-P$32),3)) -> 0.757 | P34: =IF(P$32=0,0,IF(P$32=15,C34,HLOOKUP($P$32,$D$32:$N$37,3,TRUE))) -> 0.757 | Q34: =IF(Q$32=0,0,IF(Q$32=15,C34,HLOOKUP($Q$32,$D$32:$N$37,3,TRUE))) -> 0.757
A35: 3 | B35: Công trình giao thông | C35: 0.413 | D35: 0.345 | E35: 0.251 | F35: 0.177 | G35: 0.108 | H35: 0.071 | I35: 0.062 | J35: 0.053 | K35: 0.036 | L35: 0.029 | M35: 0.019 | N35: 0.016 | O35: =IF(Q$32=P$32,P35,ROUND(P35-((P35-Q35)/(Q$32-P$32))*(O$32-P$32),3)) -> 0.413 | P35: =IF(P$32=0,0,IF(P$32=15,C35,HLOOKUP($P$32,$D$32:$N$37,4,TRUE))) -> 0.413 | Q35: =IF(Q$32=0,0,IF(Q$32=15,C35,HLOOKUP($Q$32,$D$32:$N$37,4,TRUE))) -> 0.413
A36: 4 | B36: Công trình nông nghiệp và phát triển nông thôn | C36: 0.566 | D36: 0.472 | E36: 0.343 | F36: 0.216 | G36: 0.144 | H36: 0.096 | I36: 0.082 | J36: 0.07 | K36: 0.048 | L36: 0.039 | M36: 0.025 | N36: 0.021 | O36: =IF(Q$32=P$32,P36,ROUND(P36-((P36-Q36)/(Q$32-P$32))*(O$32-P$32),3)) -> 0.566 | P36: =IF(P$32=0,0,IF(P$32=15,C36,HLOOKUP($P$32,$D$32:$N$37,5,TRUE))) -> 0.566 | Q36: =IF(Q$32=0,0,IF(Q$32=15,C36,HLOOKUP($Q$32,$D$32:$N$37,5,TRUE))) -> 0.566
A37: 5 | B37: Công trình hạ tầng kỹ thuật | C37: 0.431 | D37: 0.36 | E37: 0.262 | F37: 0.183 | G37: 0.112 | H37: 0.074 | I37: 0.065 | J37: 0.055 | K37: 0.038 | L37: 0.03 | M37: 0.02 | N37: 0.017 | O37: =IF(Q$32=P$32,P37,ROUND(P37-((P37-Q37)/(Q$32-P$32))*(O$32-P$32),3)) -> 0.431 | P37: =IF(P$32=0,0,IF(P$32=15,C37,HLOOKUP($P$32,$D$32:$N$37,6,TRUE))) -> 0.431 | Q37: =IF(Q$32=0,0,IF(Q$32=15,C37,HLOOKUP($Q$32,$D$32:$N$37,6,TRUE))) -> 0.431
A38: NCTKT79$
A40: Bảng 2.2: Định mức chi phí lập báo cáo nghiên cứu khả thi
K41: Đơn vị tính: tỷ lệ %
A42: NCKT79^ | N42: ^
A43: TT | B43: Loại công trình | C43: Chi phí xây dựng và chi phí thiết bị (chưa có thuế GTGT) (tỷ đồng) | O43: Giá trị | P43: Cận dưới | Q43: Cận trên
C44: <= 15 | D44: 20 | E44: 50 | F44: 100 | G44: 200 | H44: 500 | I44: 1000 | J44: 2000 | K44: 5000 | L44: 10000 | M44: 20000 | N44: 30000 | O44: =$C$4+$C$5 -> 1.5559819 | P44: =IF(O44<D44,15,IF(O44>N44,N44,HLOOKUP(O44,D44:N44,1))) -> 15 | Q44: =IF(O44<15,15,IF(O44<20,20,IF(O44>N44,N44,INDEX(D44:N44,MATCH(O44,D44:N44,1)+1)))) -> 15
A45: 1 | B45: Công trình dân dụng | C45: 1.114 | D45: 0.914 | E45: 0.751 | F45: 0.534 | G45: 0.402 | H45: 0.287 | I45: 0.246 | J45: 0.209 | K45: 0.167 | L45: 0.134 | M45: 0.102 | N45: 0.086 | O45: =IF(Q$44=P$44,P45,ROUND(P45-((P45-Q45)/(Q$44-P$44))*(O$44-P$44),3)) -> 1.114 | P45: =IF(P$44=0,0,IF(P$44=15,C45,HLOOKUP($P$44,$D$44:$N$49,2,TRUE))) -> 1.114 | Q45: =IF(Q$44=0,0,IF(Q$44=15,C45,HLOOKUP($Q$44,$D$44:$N$49,2,TRUE))) -> 1.114
A46: 2 | B46: Công trình công nghiệp | C46: 1.261 | D46: 1.112 | E46: 0.882 | F46: 0.654 | G46: 0.515 | H46: 0.466 | I46: 0.404 | J46: 0.315 | K46: 0.248 | L46: 0.189 | M46: 0.135 | N46: 0.107 | O46: =IF(Q$44=P$44,P46,ROUND(P46-((P46-Q46)/(Q$44-P$44))*(O$44-P$44),3)) -> 1.261 | P46: =IF(P$44=0,0,IF(P$44=15,C46,HLOOKUP($P$44,$D$44:$N$49,3,TRUE))) -> 1.261 | Q46: =IF(Q$44=0,0,IF(Q$44=15,C46,HLOOKUP($Q$44,$D$44:$N$49,3,TRUE))) -> 1.261
A47: 3 | B47: Công trình giao thông | C47: 0.689 | D47: 0.628 | E47: 0.501 | F47: 0.393 | G47: 0.271 | H47: 0.203 | I47: 0.177 | J47: 0.151 | K47: 0.12 | L47: 0.097 | M47: 0.075 | N47: 0.063 | O47: =IF(Q$44=P$44,P47,ROUND(P47-((P47-Q47)/(Q$44-P$44))*(O$44-P$44),3)) -> 0.689 | P47: =IF(P$44=0,0,IF(P$44=15,C47,HLOOKUP($P$44,$D$44:$N$49,4,TRUE))) -> 0.689 | Q47: =IF(Q$44=0,0,IF(Q$44=15,C47,HLOOKUP($Q$44,$D$44:$N$49,4,TRUE))) -> 0.689
A48: 4 | B48: Công trình nông nghiệp và phát triển nông thôn | C48: 0.943 | D48: 0.858 | E48: 0.685 | F48: 0.48 | G48: 0.361 | H48: 0.273 | I48: 0.234 | J48: 0.201 | K48: 0.161 | L48: 0.129 | M48: 0.1 | N48: 0.084 | O48: =IF(Q$44=P$44,P48,ROUND(P48-((P48-Q48)/(Q$44-P$44))*(O$44-P$44),3)) -> 0.943 | P48: =IF(P$44=0,0,IF(P$44=15,C48,HLOOKUP($P$44,$D$44:$N$49,5,TRUE))) -> 0.943 | Q48: =IF(Q$44=0,0,IF(Q$44=15,C48,HLOOKUP($Q$44,$D$44:$N$49,5,TRUE))) -> 0.943
A49: 5 | B49: Công trình hạ tầng kỹ thuật | C49: 0.719 | D49: 0.654 | E49: 0.524 | F49: 0.407 | G49: 0.28 | H49: 0.211 | I49: 0.185 | J49: 0.158 | K49: 0.127 | L49: 0.101 | M49: 0.078 | N49: 0.065 | O49: =IF(Q$44=P$44,P49,ROUND(P49-((P49-Q49)/(Q$44-P$44))*(O$44-P$44),3)) -> 0.719 | P49: =IF(P$44=0,0,IF(P$44=15,C49,HLOOKUP($P$44,$D$44:$N$49,6,TRUE))) -> 0.719 | Q49: =IF(Q$44=0,0,IF(Q$44=15,C49,HLOOKUP($Q$44,$D$44:$N$49,6,TRUE))) -> 0.719
A50: NCKT79$
A52: Bảng 2.3: Định mức chi phí lập báo cáo kinh tế - kỹ thuật
C53: Đơn vị tính: tỷ lệ %
A54: LBC79^ | F54: ^
A55: TT | B55: Loại công trình | C55: Chi phí xây dựng và chi phí thiết bị (chưa có thuế GTGT) (tỷ đồng) | G55: Giá trị | H55: Cận dưới | I55: Cận trên
C56: <= 1 | D56: 3 | E56: 7 | F56: < 15 | G56: =C4+C5 -> 1.5559819 | H56: =IF(G56<D56,1,IF(G56>=15,0,HLOOKUP(G56,D56:E56,1))) -> 1 | I56: =IF(G56<1,1,IF(G56<3,3,IF(G56<7,7,IF(G56>=15,0,IF(G56>=7,15,0))))) -> 3
A57: 1 | B57: Công trình dân dụng | C57: 6.5 | D57: 4.7 | E57: 4.2 | F57: 3.6 | G57: =IF(I$56=H$56,H57,ROUND(H57-((H57-I57)/(I$56-H$56))*(G$56-H$56),3)) -> 6 | H57: =IF(H$56=1,C57,IF(H$56=3,D57,IF(H$56=7,E57,IF(H$56=15,F57,0)))) -> 6.5 | I57: =IF(I$56=1,C57,IF(I$56=3,D57,IF(I$56=7,E57,IF(I$56=15,F57,0)))) -> 4.7
A58: 2 | B58: Công trình công nghiệp | C58: 6.7 | D58: 4.8 | E58: 4.3 | F58: 3.8 | G58: =IF(I$56=H$56,H58,ROUND(H58-((H58-I58)/(I$56-H$56))*(G$56-H$56),3)) -> 6.172 | H58: =IF(H$56=1,C58,IF(H$56=3,D58,IF(H$56=7,E58,IF(H$56=15,F58,0)))) -> 6.7 | I58: =IF(I$56=1,C58,IF(I$56=3,D58,IF(I$56=7,E58,IF(I$56=15,F58,0)))) -> 4.8
A59: 3 | B59: Công trình giao thông | C59: 5.4 | D59: 3.6 | E59: 2.7 | F59: 2.5 | G59: =IF(I$56=H$56,H59,ROUND(H59-((H59-I59)/(I$56-H$56))*(G$56-H$56),3)) -> 4.9 | H59: =IF(H$56=1,C59,IF(H$56=3,D59,IF(H$56=7,E59,IF(H$56=15,F59,0)))) -> 5.4 | I59: =IF(I$56=1,C59,IF(I$56=3,D59,IF(I$56=7,E59,IF(I$56=15,F59,0)))) -> 3.6
A60: 4 | B60: Công trình nông nghiệp và phát triển nông thôn | C60: 6.2 | D60: 4.4 | E60: 3.9 | F60: 3.6 | G60: =IF(I$56=H$56,H60,ROUND(H60-((H60-I60)/(I$56-H$56))*(G$56-H$56),3)) -> 5.7 | H60: =IF(H$56=1,C60,IF(H$56=3,D60,IF(H$56=7,E60,IF(H$56=15,F60,0)))) -> 6.2 | I60: =IF(I$56=1,C60,IF(I$56=3,D60,IF(I$56=7,E60,IF(I$56=15,F60,0)))) -> 4.4
A61: 5 | B61: Công trình hạ tầng kỹ thuật | C61: 5.8 | D61: 4.2 | E61: 3.4 | F61: 3 | G61: =IF(I$56=H$56,H61,ROUND(H61-((H61-I61)/(I$56-H$56))*(G$56-H$56),3)) -> 5.355 | H61: =IF(H$56=1,C61,IF(H$56=3,D61,IF(H$56=7,E61,IF(H$56=15,F61,0)))) -> 5.8 | I61: =IF(I$56=1,C61,IF(I$56=3,D61,IF(I$56=7,E61,IF(I$56=15,F61,0)))) -> 4.2
A62: LBC79$
A64: Bảng số 5-14: Định mức chi phí thiết kế kỹ thuật cho các loại công trình
J65: Đơn vị tính: tỷ lệ %
A66: TKKT79^ | M66: ^
A67: TT | B67: Loại công trình/ Loại thiết kế/ cấp công trình | C67: Chi phí xây dựng (chưa có thuế GTGT) (tỷ đồng) | N67: Giá trị | O67: Cận dưới | P67: Cận trên
C68: <= 10 | D68: 20 | E68: 50 | F68: 100 | G68: 200 | H68: 500 | I68: 1.000 | J68: 2.000 | K68: 5.000 | L68: 8.000 | M68: 10.000 | N68: =$C$4 -> 1.5018819 | O68: =IF(N68<D68,10,IF(N68>M68,M68,HLOOKUP(N68,D68:M68,1))) -> 10 | P68: =IF(N68<10,10,IF(N68<20,20,IF(N68>M68,M68,INDEX(D68:M68,MATCH(N68,D68:M68,1)+1)))) -> 10
A69: 1 | B69: Công trình dân dụng
A70: 1.3 | B70: Thiết kế 3 bước
A71: 1.3.1 | B71: Cấp đặc biệt | C71: 3.22 | D71: 2.81 | E71: 2.36 | F71: 2.15 | G71: 1.96 | H71: 1.65 | I71: 1.36 | J71: 1.16 | K71: 0.89 | L71: 0.68 | M71: 0.61 | N71: =IF(P$68=O$68,O71,IF(O71="-",O71,ROUND(O71-((O71-P71)/(P$68-O$68))*(N$68-O$68),3))) -> 3.22 | O71: =IF(O$68=10,C71,HLOOKUP($O$68,$D$68:$M$133,4,TRUE)) -> 3.22 | P71: =IF(P$68=10,C71,HLOOKUP($P$68,$D$68:$M$133,4,TRUE)) -> 3.22
A72: 1.3.2 | B72: Cấp I | C72: 2.93 | D72: 2.55 | E72: 2.14 | F72: 1.94 | G72: 1.78 | H72: 1.5 | I72: 1.22 | J72: 1.05 | K72: 0.8 | L72: 0.61 | M72: 0.55 | N72: =IF(P$68=O$68,O72,IF(O72="-",O72,ROUND(O72-((O72-P72)/(P$68-O$68))*(N$68-O$68),3))) -> 2.93 | O72: =IF(O$68=10,C72,HLOOKUP($O$68,$D$68:$M$133,5,TRUE)) -> 2.93 | P72: =IF(P$68=10,C72,HLOOKUP($P$68,$D$68:$M$133,5,TRUE)) -> 2.93
A73: 1.3.3 | B73: Cấp II | C73: 2.67 | D73: 2.33 | E73: 1.96 | F73: 1.77 | G73: 1.62 | H73: 1.37 | I73: 1.11 | J73: 0.94 | K73: 0.73 | L73: 0.55 | M73: 0.5 | N73: =IF(P$68=O$68,O73,IF(O73="-",O73,ROUND(O73-((O73-P73)/(P$68-O$68))*(N$68-O$68),3))) -> 2.67 | O73: =IF(O$68=10,C73,HLOOKUP($O$68,$D$68:$M$133,6,TRUE)) -> 2.67 | P73: =IF(P$68=10,C73,HLOOKUP($P$68,$D$68:$M$133,6,TRUE)) -> 2.67
A74: 1.3.4 | B74: Cấp III | C74: 2.36 | D74: 2.07 | E74: 1.74 | F74: 1.57 | G74: 1.43 | H74: 1.21 | I74: 0.98 | J74: 0.83 | K74: 0.64 | L74: 0.48 | M74: 0.44 | N74: =IF(P$68=O$68,O74,IF(O74="-",O74,ROUND(O74-((O74-P74)/(P$68-O$68))*(N$68-O$68),3))) -> 2.36 | O74: =IF(O$68=10,C74,HLOOKUP($O$68,$D$68:$M$133,7,TRUE)) -> 2.36 | P74: =IF(P$68=10,C74,HLOOKUP($P$68,$D$68:$M$133,7,TRUE)) -> 2.36
A75: 1.3.5 | B75: Cấp IV | C75: 2.07 | D75: 1.81 | E75: 1.48 | F75: 1.3 | G75: 1.06 | H75: 0.89 | I75: - | J75: - | K75: - | L75: - | M75: - | N75: =IF(P$68=O$68,O75,IF(O75="-",O75,ROUND(O75-((O75-P75)/(P$68-O$68))*(N$68-O$68),3))) -> 2.07 | O75: =IF(O$68=10,C75,HLOOKUP($O$68,$D$68:$M$133,8,TRUE)) -> 2.07 | P75: =IF(P$68=10,C75,HLOOKUP($P$68,$D$68:$M$133,8,TRUE)) -> 2.07
A76: 1.2 | B76: Thiết kế 2 bước
A77: 1.2.1 | B77: Cấp đặc biệt | C77: 4.66 | D77: 4.05 | E77: 3.41 | F77: 3.1 | G77: 2.83 | H77: 2.39 | I77: 1.93 | J77: 1.65 | K77: 1.28 | L77: 0.99 | M77: 0.91 | N77: =IF(P$68=O$68,O77,IF(O77="-",O77,ROUND(O77-((O77-P77)/(P$68-O$68))*(N$68-O$68),3))) -> 4.66 | O77: =IF(O$68=10,C77,HLOOKUP($O$68,$D$68:$M$133,10,TRUE)) -> 4.66 | P77: =IF(P$68=10,C77,HLOOKUP($P$68,$D$68:$M$133,10,TRUE)) -> 4.66
A78: 1.2.2 | B78: Cấp I | C78: 4.22 | D78: 3.66 | E78: 3.1 | F78: 2.82 | G78: 2.57 | H78: 2.17 | I78: 1.76 | J78: 1.51 | K78: 1.16 | L78: 0.9 | M78: 0.8 | N78: =IF(P$68=O$68,O78,IF(O78="-",O78,ROUND(O78-((O78-P78)/(P$68-O$68))*(N$68-O$68),3))) -> 4.22 | O78: =IF(O$68=10,C78,HLOOKUP($O$68,$D$68:$M$133,11,TRUE)) -> 4.22 | P78: =IF(P$68=10,C78,HLOOKUP($P$68,$D$68:$M$133,11,TRUE)) -> 4.22
A79: 1.2.3 | B79: Cấp II | C79: 3.85 | D79: 3.33 | E79: 2.8 | F79: 2.54 | G79: 2.34 | H79: 1.98 | I79: 1.61 | J79: 1.36 | K79: 1.06 | L79: 0.82 | M79: 0.72 | N79: =IF(P$68=O$68,O79,IF(O79="-",O79,ROUND(O79-((O79-P79)/(P$68-O$68))*(N$68-O$68),3))) -> 3.85 | O79: =IF(O$68=10,C79,HLOOKUP($O$68,$D$68:$M$133,12,TRUE)) -> 3.85 | P79: =IF(P$68=10,C79,HLOOKUP($P$68,$D$68:$M$133,12,TRUE)) -> 3.85
A80: 1.2.4 | B80: Cấp III | C80: 3.41 | D80: 2.95 | E80: 2.48 | F80: 2.25 | G80: 2.07 | H80: 1.75 | I80: 1.43 | J80: 1.2 | K80: 0.94 | L80: 0.72 | M80: 0.63 | N80: =IF(P$68=O$68,O80,IF(O80="-",O80,ROUND(O80-((O80-P80)/(P$68-O$68))*(N$68-O$68),3))) -> 3.41 | O80: =IF(O$68=10,C80,HLOOKUP($O$68,$D$68:$M$133,13,TRUE)) -> 3.41 | P80: =IF(P$68=10,C80,HLOOKUP($P$68,$D$68:$M$133,13,TRUE)) -> 3.41
A81: 1.2.5 | B81: Cấp IV | C81: 2.92 | D81: 2.55 | E81: 2.12 | F81: 1.86 | G81: 1.51 | H81: 1.3 | I81: - | J81: - | K81: - | L81: - | M81: - | N81: =IF(P$68=O$68,O81,IF(O81="-",O81,ROUND(O81-((O81-P81)/(P$68-O$68))*(N$68-O$68),3))) -> 2.92 | O81: =IF(O$68=10,C81,HLOOKUP($O$68,$D$68:$M$133,14,TRUE)) -> 2.92 | P81: =IF(P$68=10,C81,HLOOKUP($P$68,$D$68:$M$133,14,TRUE)) -> 2.92
A82: 2 | B82: Công trình công nghiệp
A83: 2.3 | B83: Thiết kế 3 bước
A84: 2.3.1 | B84: Cấp đặc biệt | C84: 2.96 | D84: 2.73 | E84: 2.34 | F84: 2.13 | G84: 1.92 | H84: 1.76 | I84: 1.54 | J84: 1.3 | K84: 0.97 | L84: 0.79 | M84: 0.7 | N84: =IF(P$68=O$68,O84,IF(O84="-",O84,ROUND(O84-((O84-P84)/(P$68-O$68))*(N$68-O$68),3))) -> 2.96 | O84: =IF(O$68=10,C84,HLOOKUP($O$68,$D$68:$M$133,17,TRUE)) -> 2.96 | P84: =IF(P$68=10,C84,HLOOKUP($P$68,$D$68:$M$133,17,TRUE)) -> 2.96
A85: 2.3.2 | B85: Cấp I | C85: 2.47 | D85: 2.27 | E85: 1.93 | F85: 1.77 | G85: 1.6 | H85: 1.46 | I85: 1.28 | J85: 1.09 | K85: 0.8 | L85: 0.65 | M85: 0.58 | N85: =IF(P$68=O$68,O85,IF(O85="-",O85,ROUND(O85-((O85-P85)/(P$68-O$68))*(N$68-O$68),3))) -> 2.47 | O85: =IF(O$68=10,C85,HLOOKUP($O$68,$D$68:$M$133,18,TRUE)) -> 2.47 | P85: =IF(P$68=10,C85,HLOOKUP($P$68,$D$68:$M$133,18,TRUE)) -> 2.47
A86: 2.3.3 | B86: Cấp II | C86: 2.03 | D86: 1.86 | E86: 1.59 | F86: 1.46 | G86: 1.32 | H86: 1.2 | I86: 1.05 | J86: 0.9 | K86: 0.66 | L86: 0.53 | M86: 0.48 | N86: =IF(P$68=O$68,O86,IF(O86="-",O86,ROUND(O86-((O86-P86)/(P$68-O$68))*(N$68-O$68),3))) -> 2.03 | O86: =IF(O$68=10,C86,HLOOKUP($O$68,$D$68:$M$133,19,TRUE)) -> 2.03 | P86: =IF(P$68=10,C86,HLOOKUP($P$68,$D$68:$M$133,19,TRUE)) -> 2.03
A87: 2.3.4 | B87: Cấp III | C87: 1.78 | D87: 1.65 | E87: 1.4 | F87: 1.27 | G87: 1.17 | H87: 1.06 | I87: 0.93 | J87: 0.79 | K87: 0.58 | L87: 0.47 | M87: 0.42 | N87: =IF(P$68=O$68,O87,IF(O87="-",O87,ROUND(O87-((O87-P87)/(P$68-O$68))*(N$68-O$68),3))) -> 1.78 | O87: =IF(O$68=10,C87,HLOOKUP($O$68,$D$68:$M$133,20,TRUE)) -> 1.78 | P87: =IF(P$68=10,C87,HLOOKUP($P$68,$D$68:$M$133,20,TRUE)) -> 1.78
A88: 2.3.5 | B88: Cấp IV | C88: 1.59 | D88: 1.47 | E88: 1.24 | F88: 1.14 | G88: 0.98 | H88: 0.83 | I88: - | J88: - | K88: - | L88: - | M88: - | N88: =IF(P$68=O$68,O88,IF(O88="-",O88,ROUND(O88-((O88-P88)/(P$68-O$68))*(N$68-O$68),3))) -> 1.59 | O88: =IF(O$68=10,C88,HLOOKUP($O$68,$D$68:$M$133,21,TRUE)) -> 1.59 | P88: =IF(P$68=10,C88,HLOOKUP($P$68,$D$68:$M$133,21,TRUE)) -> 1.59
A89: 2.2 | B89: Thiết kế 2 bước
A90: 2.2.1 | B90: Cấp đặc biệt | C90: 4.7 | D90: 4.27 | E90: 3.66 | F90: 3.32 | G90: 3.01 | H90: 2.75 | I90: 2.4 | J90: 2.03 | K90: 1.52 | L90: 1.21 | M90: 1.04 | N90: =IF(P$68=O$68,O90,IF(O90="-",O90,ROUND(O90-((O90-P90)/(P$68-O$68))*(N$68-O$68),3))) -> 4.7 | O90: =IF(O$68=10,C90,HLOOKUP($O$68,$D$68:$M$133,23,TRUE)) -> 4.7 | P90: =IF(P$68=10,C90,HLOOKUP($P$68,$D$68:$M$133,23,TRUE)) -> 4.7
A91: 2.2.2 | B91: Cấp I | C91: 3.87 | D91: 3.57 | E91: 3.02 | F91: 2.77 | G91: 2.5 | H91: 2.28 | I91: 2.01 | J91: 1.7 | K91: 1.26 | L91: 1.02 | M91: 0.88 | N91: =IF(P$68=O$68,O91,IF(O91="-",O91,ROUND(O91-((O91-P91)/(P$68-O$68))*(N$68-O$68),3))) -> 3.87 | O91: =IF(O$68=10,C91,HLOOKUP($O$68,$D$68:$M$133,24,TRUE)) -> 3.87 | P91: =IF(P$68=10,C91,HLOOKUP($P$68,$D$68:$M$133,24,TRUE)) -> 3.87
A92: 2.2.3 | B92: Cấp II | C92: 3.13 | D92: 2.9 | E92: 2.43 | F92: 2.24 | G92: 2.03 | H92: 1.9 | I92: 1.66 | J92: 1.42 | K92: 1.04 | L92: 0.82 | M92: 0.72 | N92: =IF(P$68=O$68,O92,IF(O92="-",O92,ROUND(O92-((O92-P92)/(P$68-O$68))*(N$68-O$68),3))) -> 3.13 | O92: =IF(O$68=10,C92,HLOOKUP($O$68,$D$68:$M$133,25,TRUE)) -> 3.13 | P92: =IF(P$68=10,C92,HLOOKUP($P$68,$D$68:$M$133,25,TRUE)) -> 3.13
A93: 2.2.4 | B93: Cấp III | C93: 2.78 | D93: 2.57 | E93: 2.16 | F93: 1.99 | G93: 1.79 | H93: 1.68 | I93: 1.47 | J93: 1.25 | K93: 0.91 | L93: 0.72 | M93: 0.64 | N93: =IF(P$68=O$68,O93,IF(O93="-",O93,ROUND(O93-((O93-P93)/(P$68-O$68))*(N$68-O$68),3))) -> 2.78 | O93: =IF(O$68=10,C93,HLOOKUP($O$68,$D$68:$M$133,26,TRUE)) -> 2.78 | P93: =IF(P$68=10,C93,HLOOKUP($P$68,$D$68:$M$133,26,TRUE)) -> 2.78
A94: 2.2.5 | B94: Cấp IV | C94: 2.46 | D94: 2.25 | E94: 1.89 | F94: 1.72 | G94: 1.47 | H94: 1.22 | I94: - | J94: - | K94: - | L94: - | M94: - | N94: =IF(P$68=O$68,O94,IF(O94="-",O94,ROUND(O94-((O94-P94)/(P$68-O$68))*(N$68-O$68),3))) -> 2.46 | O94: =IF(O$68=10,C94,HLOOKUP($O$68,$D$68:$M$133,27,TRUE)) -> 2.46 | P94: =IF(P$68=10,C94,HLOOKUP($P$68,$D$68:$M$133,27,TRUE)) -> 2.46
A95: 3 | B95: Công trình giao thông
A96: 3.3 | B96: Thiết kế 3 bước
A97: 3.3.1 | B97: Cấp đặc biệt | C97: 2.05 | D97: 1.92 | E97: 1.68 | F97: 1.5 | G97: 1.36 | H97: 1.24 | I97: 1.08 | J97: 0.92 | K97: 0.68 | L97: 0.51 | M97: 0.45 | N97: =IF(P$68=O$68,O97,IF(O97="-",O97,ROUND(O97-((O97-P97)/(P$68-O$68))*(N$68-O$68),3))) -> 2.05 | O97: =IF(O$68=10,C97,HLOOKUP($O$68,$D$68:$M$133,30,TRUE)) -> 2.05 | P97: =IF(P$68=10,C97,HLOOKUP($P$68,$D$68:$M$133,30,TRUE)) -> 2.05
A98: 3.3.2 | B98: Cấp I | C98: 1.44 | D98: 1.39 | E98: 1.13 | F98: 1.05 | G98: 0.95 | H98: 0.81 | I98: 0.68 | J98: 0.58 | K98: 0.44 | L98: 0.34 | M98: 0.28 | N98: =IF(P$68=O$68,O98,IF(O98="-",O98,ROUND(O98-((O98-P98)/(P$68-O$68))*(N$68-O$68),3))) -> 1.44 | O98: =IF(O$68=10,C98,HLOOKUP($O$68,$D$68:$M$133,31,TRUE)) -> 1.44 | P98: =IF(P$68=10,C98,HLOOKUP($P$68,$D$68:$M$133,31,TRUE)) -> 1.44
A99: 3.3.3 | B99: Cấp II | C99: 1.19 | D99: 1.08 | E99: 0.92 | F99: 0.84 | G99: 0.77 | H99: 0.7 | I99: 0.6 | J99: 0.51 | K99: 0.39 | L99: 0.29 | M99: 0.25 | N99: =IF(P$68=O$68,O99,IF(O99="-",O99,ROUND(O99-((O99-P99)/(P$68-O$68))*(N$68-O$68),3))) -> 1.19 | O99: =IF(O$68=10,C99,HLOOKUP($O$68,$D$68:$M$133,32,TRUE)) -> 1.19 | P99: =IF(P$68=10,C99,HLOOKUP($P$68,$D$68:$M$133,32,TRUE)) -> 1.19
A100: 3.3.4 | B100: Cấp III | C100: 1.05 | D100: 0.93 | E100: 0.81 | F100: 0.74 | G100: 0.68 | H100: 0.58 | I100: 0.48 | J100: 0.43 | K100: 0.32 | L100: 0.25 | M100: 0.21 | N100: =IF(P$68=O$68,O100,IF(O100="-",O100,ROUND(O100-((O100-P100)/(P$68-O$68))*(N$68-O$68),3))) -> 1.05 | O100: =IF(O$68=10,C100,HLOOKUP($O$68,$D$68:$M$133,33,TRUE)) -> 1.05 | P100: =IF(P$68=10,C100,HLOOKUP($P$68,$D$68:$M$133,33,TRUE)) -> 1.05
A101: 3.3.5 | B101: Cấp IV | C101: 0.95 | D101: 0.87 | E101: 0.76 | F101: 0.69 | G101: 0.59 | H101: 0.49 | I101: 0.43 | J101: - | K101: - | L101: - | M101: - | N101: =IF(P$68=O$68,O101,IF(O101="-",O101,ROUND(O101-((O101-P101)/(P$68-O$68))*(N$68-O$68),3))) -> 0.95 | O101: =IF(O$68=10,C101,HLOOKUP($O$68,$D$68:$M$133,34,TRUE)) -> 0.95 | P101: =IF(P$68=10,C101,HLOOKUP($P$68,$D$68:$M$133,34,TRUE)) -> 0.95
A102: 3.2 | B102: Thiết kế 2 bước
A103: 3.2.1 | B103: Cấp đặc biệt | C103: 3.01 | D103: 2.76 | E103: 2.36 | F103: 2.15 | G103: 1.95 | H103: 1.78 | I103: 1.52 | J103: 1.32 | K103: 1.02 | L103: 0.75 | M103: 0.66 | N103: =IF(P$68=O$68,O103,IF(O103="-",O103,ROUND(O103-((O103-P103)/(P$68-O$68))*(N$68-O$68),3))) -> 3.01 | O103: =IF(O$68=10,C103,HLOOKUP($O$68,$D$68:$M$133,36,TRUE)) -> 3.01 | P103: =IF(P$68=10,C103,HLOOKUP($P$68,$D$68:$M$133,36,TRUE)) -> 3.01
A104: 3.2.2 | B104: Cấp I | C104: 2.27 | D104: 2.15 | E104: 1.83 | F104: 1.67 | G104: 1.51 | H104: 1.38 | I104: 1.21 | J104: 1.03 | K104: 0.79 | L104: 0.61 | M104: 0.49 | N104: =IF(P$68=O$68,O104,IF(O104="-",O104,ROUND(O104-((O104-P104)/(P$68-O$68))*(N$68-O$68),3))) -> 2.27 | O104: =IF(O$68=10,C104,HLOOKUP($O$68,$D$68:$M$133,37,TRUE)) -> 2.27 | P104: =IF(P$68=10,C104,HLOOKUP($P$68,$D$68:$M$133,37,TRUE)) -> 2.27
A105: 3.2.3 | B105: Cấp II | C105: 1.67 | D105: 1.55 | E105: 1.32 | F105: 1.2 | G105: 1.1 | H105: 1.01 | I105: 0.85 | J105: 0.72 | K105: 0.56 | L105: 0.42 | M105: 0.36 | N105: =IF(P$68=O$68,O105,IF(O105="-",O105,ROUND(O105-((O105-P105)/(P$68-O$68))*(N$68-O$68),3))) -> 1.67 | O105: =IF(O$68=10,C105,HLOOKUP($O$68,$D$68:$M$133,38,TRUE)) -> 1.67 | P105: =IF(P$68=10,C105,HLOOKUP($P$68,$D$68:$M$133,38,TRUE)) -> 1.67
A106: 3.2.4 | B106: Cấp III | C106: 1.48 | D106: 1.37 | E106: 1.17 | F106: 1.06 | G106: 0.97 | H106: 0.82 | I106: 0.7 | J106: 0.59 | K106: 0.45 | L106: 0.33 | M106: 0.29 | N106: =IF(P$68=O$68,O106,IF(O106="-",O106,ROUND(O106-((O106-P106)/(P$68-O$68))*(N$68-O$68),3))) -> 1.48 | O106: =IF(O$68=10,C106,HLOOKUP($O$68,$D$68:$M$133,39,TRUE)) -> 1.48 | P106: =IF(P$68=10,C106,HLOOKUP($P$68,$D$68:$M$133,39,TRUE)) -> 1.48
A107: 3.2.5 | B107: Cấp IV | C107: 1.37 | D107: 1.26 | E107: 1.08 | F107: 0.98 | G107: 0.83 | H107: 0.71 | I107: - | J107: - | K107: - | L107: - | M107: - | N107: =IF(P$68=O$68,O107,IF(O107="-",O107,ROUND(O107-((O107-P107)/(P$68-O$68))*(N$68-O$68),3))) -> 1.37 | O107: =IF(O$68=10,C107,HLOOKUP($O$68,$D$68:$M$133,40,TRUE)) -> 1.37 | P107: =IF(P$68=10,C107,HLOOKUP($P$68,$D$68:$M$133,40,TRUE)) -> 1.37
A108: 4 | B108: Công trình nông nghiệp và phát triển nông thôn
...

Sheet Chu so
A1: =THDT!G26 -> 2018645000 | B1: =CONCATENATE(C9,E9) -> (Bằng chữ : Hai tỷ, không trăm mười tám triệu, sáu trăm bốn mươi lăm nghìn đồng./.)
C3: trăm tỷ | E3: chục tỷ | G3: tỷ | J3: trăm triệu | L3: chục triệu | N3: triệu | Q3: trăm nghìn | S3: chục nghìn | U3: nghìn | X3: trăm | Z3: chục | AB3: đ.vị
A4: =ROUND(A1,0) -> 2018645000 | C4: =INT(A4/10^11) -> 0 | E4: =INT((A4-C4*10^11)/10^10) -> 0 | G4: =INT((A4-C4*10^11-E4*10^10)/10^9) -> 2 | J4: =INT((A4-C4*10^11-E4*10^10-G4*10^9)/10^8) -> 0 | L4: =INT((A4-C4*10^11-E4*10^10-G4*10^9-J4*10^8)/10^7) -> 1 | N4: =INT((A4-C4*10^11-E4*10^10-G4*10^9-J4*10^8-L4*10^7)/10^6) -> 8 | Q4: =INT((A4-C4*10^11-E4*10^10-G4*10^9-J4*10^8-L4*10^7-N4*10^6)/10^5) -> 6 | S4: =INT((A4-C4*10^11-E4*10^10-G4*10^9-J4*10^8-L4*10^7-N4*10^6-Q4*10^5)/10^4) -> 4 | U4: =INT((A4-C4*10^11-E4*10^10-G4*10^9-J4*10^8-L4*10^7-N4*10^6-Q4*10^5-S4*10^4)/10^3) -> 5 | X4: =INT((A4-C4*10^11-E4*10^10-G4*10^9-J4*10^8-L4*10^7-N4*10^6-Q4*10^5-S4*10^4-U4*10^3)/10^2) -> 0 | Z4: =INT((A4-C4*10^11-E4*10^10-G4*10^9-J4*10^8-L4*10^7-N4*10^6-Q4*10^5-S4*10^4-U4*10^3-X4*10^2)/10) -> 0 | AB4: =INT((A4-C4*10^11-E4*10^10-G4*10^9-J4*10^8-L4*10^7-N4*10^6-Q4*10^5-S4*10^4-U4*10^3-X4*10^2-Z4*10)/1) -> 0
C5: =IF(C4<>0,VLOOKUP(C4,Table1,2,0),"") | D5: =IF(C4<>0,"trăm ","") | E5: =IF(AND(C4,E4<>0),VLOOKUP(E4,Table5,2,0),IF(AND(C4=0,E4<>0),VLOOKUP(E4,Table5,2,0),"")) | F5: =IF(AND(C4<>0,E4=0,G4=0),"",IF(AND(E4=0,C4>0),"lẻ ",IF(E4=0,"",IF(E4=1,"","mươi ")))) | G5: =IF(AND(C4<>0,E4=0,G4=1),"một ",IF(AND(C4=0,E4=0,G4=1),"một ",IF(AND(E4=1,G4=1),"một ",IF(AND(C4<>0,E4=0,G4=5),"năm ",IF(AND(C4=0,E4=0,G4<>0),VLOOKUP(G4,Table1,2,0),IF(G4<>0,VLOOKUP(G4,Table4,2,0),"")))))) -> hai | H5: =IF(C4<>0,"tỷ",IF(E4<>0,"tỷ",IF(G4<>0,"tỷ",""))) -> tỷ | I5: =IF(AND(C4=0,E4=0,G4=0),"",IF(AND(O5="",V5=""),"",", ")) -> , | J5: =IF(AND(I5="",J4=0),"",IF(J4<>0,VLOOKUP(J4,Table1,2,0),IF(P5=", ",VLOOKUP(J4,Table2,2,0),""))) -> không | K5: =IF(J4<>0,"trăm ",IF(J5="không ","trăm ","")) -> trăm | L5: =IF(AND(J4,L4<>0),VLOOKUP(L4,Table5,2,0),IF(AND(J4=0,L4<>0),VLOOKUP(L4,Table5,2,0),"")) -> mười | M5: =IF(AND(J4<>0,L4=0,N4=0),"",IF(AND(L4=0,J4>0),"lẻ ",IF(AND(I5=", ",J4=0,L4=0,N4<>0),"lẻ ",IF(L4=0,"",IF(L4=1,"","mươi "))))) | N5: =IF(AND(J4<>0,L4=0,N4=1),"một ",IF(AND(J4=0,L4=0,N4=1),"một ",IF(AND(L4=1,N4=1),"một ",IF(AND(J4<>0,L4=0,N4=5),"năm ",IF(AND(J4=0,L4=0,N4<>0),VLOOKUP(N4,Table1,2,0),IF(N4<>0,VLOOKUP(N4,Table4,2,0),"")))))) -> tám | O5: =IF(J4<>0,"triệu",IF(L4<>0,"triệu",IF(N4<>0,"triệu",""))) -> triệu | P5: =IF(AND(C4=0,E4=0,G4=0,J4=0,L4=0,N4=0),"",IF(AND(Q4=0,S4=0,U4=0,X4=0,Z4=0,AB4=0)," ",", ")) -> , | Q5: =IF(Q4<>0,VLOOKUP(Q4,Table2,2,0),IF(P5=", ",VLOOKUP(Q4,Table2,2,0),"")) -> sáu | R5: =IF(Q4<>0,"trăm ",IF(Q5="không ","trăm ","")) -> trăm | S5: =IF(AND(Q4,S4<>0),VLOOKUP(S4,Table5,2,0),IF(AND(Q4=0,S4<>0),VLOOKUP(S4,Table5,2,0),"")) -> bốn | T5: =IF(AND(Q4<>0,S4=0,U4=0),"",IF(AND(S4=0,Q4>0),"lẻ ",IF(AND(P5=", ",Q4=0,S4=0,U4<>0),"lẻ ",IF(S4=0,"",IF(S4=1,"","mươi "))))) -> mươi | U5: =IF(AND(Q4<>0,S4=0,U4=1),"một ",IF(AND(Q4=0,S4=0,U4=1),"một ",IF(AND(S4=1,U4=1),"một ",IF(AND(Q4<>0,S4=0,U4=5),"năm ",IF(AND(Q4=0,S4=0,U4<>0),VLOOKUP(U4,Table1,2,0),IF(U4<>0,VLOOKUP(U4,Table4,2,0),"")))))) -> lăm | V5: =IF(AND(Q4=0,S4=0,U4=0),"",IF(AND(X4=0,Z4=0,AB4=0),"nghìn ",IF(Q4<>0,"nghìn",IF(S4<>0,"nghìn",IF(U4<>0,"nghìn",""))))) -> nghìn | W5: =IF(AND(X4=0,Z4=0,AB4=0),"",IF(V5="","",", ")) | X5: =IF(X4<>0,VLOOKUP(X4,Table2,2,0),IF(W5=", ",VLOOKUP(X4,Table2,2,0),"")) | Y5: =IF(X4<>0,"trăm ",IF(X5="không ","trăm ","")) | Z5: =IF(AND(X4,Z4<>0),VLOOKUP(Z4,Table5,2,0),IF(AND(X4=0,Z4<>0),VLOOKUP(Z4,Table5,2,0),"")) | AA5: =IF(AND(X4<>0,Z4=0,AB4=0),"",IF(AND(Z4=0,X4>0),"lẻ ",IF(AND(W5=", ",X4=0,Z4=0,AB4<>0),"lẻ ",IF(Z4=0,"",IF(Z4=1,"","mươi "))))) | AB5: =IF(AND(X4<>0,Z4=0,AB4=1),"một ",IF(AND(X4=0,Z4=0,AB4=1),"một ",IF(AND(Z4=1,AB4=1),"một ",IF(AND(X4<>0,Z4=0,AB4=5),"năm ",IF(AND(X4=0,Z4=0,AB4<>0),VLOOKUP(AB4,Table1,2,0),IF(AB4<>0,VLOOKUP(AB4,Table4,2,0),"")))))) | AC5: đồng./.)
C7: =CONCATENATE(C5,D5,E5,F5,G5,H5,I5,J5,K5,L5,M5,N5,O5,P5,Q5,R5,S5,T5,U5,V5,W5,X5,Y5,Z5,AA5,AB5,AC5) -> hai tỷ, không trăm mười tám triệu, sáu trăm bốn mươi lăm nghìn đồng./.)
C8: =LEFT(C7,1) -> h | E8: =UPPER(C8) -> H
C9: (Bằng chữ : | E9: =REPLACE(C7,1,1,E8) -> Hai tỷ, không trăm mười tám triệu, sáu trăm bốn mươi lăm nghìn đồng./.)
B31: 0 | E31: 0 | F31: không | H31: 0 | I31: không | K31: 0 | N31: 0 | Q31: 0 | R31: không
B32: 1 | C32: một | E32: 1 | F32: một | H32: 1 | I32: mốt | K32: 1 | L32: mốt | N32: 1 | O32: mười | Q32: 1 | R32: mười
B33: 2 | C33: hai | E33: 2 | F33: hai | H33: 2 | I33: hai | K33: 2 | L33: hai | N33: 2 | O33: hai | Q33: 2 | R33: hai
B34: 3 | C34: ba | E34: 3 | F34: ba | H34: 3 | I34: ba | K34: 3 | L34: ba | N34: 3 | O34: ba | Q34: 3 | R34: ba
B35: 4 | C35: bốn | E35: 4 | F35: bốn | H35: 4 | I35: bốn | K35: 4 | L35: bốn | N35: 4 | O35: bốn | Q35: 4 | R35: bốn
B36: 5 | C36: năm | E36: 5 | F36: năm | H36: 5 | I36: lăm | K36: 5 | L36: lăm | N36: 5 | O36: năm | Q36: 5 | R36: năm
B37: 6 | C37: sáu | E37: 6 | F37: sáu | H37: 6 | I37: sáu | K37: 6 | L37: sáu | N37: 6 | O37: sáu | Q37: 6 | R37: sáu
B38: 7 | C38: bảy | E38: 7 | F38: bảy | H38: 7 | I38: bảy | K38: 7 | L38: bảy | N38: 7 | O38: bảy | Q38: 7 | R38: bảy
B39: 8 | C39: tám | E39: 8 | F39: tám | H39: 8 | I39: tám | K39: 8 | L39: tám | N39: 8 | O39: tám | Q39: 8 | R39: tám
B40: 9 | C40: chín | E40: 9 | F40: chín | H40: 9 | I40: chín | K40: 9 | L40: chín | N40: 9 | O40: chín | Q40: 9 | R40: chín
B41: 10 | C41: mười | E41: 10 | F41: mười | H41: 10 | I41: mười | K41: 10 | L41: mười
B42: Table1 | E42: Table2 | H42: Table3 | K42: Table4 | N42: Table5 | Q42: Table6
A44: Finish : | B44: =CONCATENATE(C46,D46,E46,F46,G46,H46,I46,J46,K46) -> TP. Hải Phòngngày 09 tháng 07 năm 2026
A46: Data : | C46: TP. Hải Phòng | D46: ngày | E46: =IF(F46<10,"0","") -> 0 | F46: =VALUE(B47) -> 9 | G46: tháng | H46: =IF(I46<10,"0","") -> 0 | I46: =VALUE(B48) -> 7 | J46: năm | K46: =VALUE(B49) -> 2026
A47: Date : | B47: =DAY(TODAY()) -> 9
A48: Month : | B48: =MONTH(TODAY()) -> 7
A49: Year : | B49: =YEAR(TODAY()) -> 2026
