Workbook

Sheet foxz

Sheet Công trình
A1: BẢNG DỰ TOÁN HẠNG MỤC CÔNG TRÌNH | AM1: (đ)
A2: CÔNG TRÌNH : XÂY DỰNG HỆ THỐNG CỐNG HỘP KÊNH BẾN KEM ĐOẠN TỪ NHÀ ÔNG CHÍN ĐẾN KÊNH ĐẠI TRÀ 2, XÃ KIẾN MINH
A3: HẠNG MỤC 1
A4: STT | B4: Ký hiệu bản vẽ | C4: Mã hiệu định mức | D4: Mã hiệu vữa | E4: Mã hiệu công tác | F4: Danh mục công tác/ Diễn giải KL | G4: Đơn vị tính | H4: Số C.K | I4: Kích thước | L4: Hệ số phụ | M4: Tổng dài | N4: D.tích (M2) | O4: K.L C.Kiện | P4: Khối lượng | Q4: ="Đơn giá "&'Công trình'!AM1 -> Đơn giá (đ) | U4: ="Thành tiền "&'Công trình'!AM1 -> Thành tiền (đ) | Y4: Hệ số điều chỉnh | AB4: Ghi chú, Nguồn gốc xuất xứ | AC4: Dữ liệu đã dùng | AE4: Hao phí định mức | AH4: Hệ số định mức | AK4: Thời điểm thi công | AM4: Tỉnh TP / Chuyên ngành
I5: Dài | J5: Rộng | K5: Cao | Q5: Vật liệu | R5: V.L phụ | S5: Nhân công | T5: Máy T.C | U5: Vật liệu | V5: V.L phụ | W5: Nhân công | X5: Máy thi công | Y5: V.L | Z5: N.C | AA5: Máy | AC5: Đơn giá | AD5: Giá máy | AE5: V.L | AF5: N.C | AG5: Máy | AH5: V.L | AI5: N.C | AJ5: Máy | AK5: Bắt đầu | AL5: Kết thúc
E6: HM | F6: HẠNG MỤC 1 | O6: 4
F7: BIỆN PHÁP THI CÔNG
A8: 1 | E8: TT | F8: Vận chuyển phao chuyến đến và chuyến về | G8: ca | P8: =ROUND(SUM(O8:O9),4) -> 2 | T8: 3000000 | U8: =P8*Q8 -> 0 | V8: =P8*R8 -> 0 | W8: =P8*S8 -> 0 | X8: =P8*T8 -> 6000000
F9: 2 = 2 | O9: 2
A10: 2 | C10: AC.22111 | E10: AC.22111 | F10: Đóng cọc ván thép (cừ Larsen) trên cạn bằng máy đóng cọc 1,8T, chiều dài cọc <=12 m, đất cấp I | G10: 100m | P10: =ROUND(SUM(O10:O31),4) -> 48.04 | S10: 1750160 | T10: 4102240 | U10: =P10*Q10 -> 0 | V10: =P10*R10 -> 0 | W10: =P10*S10 -> 84077686 | X10: =P10*T10 -> 1.9707161e+08 | AC10: DG2595_2022HP_XD | AD10: Giá máy 156/2022/QĐ-SXD Vùng 1 | AE10: A24.0230~Cọc ván thép <=12m~m~100~100~0~0~0~1~1~0~0~CocVanThep~~0žZ999~Vât liệu khác~%~0.5~0.5~0~0~0~1~1~0~0~VatLieuKhac~~0 | AF10: N2.35~Nhân công 3,5/7 - Nhóm 2~công~6.68~6.68~262000~288500~0~1~1~0~0~N2.35~Được tính toán, rồi Link từ sheet Nhân công sang~0 | AG10: M103.0202~Máy đóng cọc chạy trên ray - trọng lượng đầu búa : 1,8 T~ca~2.226~2.226~1789199~1633554~344605~1~1~0~0~M492~Được tính toán, rồi Link từ sheet Máy sang~0žM999~Máy khác~%~3~3~39827.56974~36362.91204~0~1~1~0~0~~~0 | AM10: HaiPhong
F11: Toàn tuyến chia 5 phân đoạn thi công;Phân đoạn 1--phân đoạn 5; mỗi phân đoạn 43m (tận dụng và luân chuyển cọc cừ)
F12: Phân đoạn 1
F13: Cừ + văng chống dọc biên: (43*2*8+43*2*2)/100 = 8,6 | O13: 8.6
F14: Cừ thay đên quai xanh:5,6*8/100 = 0,448 | O14: 0.448
F15: Văng chống ngang khoảng cách 10 m có 1 đểm chống ngang: 43/10+1 tính chẵn 5 điểm văng: 5*2*5,6/100 = 0,56 | O15: 0.56
F16: Phân đoạn 2
F17: Cừ + văng chống dọc biên: (43*2*8+43*2*2)/100 = 8,6 | O17: 8.6
F18: Cừ thay đên quai xanh:5,6*8/100 = 0,448 | O18: 0.448
F19: Văng chống ngang khoảng cách 10 m có 1 đểm chống ngang: 43/10+1 tính chẵn 5 điểm văng: 5*2*5,6/100 = 0,56 | O19: 0.56
F20: Phân đoạn 3
F21: Cừ + văng chống dọc biên: (43*2*8+43*2*2)/100 = 8,6 | O21: 8.6
F22: Cừ thay đên quai xanh:5,6*8/100 = 0,448 | O22: 0.448
F23: Văng chống ngang khoảng cách 10 m có 1 đểm chống ngang: 43/10+1 tính chẵn 5 điểm văng: 5*2*5,6/100 = 0,56 | O23: 0.56
F24: Phân đoạn 4
F25: Cừ + văng chống dọc biên: (43*2*8+43*2*2)/100 = 8,6 | O25: 8.6
F26: Cừ thay đên quai xanh:5,6*8/100 = 0,448 | O26: 0.448
F27: Văng chống ngang khoảng cách 10 m có 1 đểm chống ngang: 43/10+1 tính chẵn 5 điểm văng: 5*2*5,6/100 = 0,56 | O27: 0.56
F28: Phân đoạn 5
F29: Cừ + văng chống dọc biên: (43*2*8+43*2*2)/100 = 8,6 | O29: 8.6
F30: Cừ thay đên quai xanh:5,6*8/100 = 0,448 | O30: 0.448
F31: Văng chống ngang khoảng cách 10 m có 1 đểm chống ngang: 43/10+1 tính chẵn 5 điểm văng: 5*2*5,6/100 = 0,56 | O31: 0.56
A32: 3 | E32: TT | F32: Cừ thép thuê 2500 đ/m/ngày dự kiến thi công 6 tháng ; cừ thép luân chuyển sử dung 3 lần | G32: m | P32: =ROUND(SUM(O32:O33),4) -> 2882.4 | Q32: 2500 | U32: =P32*Q32 -> 7206000 | V32: =P32*R32 -> 0 | W32: =P32*S32 -> 0 | X32: =P32*T32 -> 0 | AB32: =U32*180 -> 1297080000
F33: 48,04/3*6*30 = 2882,4 | O33: 2882.4
A34: 4 | E34: TT | F34: Bơm nước thi công cho 5 phân đoạn | G34: ca | P34: =ROUND(SUM(O34:O35),4) -> 75 | S34: 50000 | T34: 450000 | U34: =P34*Q34 -> 0 | V34: =P34*R34 -> 0 | W34: =P34*S34 -> 3750000 | X34: =P34*T34 -> 33750000
F35: 15*5 = 75 | O35: 75
A36: 5 | E36: TT | F36: Thuê ván thép chống lầy để xe đi đóng cọc tre hố móng | G36: đoạn | P36: =ROUND(SUM(O36:O38),4) -> 5 | Q36: 19500000 | U36: =P36*Q36 -> 97500000 | V36: =P36*R36 -> 0 | W36: =P36*S36 -> 0 | X36: =P36*T36 -> 0
F37: Thuê cho phân đoạn 1+2+3+4+5
F38: 5 = 5 | O38: 5
A39: 6 | C39: AC.22111 | E39: AC.22111 | F39: Nhổ cọc ván thép (cừ Larsen) trên cạn bằng máy đóng cọc 1,8T, chiều dài cọc <=12 m, đất cấp I | G39: 100m | P39: =ROUND(SUM(O39:O40),4) -> 48.04 | S39: 1750160 | T39: 4102240 | U39: =P39*Q39 -> 0 | V39: =P39*R39 -> 0 | W39: =P39*S39 -> 84077686 | X39: =P39*T39 -> 1.9707161e+08 | AC39: DG2595_2022HP_XD | AD39: Giá máy 156/2022/QĐ-SXD Vùng 1 | AE39: A24.0230~Cọc ván thép <=12m~m~100~100~0~0~0~1~1~0~0~CocVanThep~~0žZ999~Vât liệu khác~%~0.5~0.5~0~0~0~1~1~0~0~VatLieuKhac~~0 | AF39: N2.35~Nhân công 3,5/7 - Nhóm 2~công~6.68~6.68~262000~288500~0~1~1~0~0~N2.35~Được tính toán, rồi Link từ sheet Nhân công sang~0 | AG39: M103.0202~Máy đóng cọc chạy trên ray - trọng lượng đầu búa : 1,8 T~ca~2.226~2.226~1789199~1633554~344605~1~1~0~0~M492~Được tính toán, rồi Link từ sheet Máy sang~0žM999~Máy khác~%~3~3~39827.56974~36362.91204~0~1~1~0~0~~~0 | AM39: HaiPhong
F40: Bằng KL đóng: 48,04 = 48,04 | O40: 48.04
...

Sheet Giá tháng
A1: BẢNG GIÁ THÔNG BÁO CÔNG TRÌNH
A2: ='Công trình'!A2 -> CÔNG TRÌNH : XÂY DỰNG HỆ THỐNG CỐNG HỘP KÊNH BẾN KEM ĐOẠN TỪ NHÀ ÔNG CHÍN ĐẾN KÊNH ĐẠI TRÀ 2, XÃ KIẾN MINH
A4: STT | B4: Mã số | C4: Tên vật tư | D4: Đơn vị | E4: ="Giá gốc_x000D_ "&'Công trình'!AM1 -> Giá gốc_x000D_ (đ) | F4: ="Giá tháng_x000D_ "&'Công trình'!AM1 -> Giá tháng_x000D_ (đ) | G4: Hệ số | H4: Chính | I4: ="Giá sau VAT_x000D_ "&'Công trình'!AM1 -> Giá sau VAT_x000D_ (đ) | J4: Mã chuẩn | K4: Ghi chú, Nguồn gốc xuất xứ
A5: I | C5: VẬT LIỆU
A6: 1 | B6: A24.1042 | C6: Cát | D6: m3 | E6: 140000 | F6: 280000 | G6: 1 | H6: TRUE | I6: 308000 | J6: Cat | K6: Áp theo "Cát san lấp" trong Thông báo giá VL số: 621/2025/TB-SXD của Sở XD TP Hải Phòng ngày 08/12/2025. Vùng: 10
A7: 2 | B7: A24.0180 | C7: Cát vàng | D7: m3 | E7: 450000 | F7: 750000 | G7: 1 | H7: TRUE | I7: 825000 | J7: CatVang | K7: Áp theo "Cát bê tông ML>2,0" trong Thông báo giá VL số: 621/2025/TB-SXD của Sở XD TP Hải Phòng ngày 08/12/2025. Vùng: 10
A8: 3 | B8: A24.0183 | C8: Cây chống | D8: cây | E8: 19000 | F8: 22000 | G8: 1 | H8: TRUE | I8: 23760 | J8: CayChong | K8: =""
A9: 4 | B9: A24.0227 | C9: Cọc tre >2,5m | D9: m | E9: 3200 | F9: 4800 | G9: 1 | H9: TRUE | I9: 5184 | J9: CocTre | K9: =""
A10: 5 | B10: A24.0230 | C10: Cọc ván thép <=12m | D10: m | E10: 0 | F10: 0 | G10: 1 | H10: TRUE | I10: 0 | J10: CocVanThep | K10: =""
A11: 6 | B11: A24.0262 | C11: Cột chống thép ống | D11: kg | E11: 12627 | F11: 12627 | G11: 1 | H11: TRUE | I11: 13889.7 | J11: CotChongThepOng | K11: =""
A12: 7 | B12: A24.0293 | C12: Dây thép | D12: kg | E12: 20000 | F12: 20000 | G12: 1 | H12: TRUE | I12: 22000 | J12: DayThep | K12: =""
A13: 8 | B13: A24.0008 | C13: Đá 1x2 | D13: m3 | E13: 320000 | F13: 470000 | G13: 1 | H13: TRUE | I13: 517000 | J13: Da1x2 | K13: Áp theo "Đá 1x2" trong Thông báo giá VL số: 621/2025/TB-SXD của Sở XD TP Hải Phòng ngày 08/12/2025. Vùng: 10
A14: 9 | B14: A24.0418 | C14: Gỗ ván | D14: m3 | E14: 3409091 | F14: 3300000 | G14: 1 | H14: TRUE | I14: 3630000 | J14: GoVan | K14: Áp theo "Gỗ cốp pha (dày 2-3cm)" trong Thông báo giá VL số: 621/2025/TB-SXD của Sở XD TP Hải Phòng ngày 08/12/2025. Vùng: 10
A15: 10 | B15: A24.0524 | C15: Nước | D15: lít | E15: 12 | F15: 12 | G15: 1 | H15: TRUE | I15: 13 | J15: Nuoc(Lit) | K15: =""
A16: 11 | B16: A24.0348 | C16: ống xói F150mm | D16: m | E16: 160000 | F16: 350000 | G16: 1 | H16: TRUE | I16: 378000 | J16: OngXoi | K16: =""
A17: 12 | B17: A24.0349 | C17: ống xói F250mm | D17: m | E17: 270000 | F17: 550000 | G17: 1 | H17: TRUE | I17: 594000 | J17: OngXoi | K17: =""
A18: 13 | B18: A24.0350 | C18: ống xói F50mm | D18: m | E18: 55000 | F18: 55000 | G18: 1 | H18: TRUE | I18: 60500 | J18: OngXoi | K18: =""
A19: 14 | B19: A24.0543 | C19: Que hàn | D19: kg | E19: 25000 | F19: 25000 | G19: 1 | H19: TRUE | I19: 27500 | J19: QueHan | K19: =""
A20: 15 | B20: A24.0712 | C20: Thép hình | D20: kg | E20: 19250 | F20: 18800 | G20: 1 | H20: TRUE | I20: 20304 | J20: ThepHinh | K20: =""
A21: 16 | B21: A24.0726 | C21: Thép tấm | D21: kg | E21: 19250 | F21: 18800 | G21: 1 | H21: TRUE | I21: 20304 | J21: ThepTam | K21: =""
A22: 17 | B22: A24.0738 | C22: Thép tròn D<=10mm | D22: kg | E22: 19200 | F22: 14700 | G22: 1 | H22: TRUE | I22: 15876 | J22: ThepTron<=10 | K22: =""
A23: 18 | B23: A24.0739 | C23: Thép tròn D<=18mm | D23: kg | E23: 19200 | F23: 14700 | G23: 1 | H23: TRUE | I23: 15876 | J23: ThepTron<=18 | K23: =""
A24: 19 | B24: A24.0782 | C24: Vải địa kỹ thuật | D24: m2 | E24: 11100 | F24: 10400 | G24: 1 | H24: TRUE | I24: 11440 | J24: VaiDiaKyThuat | K24: Áp theo "Vài địa kỹ thuật không dệt 12KN" trong Thông báo giá VL số: 621/2025/TB-SXD của Sở XD TP Hải Phòng ngày 08/12/2025. Vùng: 10
A25: 20 | B25: A24.0797A | C25: Xi măng PCB30 | D25: kg | E25: 1380 | F25: 1597 | G25: 1 | H25: TRUE | I25: 1724.8 | J25: XiMangPCB30 | K25: Áp theo "Xi măng PCB30 bao Chinfon (đường bộ)" trong Thông báo giá VL số: 621/2025/TB-SXD của Sở XD TP Hải Phòng ngày 08/12/2025. Vùng: 10
A26: II | C26: NHÂN CÔNG
A27: 1 | B27: N1.30 | C27: Nhân công 3,0/7 - Nhóm 1 | D27: công | E27: 221303 | F27: ='Nhân công'!T8 -> 243700 | G27: 1 | H27: TRUE | J27: N1.30 | K27: Được tính toán, rồi Link từ sheet Nhân công sang
A28: 2 | B28: N2.30 | C28: Nhân công 3,0/7 - Nhóm 2 | D28: công | E28: 239592 | F28: ='Nhân công'!T9 -> 263800 | G28: 1 | H28: TRUE | J28: N2.30 | K28: Được tính toán, rồi Link từ sheet Nhân công sang
A29: 3 | B29: N2.35 | C29: Nhân công 3,5/7 - Nhóm 2 | D29: công | E29: 262000 | F29: ='Nhân công'!T10 -> 288500 | G29: 1 | H29: TRUE | J29: N2.35 | K29: Được tính toán, rồi Link từ sheet Nhân công sang
A30: 4 | B30: N2.40 | C30: Nhân công 4,0/7 - Nhóm 2 | D30: công | E30: 284408 | F30: ='Nhân công'!T11 -> 313200 | G30: 1 | H30: TRUE | J30: N2.40 | K30: Được tính toán, rồi Link từ sheet Nhân công sang
A31: III | C31: MÁY THI CÔNG
A32: 1 | B32: M109.0507 | C32: Ca nô 150 CV | D32: ca | E32: 2067189 | F32: =Máy!K6 -> 1995246 | G32: 1 | H32: TRUE | J32: M622 | K32: Được tính toán, rồi Link từ sheet Máy sang
A33: 2 | B33: M102.0302 | C33: Cần cẩu bánh xích 10T | D33: ca | E33: 2256343 | F33: =Máy!K20 -> 2090057 | G33: 1 | H33: TRUE | J33: M197 | K33: Được tính toán, rồi Link từ sheet Máy sang
A34: 3 | B34: M102.0501 | C34: Cần cẩu nổi, kéo theo 30T | D34: ca | E34: 7147541 | F34: =Máy!K32 -> 6848149 | G34: 1 | H34: TRUE | J34: M221 | K34: Được tính toán, rồi Link từ sheet Máy sang
A35: 4 | B35: M102.0406 | C35: Cần trục tháp - sức nâng : 25,0 T | D35: ca | E35: 3038093 | F35: =Máy!K50 -> 3119874 | G35: 1 | H35: TRUE | J35: M215 | K35: Được tính toán, rồi Link từ sheet Máy sang
A36: 5 | B36: M112.0105 | C36: Máy bơm nước, động cơ điện 14 kW | D36: ca | E36: 90924 | F36: =Máy!K62 -> 95300 | G36: 1 | H36: TRUE | J36: M345 | K36: Được tính toán, rồi Link từ sheet Máy sang
A37: 6 | B37: M112.0402 | C37: Máy bơm xói 4MC (75 kW) | D37: ca | E37: 734664 | F37: =Máy!K69 -> 782820 | G37: 1 | H37: TRUE | J37: M679 | K37: Được tính toán, rồi Link từ sheet Máy sang
A38: 7 | B38: M112.2601 | C38: Máy cắt uốn cốt thép - công suất : 5,0 kW | D38: ca | E38: 281286 | F38: =Máy!K79 -> 307436 | G38: 1 | H38: TRUE | J38: M454 | K38: Được tính toán, rồi Link từ sheet Máy sang
A39: 8 | B39: M112.3801 | C39: Máy cưa gỗ cầm tay - công suất : 1,3 kW | D39: ca | E39: 24662 | F39: =Máy!K89 -> 25048 | G39: 1 | H39: TRUE | J39: M459 | K39: Được tính toán, rồi Link từ sheet Máy sang
A40: 9 | B40: M101.0104 | C40: Máy đào một gầu, bánh xích - dung tích gầu : 0,80 m3 | D40: ca | E40: 2938899 | F40: =Máy!K96 -> 2551986 | G40: 1 | H40: TRUE | J40: M6 | K40: Được tính toán, rồi Link từ sheet Máy sang
A41: 10 | B41: M101.0105 | C41: Máy đào một gầu, bánh xích - dung tích gầu : 1,25 m3 | D41: ca | E41: 4000423 | F41: =Máy!K106 -> 3498165 | G41: 1 | H41: TRUE | J41: M9 | K41: Được tính toán, rồi Link từ sheet Máy sang
...

Sheet Đầu vào
A1: DỮ LIỆU ĐẦU VÀO TÍNH NHÂN CÔNG, CA MÁY
A2: ='Công trình'!A2 -> CÔNG TRÌNH : XÂY DỰNG HỆ THỐNG CỐNG HỘP KÊNH BẾN KEM ĐOẠN TỪ NHÀ ÔNG CHÍN ĐẾN KÊNH ĐẠI TRÀ 2, XÃ KIẾN MINH
A3: BẢNG 1. MỨC LƯƠNG, SỐ NGÀY LÀM VIỆC
A4: STT | B4: Tên, loại dữ liệu | D4: Giá trị
B5: Mức lương tối thiểu chung (đồng/tháng) | D5: 0
A6: 1 | B6: Mức lương đầu vào LNC (đồng/tháng) | D6: 0
A7: 2 | B7: Số ngày làm việc (ngày/tháng) | D7: 26
A8: 3 | B8: Hệ số điều chỉnh nhân công | D8: 1
A9: BẢNG 2. TỶ LỆ CÁC KHOẢN PHỤ CẤP
A10: STT | B10: Loại phụ cấp | D10: Tỷ lệ
A11: 1 | B11: Phụ cấp lưu động | D11: 0
A12: 2 | B12: Không ổn định sản xuất | D12: 0
A13: 3 | B13: Lương phụ nghỉ lễ, tết hoặc nghỉ phép ... | D13: 0
A14: 4 | B14: Chi phí có thể khoán trực tiếp cho người lao động | D14: 0
A15: 5 | B15: Phụ cấp khu vực | D15: 0
A16: 6 | B16: Phụ cấp độc hại | D16: 0
A17: 7 | B17: Phụ cấp thu hút | D17: 0
A18: 8 | B18: Phụ cấp trách nhiệm | D18: 0
A19: 9 | B19: Phụ cấp bảo hiểm | D19: 0
A20: 10 | B20: Phụ cấp vùng sâu, vùng xa, khó khăn, đắt đỏ | D20: 0
A21: BẢNG 3. ĐƠN GIÁ NHIÊN LIỆU, ĐIỆN (TRƯỚC THUẾ VAT)
A22: STT | B22: Loại nhiên liệu, năng lượng | C22: Đơn vị | D22: ="Đơn giá "&'Công trình'!AM1 -> Đơn giá (đ)
A23: 1 | B23: Diezel | C23: Lít | D23: 16824.07
A24: 2 | B24: Mazut | C24: Lít | D24: 11785.28
A25: 3 | B25: Điện | C25: kwh | D25: 1987 | E25: Giá điện theo: Quyết định 1279/QĐ-BCT ngày 09/05/2025
A26: 4 | B26: Xăng A92 | C26: Lít | D26: 16972.22 | E26: Giá nhiên liệu theo: Công bố của Petrolimex ngày 29/01/2026
A27: BẢNG 4. HỆ SỐ NHIÊN LIỆU PHỤ
A28: STT | B28: Loại động cơ | D28: Hệ số
A29: 1 | B29: Động cơ Diezel | D29: 1.03
A30: 2 | B30: Động cơ Mazut | D30: 1
A31: 3 | B31: Động cơ Điện | D31: 1.05
A32: 4 | B32: Động cơ Xăng | D32: 1.02
A33: BẢNG 5. THU HỒI KHI THANH LÝ
A34: STT | B34: Loại nhiên liệu, năng lượng | D34: Giá trị
A35: 1 | B35: Thu hồi thanh lý khi nguyên giá từ (triệu đồng) | D35: 30
A36: 2 | B36: Tỷ lệ thu hồi khi thanh lý | D36: 0.1
A37: BẢNG 6. LÀM TRÒN SỐ HỌC
A38: STT | B38: Đối tượng làm tròn | D38: Làm tròn
A39: 1 | B39: Giá | D39: 1 | E39: =D39 -> 1
A40: 2 | B40: Đơn giá Nhân công, Lương thợ lái máy | D40: -2 | E40: =D40 -> -2
...

Sheet Nhân công
A1: BẢNG TÍNH ĐƠN GIÁ NHÂN CÔNG
A2: (Theo Quyết định 479/QĐ-SXD năm 2024 của tỉnh Hải Phòng - Các quận, huyện.)
A3: ='Công trình'!A2 -> CÔNG TRÌNH : XÂY DỰNG HỆ THỐNG CỐNG HỘP KÊNH BẾN KEM ĐOẠN TỪ NHÀ ÔNG CHÍN ĐẾN KÊNH ĐẠI TRÀ 2, XÃ KIẾN MINH
A4: ="Đơn vị tính: "&'Công trình'!AM1 -> Đơn vị tính: (đ)
A5: STT | B5: Mã số | C5: Tên nhân công | D5: Đơn vị | E5: Hệ số lương (HCB) | F5: Đơn giá NC bình quân (đ/công) | G5: Hệ số lương bình quân | H5: Lương CB (đ/công) | I5: ="Phụ cấp "&'Công trình'!AM1 -> Phụ cấp (đ) | S5: Hệ số điều chỉnh nhân công | T5: Đơn giá nhân công (đ/công) | U5: Hệ số lương (chưa làm tròn)
I6: ="Lưu động _x000D_ ("&'Đầu vào'!D11*100&"% LTC)" -> Lưu động _x000D_ (0% LTC) | J6: ="Không ổn định S.X _x000D_ ("&'Đầu vào'!D12*100&"% LCB)" -> Không ổn định S.X _x000D_ (0% LCB) | K6: ="Lương phụ nghỉ lễ, tết _x000D_ ("&'Đầu vào'!D13*100&"% LCB)" -> Lương phụ nghỉ lễ, tết _x000D_ (0% LCB) | L6: ="Khoán trực tiếp _x000D_ ("&'Đầu vào'!D14*100&"% LCB)" -> Khoán trực tiếp _x000D_ (0% LCB) | M6: ="Khu vực _x000D_ ("&'Đầu vào'!D15*100&"% LTC)" -> Khu vực _x000D_ (0% LTC) | N6: ="Độc hại _x000D_ ("&'Đầu vào'!D16*100&"% LTC)" -> Độc hại _x000D_ (0% LTC) | O6: ="Thu hút _x000D_ ("&'Đầu vào'!D17*100&"% LCB)" -> Thu hút _x000D_ (0% LCB) | P6: ="Trách nhiệm _x000D_ ("&'Đầu vào'!D18*100&"% LTC)" -> Trách nhiệm _x000D_ (0% LTC) | Q6: ="Bảo hiểm _x000D_ ("&'Đầu vào'!D19*100&"% LCB)" -> Bảo hiểm _x000D_ (0% LCB) | R6: ="Vùng sâu, vùng xa _x000D_ ("&'Đầu vào'!D20*100&"% LCB)" -> Vùng sâu, vùng xa _x000D_ (0% LCB)
I7: ='Đầu vào'!D11 -> 0 | J7: ='Đầu vào'!D12 -> 0 | K7: ='Đầu vào'!D13 -> 0 | L7: ='Đầu vào'!D14 -> 0 | M7: ='Đầu vào'!D15 -> 0 | N7: ='Đầu vào'!D16 -> 0 | O7: ='Đầu vào'!D17 -> 0 | P7: ='Đầu vào'!D18 -> 0 | Q7: ='Đầu vào'!D19 -> 0 | R7: ='Đầu vào'!D20 -> 0
A8: 1 | B8: ='Giá tháng'!B27 -> N1.30 | C8: ='Giá tháng'!C27 -> Nhân công 3,0/7 - Nhóm 1 | D8: ='Giá tháng'!D27 -> công | E8: =ROUND(U8,'Đầu vào'!D42) -> 1.39 | F8: 266500 | G8: 1.52 | H8: =E8*F8/G8 -> 243707.24 | J8: =J7*H8 -> 0 | K8: =K7*H8 -> 0 | L8: =L7*H8 -> 0 | O8: =O7*H8 -> 0 | Q8: =Q7*H8 -> 0 | R8: =R7*H8 -> 0 | T8: =ROUND(SUM(H8:R8),'Đầu vào'!D40) -> 243700 | U8: 1.39
A9: 2 | B9: ='Giá tháng'!B28 -> N2.30 | C9: ='Giá tháng'!C28 -> Nhân công 3,0/7 - Nhóm 2 | D9: ='Giá tháng'!D28 -> công | E9: =ROUND(U9,'Đầu vào'!D42) -> 1.39 | F9: 288500 | G9: 1.52 | H9: =E9*F9/G9 -> 263825.66 | J9: =J7*H9 -> 0 | K9: =K7*H9 -> 0 | L9: =L7*H9 -> 0 | O9: =O7*H9 -> 0 | Q9: =Q7*H9 -> 0 | R9: =R7*H9 -> 0 | T9: =ROUND(SUM(H9:R9),'Đầu vào'!D40) -> 263800 | U9: 1.39
A10: 3 | B10: ='Giá tháng'!B29 -> N2.35 | C10: ='Giá tháng'!C29 -> Nhân công 3,5/7 - Nhóm 2 | D10: ='Giá tháng'!D29 -> công | E10: =ROUND(U10,'Đầu vào'!D42) -> 1.52 | F10: 288500 | G10: 1.52 | H10: =E10*F10/G10 -> 288500 | J10: =J7*H10 -> 0 | K10: =K7*H10 -> 0 | L10: =L7*H10 -> 0 | O10: =O7*H10 -> 0 | Q10: =Q7*H10 -> 0 | R10: =R7*H10 -> 0 | T10: =ROUND(SUM(H10:R10),'Đầu vào'!D40) -> 288500 | U10: 1.52
A11: 4 | B11: ='Giá tháng'!B30 -> N2.40 | C11: ='Giá tháng'!C30 -> Nhân công 4,0/7 - Nhóm 2 | D11: ='Giá tháng'!D30 -> công | E11: =ROUND(U11,'Đầu vào'!D42) -> 1.65 | F11: 288500 | G11: 1.52 | H11: =E11*F11/G11 -> 313174.34 | J11: =J7*H11 -> 0 | K11: =K7*H11 -> 0 | L11: =L7*H11 -> 0 | O11: =O7*H11 -> 0 | Q11: =Q7*H11 -> 0 | R11: =R7*H11 -> 0 | T11: =ROUND(SUM(H11:R11),'Đầu vào'!D40) -> 313200 | U11: 1.65

Sheet Máy
A1: BẢNG TÍNH ĐƠN GIÁ CA MÁY
A2: (Theo Thông tư 60/2025/TT-BXD, Quyết định 479/QĐ-SXD năm 2024 của tỉnh Hải Phòng - Các quận, huyện.)
A3: ='Công trình'!A2 -> CÔNG TRÌNH : XÂY DỰNG HỆ THỐNG CỐNG HỘP KÊNH BẾN KEM ĐOẠN TỪ NHÀ ÔNG CHÍN ĐẾN KÊNH ĐẠI TRÀ 2, XÃ KIẾN MINH
A4: ="Đơn vị tính: "&'Công trình'!AM1 -> Đơn vị tính: (đ)
A5: STT | B5: Mã số | C5: Tên máy và thiết bị thi công / Diễn giải | D5: Đơn vị | E5: ="Nguyên giá_x000D_ "&'Công trình'!AM1 -> Nguyên giá_x000D_ (đ) | F5: Số ca / 1 năm | G5: Định mức | H5: ="Đơn giá_x000D_ "&'Công trình'!AM1 -> Đơn giá_x000D_ (đ) | I5: Hệ số | J5: Số ngày / tháng | K5: ="Chi phí_x000D_ "&'Công trình'!AM1 -> Chi phí_x000D_ (đ)
A6: 1 | B6: ='Giá tháng'!B32 -> M109.0507 | C6: ='Giá tháng'!C32 -> Ca nô 150 CV | D6: ='Giá tháng'!D32 -> ca | E6: 364360000 | F6: 260 | K6: =ROUND(K7+K9+K16,'Đầu vào'!D41) -> 1995246
C7: * Nhiên liệu, năng lượng : | K7: =SUM(K8:K8) -> 398562.22
C8: =" - "&'Đầu vào'!B23 -> - Diezel | D8: ='Đầu vào'!C23 -> Lít | G8: 23 | H8: ='Đầu vào'!D23 -> 16824.07 | I8: ='Đầu vào'!D29 -> 1.03 | K8: =G8*H8*I8 -> 398562.22
C9: * Nhân công vận hành máy : | K9: =G10*K10+G12*K12+G14*K14 -> 1309400
C10: - Thuyền trưởng bậc 1/2 - Nhóm 1 | G10: 1 | K10: =ROUND(SUM(K11:K11),'Đầu vào'!E40) -> 507300
C11: Lương cơ bản | G11: 1 | H11: 520000 | I11: 1.025 | K11: =IF(G11<>0,G11*H11/I11,H11) -> 507317.07
C12: - Máy 1 bậc 1/2 - Nhóm 1 | G12: 1 | K12: =ROUND(SUM(K13:K13),'Đầu vào'!E40) -> 418900
C13: Lương cơ bản | G13: 1 | H13: 429400 | I13: 1.025 | K13: =IF(G13<>0,G13*H13/I13,H13) -> 418926.83
C14: - Thủy thủ bậc 2/4 | G14: 1 | K14: =ROUND(SUM(K15:K15),'Đầu vào'!E40) -> 383200
C15: Lương cơ bản | G15: 1.13 | H15: 383200 | I15: 1.13 | K15: =IF(G15<>0,G15*H15/I15,H15) -> 383200
C16: * Khấu hao, Sửa chữa và Chi phí khác | K16: =SUM(K17:K19) -> 287283.85
C17: - Khấu hao | G17: 0.11 | H17: =E6 -> 364360000 | I17: =IF(E6>='Đầu vào'!D35*10^6,1-'Đầu vào'!D36,1) -> 0.9 | K17: =G17*H17*I17/F6 -> 138737.08
C18: - Sửa chữa | G18: 0.046 | H18: =E6 -> 364360000 | K18: =G18*H18/F6 -> 64463.692
C19: - Chi phí khác | G19: 0.06 | H19: =E6 -> 364360000 | K19: =G19*H19/F6 -> 84083.077
A20: 2 | B20: ='Giá tháng'!B33 -> M102.0302 | C20: ='Giá tháng'!C33 -> Cần cẩu bánh xích 10T | D20: ='Giá tháng'!D33 -> ca | E20: 1085398000 | F20: 250 | K20: =ROUND(K21+K23+K28,'Đầu vào'!D41) -> 2090057
C21: * Nhiên liệu, năng lượng : | K21: =SUM(K22:K22) -> 623836.52
C22: =" - "&'Đầu vào'!B23 -> - Diezel | D22: ='Đầu vào'!C23 -> Lít | G22: 36 | H22: ='Đầu vào'!D23 -> 16824.07 | I22: ='Đầu vào'!D29 -> 1.03 | K22: =G22*H22*I22 -> 623836.52
C23: * Nhân công vận hành máy : | K23: =G24*K24+G26*K26 -> 702100
C24: - Nhân công bậc 4,0/7 - Nhóm 4 | G24: 1 | K24: =ROUND(SUM(K25:K25),'Đầu vào'!E40) -> 322700
C25: Lương cơ bản | G25: 1.65 | H25: 297300 | I25: 1.52 | K25: =IF(G25<>0,G25*H25/I25,H25) -> 322726.97
C26: - Nhân công bậc 5,0/7 - Nhóm 4 | G26: 1 | K26: =ROUND(SUM(K27:K27),'Đầu vào'!E40) -> 379400
C27: Lương cơ bản | G27: 1.94 | H27: 297300 | I27: 1.52 | K27: =IF(G27<>0,G27*H27/I27,H27) -> 379448.68
C28: * Khấu hao, Sửa chữa và Chi phí khác | K28: =SUM(K29:K31) -> 764120.19
C29: - Khấu hao | G29: 0.09 | H29: =E20 -> 1085398000 | I29: =IF(E20>='Đầu vào'!D35*10^6,1-'Đầu vào'!D36,1) -> 0.9 | K29: =G29*H29*I29/F20 -> 351668.95
C30: - Sửa chữa | G30: 0.045 | H30: =E20 -> 1085398000 | K30: =G30*H30/F20 -> 195371.64
C31: - Chi phí khác | G31: 0.05 | H31: =E20 -> 1085398000 | K31: =G31*H31/F20 -> 217079.6
A32: 3 | B32: ='Giá tháng'!B34 -> M102.0501 | C32: ='Giá tháng'!C34 -> Cần cẩu nổi, kéo theo 30T | D32: ='Giá tháng'!D34 -> ca | E32: 2794100000 | F32: 195 | K32: =ROUND(K33+K35+K46,'Đầu vào'!D41) -> 6848149
C33: * Nhiên liệu, năng lượng : | K33: =SUM(K34:K34) -> 1403632.2
C34: =" - "&'Đầu vào'!B23 -> - Diezel | D34: ='Đầu vào'!C23 -> Lít | G34: 81 | H34: ='Đầu vào'!D23 -> 16824.07 | I34: ='Đầu vào'!D29 -> 1.03 | K34: =G34*H34*I34 -> 1403632.2
C35: * Nhân công vận hành máy : | K35: =G36*K36+G38*K38+G40*K40+G42*K42+G44*K44 -> 2392500
C36: - Thuyền phó 2 bậc 1/2 - Nhóm 2 | G36: 1 | K36: =ROUND(SUM(K37:K37),'Đầu vào'!E40) -> 418900
C37: Lương cơ bản | G37: 1 | H37: 429400 | I37: 1.025 | K37: =IF(G37<>0,G37*H37/I37,H37) -> 418926.83
C38: - Thợ máy bậc 2/4 | G38: 2 | K38: =ROUND(SUM(K39:K39),'Đầu vào'!E40) -> 383200
C39: Lương cơ bản | G39: 1.13 | H39: 383200 | I39: 1.13 | K39: =IF(G39<>0,G39*H39/I39,H39) -> 383200
C40: - Thợ máy bậc 3/4 | G40: 1 | K40: =ROUND(SUM(K41:K41),'Đầu vào'!E40) -> 440800
...

Sheet HaoPhiVatTu
A1: HAO PHÍ VẬT LIỆU, NHÂN CÔNG, MÁY CHO CÁC CÔNG TÁC
A2: ='Công trình'!A2 -> CÔNG TRÌNH : XÂY DỰNG HỆ THỐNG CỐNG HỘP KÊNH BẾN KEM ĐOẠN TỪ NHÀ ÔNG CHÍN ĐẾN KÊNH ĐẠI TRÀ 2, XÃ KIẾN MINH | M2: VL khác, Máy khác
A3: ='Công trình'!F6 -> HẠNG MỤC 1 | M3: VLK gốc | N3: MK gốc | O3: VLK HT | P3: MK HT | Q3: Cước VC | R3: Cước bộ | S3: So sánh
A4: STT | B4: Mã hiệu | C4: Tên công tác / vật tư | D4: Đơn vị | E4: Khối lượng | F4: Định mức hao phí | G4: Hệ số | H4: Khối lượng hao phí | M4: =SUM(M6:M315) -> 28201221 | N4: =SUM(N6:N315) -> 12613585 | O4: =SUM(O6:O315) -> 37554834 | P4: =SUM(P6:P315) -> 11649442
A6: ='Công trình'!A10 -> 2 | B6: ='Công trình'!E10 -> AC.22111 | C6: ='Công trình'!F10 -> Đóng cọc ván thép (cừ Larsen) trên cạn bằng máy đóng cọc 1,8T, chiều dài cọc <=12 m, đất cấp I | D6: ='Công trình'!G10 -> 100m | E6: ='Công trình'!P10 -> 48.04
C7: a) Vật liệu
B8: ='Giá tháng'!B10 -> A24.0230 | C8: ='Giá tháng'!C10 -> Cọc ván thép <=12m | D8: ='Giá tháng'!D10 -> m | F8: 100 | G8: ='Giá tháng'!G10 -> 1 | H8: =E6*F8*G8 -> 4804 | Q8: ='Cước VC'!AV10 -> 0 | R8: ='Cước bộ'!W10 -> 0 | S8: 108
B9: Z999 | C9: Vât liệu khác | D9: % | F9: 0.5 | M9: =E6*F9*(F8*'Giá tháng'!E10*'Giá tháng'!G10)/100 -> 0 | O9: =E6*F9*(F8*('Giá tháng'!F10+Q8+R8)*'Giá tháng'!G10)/100 -> 0
C10: b) Nhân công
B11: ='Giá tháng'!B29 -> N2.35 | C11: ='Giá tháng'!C29 -> Nhân công 3,5/7 - Nhóm 2 | D11: ='Giá tháng'!D29 -> công | F11: 6.68 | G11: ='Giá tháng'!G29 -> 1 | H11: =E6*F11*G11 -> 320.9072 | S11: 203
C12: c) Máy thi công
B13: ='Giá tháng'!B44 -> M103.0202 | C13: ='Giá tháng'!C44 -> Máy đóng cọc chạy trên ray - trọng lượng đầu búa : 1,8 T | D13: ='Giá tháng'!D44 -> ca | F13: 2.226 | G13: ='Giá tháng'!G44 -> 1 | H13: =E6*F13*G13 -> 106.93704 | S13: 3014
B14: M999 | C14: Máy khác | D14: % | F14: 3 | N14: =E6*F14*(F13*'Giá tháng'!E44*'Giá tháng'!G44)/100 -> 5739949.4 | P14: =E6*F14*(F13*'Giá tháng'!F44*'Giá tháng'!G44)/100 -> 5240622.9
A15: ='Công trình'!A39 -> 6 | B15: ='Công trình'!E39 -> AC.22111 | C15: ='Công trình'!F39 -> Nhổ cọc ván thép (cừ Larsen) trên cạn bằng máy đóng cọc 1,8T, chiều dài cọc <=12 m, đất cấp I | D15: ='Công trình'!G39 -> 100m | E15: ='Công trình'!P39 -> 48.04
C16: a) Vật liệu
B17: ='Giá tháng'!B10 -> A24.0230 | C17: ='Giá tháng'!C10 -> Cọc ván thép <=12m | D17: ='Giá tháng'!D10 -> m | F17: 100 | G17: ='Giá tháng'!G10 -> 1 | H17: =E15*F17*G17 -> 4804 | Q17: ='Cước VC'!AV10 -> 0 | R17: ='Cước bộ'!W10 -> 0 | S17: 108
B18: Z999 | C18: Vât liệu khác | D18: % | F18: 0.5 | M18: =E15*F18*(F17*'Giá tháng'!E10*'Giá tháng'!G10)/100 -> 0 | O18: =E15*F18*(F17*('Giá tháng'!F10+Q17+R17)*'Giá tháng'!G10)/100 -> 0
C19: b) Nhân công
B20: ='Giá tháng'!B29 -> N2.35 | C20: ='Giá tháng'!C29 -> Nhân công 3,5/7 - Nhóm 2 | D20: ='Giá tháng'!D29 -> công | F20: 6.68 | G20: ='Giá tháng'!G29 -> 1 | H20: =E15*F20*G20 -> 320.9072 | S20: 203
C21: c) Máy thi công
B22: ='Giá tháng'!B44 -> M103.0202 | C22: ='Giá tháng'!C44 -> Máy đóng cọc chạy trên ray - trọng lượng đầu búa : 1,8 T | D22: ='Giá tháng'!D44 -> ca | F22: 2.226 | G22: ='Giá tháng'!G44 -> 1 | H22: =E15*F22*G22 -> 106.93704 | S22: 3014
B23: M999 | C23: Máy khác | D23: % | F23: 3 | N23: =E15*F23*(F22*'Giá tháng'!E44*'Giá tháng'!G44)/100 -> 5739949.4 | P23: =E15*F23*(F22*'Giá tháng'!F44*'Giá tháng'!G44)/100 -> 5240622.9
A24: ='Công trình'!A41 -> 7 | B24: ='Công trình'!E41 -> AL.16121 | C24: ='Công trình'!F41 -> Rải vải địa kỹ thuật làm nền đường, mái đê, đập | D24: ='Công trình'!G41 -> 100m2 | E24: ='Công trình'!P41 -> 1.44
C25: a) Vật liệu
B26: ='Giá tháng'!B24 -> A24.0782 | C26: ='Giá tháng'!C24 -> Vải địa kỹ thuật | D26: ='Giá tháng'!D24 -> m2 | F26: 105 | G26: ='Giá tháng'!G24 -> 1 | H26: =E24*F26*G26 -> 151.2 | Q26: ='Cước VC'!AV24 -> 0 | R26: ='Cước bộ'!W24 -> 0 | S26: 1022
B27: Z999 | C27: Vât liệu khác | D27: % | F27: 0.2 | M27: =E24*F27*(F26*'Giá tháng'!E24*'Giá tháng'!G24)/100 -> 3356.64 | O27: =E24*F27*(F26*('Giá tháng'!F24+Q26+R26)*'Giá tháng'!G24)/100 -> 3144.96
C28: b) Nhân công
B29: ='Giá tháng'!B29 -> N2.35 | C29: ='Giá tháng'!C29 -> Nhân công 3,5/7 - Nhóm 2 | D29: ='Giá tháng'!D29 -> công | F29: 1.18 | G29: ='Giá tháng'!G29 -> 1 | H29: =E24*F29*G29 -> 1.6992 | S29: 203
A30: ='Công trình'!A44 -> 8 | B30: ='Công trình'!E44 -> AA.12111 | C30: ='Công trình'!F44 -> Chặt cây ở địa hình bằng phẳng bằng máy cưa, đường kính gốc cây <= 20cm | D30: ='Công trình'!G44 -> cây | E30: ='Công trình'!P44 -> 20
C31: b) Nhân công
B32: ='Giá tháng'!B27 -> N1.30 | C32: ='Giá tháng'!C27 -> Nhân công 3,0/7 - Nhóm 1 | D32: ='Giá tháng'!D27 -> công | F32: 0.07 | G32: ='Giá tháng'!G27 -> 1 | H32: =E30*F32*G32 -> 1.4 | S32: 201
C33: c) Máy thi công
B34: ='Giá tháng'!B39 -> M112.3801 | C34: ='Giá tháng'!C39 -> Máy cưa gỗ cầm tay - công suất : 1,3 kW | D34: ='Giá tháng'!D39 -> ca | F34: 0.065 | G34: ='Giá tháng'!G39 -> 1 | H34: =E30*F34*G34 -> 1.3 | S34: 309
A35: ='Công trình'!A47 -> 9 | B35: ='Công trình'!E47 -> AB.36120 | C35: ='Công trình'!F47 -> Xói hút bùn trong khung vây phòng nước, các trụ dưới nước | D35: ='Công trình'!G47 -> m3 | E35: ='Công trình'!P47 -> 1152.9
C36: a) Vật liệu
B37: ='Giá tháng'!B18 -> A24.0350 | C37: ='Giá tháng'!C18 -> ống xói F50mm | D37: ='Giá tháng'!D18 -> m | F37: 0.005 | G37: ='Giá tháng'!G18 -> 1 | H37: =E35*F37*G37 -> 5.7645 | Q37: ='Cước VC'!AV18 -> 0 | R37: ='Cước bộ'!W18 -> 0 | S37: 1016
B38: ='Giá tháng'!B16 -> A24.0348 | C38: ='Giá tháng'!C16 -> ống xói F150mm | D38: ='Giá tháng'!D16 -> m | F38: 0.005 | G38: ='Giá tháng'!G16 -> 1 | H38: =E35*F38*G38 -> 5.7645 | Q38: ='Cước VC'!AV16 -> 0 | R38: ='Cước bộ'!W16 -> 0 | S38: 1014
B39: ='Giá tháng'!B17 -> A24.0349 | C39: ='Giá tháng'!C17 -> ống xói F250mm | D39: ='Giá tháng'!D17 -> m | F39: 0.005 | G39: ='Giá tháng'!G17 -> 1 | H39: =E35*F39*G39 -> 5.7645 | Q39: ='Cước VC'!AV17 -> 0 | R39: ='Cước bộ'!W17 -> 0 | S39: 1015
B40: Z999 | C40: Vât liệu khác | D40: % | F40: 5 | M40: =E35*F40*(F37*'Giá tháng'!E18*'Giá tháng'!G18+F38*'Giá tháng'!E16*'Giá tháng'!G16+F39*'Giá tháng'!E17*'Giá tháng'!G17)/100 -> 139789.12 | O40: =E35*F40*(F37*('Giá tháng'!F18+Q37+R37)*'Giá tháng'!G18+F38*('Giá tháng'!F16+Q38+R38)*'Giá tháng'!G16+F39*('Giá tháng'!F17+Q39+R39)*'Giá tháng'!G17)/100 -> 275254.88
C41: b) Nhân công
...

Sheet Tổng hợp VT
A1: BẢNG TỔNG HỢP VẬT TƯ VÀ CHÊNH LỆCH GIÁ
A2: ='Công trình'!A2 -> CÔNG TRÌNH : XÂY DỰNG HỆ THỐNG CỐNG HỘP KÊNH BẾN KEM ĐOẠN TỪ NHÀ ÔNG CHÍN ĐẾN KÊNH ĐẠI TRÀ 2, XÃ KIẾN MINH
A3: ='Công trình'!F6 -> HẠNG MỤC 1
A4: STT | B4: Mã số | C4: Tên vật tư | D4: Đơn vị | E4: Khối lượng | F4: ="Giá gốc_x000D_ "&'Công trình'!AM1 -> Giá gốc_x000D_ (đ) | G4: ="Thành tiền_x000D_ "&'Công trình'!AM1 -> Thành tiền_x000D_ (đ) | H4: ="Giá T.B_x000D_ "&'Công trình'!AM1 -> Giá T.B_x000D_ (đ) | I4: ="Thành tiền_x000D_ "&'Công trình'!AM1 -> Thành tiền_x000D_ (đ) | J4: Hệ số | K4: ="Giá T.B x H.S_x000D_ "&'Công trình'!AM1 -> Giá T.B x H.S_x000D_ (đ) | L4: ="Thành tiền_x000D_ "&'Công trình'!AM1 -> Thành tiền_x000D_ (đ) | M4: ="Cước V.C_x000D_ Bù NL, lương_x000D_ "&'Công trình'!AM1 -> Cước V.C_x000D_ Bù NL, lương_x000D_ (đ) | N4: ="Thành tiền_x000D_ "&'Công trình'!AM1 -> Thành tiền_x000D_ (đ) | O4: ="Giá H.T_x000D_ "&'Công trình'!AM1 -> Giá H.T_x000D_ (đ) | P4: ="Thành tiền_x000D_ "&'Công trình'!AM1 -> Thành tiền_x000D_ (đ) | Q4: ="Chênh lệch_x000D_ "&'Công trình'!AM1 -> Chênh lệch_x000D_ (đ) | R4: ="Tổng chênh_x000D_ "&'Công trình'!AM1 -> Tổng chênh_x000D_ (đ) | S4: Ghi chú, Nguồn gốc xuất xứ | T4: Cước ôtô Cước sông | U4: Cước bộ
A5: I | C5: VẬT LIỆU
A6: 1 | B6: ='Công trình'!E32 -> TT | C6: ='Công trình'!F32 -> Cừ thép thuê 2500 đ/m/ngày dự kiến thi công 6 tháng ; cừ thép luân chuyển sử dung 3 lần | D6: ='Công trình'!G32 -> m | E6: ='Công trình'!P32 -> 2882.4 | F6: ='Công trình'!Q32+'Công trình'!R32 -> 2500 | G6: =E6*F6 -> 7206000 | H6: ='Công trình'!Q32+'Công trình'!R32 -> 2500 | I6: =E6*H6 -> 7206000 | J6: 1 | K6: =H6*J6 -> 2500 | L6: =E6*K6 -> 7206000 | M6: =T6+U6 -> 0 | N6: =E6*M6 -> 0 | O6: =H6+M6 -> 2500 | P6: =E6*O6*180 -> 1297080000 | Q6: =O6-F6 -> 0 | R6: =P6-G6 -> 1289874000
A7: 2 | B7: ='Công trình'!E36 -> TT | C7: ='Công trình'!F36 -> Thuê ván thép chống lầy để xe đi đóng cọc tre hố móng | D7: ='Công trình'!G36 -> đoạn | E7: ='Công trình'!P36 -> 5 | F7: ='Công trình'!Q36+'Công trình'!R36 -> 19500000 | G7: =E7*F7 -> 97500000 | H7: ='Công trình'!Q36+'Công trình'!R36 -> 19500000 | I7: =E7*H7 -> 97500000 | J7: 1 | K7: =H7*J7 -> 19500000 | L7: =E7*K7 -> 97500000 | M7: =T7+U7 -> 0 | N7: =E7*M7 -> 0 | O7: =H7+M7 -> 19500000 | P7: =E7*O7 -> 97500000 | Q7: =O7-F7 -> 0 | R7: =P7-G7 -> 0
A8: 3 | B8: ='Công trình'!E78 -> TT | C8: ='Công trình'!F78 -> Băng cản nước | D8: ='Công trình'!G78 -> m2 | E8: ='Công trình'!P78 -> 207.55 | F8: ='Công trình'!Q78+'Công trình'!R78 -> 300000 | G8: =E8*F8 -> 62265000 | H8: ='Công trình'!Q78+'Công trình'!R78 -> 300000 | I8: =E8*H8 -> 62265000 | J8: 1 | K8: =H8*J8 -> 300000 | L8: =E8*K8 -> 62265000 | M8: =T8+U8 -> 0 | N8: =E8*M8 -> 0 | O8: =H8+M8 -> 300000 | P8: =E8*O8 -> 62265000 | Q8: =O8-F8 -> 0 | R8: =P8-G8 -> 0
A9: 4 | B9: ='Công trình'!E112 -> TT | C9: ='Công trình'!F112 -> Vật liệu đất núi | D9: ='Công trình'!G112 -> m3 | E9: ='Công trình'!P112 -> 1551.352 | F9: ='Công trình'!Q112+'Công trình'!R112 -> 220000 | G9: =E9*F9 -> 341297440 | H9: ='Công trình'!Q112+'Công trình'!R112 -> 220000 | I9: =E9*H9 -> 341297440 | J9: 1 | K9: =H9*J9 -> 220000 | L9: =E9*K9 -> 341297440 | M9: =T9+U9 -> 0 | N9: =E9*M9 -> 0 | O9: =H9+M9 -> 220000 | P9: =E9*O9 -> 341297440 | Q9: =O9-F9 -> 0 | R9: =P9-G9 -> 0
A10: 5 | B10: ='Giá tháng'!B6 -> A24.1042 | C10: ='Giá tháng'!C6 -> Cát | D10: ='Giá tháng'!D6 -> m3 | E10: =SUMIF(HaoPhiVatTu!S6:S315,104,HaoPhiVatTu!H6:H315) -> 1082.5487 | F10: ='Giá tháng'!E6 -> 140000 | G10: =E10*F10 -> 151556818 | H10: ='Giá tháng'!F6 -> 280000 | I10: =E10*H10 -> 303113636 | J10: 1 | K10: =H10*J10 -> 280000 | L10: =E10*K10 -> 303113636 | M10: =T10+U10 -> 0 | N10: =E10*M10 -> 0 | O10: =H10+M10 -> 280000 | P10: =E10*O10 -> 303113636 | Q10: =O10-F10 -> 140000 | R10: =P10-G10 -> 151556818 | S10: ='Giá tháng'!K6 -> Áp theo "Cát san lấp" trong Thông báo giá VL số: 621/2025/TB-SXD của Sở XD TP Hải Phòng ngày 08/12/2025. Vùng: 10 | T10: ='Cước VC'!AV6 -> 0 | U10: ='Cước bộ'!W6 -> 0
A11: 6 | B11: ='Giá tháng'!B7 -> A24.0180 | C11: ='Giá tháng'!C7 -> Cát vàng | D11: ='Giá tháng'!D7 -> m3 | E11: =SUMIF(HaoPhiVatTu!S6:S315,105,HaoPhiVatTu!H6:H315) -> 357.71084 | F11: ='Giá tháng'!E7 -> 450000 | G11: =E11*F11 -> 1.6096988e+08 | H11: ='Giá tháng'!F7 -> 750000 | I11: =E11*H11 -> 2.6828313e+08 | J11: 1 | K11: =H11*J11 -> 750000 | L11: =E11*K11 -> 2.6828313e+08 | M11: =T11+U11 -> 0 | N11: =E11*M11 -> 0 | O11: =H11+M11 -> 750000 | P11: =E11*O11 -> 2.6828313e+08 | Q11: =O11-F11 -> 300000 | R11: =P11-G11 -> 1.0731325e+08 | S11: ='Giá tháng'!K7 -> Áp theo "Cát bê tông ML>2,0" trong Thông báo giá VL số: 621/2025/TB-SXD của Sở XD TP Hải Phòng ngày 08/12/2025. Vùng: 10 | T11: ='Cước VC'!AV7 -> 0 | U11: ='Cước bộ'!W7 -> 0
A12: 7 | B12: ='Giá tháng'!B8 -> A24.0183 | C12: ='Giá tháng'!C8 -> Cây chống | D12: ='Giá tháng'!D8 -> cây | E12: =SUMIF(HaoPhiVatTu!S6:S315,106,HaoPhiVatTu!H6:H315) -> 779.823 | F12: ='Giá tháng'!E8 -> 19000 | G12: =E12*F12 -> 14816637 | H12: ='Giá tháng'!F8 -> 22000 | I12: =E12*H12 -> 17156106 | J12: 1 | K12: =H12*J12 -> 22000 | L12: =E12*K12 -> 17156106 | M12: =T12+U12 -> 0 | N12: =E12*M12 -> 0 | O12: =H12+M12 -> 22000 | P12: =E12*O12 -> 17156106 | Q12: =O12-F12 -> 3000 | R12: =P12-G12 -> 2339469 | S12: ='Giá tháng'!K8 | T12: ='Cước VC'!AV8 -> 0 | U12: ='Cước bộ'!W8 -> 0
A13: 8 | B13: ='Giá tháng'!B9 -> A24.0227 | C13: ='Giá tháng'!C9 -> Cọc tre >2,5m | D13: ='Giá tháng'!D9 -> m | E13: =SUMIF(HaoPhiVatTu!S6:S315,107,HaoPhiVatTu!H6:H315) -> 49625.1 | F13: ='Giá tháng'!E9 -> 3200 | G13: =E13*F13 -> 158800320 | H13: ='Giá tháng'!F9 -> 4800 | I13: =E13*H13 -> 238200480 | J13: 1 | K13: =H13*J13 -> 4800 | L13: =E13*K13 -> 238200480 | M13: =T13+U13 -> 0 | N13: =E13*M13 -> 0 | O13: =H13+M13 -> 4800 | P13: =E13*O13 -> 238200480 | Q13: =O13-F13 -> 1600 | R13: =P13-G13 -> 79400160 | S13: ='Giá tháng'!K9 | T13: ='Cước VC'!AV9 -> 0 | U13: ='Cước bộ'!W9 -> 0
A14: 9 | B14: ='Giá tháng'!B10 -> A24.0230 | C14: ='Giá tháng'!C10 -> Cọc ván thép <=12m | D14: ='Giá tháng'!D10 -> m | E14: =SUMIF(HaoPhiVatTu!S6:S315,108,HaoPhiVatTu!H6:H315) -> 9608 | F14: ='Giá tháng'!E10 -> 0 | G14: =E14*F14 -> 0 | H14: ='Giá tháng'!F10 -> 0 | I14: =E14*H14 -> 0 | J14: 1 | K14: =H14*J14 -> 0 | L14: =E14*K14 -> 0 | M14: =T14+U14 -> 0 | N14: =E14*M14 -> 0 | O14: =H14+M14 -> 0 | P14: =E14*O14 -> 0 | Q14: =O14-F14 -> 0 | R14: =P14-G14 -> 0 | S14: ='Giá tháng'!K10 | T14: ='Cước VC'!AV10 -> 0 | U14: ='Cước bộ'!W10 -> 0
A15: 10 | B15: ='Giá tháng'!B11 -> A24.0262 | C15: ='Giá tháng'!C11 -> Cột chống thép ống | D15: ='Giá tháng'!D11 -> kg | E15: =SUMIF(HaoPhiVatTu!S6:S315,109,HaoPhiVatTu!H6:H315) -> 1068.9041 | F15: ='Giá tháng'!E11 -> 12627 | G15: =E15*F15 -> 13497052 | H15: ='Giá tháng'!F11 -> 12627 | I15: =E15*H15 -> 13497052 | J15: 1 | K15: =H15*J15 -> 12627 | L15: =E15*K15 -> 13497052 | M15: =T15+U15 -> 0 | N15: =E15*M15 -> 0 | O15: =H15+M15 -> 12627 | P15: =E15*O15 -> 13497052 | Q15: =O15-F15 -> 0 | R15: =P15-G15 -> 0 | S15: ='Giá tháng'!K11 | T15: ='Cước VC'!AV11 -> 0 | U15: ='Cước bộ'!W11 -> 0
A16: 11 | B16: ='Giá tháng'!B12 -> A24.0293 | C16: ='Giá tháng'!C12 -> Dây thép | D16: ='Giá tháng'!D12 -> kg | E16: =SUMIF(HaoPhiVatTu!S6:S315,1010,HaoPhiVatTu!H6:H315) -> 607.82014 | F16: ='Giá tháng'!E12 -> 20000 | G16: =E16*F16 -> 12156403 | H16: ='Giá tháng'!F12 -> 20000 | I16: =E16*H16 -> 12156403 | J16: 1 | K16: =H16*J16 -> 20000 | L16: =E16*K16 -> 12156403 | M16: =T16+U16 -> 0 | N16: =E16*M16 -> 0 | O16: =H16+M16 -> 20000 | P16: =E16*O16 -> 12156403 | Q16: =O16-F16 -> 0 | R16: =P16-G16 -> 0 | S16: ='Giá tháng'!K12 | T16: ='Cước VC'!AV12 -> 0 | U16: ='Cước bộ'!W12 -> 0
A17: 12 | B17: ='Giá tháng'!B13 -> A24.0008 | C17: ='Giá tháng'!C13 -> Đá 1x2 | D17: ='Giá tháng'!D13 -> m3 | E17: =SUMIF(HaoPhiVatTu!S6:S315,1011,HaoPhiVatTu!H6:H315) -> 589.23499 | F17: ='Giá tháng'!E13 -> 320000 | G17: =E17*F17 -> 1.885552e+08 | H17: ='Giá tháng'!F13 -> 470000 | I17: =E17*H17 -> 2.7694045e+08 | J17: 1 | K17: =H17*J17 -> 470000 | L17: =E17*K17 -> 2.7694045e+08 | M17: =T17+U17 -> 0 | N17: =E17*M17 -> 0 | O17: =H17+M17 -> 470000 | P17: =E17*O17 -> 2.7694045e+08 | Q17: =O17-F17 -> 150000 | R17: =P17-G17 -> 88385248 | S17: ='Giá tháng'!K13 -> Áp theo "Đá 1x2" trong Thông báo giá VL số: 621/2025/TB-SXD của Sở XD TP Hải Phòng ngày 08/12/2025. Vùng: 10 | T17: ='Cước VC'!AV13 -> 0 | U17: ='Cước bộ'!W13 -> 0
A18: 13 | B18: ='Giá tháng'!B14 -> A24.0418 | C18: ='Giá tháng'!C14 -> Gỗ ván | D18: ='Giá tháng'!D14 -> m3 | E18: =SUMIF(HaoPhiVatTu!S6:S315,1012,HaoPhiVatTu!H6:H315) -> 4.7262 | F18: ='Giá tháng'!E14 -> 3409091 | G18: =E18*F18 -> 16112046 | H18: ='Giá tháng'!F14 -> 3300000 | I18: =E18*H18 -> 15596460 | J18: 1 | K18: =H18*J18 -> 3300000 | L18: =E18*K18 -> 15596460 | M18: =T18+U18 -> 0 | N18: =E18*M18 -> 0 | O18: =H18+M18 -> 3300000 | P18: =E18*O18 -> 15596460 | Q18: =O18-F18 -> -109091 | R18: =P18-G18 -> -515585.88 | S18: ='Giá tháng'!K14 -> Áp theo "Gỗ cốp pha (dày 2-3cm)" trong Thông báo giá VL số: 621/2025/TB-SXD của Sở XD TP Hải Phòng ngày 08/12/2025. Vùng: 10 | T18: ='Cước VC'!AV14 -> 0 | U18: ='Cước bộ'!W14 -> 0
A19: 14 | B19: ='Giá tháng'!B15 -> A24.0524 | C19: ='Giá tháng'!C15 -> Nước | D19: ='Giá tháng'!D15 -> lít | E19: =SUMIF(HaoPhiVatTu!S6:S315,1013,HaoPhiVatTu!H6:H315) -> 130222 | F19: ='Giá tháng'!E15 -> 12 | G19: =E19*F19 -> 1562664 | H19: ='Giá tháng'!F15 -> 12 | I19: =E19*H19 -> 1562664 | J19: 1 | K19: =H19*J19 -> 12 | L19: =E19*K19 -> 1562664 | M19: =T19+U19 -> 0 | N19: =E19*M19 -> 0 | O19: =H19+M19 -> 12 | P19: =E19*O19 -> 1562664 | Q19: =O19-F19 -> 0 | R19: =P19-G19 -> 0 | S19: ='Giá tháng'!K15 | T19: ='Cước VC'!AV15 -> 0 | U19: ='Cước bộ'!W15 -> 0
A20: 15 | B20: ='Giá tháng'!B16 -> A24.0348 | C20: ='Giá tháng'!C16 -> ống xói F150mm | D20: ='Giá tháng'!D16 -> m | E20: =SUMIF(HaoPhiVatTu!S6:S315,1014,HaoPhiVatTu!H6:H315) -> 5.7645 | F20: ='Giá tháng'!E16 -> 160000 | G20: =E20*F20 -> 922320 | H20: ='Giá tháng'!F16 -> 350000 | I20: =E20*H20 -> 2017575 | J20: 1 | K20: =H20*J20 -> 350000 | L20: =E20*K20 -> 2017575 | M20: =T20+U20 -> 0 | N20: =E20*M20 -> 0 | O20: =H20+M20 -> 350000 | P20: =E20*O20 -> 2017575 | Q20: =O20-F20 -> 190000 | R20: =P20-G20 -> 1095255 | S20: ='Giá tháng'!K16 | T20: ='Cước VC'!AV16 -> 0 | U20: ='Cước bộ'!W16 -> 0
A21: 16 | B21: ='Giá tháng'!B17 -> A24.0349 | C21: ='Giá tháng'!C17 -> ống xói F250mm | D21: ='Giá tháng'!D17 -> m | E21: =SUMIF(HaoPhiVatTu!S6:S315,1015,HaoPhiVatTu!H6:H315) -> 5.7645 | F21: ='Giá tháng'!E17 -> 270000 | G21: =E21*F21 -> 1556415 | H21: ='Giá tháng'!F17 -> 550000 | I21: =E21*H21 -> 3170475 | J21: 1 | K21: =H21*J21 -> 550000 | L21: =E21*K21 -> 3170475 | M21: =T21+U21 -> 0 | N21: =E21*M21 -> 0 | O21: =H21+M21 -> 550000 | P21: =E21*O21 -> 3170475 | Q21: =O21-F21 -> 280000 | R21: =P21-G21 -> 1614060 | S21: ='Giá tháng'!K17 | T21: ='Cước VC'!AV17 -> 0 | U21: ='Cước bộ'!W17 -> 0
A22: 17 | B22: ='Giá tháng'!B18 -> A24.0350 | C22: ='Giá tháng'!C18 -> ống xói F50mm | D22: ='Giá tháng'!D18 -> m | E22: =SUMIF(HaoPhiVatTu!S6:S315,1016,HaoPhiVatTu!H6:H315) -> 5.7645 | F22: ='Giá tháng'!E18 -> 55000 | G22: =E22*F22 -> 317047.5 | H22: ='Giá tháng'!F18 -> 55000 | I22: =E22*H22 -> 317047.5 | J22: 1 | K22: =H22*J22 -> 55000 | L22: =E22*K22 -> 317047.5 | M22: =T22+U22 -> 0 | N22: =E22*M22 -> 0 | O22: =H22+M22 -> 55000 | P22: =E22*O22 -> 317047.5 | Q22: =O22-F22 -> 0 | R22: =P22-G22 -> 0 | S22: ='Giá tháng'!K18 | T22: ='Cước VC'!AV18 -> 0 | U22: ='Cước bộ'!W18 -> 0
A23: 18 | B23: ='Giá tháng'!B19 -> A24.0543 | C23: ='Giá tháng'!C19 -> Que hàn | D23: ='Giá tháng'!D19 -> kg | E23: =SUMIF(HaoPhiVatTu!S6:S315,1017,HaoPhiVatTu!H6:H315) -> 211.7602 | F23: ='Giá tháng'!E19 -> 25000 | G23: =E23*F23 -> 5294005.1 | H23: ='Giá tháng'!F19 -> 25000 | I23: =E23*H23 -> 5294005.1 | J23: 1 | K23: =H23*J23 -> 25000 | L23: =E23*K23 -> 5294005.1 | M23: =T23+U23 -> 0 | N23: =E23*M23 -> 0 | O23: =H23+M23 -> 25000 | P23: =E23*O23 -> 5294005.1 | Q23: =O23-F23 -> 0 | R23: =P23-G23 -> 0 | S23: ='Giá tháng'!K19 | T23: ='Cước VC'!AV19 -> 0 | U23: ='Cước bộ'!W19 -> 0
A24: 19 | B24: ='Giá tháng'!B20 -> A24.0712 | C24: ='Giá tháng'!C20 -> Thép hình | D24: ='Giá tháng'!D20 -> kg | E24: =SUMIF(HaoPhiVatTu!S6:S315,1018,HaoPhiVatTu!H6:H315) -> 1387.5284 | F24: ='Giá tháng'!E20 -> 19250 | G24: =E24*F24 -> 26709921 | H24: ='Giá tháng'!F20 -> 18800 | I24: =E24*H24 -> 26085533 | J24: 1 | K24: =H24*J24 -> 18800 | L24: =E24*K24 -> 26085533 | M24: =T24+U24 -> 0 | N24: =E24*M24 -> 0 | O24: =H24+M24 -> 18800 | P24: =E24*O24 -> 26085533 | Q24: =O24-F24 -> -450 | R24: =P24-G24 -> -624387.76 | S24: ='Giá tháng'!K20 | T24: ='Cước VC'!AV20 -> 0 | U24: ='Cước bộ'!W20 -> 0
A25: 20 | B25: ='Giá tháng'!B21 -> A24.0726 | C25: ='Giá tháng'!C21 -> Thép tấm | D25: ='Giá tháng'!D21 -> kg | E25: =SUMIF(HaoPhiVatTu!S6:S315,1019,HaoPhiVatTu!H6:H315) -> 1558.9888 | F25: ='Giá tháng'!E21 -> 19250 | G25: =E25*F25 -> 30010534 | H25: ='Giá tháng'!F21 -> 18800 | I25: =E25*H25 -> 29308990 | J25: 1 | K25: =H25*J25 -> 18800 | L25: =E25*K25 -> 29308990 | M25: =T25+U25 -> 0 | N25: =E25*M25 -> 0 | O25: =H25+M25 -> 18800 | P25: =E25*O25 -> 29308990 | Q25: =O25-F25 -> -450 | R25: =P25-G25 -> -701544.96 | S25: ='Giá tháng'!K21 | T25: ='Cước VC'!AV21 -> 0 | U25: ='Cước bộ'!W21 -> 0
A26: 21 | B26: ='Giá tháng'!B22 -> A24.0738 | C26: ='Giá tháng'!C22 -> Thép tròn D<=10mm | D26: ='Giá tháng'!D22 -> kg | E26: =SUMIF(HaoPhiVatTu!S6:S315,1020,HaoPhiVatTu!H6:H315) -> 32017.793 | F26: ='Giá tháng'!E22 -> 19200 | G26: =E26*F26 -> 6.1474162e+08 | H26: ='Giá tháng'!F22 -> 14700 | I26: =E26*H26 -> 4.7066155e+08 | J26: 1 | K26: =H26*J26 -> 14700 | L26: =E26*K26 -> 4.7066155e+08 | M26: =T26+U26 -> 0 | N26: =E26*M26 -> 0 | O26: =H26+M26 -> 14700 | P26: =E26*O26 -> 4.7066155e+08 | Q26: =O26-F26 -> -4500 | R26: =P26-G26 -> -1.4408007e+08 | S26: ='Giá tháng'!K22 | T26: ='Cước VC'!AV22 -> 0 | U26: ='Cước bộ'!W22 -> 0
A27: 22 | B27: ='Giá tháng'!B23 -> A24.0739 | C27: ='Giá tháng'!C23 -> Thép tròn D<=18mm | D27: ='Giá tháng'!D23 -> kg | E27: =SUMIF(HaoPhiVatTu!S6:S315,1021,HaoPhiVatTu!H6:H315) -> 10535.682 | F27: ='Giá tháng'!E23 -> 19200 | G27: =E27*F27 -> 2.0228509e+08 | H27: ='Giá tháng'!F23 -> 14700 | I27: =E27*H27 -> 1.5487453e+08 | J27: 1 | K27: =H27*J27 -> 14700 | L27: =E27*K27 -> 1.5487453e+08 | M27: =T27+U27 -> 0 | N27: =E27*M27 -> 0 | O27: =H27+M27 -> 14700 | P27: =E27*O27 -> 1.5487453e+08 | Q27: =O27-F27 -> -4500 | R27: =P27-G27 -> -47410569 | S27: ='Giá tháng'!K23 | T27: ='Cước VC'!AV23 -> 0 | U27: ='Cước bộ'!W23 -> 0
A28: 23 | B28: ='Giá tháng'!B24 -> A24.0782 | C28: ='Giá tháng'!C24 -> Vải địa kỹ thuật | D28: ='Giá tháng'!D24 -> m2 | E28: =SUMIF(HaoPhiVatTu!S6:S315,1022,HaoPhiVatTu!H6:H315) -> 151.2 | F28: ='Giá tháng'!E24 -> 11100 | G28: =E28*F28 -> 1678320 | H28: ='Giá tháng'!F24 -> 10400 | I28: =E28*H28 -> 1572480 | J28: 1 | K28: =H28*J28 -> 10400 | L28: =E28*K28 -> 1572480 | M28: =T28+U28 -> 0 | N28: =E28*M28 -> 0 | O28: =H28+M28 -> 10400 | P28: =E28*O28 -> 1572480 | Q28: =O28-F28 -> -700 | R28: =P28-G28 -> -105840 | S28: ='Giá tháng'!K24 -> Áp theo "Vài địa kỹ thuật không dệt 12KN" trong Thông báo giá VL số: 621/2025/TB-SXD của Sở XD TP Hải Phòng ngày 08/12/2025. Vùng: 10 | T28: ='Cước VC'!AV24 -> 0 | U28: ='Cước bộ'!W24 -> 0
A29: 24 | B29: ='Giá tháng'!B25 -> A24.0797A | C29: ='Giá tháng'!C25 -> Xi măng PCB30 | D29: ='Giá tháng'!D25 -> kg | E29: =SUMIF(HaoPhiVatTu!S6:S315,1023,HaoPhiVatTu!H6:H315) -> 245126.54 | F29: ='Giá tháng'!E25 -> 1380 | G29: =E29*F29 -> 3.3827463e+08 | H29: ='Giá tháng'!F25 -> 1597 | I29: =E29*H29 -> 3.9146709e+08 | J29: 1 | K29: =H29*J29 -> 1597 | L29: =E29*K29 -> 3.9146709e+08 | M29: =T29+U29 -> 0 | N29: =E29*M29 -> 0 | O29: =H29+M29 -> 1597 | P29: =E29*O29 -> 3.9146709e+08 | Q29: =O29-F29 -> 217 | R29: =P29-G29 -> 53192460 | S29: ='Giá tháng'!K25 -> Áp theo "Xi măng PCB30 bao Chinfon (đường bộ)" trong Thông báo giá VL số: 621/2025/TB-SXD của Sở XD TP Hải Phòng ngày 08/12/2025. Vùng: 10 | T29: ='Cước VC'!AV25 -> 0 | U29: ='Cước bộ'!W25 -> 0
A30: 25 | B30: Z999 | C30: Vât liệu khác | D30: % | G30: =HaoPhiVatTu!M4 -> 28201221 | P30: =HaoPhiVatTu!O4 -> 37554834 | R30: =P30-G30 -> 9353613.3
C31: TỔNG VẬT LIỆU | G31: =SUM(G6:G30) -> 2.4762866e+09 | I31: =SUM(I6:I30) -> 2.7395441e+09 | L31: =SUM(L6:L30) -> 2.7395441e+09 | N31: =SUM(N6:N30) -> 0 | P31: =SUM(P6:P30) -> 4.0669729e+09 | R31: =SUM(R6:R30) -> 1.5906863e+09
A32: II | C32: NHÂN CÔNG
A33: 1 | B33: ='Công trình'!E34 -> TT | C33: ='Công trình'!F34 -> Bơm nước thi công cho 5 phân đoạn | D33: ='Công trình'!G34 -> ca | E33: ='Công trình'!P34 -> 75 | F33: ='Công trình'!S34 -> 50000 | G33: =E33*F33 -> 3750000 | H33: ='Công trình'!S34 -> 50000 | I33: =E33*H33 -> 3750000 | J33: 1 | K33: =H33*J33 -> 50000 | L33: =E33*K33 -> 3750000 | O33: =H33 -> 50000 | P33: =E33*O33 -> 3750000 | Q33: =O33-F33 -> 0 | R33: =P33-G33 -> 0
A34: 2 | B34: ='Giá tháng'!B27 -> N1.30 | C34: ='Giá tháng'!C27 -> Nhân công 3,0/7 - Nhóm 1 | D34: ='Giá tháng'!D27 -> công | E34: =SUMIF(HaoPhiVatTu!S6:S315,201,HaoPhiVatTu!H6:H315) -> 562.10104 | F34: ='Giá tháng'!E27 -> 221303 | G34: =E34*F34 -> 1.2439465e+08 | H34: ='Giá tháng'!F27 -> 243700 | I34: =E34*H34 -> 1.3698402e+08 | J34: 1 | K34: =H34*J34 -> 243700 | L34: =E34*K34 -> 1.3698402e+08 | O34: =H34 -> 243700 | P34: =E34*O34 -> 1.3698402e+08 | Q34: =O34-F34 -> 22397 | R34: =P34-G34 -> 12589377 | S34: ='Giá tháng'!K27 -> Được tính toán, rồi Link từ sheet Nhân công sang
A35: 3 | B35: ='Giá tháng'!B28 -> N2.30 | C35: ='Giá tháng'!C28 -> Nhân công 3,0/7 - Nhóm 2 | D35: ='Giá tháng'!D28 -> công | E35: =SUMIF(HaoPhiVatTu!S6:S315,202,HaoPhiVatTu!H6:H315) -> 1291.8947 | F35: ='Giá tháng'!E28 -> 239592 | G35: =E35*F35 -> 3.0952763e+08 | H35: ='Giá tháng'!F28 -> 263800 | I35: =E35*H35 -> 3.4080181e+08 | J35: 1 | K35: =H35*J35 -> 263800 | L35: =E35*K35 -> 3.4080181e+08 | O35: =H35 -> 263800 | P35: =E35*O35 -> 3.4080181e+08 | Q35: =O35-F35 -> 24208 | R35: =P35-G35 -> 31274186 | S35: ='Giá tháng'!K28 -> Được tính toán, rồi Link từ sheet Nhân công sang
A36: 4 | B36: ='Giá tháng'!B29 -> N2.35 | C36: ='Giá tháng'!C29 -> Nhân công 3,5/7 - Nhóm 2 | D36: ='Giá tháng'!D29 -> công | E36: =SUMIF(HaoPhiVatTu!S6:S315,203,HaoPhiVatTu!H6:H315) -> 2071.3442 | F36: ='Giá tháng'!E29 -> 262000 | G36: =E36*F36 -> 5.4269217e+08 | H36: ='Giá tháng'!F29 -> 288500 | I36: =E36*H36 -> 5.975828e+08 | J36: 1 | K36: =H36*J36 -> 288500 | L36: =E36*K36 -> 5.975828e+08 | O36: =H36 -> 288500 | P36: =E36*O36 -> 5.975828e+08 | Q36: =O36-F36 -> 26500 | R36: =P36-G36 -> 54890621 | S36: ='Giá tháng'!K29 -> Được tính toán, rồi Link từ sheet Nhân công sang
A37: 5 | B37: ='Giá tháng'!B30 -> N2.40 | C37: ='Giá tháng'!C30 -> Nhân công 4,0/7 - Nhóm 2 | D37: ='Giá tháng'!D30 -> công | E37: =SUMIF(HaoPhiVatTu!S6:S315,204,HaoPhiVatTu!H6:H315) -> 774.11425 | F37: ='Giá tháng'!E30 -> 284408 | G37: =E37*F37 -> 2.2016429e+08 | H37: ='Giá tháng'!F30 -> 313200 | I37: =E37*H37 -> 2.4245258e+08 | J37: 1 | K37: =H37*J37 -> 313200 | L37: =E37*K37 -> 2.4245258e+08 | O37: =H37 -> 313200 | P37: =E37*O37 -> 2.4245258e+08 | Q37: =O37-F37 -> 28792 | R37: =P37-G37 -> 22288297 | S37: ='Giá tháng'!K30 -> Được tính toán, rồi Link từ sheet Nhân công sang
C38: TỔNG NHÂN CÔNG | G38: =SUM(G33:G37) -> 1.2005287e+09 | I38: =SUM(I33:I37) -> 1.3215712e+09 | L38: =SUM(L33:L37) -> 1.3215712e+09 | N38: =SUM(N33:N37) -> 0 | P38: =SUM(P33:P37) -> 1.3215712e+09 | R38: =SUM(R33:R37) -> 1.2104248e+08
A39: III | C39: MÁY THI CÔNG
A40: 1 | B40: ='Công trình'!E8 -> TT | C40: ='Công trình'!F8 -> Vận chuyển phao chuyến đến và chuyến về | D40: ='Công trình'!G8 -> ca | E40: ='Công trình'!P8 -> 2 | F40: ='Công trình'!T8 -> 3000000 | G40: =E40*F40 -> 6000000 | H40: ='Công trình'!T8 -> 3000000 | I40: =E40*H40 -> 6000000 | J40: 1 | K40: =H40*J40 -> 3000000 | L40: =E40*K40 -> 6000000 | N40: =E40*J40*M40 -> 0 | O40: =H40 -> 3000000 | P40: =E40*O40 -> 6000000 | Q40: =O40-F40 -> 0 | R40: =P40-G40 -> 0
...

Sheet THVT gộp

Sheet Cước VC
A1: BẢNG CƯỚC VẬN CHUYỂN
A2: ='Công trình'!A2 -> CÔNG TRÌNH : XÂY DỰNG HỆ THỐNG CỐNG HỘP KÊNH BẾN KEM ĐOẠN TỪ NHÀ ÔNG CHÍN ĐẾN KÊNH ĐẠI TRÀ 2, XÃ KIẾN MINH
A4: STT | B4: Mã số | C4: Tên vật liệu / Diễn giải vận chuyển | D4: Đơn vị | E4: Khối lượng | F4: Nhóm vật liệu | G4: Quy đổi đơn vị | H4: Nguồn mua | I4: Phương tiện vận chuyển / Loại hình | J4: Bậc hàng | K4: Hệ số bậc hàng | L4: Cự ly tổng (km) | M4: Cung đường | N4: ="" | O4: ="" | P4: ="" | Q4: ="" | R4: ="" | S4: ="" | T4: ="" | U4: ="" | V4: H.số đổ ben hoặc bốc dỡ | W4: H.số sử dụng xe tải nhỏ | X4: Định mức ca máy <=1 km | Y4: Định mức ca máy <=10 km | Z4: Định mức ca máy <=60 km | AA4: Định mức ca máy >60 km | AB4: Định mức ca máy (ca/km) | AC4: Định mức ca máy đã v/c trước (ca/km) | AD4: Đơn giá ca máy (đ/ca) | AE4: Giá cước (đ) | AF4: Cộng thêm cước (đ/T) | AG4: Thành tiền Chi phí (đ) | AH4: Hệ số điều chỉnh cước VC | AI4: Cước V/C sau khi điều chỉnh (đ) | AJ4: Bốc xếp + vận chuyển bằng xe ben (đ) | AK4: Định mức bốc lên khi trung chuyển | AL4: Định mức dỡ xuống khi trung chuyển | AM4: Đơn giá bốc dỡ | AN4: Chi phí bốc dỡ khi trung chuyển (đ) | AO4: Hệ số hao hụt khi trung chuyển | AP4: Chi phí hao hụt khi trung chuyển (đ) | AQ4: Định mức bốc lên khi bảo quản | AR4: Định mức dỡ xuống khi bảo quản | AS4: Chi phí bốc dỡ khi bảo quản (đ) | AT4: Hệ số hao hụt bảo quản | AU4: Chi phí hao hụt bảo quản | AV4: Giá V/C trước thuế (đ) | AW4: Thành tiền Vận chuyển (đ) | AX4: Giá vật liệu gốc trước thuế (đ) | AY4: Giá hiện trường trước thuế (đ) | AZ4: Thành tiền hiện trường (đ)
A5: ="" | B5: ="" | C5: ="" | D5: ="" | E5: ="" | F5: ="" | G5: ="" | H5: ="" | ... L5: ="" | M5: Cự ly (km) | N5: Loại đường | O5: Vùng | P5: Hệ số loại đường | Q5: Đã v/c (km) | R5: Cự ly <=1 km | S5: Cự ly <=10 km | T5: Cự ly <=60 km | U5: Cự ly >60 km | V5: ="" | W5: ="" | X5: ="" | Y5: ="" | Z5: ="" | AA5: ="" | AB5: ="" | AC5: ="" | ... AZ5: =""
A6: 1 | B6: A24.1042 | C6: Cát | D6: m3 | E6: ='Tổng hợp VT'!E10 -> 1082.5487 | F6: Cát | G6: 1 | I6: ô tô tự đổ 7T | J6: 1 | K6: 1 | P6: 1 | R6: 0 | S6: 0 | T6: 0 | U6: 0 | V6: 1 | W6: 1 | AD6: 1 | AE6: =ROUND(K6*P6*V6*W6*(R6*X6+S6*Y6+T6*Z6+0.95*U6*AA6)*AD6,1) -> 0 | AF6: 0 | AG6: =ROUND(G6*(AE6+AF6),0) -> 0 | AH6: 1 | AI6: =ROUND(AG6*AH6,0) -> 0 | AN6: =ROUND((AK6+AL6)*AM6,0) -> 0 | AP6: =ROUND(AO6*AX6,0) -> 0 | AS6: =ROUND(AM6*(AQ6+AR6),0) -> 0 | AU6: =ROUND(AT6*((AI6+AJ6)/1.1+AN6+AP6+AX6),0) -> 0 | AV6: =ROUND((AI6+AJ6)/1+AN6+AP6+AS6+AU6,0) -> 0 | AW6: =ROUND(E6*AV6,0) -> 0 | AX6: ='Tổng hợp VT'!K10 -> 280000 | AY6: =ROUND(AV6+AX6,0) -> 280000 | AZ6: =ROUND(E6*AY6,0) -> 303113636 | BA6: 1
A7: 2 | B7: A24.0180 | C7: Cát vàng | D7: m3 | E7: ='Tổng hợp VT'!E11 -> 357.71084 | F7: Cát | G7: 1 | I7: ô tô tự đổ 7T | J7: 1 | K7: 1 | P7: 1 | R7: 0 | S7: 0 | T7: 0 | U7: 0 | V7: 1 | W7: 1 | AD7: 1 | AE7: =ROUND(K7*P7*V7*W7*(R7*X7+S7*Y7+T7*Z7+0.95*U7*AA7)*AD7,1) -> 0 | AF7: 0 | AG7: =ROUND(G7*(AE7+AF7),0) -> 0 | AH7: 1 | AI7: =ROUND(AG7*AH7,0) -> 0 | AN7: =ROUND((AK7+AL7)*AM7,0) -> 0 | AP7: =ROUND(AO7*AX7,0) -> 0 | AS7: =ROUND(AM7*(AQ7+AR7),0) -> 0 | AU7: =ROUND(AT7*((AI7+AJ7)/1.1+AN7+AP7+AX7),0) -> 0 | AV7: =ROUND((AI7+AJ7)/1+AN7+AP7+AS7+AU7,0) -> 0 | AW7: =ROUND(E7*AV7,0) -> 0 | AX7: ='Tổng hợp VT'!K11 -> 750000 | AY7: =ROUND(AV7+AX7,0) -> 750000 | AZ7: =ROUND(E7*AY7,0) -> 268283127 | BA7: 1
A8: 3 | B8: A24.0183 | C8: Cây chống | D8: cây | E8: ='Tổng hợp VT'!E12 -> 779.823 | I8: ô tô thùng 7T | J8: 1 | K8: 1 | P8: 1 | R8: 0 | S8: 0 | T8: 0 | U8: 0 | V8: 1 | W8: 1 | AD8: 1 | AE8: =ROUND(K8*P8*V8*W8*(R8*X8+S8*Y8+T8*Z8+0.95*U8*AA8)*AD8,1) -> 0 | AF8: 0 | AG8: =ROUND(G8*(AE8+AF8),0) -> 0 | AH8: 1 | AI8: =ROUND(AG8*AH8,0) -> 0 | AN8: =ROUND((AK8+AL8)*AM8,0) -> 0 | AP8: =ROUND(AO8*AX8,0) -> 0 | AS8: =ROUND(AM8*(AQ8+AR8),0) -> 0 | AU8: =ROUND(AT8*((AI8+AJ8)/1.1+AN8+AP8+AX8),0) -> 0 | AV8: =ROUND((AI8+AJ8)/1+AN8+AP8+AS8+AU8,0) -> 0 | AW8: =ROUND(E8*AV8,0) -> 0 | AX8: ='Tổng hợp VT'!K12 -> 22000 | AY8: =ROUND(AV8+AX8,0) -> 22000 | AZ8: =ROUND(E8*AY8,0) -> 17156106 | BA8: 1
A9: 4 | B9: A24.0227 | C9: Cọc tre >2,5m | D9: m | E9: ='Tổng hợp VT'!E13 -> 49625.1 | I9: ô tô thùng 7T | J9: 1 | K9: 1 | P9: 1 | R9: 0 | S9: 0 | T9: 0 | U9: 0 | V9: 1 | W9: 1 | AD9: 1 | AE9: =ROUND(K9*P9*V9*W9*(R9*X9+S9*Y9+T9*Z9+0.95*U9*AA9)*AD9,1) -> 0 | AF9: 0 | AG9: =ROUND(G9*(AE9+AF9),0) -> 0 | AH9: 1 | AI9: =ROUND(AG9*AH9,0) -> 0 | AN9: =ROUND((AK9+AL9)*AM9,0) -> 0 | AP9: =ROUND(AO9*AX9,0) -> 0 | AS9: =ROUND(AM9*(AQ9+AR9),0) -> 0 | AU9: =ROUND(AT9*((AI9+AJ9)/1.1+AN9+AP9+AX9),0) -> 0 | AV9: =ROUND((AI9+AJ9)/1+AN9+AP9+AS9+AU9,0) -> 0 | AW9: =ROUND(E9*AV9,0) -> 0 | AX9: ='Tổng hợp VT'!K13 -> 4800 | AY9: =ROUND(AV9+AX9,0) -> 4800 | AZ9: =ROUND(E9*AY9,0) -> 238200480 | BA9: 1
A10: 5 | B10: A24.0230 | C10: Cọc ván thép <=12m | D10: m | E10: ='Tổng hợp VT'!E14 -> 9608 | I10: ô tô thùng 7T | J10: 1 | K10: 1 | P10: 1 | R10: 0 | S10: 0 | T10: 0 | U10: 0 | V10: 1 | W10: 1 | AD10: 1 | AE10: =ROUND(K10*P10*V10*W10*(R10*X10+S10*Y10+T10*Z10+0.95*U10*AA10)*AD10,1) -> 0 | AF10: 0 | AG10: =ROUND(G10*(AE10+AF10),0) -> 0 | AH10: 1 | AI10: =ROUND(AG10*AH10,0) -> 0 | AN10: =ROUND((AK10+AL10)*AM10,0) -> 0 | AP10: =ROUND(AO10*AX10,0) -> 0 | AS10: =ROUND(AM10*(AQ10+AR10),0) -> 0 | AU10: =ROUND(AT10*((AI10+AJ10)/1.1+AN10+AP10+AX10),0) -> 0 | AV10: =ROUND((AI10+AJ10)/1+AN10+AP10+AS10+AU10,0) -> 0 | AW10: =ROUND(E10*AV10,0) -> 0 | AY10: =ROUND(AV10+AX10,0) -> 0 | AZ10: =ROUND(E10*AY10,0) -> 0 | BA10: 1
A11: 6 | B11: A24.0262 | C11: Cột chống thép ống | D11: kg | E11: ='Tổng hợp VT'!E15 -> 1068.9041 | F11: Thép các loại | G11: 0.001 | I11: ô tô thùng 7T | J11: 1 | K11: 1 | P11: 1 | R11: 0 | S11: 0 | T11: 0 | U11: 0 | V11: 1 | W11: 1 | AD11: 1 | AE11: =ROUND(K11*P11*V11*W11*(R11*X11+S11*Y11+T11*Z11+0.95*U11*AA11)*AD11,1) -> 0 | AF11: 0 | AG11: =ROUND(G11*(AE11+AF11),0) -> 0 | AH11: 1 | AI11: =ROUND(AG11*AH11,0) -> 0 | AN11: =ROUND((AK11+AL11)*AM11,0) -> 0 | AP11: =ROUND(AO11*AX11,0) -> 0 | AS11: =ROUND(AM11*(AQ11+AR11),0) -> 0 | AU11: =ROUND(AT11*((AI11+AJ11)/1.1+AN11+AP11+AX11),0) -> 0 | AV11: =ROUND((AI11+AJ11)/1+AN11+AP11+AS11+AU11,0) -> 0 | AW11: =ROUND(E11*AV11,0) -> 0 | AX11: ='Tổng hợp VT'!K15 -> 12627 | AY11: =ROUND(AV11+AX11,0) -> 12627 | AZ11: =ROUND(E11*AY11,0) -> 13497052 | BA11: 1
A12: 7 | B12: A24.0293 | C12: Dây thép | D12: kg | E12: ='Tổng hợp VT'!E16 -> 607.82014 | F12: Thép các loại | G12: 0.001 | I12: ô tô tự đổ 7T | J12: 1 | K12: 1 | P12: 1 | R12: 0 | S12: 0 | T12: 0 | U12: 0 | V12: 1 | W12: 1 | AD12: 1 | AE12: =ROUND(K12*P12*V12*W12*(R12*X12+S12*Y12+T12*Z12+0.95*U12*AA12)*AD12,1) -> 0 | AF12: 0 | AG12: =ROUND(G12*(AE12+AF12),0) -> 0 | AH12: 1 | AI12: =ROUND(AG12*AH12,0) -> 0 | AN12: =ROUND((AK12+AL12)*AM12,0) -> 0 | AP12: =ROUND(AO12*AX12,0) -> 0 | AS12: =ROUND(AM12*(AQ12+AR12),0) -> 0 | AU12: =ROUND(AT12*((AI12+AJ12)/1.1+AN12+AP12+AX12),0) -> 0 | AV12: =ROUND((AI12+AJ12)/1+AN12+AP12+AS12+AU12,0) -> 0 | AW12: =ROUND(E12*AV12,0) -> 0 | AX12: ='Tổng hợp VT'!K16 -> 20000 | AY12: =ROUND(AV12+AX12,0) -> 20000 | AZ12: =ROUND(E12*AY12,0) -> 12156403 | BA12: 1
A13: 8 | B13: A24.0008 | C13: Đá 1x2 | D13: m3 | E13: ='Tổng hợp VT'!E17 -> 589.23499 | F13: Đá dăm | G13: 1 | I13: ô tô tự đổ 7T | J13: 1 | K13: 1 | P13: 1 | R13: 0 | S13: 0 | T13: 0 | U13: 0 | V13: 1 | W13: 1 | AD13: 1 | AE13: =ROUND(K13*P13*V13*W13*(R13*X13+S13*Y13+T13*Z13+0.95*U13*AA13)*AD13,1) -> 0 | AF13: 0 | AG13: =ROUND(G13*(AE13+AF13),0) -> 0 | AH13: 1 | AI13: =ROUND(AG13*AH13,0) -> 0 | AN13: =ROUND((AK13+AL13)*AM13,0) -> 0 | AP13: =ROUND(AO13*AX13,0) -> 0 | AS13: =ROUND(AM13*(AQ13+AR13),0) -> 0 | AU13: =ROUND(AT13*((AI13+AJ13)/1.1+AN13+AP13+AX13),0) -> 0 | AV13: =ROUND((AI13+AJ13)/1+AN13+AP13+AS13+AU13,0) -> 0 | AW13: =ROUND(E13*AV13,0) -> 0 | AX13: ='Tổng hợp VT'!K17 -> 470000 | AY13: =ROUND(AV13+AX13,0) -> 470000 | AZ13: =ROUND(E13*AY13,0) -> 276940445 | BA13: 1
A14: 9 | B14: A24.0418 | C14: Gỗ ván | D14: m3 | E14: ='Tổng hợp VT'!E18 -> 4.7262 | F14: Gỗ các loại | I14: ô tô thùng 7T | J14: 1 | K14: 1 | P14: 1 | R14: 0 | S14: 0 | T14: 0 | U14: 0 | V14: 1 | W14: 1 | AD14: 1 | AE14: =ROUND(K14*P14*V14*W14*(R14*X14+S14*Y14+T14*Z14+0.95*U14*AA14)*AD14,1) -> 0 | AF14: 0 | AG14: =ROUND(G14*(AE14+AF14),0) -> 0 | AH14: 1 | AI14: =ROUND(AG14*AH14,0) -> 0 | AN14: =ROUND((AK14+AL14)*AM14,0) -> 0 | AP14: =ROUND(AO14*AX14,0) -> 0 | AS14: =ROUND(AM14*(AQ14+AR14),0) -> 0 | AU14: =ROUND(AT14*((AI14+AJ14)/1.1+AN14+AP14+AX14),0) -> 0 | AV14: =ROUND((AI14+AJ14)/1+AN14+AP14+AS14+AU14,0) -> 0 | AW14: =ROUND(E14*AV14,0) -> 0 | AX14: ='Tổng hợp VT'!K18 -> 3300000 | AY14: =ROUND(AV14+AX14,0) -> 3300000 | AZ14: =ROUND(E14*AY14,0) -> 15596460 | BA14: 1
A15: 10 | B15: A24.0524 | C15: Nước | D15: lít | E15: ='Tổng hợp VT'!E19 -> 130222 | I15: ô tô thùng 7T | J15: 1 | K15: 1 | P15: 1 | R15: 0 | S15: 0 | T15: 0 | U15: 0 | V15: 1 | W15: 1 | AD15: 1 | AE15: =ROUND(K15*P15*V15*W15*(R15*X15+S15*Y15+T15*Z15+0.95*U15*AA15)*AD15,1) -> 0 | AF15: 0 | AG15: =ROUND(G15*(AE15+AF15),0) -> 0 | AH15: 1 | AI15: =ROUND(AG15*AH15,0) -> 0 | AN15: =ROUND((AK15+AL15)*AM15,0) -> 0 | AP15: =ROUND(AO15*AX15,0) -> 0 | AS15: =ROUND(AM15*(AQ15+AR15),0) -> 0 | AU15: =ROUND(AT15*((AI15+AJ15)/1.1+AN15+AP15+AX15),0) -> 0 | AV15: =ROUND((AI15+AJ15)/1+AN15+AP15+AS15+AU15,0) -> 0 | AW15: =ROUND(E15*AV15,0) -> 0 | AX15: ='Tổng hợp VT'!K19 -> 12 | AY15: =ROUND(AV15+AX15,0) -> 12 | AZ15: =ROUND(E15*AY15,0) -> 1562664 | BA15: 1
A16: 11 | B16: A24.0348 | C16: ống xói F150mm | D16: m | E16: ='Tổng hợp VT'!E20 -> 5.7645 | I16: ô tô thùng 7T | J16: 1 | K16: 1 | P16: 1 | R16: 0 | S16: 0 | T16: 0 | U16: 0 | V16: 1 | W16: 1 | AD16: 1 | AE16: =ROUND(K16*P16*V16*W16*(R16*X16+S16*Y16+T16*Z16+0.95*U16*AA16)*AD16,1) -> 0 | AF16: 0 | AG16: =ROUND(G16*(AE16+AF16),0) -> 0 | AH16: 1 | AI16: =ROUND(AG16*AH16,0) -> 0 | AN16: =ROUND((AK16+AL16)*AM16,0) -> 0 | AP16: =ROUND(AO16*AX16,0) -> 0 | AS16: =ROUND(AM16*(AQ16+AR16),0) -> 0 | AU16: =ROUND(AT16*((AI16+AJ16)/1.1+AN16+AP16+AX16),0) -> 0 | AV16: =ROUND((AI16+AJ16)/1+AN16+AP16+AS16+AU16,0) -> 0 | AW16: =ROUND(E16*AV16,0) -> 0 | AX16: ='Tổng hợp VT'!K20 -> 350000 | AY16: =ROUND(AV16+AX16,0) -> 350000 | AZ16: =ROUND(E16*AY16,0) -> 2017575 | BA16: 1
A17: 12 | B17: A24.0349 | C17: ống xói F250mm | D17: m | E17: ='Tổng hợp VT'!E21 -> 5.7645 | I17: ô tô thùng 7T | J17: 1 | K17: 1 | P17: 1 | R17: 0 | S17: 0 | T17: 0 | U17: 0 | V17: 1 | W17: 1 | AD17: 1 | AE17: =ROUND(K17*P17*V17*W17*(R17*X17+S17*Y17+T17*Z17+0.95*U17*AA17)*AD17,1) -> 0 | AF17: 0 | AG17: =ROUND(G17*(AE17+AF17),0) -> 0 | AH17: 1 | AI17: =ROUND(AG17*AH17,0) -> 0 | AN17: =ROUND((AK17+AL17)*AM17,0) -> 0 | AP17: =ROUND(AO17*AX17,0) -> 0 | AS17: =ROUND(AM17*(AQ17+AR17),0) -> 0 | AU17: =ROUND(AT17*((AI17+AJ17)/1.1+AN17+AP17+AX17),0) -> 0 | AV17: =ROUND((AI17+AJ17)/1+AN17+AP17+AS17+AU17,0) -> 0 | AW17: =ROUND(E17*AV17,0) -> 0 | AX17: ='Tổng hợp VT'!K21 -> 550000 | AY17: =ROUND(AV17+AX17,0) -> 550000 | AZ17: =ROUND(E17*AY17,0) -> 3170475 | BA17: 1
