Workbook

Sheet foxz

Sheet Công trình
A1: BẢNG DỰ TOÁN HẠNG MỤC CÔNG TRÌNH | AM1: (đ)
A2: CÔNG TRÌNH : XÂY DỰNG HỆ THỐNG CỐNG HỘP KÊNH BẾN KEM ĐOẠN TỪ NHÀ ÔNG CHÍN ĐẾN KÊNH ĐẠI TRÀ 2, XÃ KIẾN MINH
A3: HẠNG MỤC 1
A4: STT | B4: Ký hiệu bản vẽ | C4: Mã hiệu định mức | D4: Mã hiệu vữa | E4: Mã hiệu công tác | F4: Danh mục công tác/ Diễn giải KL | G4: Đơn vị tính | H4: Số C.K | I4: Kích thước | L4: Hệ số phụ | M4: Tổng dài | N4: D.tích (M2) | O4: K.L C.Kiện | P4: Khối lượng | Q4: ="Đơn giá "&'Công trình'!AM1 -> Đơn giá (đ) | U4: ="Thành tiền "&'Công trình'!AM1 -> Thành tiền (đ) | Y4: Hệ số điều chỉnh | AB4: Ghi chú, Nguồn gốc xuất xứ | AC4: Dữ liệu đã dùng | AE4: Hao phí định mức | AH4: Hệ số định mức | AK4: Thời điểm thi công | AM4: Tỉnh TP / Chuyên ngành
I5: Dài | J5: Rộng | K5: Cao | Q5: Vật liệu | R5: V.L phụ | S5: Nhân công | T5: Máy T.C | U5: Vật liệu | V5: V.L phụ | W5: Nhân công | X5: Máy thi công | Y5: V.L | Z5: N.C | AA5: Máy | AC5: Đơn giá | AD5: Giá máy | AE5: V.L | AF5: N.C | AG5: Máy | AH5: V.L | AI5: N.C | AJ5: Máy | AK5: Bắt đầu | AL5: Kết thúc
E6: HM | F6: HẠNG MỤC 1 | O6: 4
F7: BIỆN PHÁP THI CÔNG
A8: 1 | E8: TT | F8: Vận chuyển phao chuyến đến và chuyến về | G8: ca | P8: =ROUND(SUM(O8:O9),4) -> 2 | T8: 3000000 | U8: =P8*Q8 -> 0 | V8: =P8*R8 -> 0 | W8: =P8*S8 -> 0 | X8: =P8*T8 -> 6000000
F9: 2 = 2 | O9: 2
A10: 2 | C10: AC.22111 | E10: AC.22111 | F10: Đóng cọc ván thép (cừ Larsen) trên cạn bằng máy đóng cọc 1,8T, chiều dài cọc <=12 m, đất cấp I | G10: 100m | P10: =ROUND(SUM(O10:O31),4) -> 48.04 | S10: 1750160 | T10: 4102240 | U10: =P10*Q10 -> 0 | V10: =P10*R10 -> 0 | W10: =P10*S10 -> 84077686 | X10: =P10*T10 -> 1.9707161e+08 | AC10: DG2595_2022HP_XD | AD10: Giá máy 156/2022/QĐ-SXD Vùng 1 | AE10: A24.0230~Cọc ván thép <=12m~m~100~100~0~0~0~1~1~0~0~CocVanThep~~0žZ999~Vât liệu khác~%~0.5~0.5~0~0~0~1~1~0~0~VatLieuKhac~~0 | AF10: N2.35~Nhân công 3,5/7 - Nhóm 2~công~6.68~6.68~262000~288500~0~1~1~0~0~N2.35~Được tính toán, rồi Link từ sheet Nhân công sang~0 | AG10: M103.0202~Máy đóng cọc chạy trên ray - trọng lượng đầu búa : 1,8 T~ca~2.226~2.226~1789199~1633554~344605~1~1~0~0~M492~Được tính toán, rồi Link từ sheet Máy sang~0žM999~Máy khác~%~3~3~39827.56974~36362.91204~0~1~1~0~0~~~0 | AM10: HaiPhong
F11: Toàn tuyến chia 5 phân đoạn thi công;Phân đoạn 1--phân đoạn 5; mỗi phân đoạn 43m (tận dụng và luân chuyển cọc cừ)
F12: Phân đoạn 1
F13: Cừ + văng chống dọc biên: (43*2*8+43*2*2)/100 = 8,6 | O13: 8.6
F14: Cừ thay đên quai xanh:5,6*8/100 = 0,448 | O14: 0.448
F15: Văng chống ngang khoảng cách 10 m có 1 đểm chống ngang: 43/10+1 tính chẵn 5 điểm văng: 5*2*5,6/100 = 0,56 | O15: 0.56
F16: Phân đoạn 2
F17: Cừ + văng chống dọc biên: (43*2*8+43*2*2)/100 = 8,6 | O17: 8.6
F18: Cừ thay đên quai xanh:5,6*8/100 = 0,448 | O18: 0.448
F19: Văng chống ngang khoảng cách 10 m có 1 đểm chống ngang: 43/10+1 tính chẵn 5 điểm văng: 5*2*5,6/100 = 0,56 | O19: 0.56
F20: Phân đoạn 3
F21: Cừ + văng chống dọc biên: (43*2*8+43*2*2)/100 = 8,6 | O21: 8.6
F22: Cừ thay đên quai xanh:5,6*8/100 = 0,448 | O22: 0.448
F23: Văng chống ngang khoảng cách 10 m có 1 đểm chống ngang: 43/10+1 tính chẵn 5 điểm văng: 5*2*5,6/100 = 0,56 | O23: 0.56
F24: Phân đoạn 4
F25: Cừ + văng chống dọc biên: (43*2*8+43*2*2)/100 = 8,6 | O25: 8.6
F26: Cừ thay đên quai xanh:5,6*8/100 = 0,448 | O26: 0.448
F27: Văng chống ngang khoảng cách 10 m có 1 đểm chống ngang: 43/10+1 tính chẵn 5 điểm văng: 5*2*5,6/100 = 0,56 | O27: 0.56
F28: Phân đoạn 5
F29: Cừ + văng chống dọc biên: (43*2*8+43*2*2)/100 = 8,6 | O29: 8.6
F30: Cừ thay đên quai xanh:5,6*8/100 = 0,448 | O30: 0.448
F31: Văng chống ngang khoảng cách 10 m có 1 đểm chống ngang: 43/10+1 tính chẵn 5 điểm văng: 5*2*5,6/100 = 0,56 | O31: 0.56
A32: 3 | E32: TT | F32: Cừ thép thuê 2500 đ/m/ngày dự kiến thi công 6 tháng ; cừ thép luân chuyển sử dung 3 lần | G32: m | P32: =ROUND(SUM(O32:O33),4) -> 2882.4 | Q32: 2500 | U32: =P32*Q32 -> 7206000 | V32: =P32*R32 -> 0 | W32: =P32*S32 -> 0 | X32: =P32*T32 -> 0 | AB32: =U32*180 -> 1297080000
F33: 48,04/3*6*30 = 2882,4 | O33: 2882.4
A34: 4 | E34: TT | F34: Bơm nước thi công cho 5 phân đoạn | G34: ca | P34: =ROUND(SUM(O34:O35),4) -> 75 | S34: 50000 | T34: 450000 | U34: =P34*Q34 -> 0 | V34: =P34*R34 -> 0 | W34: =P34*S34 -> 3750000 | X34: =P34*T34 -> 33750000
F35: 15*5 = 75 | O35: 75
A36: 5 | E36: TT | F36: Thuê ván thép chống lầy để xe đi đóng cọc tre hố móng | G36: đoạn | P36: =ROUND(SUM(O36:O38),4) -> 5 | Q36: 19500000 | U36: =P36*Q36 -> 97500000 | V36: =P36*R36 -> 0 | W36: =P36*S36 -> 0 | X36: =P36*T36 -> 0
F37: Thuê cho phân đoạn 1+2+3+4+5
F38: 5 = 5 | O38: 5
A39: 6 | C39: AC.22111 | E39: AC.22111 | F39: Nhổ cọc ván thép (cừ Larsen) trên cạn bằng máy đóng cọc 1,8T, chiều dài cọc <=12 m, đất cấp I | G39: 100m | P39: =ROUND(SUM(O39:O40),4) -> 48.04 | S39: 1750160 | T39: 4102240 | U39: =P39*Q39 -> 0 | V39: =P39*R39 -> 0 | W39: =P39*S39 -> 84077686 | X39: =P39*T39 -> 1.9707161e+08 | AC39: DG2595_2022HP_XD | AD39: Giá máy 156/2022/QĐ-SXD Vùng 1 | AE39: A24.0230~Cọc ván thép <=12m~m~100~100~0~0~0~1~1~0~0~CocVanThep~~0žZ999~Vât liệu khác~%~0.5~0.5~0~0~0~1~1~0~0~VatLieuKhac~~0 | AF39: N2.35~Nhân công 3,5/7 - Nhóm 2~công~6.68~6.68~262000~288500~0~1~1~0~0~N2.35~Được tính toán, rồi Link từ sheet Nhân công sang~0 | AG39: M103.0202~Máy đóng cọc chạy trên ray - trọng lượng đầu búa : 1,8 T~ca~2.226~2.226~1789199~1633554~344605~1~1~0~0~M492~Được tính toán, rồi Link từ sheet Máy sang~0žM999~Máy khác~%~3~3~39827.56974~36362.91204~0~1~1~0~0~~~0 | AM39: HaiPhong
F40: Bằng KL đóng: 48,04 = 48,04 | O40: 48.04
A41: 7 | C41: AL.16121 | E41: AL.16121 | F41: Rải vải địa kỹ thuật làm nền đường, mái đê, đập | G41: 100m2 | P41: =ROUND(SUM(O41:O43),4) -> 1.44 | Q41: 1167831 | S41: 309160 | U41: =P41*Q41 -> 1681676.6 | V41: =P41*R41 -> 0 | W41: =P41*S41 -> 445190.4 | X41: =P41*T41 -> 0 | AC41: DG2595_2022HP_XD | AD41: Giá máy 156/2022/QĐ-SXD Vùng 1 | AE41: A24.0782~Vải địa kỹ thuật~m2~105~105~11100~10400~0~1~1~0~11440~VaiDiaKyThuat~Áp theo "Vài địa kỹ thuật không dệt 12KN" trong Thông báo giá VL số: 621/2025/TB-SXD của Sở XD TP Hải Phòng ngày 08/12/2025. Vùng: 10~0žZ999~Vât liệu khác~%~0.2~0.2~11655~10920~0~1~1~0~0~VatLieuKhac~~0 | AF41: N2.35~Nhân công 3,5/7 - Nhóm 2~công~1.18~1.18~262000~288500~0~1~1~0~0~N2.35~Được tính toán, rồi Link từ sheet Nhân công sang~0 | AM41: HaiPhong
F42: Bạt chống thấm nước phía ngoài cừ làm đê quai xanh:(5*5,6+20)*3/100 = 1,44 | O42: 1.44
F43: 2.THI CÔNG PHÂN ĐOẠN 1+2+3+4+5
A44: 8 | C44: AA.12111 | E44: AA.12111 | F44: Chặt cây ở địa hình bằng phẳng bằng máy cưa, đường kính gốc cây <= 20cm | G44: cây | P44: =ROUND(SUM(O44:O46),4) -> 20 | S44: 15491 | T44: 1603 | U44: =P44*Q44 -> 0 | V44: =P44*R44 -> 0 | W44: =P44*S44 -> 309820 | X44: =P44*T44 -> 32060 | AC44: DG2595_2022HP_XD | AD44: Giá máy 156/2022/QĐ-SXD Vùng 1 | AF44: N1.30~Nhân công 3,0/7 - Nhóm 1~công~0.07~0.07~221303~243700~0~1~1~0~0~N1.30~Được tính toán, rồi Link từ sheet Nhân công sang~0 | AG44: M112.3801~Máy cưa gỗ cầm tay - công suất : 1,3 kW~ca~0.065~0.065~24662~25048~0~1~1~0~0~M459~Được tính toán, rồi Link từ sheet Máy sang~0 | AM44: HaiPhong
F45: 20 = 20 | O45: 20
F46: PHẦN MÓNG
A47: 9 | C47: AB.36120 | E47: AB.36120 | F47: Xói hút bùn trong khung vây phòng nước, các trụ dưới nước | G47: m3 | P47: =ROUND(SUM(O47:O48),4) -> 1152.9 | Q47: 2546 | S47: 75243 | T47: 679931 | U47: =P47*Q47 -> 2935283.4 | V47: =P47*R47 -> 0 | W47: =P47*S47 -> 86747655 | X47: =P47*T47 -> 7.8389245e+08 | AC47: DG2595_2022HP_XD | AD47: Giá máy 156/2022/QĐ-SXD Vùng 1 | AE47: A24.0350~ống xói F50mm~m~0.005~0.005~55000~55000~0~1~1~0~60500~OngXoi~~0žA24.0348~ống xói F150mm~m~0.005~0.005~160000~350000~0~1~1~0~378000~OngXoi~~0žA24.0349~ống xói F250mm~m~0.005~0.005~270000~550000~0~1~1~0~594000~OngXoi~~0žZ999~Vât liệu khác~%~5~5~24.25~47.75~0~1~1~0~0~VatLieuKhac~~0 | AF47: N1.30~Nhân công 3,0/7 - Nhóm 1~công~0.34~0.34~221303~243700~0~1~1~0~0~N1.30~Được tính toán, rồi Link từ sheet Nhân công sang~0 | AG47: M108.0308~Máy nén khí, động cơ diezel - năng suất : 1200,00 m3/h~ca~0.057~0.057~3027990~2576996~293092~1~1~0~0~M406~Được tính toán, rồi Link từ sheet Máy sang~0žM112.0402~Máy bơm xói 4MC (75 kW)~ca~0.057~0.057~734664~782820~246908~1~1~0~0~M679~Được tính toán, rồi Link từ sheet Máy sang~0žM109.0104~Sà lan 400T~ca~0.057~0.057~891221~891221~0~1~1~0~0~M522~Được tính toán, rồi Link từ sheet Máy sang~0žM109.0507~Ca nô 150 CV~ca~0.001~0.001~2067189~1995246~1233958~1~1~0~0~M622~Được tính toán, rồi Link từ sheet Máy sang~0žM102.0501~Cần cẩu nổi, kéo theo 30T~ca~0.057~0.057~7147541~6848149~2172842~1~1~0~0~M221~Được tính toán, rồi Link từ sheet Máy sang~0žM112.0105~Máy bơm nước, động cơ điện 14 kW~ca~0.057~0.057~90924~95300~0~1~1~0~0~M345~Được tính toán, rồi Link từ sheet Máy sang~0 | AM47: HaiPhong
F48: Đoạn mương lọt giữa 2 bên nhà dân máy đào tính 70%:1647*70% = 1152,9 | O48: 1152.9
A49: 10 | C49: AB.25211 | E49: AB.25211 | F49: Đào móng công trình, chiều rộng móng <= 10m, bằng máy đào 0,8m3, đất cấp I | G49: 100m3 | P49: =ROUND(SUM(O49:O50),4) -> 4.8853 | S49: 380641 | T49: 884609 | U49: =P49*Q49 -> 0 | V49: =P49*R49 -> 0 | W49: =P49*S49 -> 1859545.5 | X49: =P49*T49 -> 4321580.3 | AC49: DG2595_2022HP_XD | AD49: Giá máy 156/2022/QĐ-SXD Vùng 1 | AF49: N1.30~Nhân công 3,0/7 - Nhóm 1~công~1.72~1.72~221303~243700~0~1~1~0~0~N1.30~Được tính toán, rồi Link từ sheet Nhân công sang~0 | AG49: M101.0104~Máy đào một gầu, bánh xích - dung tích gầu : 0,80 m3~ca~0.301~0.301~2938899~2551986~293092~1~1~0~0~M6~Được tính toán, rồi Link từ sheet Máy sang~0 | AM49: HaiPhong
F50: Đoạn mương một bên nhà dân và một bên đường giao thông, tính 30%:1628,427*30%/100 = 4,8853 | O50: 4.8853
A51: 11 | C51: AB.24131 | E51: AB.24131 | F51: Đào xúc đất bằng máy đào 1,25m3, đất cấp I | G51: 100m3 | P51: =ROUND(SUM(O51:O52),4) -> 16.4143 | S51: 81882 | T51: 730011 | U51: =P51*Q51 -> 0 | V51: =P51*R51 -> 0 | W51: =P51*S51 -> 1344035.7 | X51: =P51*T51 -> 11982620 | AC51: DG2595_2022HP_XD | AD51: Giá máy 156/2022/QĐ-SXD Vùng 1 | AF51: N1.30~Nhân công 3,0/7 - Nhóm 1~công~0.37~0.37~221303~243700~0~1~1~0~0~N1.30~Được tính toán, rồi Link từ sheet Nhân công sang~0 | AG51: M101.0105~Máy đào một gầu, bánh xích - dung tích gầu : 1,25 m3~ca~0.172~0.172~4000423~3498165~293092~1~1~0~0~M9~Được tính toán, rồi Link từ sheet Máy sang~0žM101.0503~Máy ủi - công suất : 110,0 CV~ca~0.02~0.02~2096893~1831732~293092~1~1~0~0~M45~Được tính toán, rồi Link từ sheet Máy sang~0 | AM51: HaiPhong
F52: Đào xúc bùn :1152,9/100+4,8853 = 16,4143 | O52: 16.4143
A53: 12 | C53: AB.41411 | E53: AB.41411 | F53: Vận chuyển đất bằng ôtô tự đổ 5 tấn trong phạm vi <= 1000m, đất cấp I | G53: 100m3 | P53: =ROUND(SUM(O53:O54),4) -> 16.414 | T53: 1987073 | U53: =P53*Q53 -> 0 | V53: =P53*R53 -> 0 | W53: =P53*S53 -> 0 | X53: =P53*T53 -> 32615816 | AC53: DG2595_2022HP_XD | AD53: Giá máy 156/2022/QĐ-SXD Vùng 1 | AG53: M106.0202~Ô tô tự đổ - trọng tải : 5,0 T~ca~1.15~1.15~1727890~1492461~270000~1~1~0~0~M107~Được tính toán, rồi Link từ sheet Máy sang~0 | AM53: HaiPhong
F54: Theo KL đào xúc: 16,414 = 16,414 | O54: 16.414
A55: 13 | C55: AB.42111 | E55: AB.42111 | F55: Vận chuyển đất bằng ô tô tự đổ 5T 1km tiếp theo trong phạm vi <= 5km, đất cấp I | G55: 100m3 | P55: =ROUND(SUM(O55:O56),4) -> 16.414 | T55: =915782*AA55 -> 3663128 | U55: =P55*Q55 -> 0 | V55: =P55*R55 -> 0 | W55: =P55*S55 -> 0 | X55: =P55*T55 -> 60126583 | AA55: 4 | AC55: DG2595_2022HP_XD | AD55: Giá máy 156/2022/QĐ-SXD Vùng 1 | AG55: M106.0202~Ô tô tự đổ - trọng tải : 5,0 T~ca~0.53~0.53~1727890~1492461~270000~1~1~0~0~M107~Được tính toán, rồi Link từ sheet Máy sang~0 | AM55: HaiPhong
F56: The KL trên; hệ số Kvc=4:16,414 = 16,414 | O56: 16.414
A57: 14 | C57: AC.11121 | E57: AC.11121 | F57: Đóng cọc tre bằng thủ công, chiều dài cọc > 2,5m vào đất cấp I | G57: 100m | P57: =ROUND(SUM(O57:O58),4) -> 456.875 | Q57: 413484 | S57: 483976 | U57: =P57*Q57 -> 1.889105e+08 | V57: =P57*R57 -> 0 | W57: =P57*S57 -> 221116535 | X57: =P57*T57 -> 0 | AC57: DG2595_2022HP_XD | AD57: Giá máy 156/2022/QĐ-SXD Vùng 1 | AE57: A24.0227~Cọc tre >2,5m~m~105~105~3200~4800~0~1~1~0~5184~CocTre~~0žA24.0183~Cây chống~cây~1.65~1.65~19000~22000~0~1~1~0~23760~CayChong~~0žA24.0418~Gỗ ván~m3~0.01~0.01~3409091~3300000~0~1~1~0~3630000~GoVan~Áp theo "Gỗ cốp pha (dày 2-3cm)" trong Thông báo giá VL số: 621/2025/TB-SXD của Sở XD TP Hải Phòng ngày 08/12/2025. Vùng: 10~0žZ999~Vât liệu khác~%~3~3~4014.4091~5733~0~1~1~0~0~VatLieuKhac~~0 | AF57: N2.30~Nhân công 3,0/7 - Nhóm 2~công~2.02~2.02~239592~263800~0~1~1~0~0~N2.30~Được tính toán, rồi Link từ sheet Nhân công sang~0 | AM57: HaiPhong
F58: 456,875 = 456,875 | O58: 456.875
A59: 15 | C59: AB.13411 | E59: AB.13411 | F59: Đắp cát công trình bằng thủ công, đắp nền móng công trình | G59: m3 | P59: =ROUND(SUM(O59:O60),4) -> 73.1 | Q59: 174216 | S59: 99586 | U59: =P59*Q59 -> 12735190 | V59: =P59*R59 -> 0 | W59: =P59*S59 -> 7279736.6 | X59: =P59*T59 -> 0 | AC59: DG2595_2022HP_XD | AD59: Giá máy 156/2022/QĐ-SXD Vùng 1 | AE59: A24.1042~Cát~m3~1.22~1.22~140000~280000~0~1~1~0~308000~Cat~Áp theo "Cát san lấp" trong Thông báo giá VL số: 621/2025/TB-SXD của Sở XD TP Hải Phòng ngày 08/12/2025. Vùng: 10~0žZ999~Vât liệu khác~%~2~2~1708~3416~0~1~1~0~0~VatLieuKhac~~0 | AF59: N1.30~Nhân công 3,0/7 - Nhóm 1~công~0.45~0.45~221303~243700~0~1~1~0~0~N1.30~Được tính toán, rồi Link từ sheet Nhân công sang~0 | AM59: HaiPhong
F60: Đắp cát đen phủ đầu cọc:73,1 = 73,1 | O60: 73.1
A61: 16 | C61: AF.82511 | E61: AF.82511 | F61: Ván khuôn thép. Ván khuôn móng dài | G61: 100m2 | P61: =ROUND(SUM(O61:O62),4) -> 0.464 | Q61: 1779989 | S61: 3483998 | T61: 344346 | U61: =P61*Q61 -> 825914.9 | V61: =P61*R61 -> 0 | W61: =P61*S61 -> 1616575.1 | X61: =P61*T61 -> 159776.54 | AC61: DG2595_2022HP_XD | AD61: Giá máy 156/2022/QĐ-SXD Vùng 1 | AE61: A24.0726~Thép tấm~kg~51.81~51.81~19250~18800~0~1~1~0~20304~ThepTam~~0žA24.0712~Thép hình~kg~32.02~32.02~19250~18800~0~1~1~0~20304~ThepHinh~~0žA24.0543~Que hàn~kg~3.26~3.26~25000~25000~0~1~1~0~27500~QueHan~~0žZ999~Vât liệu khác~%~5~5~16952.275~16575.04~0~1~1~0~0~VatLieuKhac~~0 | AF61: N2.40~Nhân công 4,0/7 - Nhóm 2~công~12.25~12.25~284408~313200~0~1~1~0~0~N2.40~Được tính toán, rồi Link từ sheet Nhân công sang~0 | AG61: M112.4003~Máy hàn xoay chiều - công suất : 23,0 kW~ca~0.82~0.82~411700~447485~293092~1~1~0~0~M423~Được tính toán, rồi Link từ sheet Máy sang~0žM999~Máy khác~%~2~2~3375.94~3669.377~0~1~1~0~0~~~0 | AM61: HaiPhong
F62: 0,464 = 0,464 | O62: 0.464
A63: 17 | C63: AF.11210 | D63: C2221 | E63: AF.11211A | F63: Đổ bê tông thủ công bằng máy trộn, bê tông móng, chiều rộng <= 250 cm, đá 1x2, mác 100, PCB30 | G63: m3 | P63: =ROUND(SUM(O63:O64),4) -> 73.1 | Q63: 857235 | S63: 294698 | T63: 55110 | U63: =P63*Q63 -> 62663878 | V63: =P63*R63 -> 0 | W63: =P63*S63 -> 21542424 | X63: =P63*T63 -> 4028541 | AC63: DG2595_2022HP_XD | AD63: Giá máy 156/2022/QĐ-SXD Vùng 1 | AE63: A24.0797A~Xi măng PCB30~kg~222.425~222.425~1380~1597~0~1~1~0~1724.8~XiMangPCB30~Áp theo "Xi măng PCB30 bao Chinfon (đường bộ)" trong Thông báo giá VL số: 621/2025/TB-SXD của Sở XD TP Hải Phòng ngày 08/12/2025. Vùng: 10~0žA24.0180~Cát vàng~m3~0.552475~0.552475~450000~750000~0~1~1~0~825000~CatVang~Áp theo "Cát bê tông ML>2,0" trong Thông báo giá VL số: 621/2025/TB-SXD của Sở XD TP Hải Phòng ngày 08/12/2025. Vùng: 10~0žA24.0008~Đá 1x2~m3~0.909175~0.909175~320000~470000~0~1~1~0~517000~Da1x2~Áp theo "Đá 1x2" trong Thông báo giá VL số: 621/2025/TB-SXD của Sở XD TP Hải Phòng ngày 08/12/2025. Vùng: 10~0žA24.0524~Nước~lít~187.575~187.575~12~12~0~1~1~0~13~Nuoc(Lit)~~0žZ999~Vât liệu khác~%~1~1~8487.4715~11991.32125~0~1~1~0~0~VatLieuKhac~~0 | AF63: N2.30~Nhân công 3,0/7 - Nhóm 2~công~1.23~1.23~239592~263800~0~1~1~0~0~N2.30~Được tính toán, rồi Link từ sheet Nhân công sang~0 | AG63: M104.0102~Máy trộn bê tông - dung tích : 250,0 lít~ca~0.095~0.095~320806~347214~246908~1~1~0~0~M270~Được tính toán, rồi Link từ sheet Máy sang~0žM112.1301~Máy đầm bê tông, dầm dùi - công suất : 1,5 kW~ca~0.089~0.089~276782~302675~246908~1~1~0~0~M310~Được tính toán, rồi Link từ sheet Máy sang~0 | AM63: HaiPhong
F64: Bê tông lót:73,1 = 73,1 | O64: 73.1
A65: 18 | C65: AF.61120 | E65: AF.61120 | F65: Công tác gia công lắp dựng cốt thép. Cốt thép móng, đường kính cốt thép <= 18mm | G65: tấn | P65: =ROUND(SUM(O65:O66),4) -> 10.3291 | Q65: 19885600 | S65: 2009540 | T65: 551116 | U65: =P65*Q65 -> 2.0540035e+08 | V65: =P65*R65 -> 0 | W65: =P65*S65 -> 20756740 | X65: =P65*T65 -> 5692532.3 | AC65: DG2595_2022HP_XD | AD65: Giá máy 156/2022/QĐ-SXD Vùng 1 | AE65: A24.0739~Thép tròn D<=18mm~kg~1020~1020~19200~14700~0~1~1~0~15876~ThepTron<=18~~0žA24.0293~Dây thép~kg~9.28~9.28~20000~20000~0~1~1~0~22000~DayThep~~0žA24.0543~Que hàn~kg~4.64~4.64~25000~25000~0~1~1~0~27500~QueHan~~0 | AF65: N2.35~Nhân công 3,5/7 - Nhóm 2~công~7.67~7.67~262000~288500~0~1~1~0~0~N2.35~Được tính toán, rồi Link từ sheet Nhân công sang~0 | AG65: M112.4003~Máy hàn xoay chiều - công suất : 23,0 kW~ca~1.12~1.12~411700~447485~293092~1~1~0~0~M423~Được tính toán, rồi Link từ sheet Máy sang~0žM112.2601~Máy cắt uốn cốt thép - công suất : 5,0 kW~ca~0.32~0.32~281286~307436~246908~1~1~0~0~M454~Được tính toán, rồi Link từ sheet Máy sang~0 | AM65: HaiPhong
F66: Theo thống kê CT đáy cống: 10329,1/1000 = 10,3291 | O66: 10.3291
A67: 19 | C67: AF.82511 | E67: AF.82511 | F67: Ván khuôn thép. Ván khuôn móng dài | G67: 100m2 | P67: =ROUND(SUM(O67:O68),4) -> 1.16 | Q67: 1779989 | S67: 3483998 | T67: 344346 | U67: =P67*Q67 -> 2064787.2 | V67: =P67*R67 -> 0 | W67: =P67*S67 -> 4041437.7 | X67: =P67*T67 -> 399441.36 | AC67: DG2595_2022HP_XD | AD67: Giá máy 156/2022/QĐ-SXD Vùng 1 | AE67: A24.0726~Thép tấm~kg~51.81~51.81~19250~18800~0~1~1~0~20304~ThepTam~~0žA24.0712~Thép hình~kg~32.02~32.02~19250~18800~0~1~1~0~20304~ThepHinh~~0žA24.0543~Que hàn~kg~3.26~3.26~25000~25000~0~1~1~0~27500~QueHan~~0žZ999~Vât liệu khác~%~5~5~16952.275~16575.04~0~1~1~0~0~VatLieuKhac~~0 | AF67: N2.40~Nhân công 4,0/7 - Nhóm 2~công~12.25~12.25~284408~313200~0~1~1~0~0~N2.40~Được tính toán, rồi Link từ sheet Nhân công sang~0 | AG67: M112.4003~Máy hàn xoay chiều - công suất : 23,0 kW~ca~0.82~0.82~411700~447485~293092~1~1~0~0~M423~Được tính toán, rồi Link từ sheet Máy sang~0žM999~Máy khác~%~2~2~3375.94~3669.377~0~1~1~0~0~~~0 | AM67: HaiPhong
F68: 1,16 = 1,16 | O68: 1.16
A69: 20 | C69: AF.11210 | D69: C2224 | E69: AF.11214A | F69: Đổ bê tông thủ công bằng máy trộn, bê tông móng, chiều rộng <= 250 cm, đá 1x2, mác 250, PCB30 | G69: m3 | P69: =ROUND(SUM(O69:O71),4) -> 182.75 | Q69: 1027471 | S69: 294698 | T69: 55110 | U69: =P69*Q69 -> 1.8777033e+08 | V69: =P69*R69 -> 0 | W69: =P69*S69 -> 53856060 | X69: =P69*T69 -> 10071352 | AC69: DG2595_2022HP_XD | AD69: Giá máy 156/2022/QĐ-SXD Vùng 1 | AE69: A24.0797A~Xi măng PCB30~kg~369~369~1380~1597~0~1~1~0~1724.8~XiMangPCB30~Áp theo "Xi măng PCB30 bao Chinfon (đường bộ)" trong Thông báo giá VL số: 621/2025/TB-SXD của Sở XD TP Hải Phòng ngày 08/12/2025. Vùng: 10~0žA24.0180~Cát vàng~m3~0.517625~0.517625~450000~750000~0~1~1~0~825000~CatVang~Áp theo "Cát bê tông ML>2,0" trong Thông báo giá VL số: 621/2025/TB-SXD của Sở XD TP Hải Phòng ngày 08/12/2025. Vùng: 10~0žA24.0008~Đá 1x2~m3~0.8528~0.8528~320000~470000~0~1~1~0~517000~Da1x2~Áp theo "Đá 1x2" trong Thông báo giá VL số: 621/2025/TB-SXD của Sở XD TP Hải Phòng ngày 08/12/2025. Vùng: 10~0žA24.0524~Nước~lít~187.575~187.575~12~12~0~1~1~0~13~Nuoc(Lit)~~0žZ999~Vât liệu khác~%~1~1~10172.9815~13805.7865~0~1~1~0~0~VatLieuKhac~~0 | AF69: N2.30~Nhân công 3,0/7 - Nhóm 2~công~1.23~1.23~239592~263800~0~1~1~0~0~N2.30~Được tính toán, rồi Link từ sheet Nhân công sang~0 | AG69: M104.0102~Máy trộn bê tông - dung tích : 250,0 lít~ca~0.095~0.095~320806~347214~246908~1~1~0~0~M270~Được tính toán, rồi Link từ sheet Máy sang~0žM112.1301~Máy đầm bê tông, dầm dùi - công suất : 1,5 kW~ca~0.089~0.089~276782~302675~246908~1~1~0~0~M310~Được tính toán, rồi Link từ sheet Máy sang~0 | AM69: HaiPhong
F70: Đáy cống: 182,75 = 182,75 | O70: 182.75
F71: TƯỜNG CỐNG
A72: 21 | C72: AF.61311 | E72: AF.61311 | F72: Công tác gia công lắp dựng cốt thép. Cốt thép tường, đường kính cốt thép <= 10mm, chiều cao <= 6m | G72: tấn | P72: =ROUND(SUM(O72:O73),4) -> 22.3225 | Q72: 19617400 | S72: 3392900 | T72: 112514 | U72: =P72*Q72 -> 4.3790941e+08 | V72: =P72*R72 -> 0 | W72: =P72*S72 -> 75738010 | X72: =P72*T72 -> 2511593.8 | AC72: DG2595_2022HP_XD | AD72: Giá máy 156/2022/QĐ-SXD Vùng 1 | AE72: A24.0738~Thép tròn D<=10mm~kg~1005~1005~19200~14700~0~1~1~0~15876~ThepTron<=10~~0žA24.0293~Dây thép~kg~16.07~16.07~20000~20000~0~1~1~0~22000~DayThep~~0 | AF72: N2.35~Nhân công 3,5/7 - Nhóm 2~công~12.95~12.95~262000~288500~0~1~1~0~0~N2.35~Được tính toán, rồi Link từ sheet Nhân công sang~0 | AG72: M112.2601~Máy cắt uốn cốt thép - công suất : 5,0 kW~ca~0.4~0.4~281286~307436~246908~1~1~0~0~M454~Được tính toán, rồi Link từ sheet Máy sang~0 | AM72: HaiPhong
F73: Thành cống: (767,07+21555,38)/1000 = 22,3225 | O73: 22.3225
A74: 22 | C74: AF.86211 | E74: AF.86211 | F74: Ván khuôn thép, khung xương thép, cột chống bằng thép ống. Ván khuôn tường, chiều cao <= 28m | G74: 100m2 | P74: =ROUND(SUM(O74:O75),4) -> 21.625 | Q74: 2686929 | S74: 8105628 | T74: 1102922 | U74: =P74*Q74 -> 58104840 | V74: =P74*R74 -> 0 | W74: =P74*S74 -> 1.7528421e+08 | X74: =P74*T74 -> 23850688 | AC74: DG2595_2022HP_XD | AD74: Giá máy 156/2022/QĐ-SXD Vùng 1 | AE74: A24.0726~Thép tấm~kg~51.81~51.81~19250~18800~0~1~1~0~20304~ThepTam~~0žA24.0712~Thép hình~kg~48.84~48.84~19250~18800~0~1~1~0~20304~ThepHinh~~0žA24.0262~Cột chống thép ống~kg~38.13~38.13~12627~12627~0~1~1~0~13889.7~CotChongThepOng~~0žA24.0543~Que hàn~kg~5.6~5.6~25000~25000~0~1~1~0~27500~QueHan~~0žZ999~Vât liệu khác~%~5~5~25589.8001~25136.8751~0~1~1~0~0~VatLieuKhac~~0 | AF74: N2.40~Nhân công 4,0/7 - Nhóm 2~công~28.5~28.5~284408~313200~0~1~1~0~0~N2.40~Được tính toán, rồi Link từ sheet Nhân công sang~0 | AG74: M112.4003~Máy hàn xoay chiều - công suất : 23,0 kW~ca~1.5~1.5~411700~447485~293092~1~1~0~0~M423~Được tính toán, rồi Link từ sheet Máy sang~0žM102.1001~Máy vận thăng lồng - sức nâng : 3,0 T~ca~0.12~0.12~826454~857495~246908~1~1~0~0~M578~Được tính toán, rồi Link từ sheet Máy sang~0žM102.0406~Cần trục tháp - sức nâng : 25,0 T~ca~0.12~0.12~3038093~3119874~655461~1~1~0~0~M215~Được tính toán, rồi Link từ sheet Máy sang~0žM999~Máy khác~%~2~2~10812.9564~11485.1178~0~1~1~0~0~~~0 | AM74: HaiPhong
F75: 21,625 = 21,625 | O75: 21.625
A76: 23 | C76: AF.12110 | D76: C2224 | E76: AF.12114A | F76: Đổ bê tông thủ công bằng máy trộn, bê tông tường chiều dày <= 45cm, chiều cao <= 6m, đá 1x2, mác 250, PCB30 | G76: m3 | P76: =ROUND(SUM(O76:O77),4) -> 280.1925 | Q76: 1068163 | S76: 652380 | T76: 80297 | U76: =P76*Q76 -> 2.9929126e+08 | V76: =P76*R76 -> 0 | W76: =P76*S76 -> 1.8279198e+08 | X76: =P76*T76 -> 22498617 | AC76: DG2595_2022HP_XD | AD76: Giá máy 156/2022/QĐ-SXD Vùng 1 | AE76: A24.0797A~Xi măng PCB30~kg~369~369~1380~1597~0~1~1~0~1724.8~XiMangPCB30~Áp theo "Xi măng PCB30 bao Chinfon (đường bộ)" trong Thông báo giá VL số: 621/2025/TB-SXD của Sở XD TP Hải Phòng ngày 08/12/2025. Vùng: 10~0žA24.0180~Cát vàng~m3~0.517625~0.517625~450000~750000~0~1~1~0~825000~CatVang~Áp theo "Cát bê tông ML>2,0" trong Thông báo giá VL số: 621/2025/TB-SXD của Sở XD TP Hải Phòng ngày 08/12/2025. Vùng: 10~0žA24.0008~Đá 1x2~m3~0.8528~0.8528~320000~470000~0~1~1~0~517000~Da1x2~Áp theo "Đá 1x2" trong Thông báo giá VL số: 621/2025/TB-SXD của Sở XD TP Hải Phòng ngày 08/12/2025. Vùng: 10~0žA24.0524~Nước~lít~187.575~187.575~12~12~0~1~1~0~13~Nuoc(Lit)~~0žZ999~Vât liệu khác~%~5~5~10172.9815~13805.7865~0~1~1~0~0~VatLieuKhac~~0 | AF76: N2.35~Nhân công 3,5/7 - Nhóm 2~công~2.49~2.49~262000~288500~0~1~1~0~0~N2.35~Được tính toán, rồi Link từ sheet Nhân công sang~0 | AG76: M104.0102~Máy trộn bê tông - dung tích : 250,0 lít~ca~0.095~0.095~320806~347214~246908~1~1~0~0~M270~Được tính toán, rồi Link từ sheet Máy sang~0žM112.1301~Máy đầm bê tông, dầm dùi - công suất : 1,5 kW~ca~0.18~0.18~276782~302675~246908~1~1~0~0~M310~Được tính toán, rồi Link từ sheet Máy sang~0 | AM76: HaiPhong
F77: 280,1925 = 280,1925 | O77: 280.1925
A78: 24 | E78: TT | F78: Băng cản nước | G78: m2 | P78: =ROUND(SUM(O78:O80),4) -> 207.55 | Q78: 300000 | U78: =P78*Q78 -> 62265000 | V78: =P78*R78 -> 0 | W78: =P78*S78 -> 0 | X78: =P78*T78 -> 0
F79: 207,55*2*2*0,25 = 207,55 | O79: 207.55
F80: BẢN MẶT CỐNG
A81: 25 | C81: AF.86111 | E81: AF.86111 | F81: Ván khuôn thép, khung xương thép, cột chống bằng thép ống. Ván khuôn sàn mái, chiều cao <= 28m | G81: 100m2 | P81: =ROUND(SUM(O81:O82),4) -> 6.535 | Q81: 2493523 | S81: 5688160 | T81: 1102922 | U81: =P81*Q81 -> 16295173 | V81: =P81*R81 -> 0 | W81: =P81*S81 -> 37172126 | X81: =P81*T81 -> 7207595.3 | AC81: DG2595_2022HP_XD | AD81: Giá máy 156/2022/QĐ-SXD Vùng 1 | AE81: A24.0726~Thép tấm~kg~51.81~51.81~19250~18800~0~1~1~0~20304~ThepTam~~0žA24.0712~Thép hình~kg~40.7~40.7~19250~18800~0~1~1~0~20304~ThepHinh~~0žA24.0262~Cột chống thép ống~kg~36.15~36.15~12627~12627~0~1~1~0~13889.7~CotChongThepOng~~0žA24.0543~Que hàn~kg~5.5~5.5~25000~25000~0~1~1~0~27500~QueHan~~0žZ999~Vât liệu khác~%~5~5~23747.8355~23331.5405~0~1~1~0~0~VatLieuKhac~~0 | AF81: N2.40~Nhân công 4,0/7 - Nhóm 2~công~20~20~284408~313200~0~1~1~0~0~N2.40~Được tính toán, rồi Link từ sheet Nhân công sang~0 | AG81: M112.4003~Máy hàn xoay chiều - công suất : 23,0 kW~ca~1.5~1.5~411700~447485~293092~1~1~0~0~M423~Được tính toán, rồi Link từ sheet Máy sang~0žM102.1001~Máy vận thăng lồng - sức nâng : 3,0 T~ca~0.12~0.12~826454~857495~246908~1~1~0~0~M578~Được tính toán, rồi Link từ sheet Máy sang~0žM102.0406~Cần trục tháp - sức nâng : 25,0 T~ca~0.12~0.12~3038093~3119874~655461~1~1~0~0~M215~Được tính toán, rồi Link từ sheet Máy sang~0žM999~Máy khác~%~2~2~10812.9564~11485.1178~0~1~1~0~0~~~0 | AM81: HaiPhong
F82: 6,535 = 6,535 | O82: 6.535
A83: 26 | C83: AF.61711 | E83: AF.61711 | F83: Công tác gia công lắp dựng cốt thép. Cốt thép sàn mái, đường kính cốt thép <=10mm, chiều cao <= 28m | G83: tấn | P83: =ROUND(SUM(O83:O84),4) -> 9.3036 | Q83: 19617400 | S83: 3641800 | T83: 181776 | U83: =P83*Q83 -> 1.8251244e+08 | V83: =P83*R83 -> 0 | W83: =P83*S83 -> 33881850 | X83: =P83*T83 -> 1691171.2 | AC83: DG2595_2022HP_XD | AD83: Giá máy 156/2022/QĐ-SXD Vùng 1 | AE83: A24.0738~Thép tròn D<=10mm~kg~1005~1005~19200~14700~0~1~1~0~15876~ThepTron<=10~~0žA24.0293~Dây thép~kg~16.07~16.07~20000~20000~0~1~1~0~22000~DayThep~~0 | AF83: N2.35~Nhân công 3,5/7 - Nhóm 2~công~13.9~13.9~262000~288500~0~1~1~0~0~N2.35~Được tính toán, rồi Link từ sheet Nhân công sang~0 | AG83: M112.2601~Máy cắt uốn cốt thép - công suất : 5,0 kW~ca~0.4~0.4~281286~307436~246908~1~1~0~0~M454~Được tính toán, rồi Link từ sheet Máy sang~0žM102.1001~Máy vận thăng lồng - sức nâng : 3,0 T~ca~0.017~0.017~826454~857495~246908~1~1~0~0~M578~Được tính toán, rồi Link từ sheet Máy sang~0žM102.0406~Cần trục tháp - sức nâng : 25,0 T~ca~0.017~0.017~3038093~3119874~655461~1~1~0~0~M215~Được tính toán, rồi Link từ sheet Máy sang~0žM999~Máy khác~%~2~2~1782.11699~1905.89673~0~1~1~0~0~~~0 | AM83: HaiPhong
F84: Bản mặt: 9303,56/1000 = 9,3036 | O84: 9.3036
A85: 27 | C85: AF.22310 | D85: C2324 | E85: AF.22314A | F85: Đổ bê tông bằng máy, đổ bằng cần cẩu, bê tông xà dầm, giằng, sàn mái, chiều cao <= 6m, đá 1x2, mác 250, PCB30 | G85: m3 | P85: =ROUND(SUM(O85:O86),4) -> 134.375 | Q85: 1041267 | S85: 434920 | T85: 142876 | U85: =P85*Q85 -> 1.3992025e+08 | V85: =P85*R85 -> 0 | W85: =P85*S85 -> 58442375 | X85: =P85*T85 -> 19198962 | AC85: DG2595_2022HP_XD | AD85: Giá máy 156/2022/QĐ-SXD Vùng 1 | AE85: A24.0797A~Xi măng PCB30~kg~385.4~385.4~1380~1597~0~1~1~0~1724.8~XiMangPCB30~Áp theo "Xi măng PCB30 bao Chinfon (đường bộ)" trong Thông báo giá VL số: 621/2025/TB-SXD của Sở XD TP Hải Phòng ngày 08/12/2025. Vùng: 10~0žA24.0180~Cát vàng~m3~0.5084~0.5084~450000~750000~0~1~1~0~825000~CatVang~Áp theo "Cát bê tông ML>2,0" trong Thông báo giá VL số: 621/2025/TB-SXD của Sở XD TP Hải Phòng ngày 08/12/2025. Vùng: 10~0žA24.0008~Đá 1x2~m3~0.837425~0.837425~320000~470000~0~1~1~0~517000~Da1x2~Áp theo "Đá 1x2" trong Thông báo giá VL số: 621/2025/TB-SXD của Sở XD TP Hải Phòng ngày 08/12/2025. Vùng: 10~0žA24.0524~Nước~lít~195.775~195.775~12~12~0~1~1~0~13~Nuoc(Lit)~~0žZ999~Vât liệu khác~%~1~1~10309.573~13927.2285~0~1~1~0~0~VatLieuKhac~~0 | AF85: N2.35~Nhân công 3,5/7 - Nhóm 2~công~1.66~1.66~262000~288500~0~1~1~0~0~N2.35~Được tính toán, rồi Link từ sheet Nhân công sang~0 | AG85: M102.0302~Cần cẩu bánh xích 10T~ca~0.04~0.04~2256343~2090057~637697~1~1~0~0~M197~Được tính toán, rồi Link từ sheet Máy sang~0žM112.1301~Máy đầm bê tông, dầm dùi - công suất : 1,5 kW~ca~0.18~0.18~276782~302675~246908~1~1~0~0~M310~Được tính toán, rồi Link từ sheet Máy sang~0žM999~Máy khác~%~2~2~1400.7448~1380.8378~0~1~1~0~0~~~0 | AM85: HaiPhong
F86: 134,375 = 134,375 | O86: 134.375
A87: 28 | C87: AB.66142 | E87: AB.66142 | F87: Đắp cát công trình bằng máy đầm đất cầm tay 70kg, độ chặt yêu cầu K=0,90 | G87: 100m3 | P87: =ROUND(SUM(O87:O89),4) -> 8.1421 | Q87: 17080000 | S87: 925047 | T87: 821885 | U87: =P87*Q87 -> 139067068 | V87: =P87*R87 -> 0 | W87: =P87*S87 -> 7531825.2 | X87: =P87*T87 -> 6691869.9 | AC87: DG2595_2022HP_XD | AD87: Giá máy 156/2022/QĐ-SXD Vùng 1 | AE87: A24.1042~Cát~m3~122~122~140000~280000~0~1~1~0~308000~Cat~Áp theo "Cát san lấp" trong Thông báo giá VL số: 621/2025/TB-SXD của Sở XD TP Hải Phòng ngày 08/12/2025. Vùng: 10~0 | AF87: N1.30~Nhân công 3,0/7 - Nhóm 1~công~4.18~4.18~221303~243700~0~1~1~0~0~N1.30~Được tính toán, rồi Link từ sheet Nhân công sang~0 | AG87: M101.0803~Máy đầm đất cầm tay - trọng lượng : 70 kg~ca~2.042~2.042~396542~390153~246908~1~1~0~0~M71~Được tính toán, rồi Link từ sheet Máy sang~0žM999~Máy khác~%~1.5~1.5~8097.38764~7966.92426~0~1~1~0~0~~~0 | AM87: HaiPhong
F88: 8,1421 = 8,1421 | O88: 8.1421
F89: THI CÔNG CỬA CỐNG
A90: 29 | C90: AC.11122 | E90: AC.11122 | F90: Đóng cọc tre bằng thủ công, chiều dài cọc > 2,5m vào đất cấp II | G90: 100m | P90: =ROUND(SUM(O90:O91),4) -> 15.745 | Q90: 413484 | S90: 539082 | U90: =P90*Q90 -> 6510305.6 | V90: =P90*R90 -> 0 | W90: =P90*S90 -> 8487846.1 | X90: =P90*T90 -> 0 | AC90: DG2595_2022HP_XD | AD90: Giá máy 156/2022/QĐ-SXD Vùng 1 | AE90: A24.0227~Cọc tre >2,5m~m~105~105~3200~4800~0~1~1~0~5184~CocTre~~0žA24.0183~Cây chống~cây~1.65~1.65~19000~22000~0~1~1~0~23760~CayChong~~0žA24.0418~Gỗ ván~m3~0.01~0.01~3409091~3300000~0~1~1~0~3630000~GoVan~Áp theo "Gỗ cốp pha (dày 2-3cm)" trong Thông báo giá VL số: 621/2025/TB-SXD của Sở XD TP Hải Phòng ngày 08/12/2025. Vùng: 10~0žZ999~Vât liệu khác~%~3~3~4014.4091~5733~0~1~1~0~0~VatLieuKhac~~0 | AF90: N2.30~Nhân công 3,0/7 - Nhóm 2~công~2.25~2.25~239592~263800~0~1~1~0~0~N2.30~Được tính toán, rồi Link từ sheet Nhân công sang~0 | AM90: HaiPhong
F91: 15,745 = 15,745 | O91: 15.745
A92: 30 | C92: AB.13411 | E92: AB.13411 | F92: Đắp cát công trình bằng thủ công, đắp nền móng công trình | G92: m3 | P92: =ROUND(SUM(O92:O93),4) -> 0.025 | Q92: 174216 | S92: 99586 | U92: =P92*Q92 -> 4355.4 | V92: =P92*R92 -> 0 | W92: =P92*S92 -> 2489.65 | X92: =P92*T92 -> 0 | AC92: DG2595_2022HP_XD | AD92: Giá máy 156/2022/QĐ-SXD Vùng 1 | AE92: A24.1042~Cát~m3~1.22~1.22~140000~280000~0~1~1~0~308000~Cat~Áp theo "Cát san lấp" trong Thông báo giá VL số: 621/2025/TB-SXD của Sở XD TP Hải Phòng ngày 08/12/2025. Vùng: 10~0žZ999~Vât liệu khác~%~2~2~1708~3416~0~1~1~0~0~VatLieuKhac~~0 | AF92: N1.30~Nhân công 3,0/7 - Nhóm 1~công~0.45~0.45~221303~243700~0~1~1~0~0~N1.30~Được tính toán, rồi Link từ sheet Nhân công sang~0 | AM92: HaiPhong
F93: Đắp cát đen phủ đầu cọc:0,025 = 0,025 | O93: 0.025
A94: 31 | C94: AF.82511 | E94: AF.82511 | F94: Ván khuôn thép. Ván khuôn móng dài | G94: 100m2 | P94: =ROUND(SUM(O94:O95),4) -> 0.019 | Q94: 1779989 | S94: 3483998 | T94: 344346 | U94: =P94*Q94 -> 33819.791 | V94: =P94*R94 -> 0 | W94: =P94*S94 -> 66195.962 | X94: =P94*T94 -> 6542.574 | AC94: DG2595_2022HP_XD | AD94: Giá máy 156/2022/QĐ-SXD Vùng 1 | AE94: A24.0726~Thép tấm~kg~51.81~51.81~19250~18800~0~1~1~0~20304~ThepTam~~0žA24.0712~Thép hình~kg~32.02~32.02~19250~18800~0~1~1~0~20304~ThepHinh~~0žA24.0543~Que hàn~kg~3.26~3.26~25000~25000~0~1~1~0~27500~QueHan~~0žZ999~Vât liệu khác~%~5~5~16952.275~16575.04~0~1~1~0~0~VatLieuKhac~~0 | AF94: N2.40~Nhân công 4,0/7 - Nhóm 2~công~12.25~12.25~284408~313200~0~1~1~0~0~N2.40~Được tính toán, rồi Link từ sheet Nhân công sang~0 | AG94: M112.4003~Máy hàn xoay chiều - công suất : 23,0 kW~ca~0.82~0.82~411700~447485~293092~1~1~0~0~M423~Được tính toán, rồi Link từ sheet Máy sang~0žM999~Máy khác~%~2~2~3375.94~3669.377~0~1~1~0~0~~~0 | AM94: HaiPhong
F95: 0,019 = 0,019 | O95: 0.019
A96: 32 | C96: AF.11210 | D96: C2221 | E96: AF.11211A | F96: Đổ bê tông thủ công bằng máy trộn, bê tông móng, chiều rộng <= 250 cm, đá 1x2, mác 100, PCB30 | G96: m3 | P96: =ROUND(SUM(O96:O97),4) -> 2.52 | Q96: 857235 | S96: 294698 | T96: 55110 | U96: =P96*Q96 -> 2160232.2 | V96: =P96*R96 -> 0 | W96: =P96*S96 -> 742638.96 | X96: =P96*T96 -> 138877.2 | AC96: DG2595_2022HP_XD | AD96: Giá máy 156/2022/QĐ-SXD Vùng 1 | AE96: A24.0797A~Xi măng PCB30~kg~222.425~222.425~1380~1597~0~1~1~0~1724.8~XiMangPCB30~Áp theo "Xi măng PCB30 bao Chinfon (đường bộ)" trong Thông báo giá VL số: 621/2025/TB-SXD của Sở XD TP Hải Phòng ngày 08/12/2025. Vùng: 10~0žA24.0180~Cát vàng~m3~0.552475~0.552475~450000~750000~0~1~1~0~825000~CatVang~Áp theo "Cát bê tông ML>2,0" trong Thông báo giá VL số: 621/2025/TB-SXD của Sở XD TP Hải Phòng ngày 08/12/2025. Vùng: 10~0žA24.0008~Đá 1x2~m3~0.909175~0.909175~320000~470000~0~1~1~0~517000~Da1x2~Áp theo "Đá 1x2" trong Thông báo giá VL số: 621/2025/TB-SXD của Sở XD TP Hải Phòng ngày 08/12/2025. Vùng: 10~0žA24.0524~Nước~lít~187.575~187.575~12~12~0~1~1~0~13~Nuoc(Lit)~~0žZ999~Vât liệu khác~%~1~1~8487.4715~11991.32125~0~1~1~0~0~VatLieuKhac~~0 | AF96: N2.30~Nhân công 3,0/7 - Nhóm 2~công~1.23~1.23~239592~263800~0~1~1~0~0~N2.30~Được tính toán, rồi Link từ sheet Nhân công sang~0 | AG96: M104.0102~Máy trộn bê tông - dung tích : 250,0 lít~ca~0.095~0.095~320806~347214~246908~1~1~0~0~M270~Được tính toán, rồi Link từ sheet Máy sang~0žM112.1301~Máy đầm bê tông, dầm dùi - công suất : 1,5 kW~ca~0.089~0.089~276782~302675~246908~1~1~0~0~M310~Được tính toán, rồi Link từ sheet Máy sang~0 | AM96: HaiPhong
F97: 2,52 = 2,52 | O97: 2.52
A98: 33 | C98: AF.82511 | E98: AF.82511 | F98: Ván khuôn thép. Ván khuôn móng dài | G98: 100m2 | P98: =ROUND(SUM(O98:O99),4) -> 0.075 | Q98: 1779989 | S98: 3483998 | T98: 344346 | U98: =P98*Q98 -> 133499.17 | V98: =P98*R98 -> 0 | W98: =P98*S98 -> 261299.85 | X98: =P98*T98 -> 25825.95 | AC98: DG2595_2022HP_XD | AD98: Giá máy 156/2022/QĐ-SXD Vùng 1 | AE98: A24.0726~Thép tấm~kg~51.81~51.81~19250~18800~0~1~1~0~20304~ThepTam~~0žA24.0712~Thép hình~kg~32.02~32.02~19250~18800~0~1~1~0~20304~ThepHinh~~0žA24.0543~Que hàn~kg~3.26~3.26~25000~25000~0~1~1~0~27500~QueHan~~0žZ999~Vât liệu khác~%~5~5~16952.275~16575.04~0~1~1~0~0~VatLieuKhac~~0 | AF98: N2.40~Nhân công 4,0/7 - Nhóm 2~công~12.25~12.25~284408~313200~0~1~1~0~0~N2.40~Được tính toán, rồi Link từ sheet Nhân công sang~0 | AG98: M112.4003~Máy hàn xoay chiều - công suất : 23,0 kW~ca~0.82~0.82~411700~447485~293092~1~1~0~0~M423~Được tính toán, rồi Link từ sheet Máy sang~0žM999~Máy khác~%~2~2~3375.94~3669.377~0~1~1~0~0~~~0 | AM98: HaiPhong
F99: 0,075 = 0,075 | O99: 0.075
A100: 34 | C100: AF.11210 | D100: C2224 | E100: AF.11214A | F100: Đổ bê tông thủ công bằng máy trộn, bê tông móng, chiều rộng <= 250 cm, đá 1x2, mác 250, PCB30 | G100: m3 | P100: =ROUND(SUM(O100:O102),4) -> 12.834 | Q100: 1027471 | S100: 294698 | T100: 55110 | U100: =P100*Q100 -> 13186563 | V100: =P100*R100 -> 0 | W100: =P100*S100 -> 3782154.1 | X100: =P100*T100 -> 707281.74 | AC100: DG2595_2022HP_XD | AD100: Giá máy 156/2022/QĐ-SXD Vùng 1 | AE100: A24.0797A~Xi măng PCB30~kg~369~369~1380~1597~0~1~1~0~1724.8~XiMangPCB30~Áp theo "Xi măng PCB30 bao Chinfon (đường bộ)" trong Thông báo giá VL số: 621/2025/TB-SXD của Sở XD TP Hải Phòng ngày 08/12/2025. Vùng: 10~0žA24.0180~Cát vàng~m3~0.517625~0.517625~450000~750000~0~1~1~0~825000~CatVang~Áp theo "Cát bê tông ML>2,0" trong Thông báo giá VL số: 621/2025/TB-SXD của Sở XD TP Hải Phòng ngày 08/12/2025. Vùng: 10~0žA24.0008~Đá 1x2~m3~0.8528~0.8528~320000~470000~0~1~1~0~517000~Da1x2~Áp theo "Đá 1x2" trong Thông báo giá VL số: 621/2025/TB-SXD của Sở XD TP Hải Phòng ngày 08/12/2025. Vùng: 10~0žA24.0524~Nước~lít~187.575~187.575~12~12~0~1~1~0~13~Nuoc(Lit)~~0žZ999~Vât liệu khác~%~1~1~10172.9815~13805.7865~0~1~1~0~0~VatLieuKhac~~0 | AF100: N2.30~Nhân công 3,0/7 - Nhóm 2~công~1.23~1.23~239592~263800~0~1~1~0~0~N2.30~Được tính toán, rồi Link từ sheet Nhân công sang~0 | AG100: M104.0102~Máy trộn bê tông - dung tích : 250,0 lít~ca~0.095~0.095~320806~347214~246908~1~1~0~0~M270~Được tính toán, rồi Link từ sheet Máy sang~0žM112.1301~Máy đầm bê tông, dầm dùi - công suất : 1,5 kW~ca~0.089~0.089~276782~302675~246908~1~1~0~0~M310~Được tính toán, rồi Link từ sheet Máy sang~0 | AM100: HaiPhong
...

Sheet Giá tháng
A1: BẢNG GIÁ THÔNG BÁO CÔNG TRÌNH
A2: ='Công trình'!A2 -> CÔNG TRÌNH : XÂY DỰNG HỆ THỐNG CỐNG HỘP KÊNH BẾN KEM ĐOẠN TỪ NHÀ ÔNG CHÍN ĐẾN KÊNH ĐẠI TRÀ 2, XÃ KIẾN MINH
A4: STT | B4: Mã số | C4: Tên vật tư | D4: Đơn vị | E4: ="Giá gốc_x000D_ "&'Công trình'!AM1 -> Giá gốc_x000D_ (đ) | F4: ="Giá tháng_x000D_ "&'Công trình'!AM1 -> Giá tháng_x000D_ (đ) | G4: Hệ số | H4: Chính | I4: ="Giá sau VAT_x000D_ "&'Công trình'!AM1 -> Giá sau VAT_x000D_ (đ) | J4: Mã chuẩn | K4: Ghi chú, Nguồn gốc xuất xứ
A5: I | C5: VẬT LIỆU
A6: 1 | B6: A24.1042 | C6: Cát | D6: m3 | E6: 140000 | F6: 280000 | G6: 1 | H6: TRUE | I6: 308000 | J6: Cat | K6: Áp theo "Cát san lấp" trong Thông báo giá VL số: 621/2025/TB-SXD của Sở XD TP Hải Phòng ngày 08/12/2025. Vùng: 10
A7: 2 | B7: A24.0180 | C7: Cát vàng | D7: m3 | E7: 450000 | F7: 750000 | G7: 1 | H7: TRUE | I7: 825000 | J7: CatVang | K7: Áp theo "Cát bê tông ML>2,0" trong Thông báo giá VL số: 621/2025/TB-SXD của Sở XD TP Hải Phòng ngày 08/12/2025. Vùng: 10
A8: 3 | B8: A24.0183 | C8: Cây chống | D8: cây | E8: 19000 | F8: 22000 | G8: 1 | H8: TRUE | I8: 23760 | J8: CayChong | K8: =""
A9: 4 | B9: A24.0227 | C9: Cọc tre >2,5m | D9: m | E9: 3200 | F9: 4800 | G9: 1 | H9: TRUE | I9: 5184 | J9: CocTre | K9: =""
A10: 5 | B10: A24.0230 | C10: Cọc ván thép <=12m | D10: m | E10: 0 | F10: 0 | G10: 1 | H10: TRUE | I10: 0 | J10: CocVanThep | K10: =""
A11: 6 | B11: A24.0262 | C11: Cột chống thép ống | D11: kg | E11: 12627 | F11: 12627 | G11: 1 | H11: TRUE | I11: 13889.7 | J11: CotChongThepOng | K11: =""
A12: 7 | B12: A24.0293 | C12: Dây thép | D12: kg | E12: 20000 | F12: 20000 | G12: 1 | H12: TRUE | I12: 22000 | J12: DayThep | K12: =""
A13: 8 | B13: A24.0008 | C13: Đá 1x2 | D13: m3 | E13: 320000 | F13: 470000 | G13: 1 | H13: TRUE | I13: 517000 | J13: Da1x2 | K13: Áp theo "Đá 1x2" trong Thông báo giá VL số: 621/2025/TB-SXD của Sở XD TP Hải Phòng ngày 08/12/2025. Vùng: 10
A14: 9 | B14: A24.0418 | C14: Gỗ ván | D14: m3 | E14: 3409091 | F14: 3300000 | G14: 1 | H14: TRUE | I14: 3630000 | J14: GoVan | K14: Áp theo "Gỗ cốp pha (dày 2-3cm)" trong Thông báo giá VL số: 621/2025/TB-SXD của Sở XD TP Hải Phòng ngày 08/12/2025. Vùng: 10
A15: 10 | B15: A24.0524 | C15: Nước | D15: lít | E15: 12 | F15: 12 | G15: 1 | H15: TRUE | I15: 13 | J15: Nuoc(Lit) | K15: =""
A16: 11 | B16: A24.0348 | C16: ống xói F150mm | D16: m | E16: 160000 | F16: 350000 | G16: 1 | H16: TRUE | I16: 378000 | J16: OngXoi | K16: =""
A17: 12 | B17: A24.0349 | C17: ống xói F250mm | D17: m | E17: 270000 | F17: 550000 | G17: 1 | H17: TRUE | I17: 594000 | J17: OngXoi | K17: =""
A18: 13 | B18: A24.0350 | C18: ống xói F50mm | D18: m | E18: 55000 | F18: 55000 | G18: 1 | H18: TRUE | I18: 60500 | J18: OngXoi | K18: =""
A19: 14 | B19: A24.0543 | C19: Que hàn | D19: kg | E19: 25000 | F19: 25000 | G19: 1 | H19: TRUE | I19: 27500 | J19: QueHan | K19: =""
A20: 15 | B20: A24.0712 | C20: Thép hình | D20: kg | E20: 19250 | F20: 18800 | G20: 1 | H20: TRUE | I20: 20304 | J20: ThepHinh | K20: =""
A21: 16 | B21: A24.0726 | C21: Thép tấm | D21: kg | E21: 19250 | F21: 18800 | G21: 1 | H21: TRUE | I21: 20304 | J21: ThepTam | K21: =""
A22: 17 | B22: A24.0738 | C22: Thép tròn D<=10mm | D22: kg | E22: 19200 | F22: 14700 | G22: 1 | H22: TRUE | I22: 15876 | J22: ThepTron<=10 | K22: =""
A23: 18 | B23: A24.0739 | C23: Thép tròn D<=18mm | D23: kg | E23: 19200 | F23: 14700 | G23: 1 | H23: TRUE | I23: 15876 | J23: ThepTron<=18 | K23: =""
A24: 19 | B24: A24.0782 | C24: Vải địa kỹ thuật | D24: m2 | E24: 11100 | F24: 10400 | G24: 1 | H24: TRUE | I24: 11440 | J24: VaiDiaKyThuat | K24: Áp theo "Vài địa kỹ thuật không dệt 12KN" trong Thông báo giá VL số: 621/2025/TB-SXD của Sở XD TP Hải Phòng ngày 08/12/2025. Vùng: 10
A25: 20 | B25: A24.0797A | C25: Xi măng PCB30 | D25: kg | E25: 1380 | F25: 1597 | G25: 1 | H25: TRUE | I25: 1724.8 | J25: XiMangPCB30 | K25: Áp theo "Xi măng PCB30 bao Chinfon (đường bộ)" trong Thông báo giá VL số: 621/2025/TB-SXD của Sở XD TP Hải Phòng ngày 08/12/2025. Vùng: 10
A26: II | C26: NHÂN CÔNG
A27: 1 | B27: N1.30 | C27: Nhân công 3,0/7 - Nhóm 1 | D27: công | E27: 221303 | F27: ='Nhân công'!T8 -> 243700 | G27: 1 | H27: TRUE | J27: N1.30 | K27: Được tính toán, rồi Link từ sheet Nhân công sang
A28: 2 | B28: N2.30 | C28: Nhân công 3,0/7 - Nhóm 2 | D28: công | E28: 239592 | F28: ='Nhân công'!T9 -> 263800 | G28: 1 | H28: TRUE | J28: N2.30 | K28: Được tính toán, rồi Link từ sheet Nhân công sang
A29: 3 | B29: N2.35 | C29: Nhân công 3,5/7 - Nhóm 2 | D29: công | E29: 262000 | F29: ='Nhân công'!T10 -> 288500 | G29: 1 | H29: TRUE | J29: N2.35 | K29: Được tính toán, rồi Link từ sheet Nhân công sang
A30: 4 | B30: N2.40 | C30: Nhân công 4,0/7 - Nhóm 2 | D30: công | E30: 284408 | F30: ='Nhân công'!T11 -> 313200 | G30: 1 | H30: TRUE | J30: N2.40 | K30: Được tính toán, rồi Link từ sheet Nhân công sang
A31: III | C31: MÁY THI CÔNG
A32: 1 | B32: M109.0507 | C32: Ca nô 150 CV | D32: ca | E32: 2067189 | F32: =Máy!K6 -> 1995246 | G32: 1 | H32: TRUE | J32: M622 | K32: Được tính toán, rồi Link từ sheet Máy sang
A33: 2 | B33: M102.0302 | C33: Cần cẩu bánh xích 10T | D33: ca | E33: 2256343 | F33: =Máy!K20 -> 2090057 | G33: 1 | H33: TRUE | J33: M197 | K33: Được tính toán, rồi Link từ sheet Máy sang
A34: 3 | B34: M102.0501 | C34: Cần cẩu nổi, kéo theo 30T | D34: ca | E34: 7147541 | F34: =Máy!K32 -> 6848149 | G34: 1 | H34: TRUE | J34: M221 | K34: Được tính toán, rồi Link từ sheet Máy sang
A35: 4 | B35: M102.0406 | C35: Cần trục tháp - sức nâng : 25,0 T | D35: ca | E35: 3038093 | F35: =Máy!K50 -> 3119874 | G35: 1 | H35: TRUE | J35: M215 | K35: Được tính toán, rồi Link từ sheet Máy sang
A36: 5 | B36: M112.0105 | C36: Máy bơm nước, động cơ điện 14 kW | D36: ca | E36: 90924 | F36: =Máy!K62 -> 95300 | G36: 1 | H36: TRUE | J36: M345 | K36: Được tính toán, rồi Link từ sheet Máy sang
A37: 6 | B37: M112.0402 | C37: Máy bơm xói 4MC (75 kW) | D37: ca | E37: 734664 | F37: =Máy!K69 -> 782820 | G37: 1 | H37: TRUE | J37: M679 | K37: Được tính toán, rồi Link từ sheet Máy sang
A38: 7 | B38: M112.2601 | C38: Máy cắt uốn cốt thép - công suất : 5,0 kW | D38: ca | E38: 281286 | F38: =Máy!K79 -> 307436 | G38: 1 | H38: TRUE | J38: M454 | K38: Được tính toán, rồi Link từ sheet Máy sang
A39: 8 | B39: M112.3801 | C39: Máy cưa gỗ cầm tay - công suất : 1,3 kW | D39: ca | E39: 24662 | F39: =Máy!K89 -> 25048 | G39: 1 | H39: TRUE | J39: M459 | K39: Được tính toán, rồi Link từ sheet Máy sang
A40: 9 | B40: M101.0104 | C40: Máy đào một gầu, bánh xích - dung tích gầu : 0,80 m3 | D40: ca | E40: 2938899 | F40: =Máy!K96 -> 2551986 | G40: 1 | H40: TRUE | J40: M6 | K40: Được tính toán, rồi Link từ sheet Máy sang
A41: 10 | B41: M101.0105 | C41: Máy đào một gầu, bánh xích - dung tích gầu : 1,25 m3 | D41: ca | E41: 4000423 | F41: =Máy!K106 -> 3498165 | G41: 1 | H41: TRUE | J41: M9 | K41: Được tính toán, rồi Link từ sheet Máy sang
A42: 11 | B42: M112.1301 | C42: Máy đầm bê tông, dầm dùi - công suất : 1,5 kW | D42: ca | E42: 276782 | F42: =Máy!K116 -> 302675 | G42: 1 | H42: TRUE | J42: M310 | K42: Được tính toán, rồi Link từ sheet Máy sang
A43: 12 | B43: M101.0803 | C43: Máy đầm đất cầm tay - trọng lượng : 70 kg | D43: ca | E43: 396542 | F43: =Máy!K126 -> 390153 | G43: 1 | H43: TRUE | J43: M71 | K43: Được tính toán, rồi Link từ sheet Máy sang
A44: 13 | B44: M103.0202 | C44: Máy đóng cọc chạy trên ray - trọng lượng đầu búa : 1,8 T | D44: ca | E44: 1789199 | F44: =Máy!K136 -> 1633554 | G44: 1 | H44: TRUE | J44: M492 | K44: Được tính toán, rồi Link từ sheet Máy sang
A45: 14 | B45: M112.4003 | C45: Máy hàn xoay chiều - công suất : 23,0 kW | D45: ca | E45: 411700 | F45: =Máy!K147 -> 447485 | G45: 1 | H45: TRUE | J45: M423 | K45: Được tính toán, rồi Link từ sheet Máy sang
A46: 15 | B46: M108.0308 | C46: Máy nén khí, động cơ diezel - năng suất : 1200,00 m3/h | D46: ca | E46: 3027990 | F46: =Máy!K157 -> 2576996 | G46: 1 | H46: TRUE | J46: M406 | K46: Được tính toán, rồi Link từ sheet Máy sang
A47: 16 | B47: M104.0102 | C47: Máy trộn bê tông - dung tích : 250,0 lít | D47: ca | E47: 320806 | F47: =Máy!K167 -> 347214 | G47: 1 | H47: TRUE | J47: M270 | K47: Được tính toán, rồi Link từ sheet Máy sang
A48: 17 | B48: M101.0503 | C48: Máy ủi - công suất : 110,0 CV | D48: ca | E48: 2096893 | F48: =Máy!K177 -> 1831732 | G48: 1 | H48: TRUE | J48: M45 | K48: Được tính toán, rồi Link từ sheet Máy sang
A49: 18 | B49: M102.1001 | C49: Máy vận thăng lồng - sức nâng : 3,0 T | D49: ca | E49: 826454 | F49: =Máy!K187 -> 857495 | G49: 1 | H49: TRUE | J49: M578 | K49: Được tính toán, rồi Link từ sheet Máy sang
A50: 19 | B50: M106.0202 | C50: Ô tô tự đổ - trọng tải : 5,0 T | D50: ca | E50: 1727890 | F50: =Máy!K197 -> 1492461 | G50: 1 | H50: TRUE | J50: M107 | K50: Được tính toán, rồi Link từ sheet Máy sang
A51: 20 | B51: M106.0202 | C51: Ô tô tự đổ - trọng tải : 5,0 T | D51: ca | E51: 1727890 | F51: =Máy!K197 -> 1492461 | G51: 4 | H51: TRUE | J51: M107 | K51: Được tính toán, rồi Link từ sheet Máy sang
A52: 21 | B52: M109.0104 | C52: Sà lan 400T | D52: ca | E52: 891221 | F52: =Máy!K207 -> 891221 | G52: 1 | H52: TRUE | J52: M522 | K52: Được tính toán, rồi Link từ sheet Máy sang

Sheet Đầu vào
A1: DỮ LIỆU ĐẦU VÀO TÍNH NHÂN CÔNG, CA MÁY
A2: ='Công trình'!A2 -> CÔNG TRÌNH : XÂY DỰNG HỆ THỐNG CỐNG HỘP KÊNH BẾN KEM ĐOẠN TỪ NHÀ ÔNG CHÍN ĐẾN KÊNH ĐẠI TRÀ 2, XÃ KIẾN MINH
A3: BẢNG 1. MỨC LƯƠNG, SỐ NGÀY LÀM VIỆC
A4: STT | B4: Tên, loại dữ liệu | D4: Giá trị
B5: Mức lương tối thiểu chung (đồng/tháng) | D5: 0
A6: 1 | B6: Mức lương đầu vào LNC (đồng/tháng) | D6: 0
A7: 2 | B7: Số ngày làm việc (ngày/tháng) | D7: 26
A8: 3 | B8: Hệ số điều chỉnh nhân công | D8: 1
A9: BẢNG 2. TỶ LỆ CÁC KHOẢN PHỤ CẤP
A10: STT | B10: Loại phụ cấp | D10: Tỷ lệ
A11: 1 | B11: Phụ cấp lưu động | D11: 0
A12: 2 | B12: Không ổn định sản xuất | D12: 0
A13: 3 | B13: Lương phụ nghỉ lễ, tết hoặc nghỉ phép ... | D13: 0
A14: 4 | B14: Chi phí có thể khoán trực tiếp cho người lao động | D14: 0
A15: 5 | B15: Phụ cấp khu vực | D15: 0
A16: 6 | B16: Phụ cấp độc hại | D16: 0
A17: 7 | B17: Phụ cấp thu hút | D17: 0
A18: 8 | B18: Phụ cấp trách nhiệm | D18: 0
A19: 9 | B19: Phụ cấp bảo hiểm | D19: 0
A20: 10 | B20: Phụ cấp vùng sâu, vùng xa, khó khăn, đắt đỏ | D20: 0
A21: BẢNG 3. ĐƠN GIÁ NHIÊN LIỆU, ĐIỆN (TRƯỚC THUẾ VAT)
A22: STT | B22: Loại nhiên liệu, năng lượng | C22: Đơn vị | D22: ="Đơn giá "&'Công trình'!AM1 -> Đơn giá (đ)
A23: 1 | B23: Diezel | C23: Lít | D23: 16824.07
A24: 2 | B24: Mazut | C24: Lít | D24: 11785.28
A25: 3 | B25: Điện | C25: kwh | D25: 1987 | E25: Giá điện theo: Quyết định 1279/QĐ-BCT ngày 09/05/2025
A26: 4 | B26: Xăng A92 | C26: Lít | D26: 16972.22 | E26: Giá nhiên liệu theo: Công bố của Petrolimex ngày 29/01/2026
A27: BẢNG 4. HỆ SỐ NHIÊN LIỆU PHỤ
A28: STT | B28: Loại động cơ | D28: Hệ số
A29: 1 | B29: Động cơ Diezel | D29: 1.03
A30: 2 | B30: Động cơ Mazut | D30: 1
A31: 3 | B31: Động cơ Điện | D31: 1.05
A32: 4 | B32: Động cơ Xăng | D32: 1.02
A33: BẢNG 5. THU HỒI KHI THANH LÝ
A34: STT | B34: Loại nhiên liệu, năng lượng | D34: Giá trị
A35: 1 | B35: Thu hồi thanh lý khi nguyên giá từ (triệu đồng) | D35: 30
A36: 2 | B36: Tỷ lệ thu hồi khi thanh lý | D36: 0.1
A37: BẢNG 6. LÀM TRÒN SỐ HỌC
A38: STT | B38: Đối tượng làm tròn | D38: Làm tròn
A39: 1 | B39: Giá | D39: 1 | E39: =D39 -> 1
A40: 2 | B40: Đơn giá Nhân công, Lương thợ lái máy | D40: -2 | E40: =D40 -> -2
A41: 3 | B41: Tổng đơn giá | D41: 0
A42: 4 | B42: Hệ số lương | D42: 3
A43: BẢNG 7. CÁC KÝ HIỆU VIẾT TẮT
A44: STT | B44: Ý nghĩa ký hiệu viết tắt | D44: Ký hiệu
A45: 1 | B45: Mức lương đầu vào | D45: LNC
A46: 2 | B46: Lương cơ bản (lương cấp bậc) | D46: LCB
A47: 3 | B47: Hệ số lương theo cấp bậc | D47: HCB

Sheet Nhân công
A1: BẢNG TÍNH ĐƠN GIÁ NHÂN CÔNG
A2: (Theo Quyết định 479/QĐ-SXD năm 2024 của tỉnh Hải Phòng - Các quận, huyện.)
A3: ='Công trình'!A2 -> CÔNG TRÌNH : XÂY DỰNG HỆ THỐNG CỐNG HỘP KÊNH BẾN KEM ĐOẠN TỪ NHÀ ÔNG CHÍN ĐẾN KÊNH ĐẠI TRÀ 2, XÃ KIẾN MINH
A4: ="Đơn vị tính: "&'Công trình'!AM1 -> Đơn vị tính: (đ)
A5: STT | B5: Mã số | C5: Tên nhân công | D5: Đơn vị | E5: Hệ số lương (HCB) | F5: Đơn giá NC bình quân (đ/công) | G5: Hệ số lương bình quân | H5: Lương CB (đ/công) | I5: ="Phụ cấp "&'Công trình'!AM1 -> Phụ cấp (đ) | S5: Hệ số điều chỉnh nhân công | T5: Đơn giá nhân công (đ/công) | U5: Hệ số lương (chưa làm tròn)
I6: ="Lưu động _x000D_ ("&'Đầu vào'!D11*100&"% LTC)" -> Lưu động _x000D_ (0% LTC) | J6: ="Không ổn định S.X _x000D_ ("&'Đầu vào'!D12*100&"% LCB)" -> Không ổn định S.X _x000D_ (0% LCB) | K6: ="Lương phụ nghỉ lễ, tết _x000D_ ("&'Đầu vào'!D13*100&"% LCB)" -> Lương phụ nghỉ lễ, tết _x000D_ (0% LCB) | L6: ="Khoán trực tiếp _x000D_ ("&'Đầu vào'!D14*100&"% LCB)" -> Khoán trực tiếp _x000D_ (0% LCB) | M6: ="Khu vực _x000D_ ("&'Đầu vào'!D15*100&"% LTC)" -> Khu vực _x000D_ (0% LTC) | N6: ="Độc hại _x000D_ ("&'Đầu vào'!D16*100&"% LTC)" -> Độc hại _x000D_ (0% LTC) | O6: ="Thu hút _x000D_ ("&'Đầu vào'!D17*100&"% LCB)" -> Thu hút _x000D_ (0% LCB) | P6: ="Trách nhiệm _x000D_ ("&'Đầu vào'!D18*100&"% LTC)" -> Trách nhiệm _x000D_ (0% LTC) | Q6: ="Bảo hiểm _x000D_ ("&'Đầu vào'!D19*100&"% LCB)" -> Bảo hiểm _x000D_ (0% LCB) | R6: ="Vùng sâu, vùng xa _x000D_ ("&'Đầu vào'!D20*100&"% LCB)" -> Vùng sâu, vùng xa _x000D_ (0% LCB)
I7: ='Đầu vào'!D11 -> 0 | J7: ='Đầu vào'!D12 -> 0 | K7: ='Đầu vào'!D13 -> 0 | L7: ='Đầu vào'!D14 -> 0 | M7: ='Đầu vào'!D15 -> 0 | N7: ='Đầu vào'!D16 -> 0 | O7: ='Đầu vào'!D17 -> 0 | P7: ='Đầu vào'!D18 -> 0 | Q7: ='Đầu vào'!D19 -> 0 | R7: ='Đầu vào'!D20 -> 0
A8: 1 | B8: ='Giá tháng'!B27 -> N1.30 | C8: ='Giá tháng'!C27 -> Nhân công 3,0/7 - Nhóm 1 | D8: ='Giá tháng'!D27 -> công | E8: =ROUND(U8,'Đầu vào'!D42) -> 1.39 | F8: 266500 | G8: 1.52 | H8: =E8*F8/G8 -> 243707.24 | J8: =J7*H8 -> 0 | K8: =K7*H8 -> 0 | L8: =L7*H8 -> 0 | O8: =O7*H8 -> 0 | Q8: =Q7*H8 -> 0 | R8: =R7*H8 -> 0 | T8: =ROUND(SUM(H8:R8),'Đầu vào'!D40) -> 243700 | U8: 1.39
A9: 2 | B9: ='Giá tháng'!B28 -> N2.30 | C9: ='Giá tháng'!C28 -> Nhân công 3,0/7 - Nhóm 2 | D9: ='Giá tháng'!D28 -> công | E9: =ROUND(U9,'Đầu vào'!D42) -> 1.39 | F9: 288500 | G9: 1.52 | H9: =E9*F9/G9 -> 263825.66 | J9: =J7*H9 -> 0 | K9: =K7*H9 -> 0 | L9: =L7*H9 -> 0 | O9: =O7*H9 -> 0 | Q9: =Q7*H9 -> 0 | R9: =R7*H9 -> 0 | T9: =ROUND(SUM(H9:R9),'Đầu vào'!D40) -> 263800 | U9: 1.39
A10: 3 | B10: ='Giá tháng'!B29 -> N2.35 | C10: ='Giá tháng'!C29 -> Nhân công 3,5/7 - Nhóm 2 | D10: ='Giá tháng'!D29 -> công | E10: =ROUND(U10,'Đầu vào'!D42) -> 1.52 | F10: 288500 | G10: 1.52 | H10: =E10*F10/G10 -> 288500 | J10: =J7*H10 -> 0 | K10: =K7*H10 -> 0 | L10: =L7*H10 -> 0 | O10: =O7*H10 -> 0 | Q10: =Q7*H10 -> 0 | R10: =R7*H10 -> 0 | T10: =ROUND(SUM(H10:R10),'Đầu vào'!D40) -> 288500 | U10: 1.52
A11: 4 | B11: ='Giá tháng'!B30 -> N2.40 | C11: ='Giá tháng'!C30 -> Nhân công 4,0/7 - Nhóm 2 | D11: ='Giá tháng'!D30 -> công | E11: =ROUND(U11,'Đầu vào'!D42) -> 1.65 | F11: 288500 | G11: 1.52 | H11: =E11*F11/G11 -> 313174.34 | J11: =J7*H11 -> 0 | K11: =K7*H11 -> 0 | L11: =L7*H11 -> 0 | O11: =O7*H11 -> 0 | Q11: =Q7*H11 -> 0 | R11: =R7*H11 -> 0 | T11: =ROUND(SUM(H11:R11),'Đầu vào'!D40) -> 313200 | U11: 1.65

Sheet Máy
A1: BẢNG TÍNH ĐƠN GIÁ CA MÁY
A2: (Theo Thông tư 60/2025/TT-BXD, Quyết định 479/QĐ-SXD năm 2024 của tỉnh Hải Phòng - Các quận, huyện.)
A3: ='Công trình'!A2 -> CÔNG TRÌNH : XÂY DỰNG HỆ THỐNG CỐNG HỘP KÊNH BẾN KEM ĐOẠN TỪ NHÀ ÔNG CHÍN ĐẾN KÊNH ĐẠI TRÀ 2, XÃ KIẾN MINH
A4: ="Đơn vị tính: "&'Công trình'!AM1 -> Đơn vị tính: (đ)
A5: STT | B5: Mã số | C5: Tên máy và thiết bị thi công / Diễn giải | D5: Đơn vị | E5: ="Nguyên giá_x000D_ "&'Công trình'!AM1 -> Nguyên giá_x000D_ (đ) | F5: Số ca / 1 năm | G5: Định mức | H5: ="Đơn giá_x000D_ "&'Công trình'!AM1 -> Đơn giá_x000D_ (đ) | I5: Hệ số | J5: Số ngày / tháng | K5: ="Chi phí_x000D_ "&'Công trình'!AM1 -> Chi phí_x000D_ (đ)
A6: 1 | B6: ='Giá tháng'!B32 -> M109.0507 | C6: ='Giá tháng'!C32 -> Ca nô 150 CV | D6: ='Giá tháng'!D32 -> ca | E6: 364360000 | F6: 260 | K6: =ROUND(K7+K9+K16,'Đầu vào'!D41) -> 1995246
C7: * Nhiên liệu, năng lượng : | K7: =SUM(K8:K8) -> 398562.22
C8: =" - "&'Đầu vào'!B23 -> - Diezel | D8: ='Đầu vào'!C23 -> Lít | G8: 23 | H8: ='Đầu vào'!D23 -> 16824.07 | I8: ='Đầu vào'!D29 -> 1.03 | K8: =G8*H8*I8 -> 398562.22
C9: * Nhân công vận hành máy : | K9: =G10*K10+G12*K12+G14*K14 -> 1309400
C10: - Thuyền trưởng bậc 1/2 - Nhóm 1 | G10: 1 | K10: =ROUND(SUM(K11:K11),'Đầu vào'!E40) -> 507300
C11: Lương cơ bản | G11: 1 | H11: 520000 | I11: 1.025 | K11: =IF(G11<>0,G11*H11/I11,H11) -> 507317.07
C12: - Máy 1 bậc 1/2 - Nhóm 1 | G12: 1 | K12: =ROUND(SUM(K13:K13),'Đầu vào'!E40) -> 418900
C13: Lương cơ bản | G13: 1 | H13: 429400 | I13: 1.025 | K13: =IF(G13<>0,G13*H13/I13,H13) -> 418926.83
C14: - Thủy thủ bậc 2/4 | G14: 1 | K14: =ROUND(SUM(K15:K15),'Đầu vào'!E40) -> 383200
C15: Lương cơ bản | G15: 1.13 | H15: 383200 | I15: 1.13 | K15: =IF(G15<>0,G15*H15/I15,H15) -> 383200
C16: * Khấu hao, Sửa chữa và Chi phí khác | K16: =SUM(K17:K19) -> 287283.85
C17: - Khấu hao | G17: 0.11 | H17: =E6 -> 364360000 | I17: =IF(E6>='Đầu vào'!D35*10^6,1-'Đầu vào'!D36,1) -> 0.9 | K17: =G17*H17*I17/F6 -> 138737.08
C18: - Sửa chữa | G18: 0.046 | H18: =E6 -> 364360000 | K18: =G18*H18/F6 -> 64463.692
C19: - Chi phí khác | G19: 0.06 | H19: =E6 -> 364360000 | K19: =G19*H19/F6 -> 84083.077
A20: 2 | B20: ='Giá tháng'!B33 -> M102.0302 | C20: ='Giá tháng'!C33 -> Cần cẩu bánh xích 10T | D20: ='Giá tháng'!D33 -> ca | E20: 1085398000 | F20: 250 | K20: =ROUND(K21+K23+K28,'Đầu vào'!D41) -> 2090057
C21: * Nhiên liệu, năng lượng : | K21: =SUM(K22:K22) -> 623836.52
C22: =" - "&'Đầu vào'!B23 -> - Diezel | D22: ='Đầu vào'!C23 -> Lít | G22: 36 | H22: ='Đầu vào'!D23 -> 16824.07 | I22: ='Đầu vào'!D29 -> 1.03 | K22: =G22*H22*I22 -> 623836.52
C23: * Nhân công vận hành máy : | K23: =G24*K24+G26*K26 -> 702100
C24: - Nhân công bậc 4,0/7 - Nhóm 4 | G24: 1 | K24: =ROUND(SUM(K25:K25),'Đầu vào'!E40) -> 322700
C25: Lương cơ bản | G25: 1.65 | H25: 297300 | I25: 1.52 | K25: =IF(G25<>0,G25*H25/I25,H25) -> 322726.97
C26: - Nhân công bậc 5,0/7 - Nhóm 4 | G26: 1 | K26: =ROUND(SUM(K27:K27),'Đầu vào'!E40) -> 379400
C27: Lương cơ bản | G27: 1.94 | H27: 297300 | I27: 1.52 | K27: =IF(G27<>0,G27*H27/I27,H27) -> 379448.68
C28: * Khấu hao, Sửa chữa và Chi phí khác | K28: =SUM(K29:K31) -> 764120.19
C29: - Khấu hao | G29: 0.09 | H29: =E20 -> 1085398000 | I29: =IF(E20>='Đầu vào'!D35*10^6,1-'Đầu vào'!D36,1) -> 0.9 | K29: =G29*H29*I29/F20 -> 351668.95
C30: - Sửa chữa | G30: 0.045 | H30: =E20 -> 1085398000 | K30: =G30*H30/F20 -> 195371.64
C31: - Chi phí khác | G31: 0.05 | H31: =E20 -> 1085398000 | K31: =G31*H31/F20 -> 217079.6
A32: 3 | B32: ='Giá tháng'!B34 -> M102.0501 | C32: ='Giá tháng'!C34 -> Cần cẩu nổi, kéo theo 30T | D32: ='Giá tháng'!D34 -> ca | E32: 2794100000 | F32: 195 | K32: =ROUND(K33+K35+K46,'Đầu vào'!D41) -> 6848149
C33: * Nhiên liệu, năng lượng : | K33: =SUM(K34:K34) -> 1403632.2
C34: =" - "&'Đầu vào'!B23 -> - Diezel | D34: ='Đầu vào'!C23 -> Lít | G34: 81 | H34: ='Đầu vào'!D23 -> 16824.07 | I34: ='Đầu vào'!D29 -> 1.03 | K34: =G34*H34*I34 -> 1403632.2
C35: * Nhân công vận hành máy : | K35: =G36*K36+G38*K38+G40*K40+G42*K42+G44*K44 -> 2392500
C36: - Thuyền phó 2 bậc 1/2 - Nhóm 2 | G36: 1 | K36: =ROUND(SUM(K37:K37),'Đầu vào'!E40) -> 418900
C37: Lương cơ bản | G37: 1 | H37: 429400 | I37: 1.025 | K37: =IF(G37<>0,G37*H37/I37,H37) -> 418926.83
C38: - Thợ máy bậc 2/4 | G38: 2 | K38: =ROUND(SUM(K39:K39),'Đầu vào'!E40) -> 383200
C39: Lương cơ bản | G39: 1.13 | H39: 383200 | I39: 1.13 | K39: =IF(G39<>0,G39*H39/I39,H39) -> 383200
C40: - Thợ máy bậc 3/4 | G40: 1 | K40: =ROUND(SUM(K41:K41),'Đầu vào'!E40) -> 440800
C41: Lương cơ bản | G41: 1.3 | H41: 383200 | I41: 1.13 | K41: =IF(G41<>0,G41*H41/I41,H41) -> 440849.56
C42: - Thợ điện bậc 2/4 | G42: 1 | K42: =ROUND(SUM(K43:K43),'Đầu vào'!E40) -> 383200
C43: Lương cơ bản | G43: 1.13 | H43: 383200 | I43: 1.13 | K43: =IF(G43<>0,G43*H43/I43,H43) -> 383200
C44: - Thủy thủ bậc 2/4 | G44: 1 | K44: =ROUND(SUM(K45:K45),'Đầu vào'!E40) -> 383200
C45: Lương cơ bản | G45: 1.13 | H45: 383200 | I45: 1.13 | K45: =IF(G45<>0,G45*H45/I45,H45) -> 383200
C46: * Khấu hao, Sửa chữa và Chi phí khác | K46: =SUM(K47:K49) -> 3052016.9
C47: - Khấu hao | G47: 0.09 | H47: =E32 -> 2794100000 | I47: =IF(E32>='Đầu vào'!D35*10^6,1-'Đầu vào'!D36,1) -> 0.9 | K47: =G47*H47*I47/F32 -> 1160626.2
C48: - Sửa chữa | G48: 0.062 | H48: =E32 -> 2794100000 | K48: =G48*H48/F32 -> 888380.51
C49: - Chi phí khác | G49: 0.07 | H49: =E32 -> 2794100000 | K49: =G49*H49/F32 -> 1003010.3
A50: 4 | B50: ='Giá tháng'!B35 -> M102.0406 | C50: ='Giá tháng'!C35 -> Cần trục tháp - sức nâng : 25,0 T | D50: ='Giá tháng'!D35 -> ca | E50: 3161607000 | F50: 290 | K50: =ROUND(K51+K53+K58,'Đầu vào'!D41) -> 3119874
C51: * Nhiên liệu, năng lượng : | K51: =SUM(K52:K52) -> 250362
C52: =" - "&'Đầu vào'!B25 -> - Điện | D52: ='Đầu vào'!C25 -> kwh | G52: 120 | H52: ='Đầu vào'!D25 -> 1987 | I52: ='Đầu vào'!D31 -> 1.05 | K52: =G52*H52*I52 -> 250362
C53: * Nhân công vận hành máy : | K53: =G54*K54+G56*K56 -> 721800
C54: - Nhân công bậc 3,0/7 - Nhóm 4 | G54: 1 | K54: =ROUND(SUM(K55:K55),'Đầu vào'!E40) -> 271900
C55: Lương cơ bản | G55: 1.39 | H55: 297300 | I55: 1.52 | K55: =IF(G55<>0,G55*H55/I55,H55) -> 271873.03
C56: - Nhân công bậc 6,0/7 - Nhóm 4 | G56: 1 | K56: =ROUND(SUM(K57:K57),'Đầu vào'!E40) -> 449900
C57: Lương cơ bản | G57: 2.3 | H57: 297300 | I57: 1.52 | K57: =IF(G57<>0,G57*H57/I57,H57) -> 449861.84
C58: * Khấu hao, Sửa chữa và Chi phí khác | K58: =SUM(K59:K61) -> 2147712.3
C59: - Khấu hao | G59: 0.11 | H59: =E50 -> 3161607000 | I59: =IF(E50>='Đầu vào'!D35*10^6,1-'Đầu vào'!D36,1) -> 0.9 | K59: =G59*H59*I59/F50 -> 1079307.2
C60: - Sửa chữa | G60: 0.038 | H60: =E50 -> 3161607000 | K60: =G60*H60/F50 -> 414279.54
C61: - Chi phí khác | G61: 0.06 | H61: =E50 -> 3161607000 | K61: =G61*H61/F50 -> 654125.59
A62: 5 | B62: ='Giá tháng'!B36 -> M112.0105 | C62: ='Giá tháng'!C36 -> Máy bơm nước, động cơ điện 14 kW | D62: ='Giá tháng'!D36 -> ca | E62: 17198000 | F62: 180 | K62: =ROUND(K63+K65,'Đầu vào'!D41) -> 95300
C63: * Nhiên liệu, năng lượng : | K63: =SUM(K64:K64) -> 70935.9
C64: =" - "&'Đầu vào'!B25 -> - Điện | D64: ='Đầu vào'!C25 -> kwh | G64: 34 | H64: ='Đầu vào'!D25 -> 1987 | I64: ='Đầu vào'!D31 -> 1.05 | K64: =G64*H64*I64 -> 70935.9
C65: * Khấu hao, Sửa chữa và Chi phí khác | K65: =SUM(K66:K68) -> 24363.833
C66: - Khấu hao | G66: 0.16 | H66: =E62 -> 17198000 | I66: =IF(E62>='Đầu vào'!D35*10^6,1-'Đầu vào'!D36,1) -> 1 | K66: =G66*H66*I66/F62 -> 15287.111
C67: - Sửa chữa | G67: 0.045 | H67: =E62 -> 17198000 | K67: =G67*H67/F62 -> 4299.5
C68: - Chi phí khác | G68: 0.05 | H68: =E62 -> 17198000 | K68: =G68*H68/F62 -> 4777.2222
A69: 6 | B69: ='Giá tháng'!B37 -> M112.0402 | C69: ='Giá tháng'!C37 -> Máy bơm xói 4MC (75 kW) | D69: ='Giá tháng'!D37 -> ca | E69: 120039000 | F69: 180 | K69: =ROUND(K70+K72+K75,'Đầu vào'!D41) -> 782820
C70: * Nhiên liệu, năng lượng : | K70: =SUM(K71:K71) -> 375543
C71: =" - "&'Đầu vào'!B25 -> - Điện | D71: ='Đầu vào'!C25 -> kwh | G71: 180 | H71: ='Đầu vào'!D25 -> 1987 | I71: ='Đầu vào'!D31 -> 1.05 | K71: =G71*H71*I71 -> 375543
C72: * Nhân công vận hành máy : | K72: =G73*K73 -> 271900
C73: - Nhân công bậc 3,0/7 - Nhóm 4 | G73: 1 | K73: =ROUND(SUM(K74:K74),'Đầu vào'!E40) -> 271900
C74: Lương cơ bản | G74: 1.39 | H74: 297300 | I74: 1.52 | K74: =IF(G74<>0,G74*H74/I74,H74) -> 271873.03
C75: * Khấu hao, Sửa chữa và Chi phí khác | K75: =SUM(K76:K78) -> 135377.32
C76: - Khấu hao | G76: 0.13 | H76: =E69 -> 120039000 | I76: =IF(E69>='Đầu vào'!D35*10^6,1-'Đầu vào'!D36,1) -> 0.9 | K76: =G76*H76*I76/F69 -> 78025.35
C77: - Sửa chữa | G77: 0.036 | H77: =E69 -> 120039000 | K77: =G77*H77/F69 -> 24007.8
C78: - Chi phí khác | G78: 0.05 | H78: =E69 -> 120039000 | K78: =G78*H78/F69 -> 33344.167
A79: 7 | B79: ='Giá tháng'!B38 -> M112.2601 | C79: ='Giá tháng'!C38 -> Máy cắt uốn cốt thép - công suất : 5,0 kW | D79: ='Giá tháng'!D38 -> ca | E79: 18200000 | F79: 240 | K79: =ROUND(K80+K82+K85,'Đầu vào'!D41) -> 307436
C80: * Nhiên liệu, năng lượng : | K80: =SUM(K81:K81) -> 18777.15
C81: =" - "&'Đầu vào'!B25 -> - Điện | D81: ='Đầu vào'!C25 -> kwh | G81: 9 | H81: ='Đầu vào'!D25 -> 1987 | I81: ='Đầu vào'!D31 -> 1.05 | K81: =G81*H81*I81 -> 18777.15
C82: * Nhân công vận hành máy : | K82: =G83*K83 -> 271900
C83: - Nhân công bậc 3,0/7 - Nhóm 4 | G83: 1 | K83: =ROUND(SUM(K84:K84),'Đầu vào'!E40) -> 271900
C84: Lương cơ bản | G84: 1.39 | H84: 297300 | I84: 1.52 | K84: =IF(G84<>0,G84*H84/I84,H84) -> 271873.03
C85: * Khấu hao, Sửa chữa và Chi phí khác | K85: =SUM(K86:K88) -> 16759.167
C86: - Khấu hao | G86: 0.14 | H86: =E79 -> 18200000 | I86: =IF(E79>='Đầu vào'!D35*10^6,1-'Đầu vào'!D36,1) -> 1 | K86: =G86*H86*I86/F79 -> 10616.667
C87: - Sửa chữa | G87: 0.041 | H87: =E79 -> 18200000 | K87: =G87*H87/F79 -> 3109.1667
C88: - Chi phí khác | G88: 0.04 | H88: =E79 -> 18200000 | K88: =G88*H88/F79 -> 3033.3333
A89: 8 | B89: ='Giá tháng'!B39 -> M112.3801 | C89: ='Giá tháng'!C39 -> Máy cưa gỗ cầm tay - công suất : 1,3 kW | D89: ='Giá tháng'!D39 -> ca | E89: 7600000 | F89: 180 | K89: =ROUND(K90+K92,'Đầu vào'!D41) -> 25048
C90: * Nhiên liệu, năng lượng : | K90: =SUM(K91:K91) -> 6259.05
C91: =" - "&'Đầu vào'!B25 -> - Điện | D91: ='Đầu vào'!C25 -> kwh | G91: 3 | H91: ='Đầu vào'!D25 -> 1987 | I91: ='Đầu vào'!D31 -> 1.05 | K91: =G91*H91*I91 -> 6259.05
C92: * Khấu hao, Sửa chữa và Chi phí khác | K92: =SUM(K93:K95) -> 18788.889
C93: - Khấu hao | G93: 0.3 | H93: =E89 -> 7600000 | I93: =IF(E89>='Đầu vào'!D35*10^6,1-'Đầu vào'!D36,1) -> 1 | K93: =G93*H93*I93/F89 -> 12666.667
C94: - Sửa chữa | G94: 0.105 | H94: =E89 -> 7600000 | K94: =G94*H94/F89 -> 4433.3333
C95: - Chi phí khác | G95: 0.04 | H95: =E89 -> 7600000 | K95: =G95*H95/F89 -> 1688.8889
A96: 9 | B96: ='Giá tháng'!B40 -> M101.0104 | C96: ='Giá tháng'!C40 -> Máy đào một gầu, bánh xích - dung tích gầu : 0,80 m3 | D96: ='Giá tháng'!D40 -> ca | E96: 1183203000 | F96: 280 | K96: =ROUND(K97+K99+K102,'Đầu vào'!D41) -> 2551986
C97: * Nhiên liệu, năng lượng : | K97: =SUM(K98:K98) -> 1126371.5
C98: =" - "&'Đầu vào'!B23 -> - Diezel | D98: ='Đầu vào'!C23 -> Lít | G98: 65 | H98: ='Đầu vào'!D23 -> 16824.07 | I98: ='Đầu vào'!D29 -> 1.03 | K98: =G98*H98*I98 -> 1126371.5
C99: * Nhân công vận hành máy : | K99: =G100*K100 -> 322700
C100: - Nhân công bậc 4,0/7 - Nhóm 4 | G100: 1 | K100: =ROUND(SUM(K101:K101),'Đầu vào'!E40) -> 322700
...

Sheet HaoPhiVatTu
A1: HAO PHÍ VẬT LIỆU, NHÂN CÔNG, MÁY CHO CÁC CÔNG TÁC
A2: ='Công trình'!A2 -> CÔNG TRÌNH : XÂY DỰNG HỆ THỐNG CỐNG HỘP KÊNH BẾN KEM ĐOẠN TỪ NHÀ ÔNG CHÍN ĐẾN KÊNH ĐẠI TRÀ 2, XÃ KIẾN MINH | M2: VL khác, Máy khác
A3: ='Công trình'!F6 -> HẠNG MỤC 1 | M3: VLK gốc | N3: MK gốc | O3: VLK HT | P3: MK HT | Q3: Cước VC | R3: Cước bộ | S3: So sánh
A4: STT | B4: Mã hiệu | C4: Tên công tác / vật tư | D4: Đơn vị | E4: Khối lượng | F4: Định mức hao phí | G4: Hệ số | H4: Khối lượng hao phí | M4: =SUM(M6:M315) -> 28201221 | N4: =SUM(N6:N315) -> 12613585 | O4: =SUM(O6:O315) -> 37554834 | P4: =SUM(P6:P315) -> 11649442
A6: ='Công trình'!A10 -> 2 | B6: ='Công trình'!E10 -> AC.22111 | C6: ='Công trình'!F10 -> Đóng cọc ván thép (cừ Larsen) trên cạn bằng máy đóng cọc 1,8T, chiều dài cọc <=12 m, đất cấp I | D6: ='Công trình'!G10 -> 100m | E6: ='Công trình'!P10 -> 48.04
C7: a) Vật liệu
B8: ='Giá tháng'!B10 -> A24.0230 | C8: ='Giá tháng'!C10 -> Cọc ván thép <=12m | D8: ='Giá tháng'!D10 -> m | F8: 100 | G8: ='Giá tháng'!G10 -> 1 | H8: =E6*F8*G8 -> 4804 | Q8: ='Cước VC'!AV10 -> 0 | R8: ='Cước bộ'!W10 -> 0 | S8: 108
B9: Z999 | C9: Vât liệu khác | D9: % | F9: 0.5 | M9: =E6*F9*(F8*'Giá tháng'!E10*'Giá tháng'!G10)/100 -> 0 | O9: =E6*F9*(F8*('Giá tháng'!F10+Q8+R8)*'Giá tháng'!G10)/100 -> 0
C10: b) Nhân công
B11: ='Giá tháng'!B29 -> N2.35 | C11: ='Giá tháng'!C29 -> Nhân công 3,5/7 - Nhóm 2 | D11: ='Giá tháng'!D29 -> công | F11: 6.68 | G11: ='Giá tháng'!G29 -> 1 | H11: =E6*F11*G11 -> 320.9072 | S11: 203
C12: c) Máy thi công
B13: ='Giá tháng'!B44 -> M103.0202 | C13: ='Giá tháng'!C44 -> Máy đóng cọc chạy trên ray - trọng lượng đầu búa : 1,8 T | D13: ='Giá tháng'!D44 -> ca | F13: 2.226 | G13: ='Giá tháng'!G44 -> 1 | H13: =E6*F13*G13 -> 106.93704 | S13: 3014
B14: M999 | C14: Máy khác | D14: % | F14: 3 | N14: =E6*F14*(F13*'Giá tháng'!E44*'Giá tháng'!G44)/100 -> 5739949.4 | P14: =E6*F14*(F13*'Giá tháng'!F44*'Giá tháng'!G44)/100 -> 5240622.9
A15: ='Công trình'!A39 -> 6 | B15: ='Công trình'!E39 -> AC.22111 | C15: ='Công trình'!F39 -> Nhổ cọc ván thép (cừ Larsen) trên cạn bằng máy đóng cọc 1,8T, chiều dài cọc <=12 m, đất cấp I | D15: ='Công trình'!G39 -> 100m | E15: ='Công trình'!P39 -> 48.04
C16: a) Vật liệu
B17: ='Giá tháng'!B10 -> A24.0230 | C17: ='Giá tháng'!C10 -> Cọc ván thép <=12m | D17: ='Giá tháng'!D10 -> m | F17: 100 | G17: ='Giá tháng'!G10 -> 1 | H17: =E15*F17*G17 -> 4804 | Q17: ='Cước VC'!AV10 -> 0 | R17: ='Cước bộ'!W10 -> 0 | S17: 108
B18: Z999 | C18: Vât liệu khác | D18: % | F18: 0.5 | M18: =E15*F18*(F17*'Giá tháng'!E10*'Giá tháng'!G10)/100 -> 0 | O18: =E15*F18*(F17*('Giá tháng'!F10+Q17+R17)*'Giá tháng'!G10)/100 -> 0
C19: b) Nhân công
B20: ='Giá tháng'!B29 -> N2.35 | C20: ='Giá tháng'!C29 -> Nhân công 3,5/7 - Nhóm 2 | D20: ='Giá tháng'!D29 -> công | F20: 6.68 | G20: ='Giá tháng'!G29 -> 1 | H20: =E15*F20*G20 -> 320.9072 | S20: 203
C21: c) Máy thi công
B22: ='Giá tháng'!B44 -> M103.0202 | C22: ='Giá tháng'!C44 -> Máy đóng cọc chạy trên ray - trọng lượng đầu búa : 1,8 T | D22: ='Giá tháng'!D44 -> ca | F22: 2.226 | G22: ='Giá tháng'!G44 -> 1 | H22: =E15*F22*G22 -> 106.93704 | S22: 3014
B23: M999 | C23: Máy khác | D23: % | F23: 3 | N23: =E15*F23*(F22*'Giá tháng'!E44*'Giá tháng'!G44)/100 -> 5739949.4 | P23: =E15*F23*(F22*'Giá tháng'!F44*'Giá tháng'!G44)/100 -> 5240622.9
A24: ='Công trình'!A41 -> 7 | B24: ='Công trình'!E41 -> AL.16121 | C24: ='Công trình'!F41 -> Rải vải địa kỹ thuật làm nền đường, mái đê, đập | D24: ='Công trình'!G41 -> 100m2 | E24: ='Công trình'!P41 -> 1.44
C25: a) Vật liệu
B26: ='Giá tháng'!B24 -> A24.0782 | C26: ='Giá tháng'!C24 -> Vải địa kỹ thuật | D26: ='Giá tháng'!D24 -> m2 | F26: 105 | G26: ='Giá tháng'!G24 -> 1 | H26: =E24*F26*G26 -> 151.2 | Q26: ='Cước VC'!AV24 -> 0 | R26: ='Cước bộ'!W24 -> 0 | S26: 1022
B27: Z999 | C27: Vât liệu khác | D27: % | F27: 0.2 | M27: =E24*F27*(F26*'Giá tháng'!E24*'Giá tháng'!G24)/100 -> 3356.64 | O27: =E24*F27*(F26*('Giá tháng'!F24+Q26+R26)*'Giá tháng'!G24)/100 -> 3144.96
C28: b) Nhân công
B29: ='Giá tháng'!B29 -> N2.35 | C29: ='Giá tháng'!C29 -> Nhân công 3,5/7 - Nhóm 2 | D29: ='Giá tháng'!D29 -> công | F29: 1.18 | G29: ='Giá tháng'!G29 -> 1 | H29: =E24*F29*G29 -> 1.6992 | S29: 203
A30: ='Công trình'!A44 -> 8 | B30: ='Công trình'!E44 -> AA.12111 | C30: ='Công trình'!F44 -> Chặt cây ở địa hình bằng phẳng bằng máy cưa, đường kính gốc cây <= 20cm | D30: ='Công trình'!G44 -> cây | E30: ='Công trình'!P44 -> 20
C31: b) Nhân công
B32: ='Giá tháng'!B27 -> N1.30 | C32: ='Giá tháng'!C27 -> Nhân công 3,0/7 - Nhóm 1 | D32: ='Giá tháng'!D27 -> công | F32: 0.07 | G32: ='Giá tháng'!G27 -> 1 | H32: =E30*F32*G32 -> 1.4 | S32: 201
C33: c) Máy thi công
B34: ='Giá tháng'!B39 -> M112.3801 | C34: ='Giá tháng'!C39 -> Máy cưa gỗ cầm tay - công suất : 1,3 kW | D34: ='Giá tháng'!D39 -> ca | F34: 0.065 | G34: ='Giá tháng'!G39 -> 1 | H34: =E30*F34*G34 -> 1.3 | S34: 309
A35: ='Công trình'!A47 -> 9 | B35: ='Công trình'!E47 -> AB.36120 | C35: ='Công trình'!F47 -> Xói hút bùn trong khung vây phòng nước, các trụ dưới nước | D35: ='Công trình'!G47 -> m3 | E35: ='Công trình'!P47 -> 1152.9
C36: a) Vật liệu
B37: ='Giá tháng'!B18 -> A24.0350 | C37: ='Giá tháng'!C18 -> ống xói F50mm | D37: ='Giá tháng'!D18 -> m | F37: 0.005 | G37: ='Giá tháng'!G18 -> 1 | H37: =E35*F37*G37 -> 5.7645 | Q37: ='Cước VC'!AV18 -> 0 | R37: ='Cước bộ'!W18 -> 0 | S37: 1016
B38: ='Giá tháng'!B16 -> A24.0348 | C38: ='Giá tháng'!C16 -> ống xói F150mm | D38: ='Giá tháng'!D16 -> m | F38: 0.005 | G38: ='Giá tháng'!G16 -> 1 | H38: =E35*F38*G38 -> 5.7645 | Q38: ='Cước VC'!AV16 -> 0 | R38: ='Cước bộ'!W16 -> 0 | S38: 1014
B39: ='Giá tháng'!B17 -> A24.0349 | C39: ='Giá tháng'!C17 -> ống xói F250mm | D39: ='Giá tháng'!D17 -> m | F39: 0.005 | G39: ='Giá tháng'!G17 -> 1 | H39: =E35*F39*G39 -> 5.7645 | Q39: ='Cước VC'!AV17 -> 0 | R39: ='Cước bộ'!W17 -> 0 | S39: 1015
B40: Z999 | C40: Vât liệu khác | D40: % | F40: 5 | M40: =E35*F40*(F37*'Giá tháng'!E18*'Giá tháng'!G18+F38*'Giá tháng'!E16*'Giá tháng'!G16+F39*'Giá tháng'!E17*'Giá tháng'!G17)/100 -> 139789.12 | O40: =E35*F40*(F37*('Giá tháng'!F18+Q37+R37)*'Giá tháng'!G18+F38*('Giá tháng'!F16+Q38+R38)*'Giá tháng'!G16+F39*('Giá tháng'!F17+Q39+R39)*'Giá tháng'!G17)/100 -> 275254.88
C41: b) Nhân công
B42: ='Giá tháng'!B27 -> N1.30 | C42: ='Giá tháng'!C27 -> Nhân công 3,0/7 - Nhóm 1 | D42: ='Giá tháng'!D27 -> công | F42: 0.34 | G42: ='Giá tháng'!G27 -> 1 | H42: =E35*F42*G42 -> 391.986 | S42: 201
C43: c) Máy thi công
B44: ='Giá tháng'!B46 -> M108.0308 | C44: ='Giá tháng'!C46 -> Máy nén khí, động cơ diezel - năng suất : 1200,00 m3/h | D44: ='Giá tháng'!D46 -> ca | F44: 0.057 | G44: ='Giá tháng'!G46 -> 1 | H44: =E35*F44*G44 -> 65.7153 | S44: 3016
B45: ='Giá tháng'!B37 -> M112.0402 | C45: ='Giá tháng'!C37 -> Máy bơm xói 4MC (75 kW) | D45: ='Giá tháng'!D37 -> ca | F45: 0.057 | G45: ='Giá tháng'!G37 -> 1 | H45: =E35*F45*G45 -> 65.7153 | S45: 307
B46: ='Giá tháng'!B52 -> M109.0104 | C46: ='Giá tháng'!C52 -> Sà lan 400T | D46: ='Giá tháng'!D52 -> ca | F46: 0.057 | G46: ='Giá tháng'!G52 -> 1 | H46: =E35*F46*G46 -> 65.7153 | S46: 3021
B47: ='Giá tháng'!B32 -> M109.0507 | C47: ='Giá tháng'!C32 -> Ca nô 150 CV | D47: ='Giá tháng'!D32 -> ca | F47: 0.001 | G47: ='Giá tháng'!G32 -> 1 | H47: =E35*F47*G47 -> 1.1529 | S47: 302
B48: ='Giá tháng'!B34 -> M102.0501 | C48: ='Giá tháng'!C34 -> Cần cẩu nổi, kéo theo 30T | D48: ='Giá tháng'!D34 -> ca | F48: 0.057 | G48: ='Giá tháng'!G34 -> 1 | H48: =E35*F48*G48 -> 65.7153 | S48: 304
B49: ='Giá tháng'!B36 -> M112.0105 | C49: ='Giá tháng'!C36 -> Máy bơm nước, động cơ điện 14 kW | D49: ='Giá tháng'!D36 -> ca | F49: 0.057 | G49: ='Giá tháng'!G36 -> 1 | H49: =E35*F49*G49 -> 65.7153 | S49: 306
A50: ='Công trình'!A49 -> 10 | B50: ='Công trình'!E49 -> AB.25211 | C50: ='Công trình'!F49 -> Đào móng công trình, chiều rộng móng <= 10m, bằng máy đào 0,8m3, đất cấp I | D50: ='Công trình'!G49 -> 100m3 | E50: ='Công trình'!P49 -> 4.8853
C51: b) Nhân công
B52: ='Giá tháng'!B27 -> N1.30 | C52: ='Giá tháng'!C27 -> Nhân công 3,0/7 - Nhóm 1 | D52: ='Giá tháng'!D27 -> công | F52: 1.72 | G52: ='Giá tháng'!G27 -> 1 | H52: =E50*F52*G52 -> 8.402716 | S52: 201
C53: c) Máy thi công
B54: ='Giá tháng'!B40 -> M101.0104 | C54: ='Giá tháng'!C40 -> Máy đào một gầu, bánh xích - dung tích gầu : 0,80 m3 | D54: ='Giá tháng'!D40 -> ca | F54: 0.301 | G54: ='Giá tháng'!G40 -> 1 | H54: =E50*F54*G54 -> 1.4704753 | S54: 3010
A55: ='Công trình'!A51 -> 11 | B55: ='Công trình'!E51 -> AB.24131 | C55: ='Công trình'!F51 -> Đào xúc đất bằng máy đào 1,25m3, đất cấp I | D55: ='Công trình'!G51 -> 100m3 | E55: ='Công trình'!P51 -> 16.4143
C56: b) Nhân công
B57: ='Giá tháng'!B27 -> N1.30 | C57: ='Giá tháng'!C27 -> Nhân công 3,0/7 - Nhóm 1 | D57: ='Giá tháng'!D27 -> công | F57: 0.37 | G57: ='Giá tháng'!G27 -> 1 | H57: =E55*F57*G57 -> 6.073291 | S57: 201
C58: c) Máy thi công
B59: ='Giá tháng'!B41 -> M101.0105 | C59: ='Giá tháng'!C41 -> Máy đào một gầu, bánh xích - dung tích gầu : 1,25 m3 | D59: ='Giá tháng'!D41 -> ca | F59: 0.172 | G59: ='Giá tháng'!G41 -> 1 | H59: =E55*F59*G59 -> 2.8232596 | S59: 3011
B60: ='Giá tháng'!B48 -> M101.0503 | C60: ='Giá tháng'!C48 -> Máy ủi - công suất : 110,0 CV | D60: ='Giá tháng'!D48 -> ca | F60: 0.02 | G60: ='Giá tháng'!G48 -> 1 | H60: =E55*F60*G60 -> 0.328286 | S60: 3018
A61: ='Công trình'!A53 -> 12 | B61: ='Công trình'!E53 -> AB.41411 | C61: ='Công trình'!F53 -> Vận chuyển đất bằng ôtô tự đổ 5 tấn trong phạm vi <= 1000m, đất cấp I | D61: ='Công trình'!G53 -> 100m3 | E61: ='Công trình'!P53 -> 16.414
C62: c) Máy thi công
B63: ='Giá tháng'!B50 -> M106.0202 | C63: ='Giá tháng'!C50 -> Ô tô tự đổ - trọng tải : 5,0 T | D63: ='Giá tháng'!D50 -> ca | F63: 1.15 | G63: ='Giá tháng'!G50 -> 1 | H63: =E61*F63*G63 -> 18.8761 | S63: 3020
A64: ='Công trình'!A55 -> 13 | B64: ='Công trình'!E55 -> AB.42111 | C64: ='Công trình'!F55 -> Vận chuyển đất bằng ô tô tự đổ 5T 1km tiếp theo trong phạm vi <= 5km, đất cấp I | D64: ='Công trình'!G55 -> 100m3 | E64: ='Công trình'!P55 -> 16.414
C65: c) Máy thi công
B66: ='Giá tháng'!B51 -> M106.0202 | C66: ='Giá tháng'!C51 -> Ô tô tự đổ - trọng tải : 5,0 T | D66: ='Giá tháng'!D51 -> ca | F66: 0.53 | G66: ='Giá tháng'!G51 -> 4 | H66: =E64*F66*G66 -> 34.79768 | S66: 3020
A67: ='Công trình'!A57 -> 14 | B67: ='Công trình'!E57 -> AC.11121 | C67: ='Công trình'!F57 -> Đóng cọc tre bằng thủ công, chiều dài cọc > 2,5m vào đất cấp I | D67: ='Công trình'!G57 -> 100m | E67: ='Công trình'!P57 -> 456.875
C68: a) Vật liệu
B69: ='Giá tháng'!B9 -> A24.0227 | C69: ='Giá tháng'!C9 -> Cọc tre >2,5m | D69: ='Giá tháng'!D9 -> m | F69: 105 | G69: ='Giá tháng'!G9 -> 1 | H69: =E67*F69*G69 -> 47971.875 | Q69: ='Cước VC'!AV9 -> 0 | R69: ='Cước bộ'!W9 -> 0 | S69: 107
B70: ='Giá tháng'!B8 -> A24.0183 | C70: ='Giá tháng'!C8 -> Cây chống | D70: ='Giá tháng'!D8 -> cây | F70: 1.65 | G70: ='Giá tháng'!G8 -> 1 | H70: =E67*F70*G70 -> 753.84375 | Q70: ='Cước VC'!AV8 -> 0 | R70: ='Cước bộ'!W8 -> 0 | S70: 106
B71: ='Giá tháng'!B14 -> A24.0418 | C71: ='Giá tháng'!C14 -> Gỗ ván | D71: ='Giá tháng'!D14 -> m3 | F71: 0.01 | G71: ='Giá tháng'!G14 -> 1 | H71: =E67*F71*G71 -> 4.56875 | Q71: ='Cước VC'!AV14 -> 0 | R71: ='Cước bộ'!W14 -> 0 | S71: 1012
B72: Z999 | C72: Vât liệu khác | D72: % | F72: 3 | M72: =E67*F72*(F69*'Giá tháng'!E9*'Giá tháng'!G9+F70*'Giá tháng'!E8*'Giá tháng'!G8+F71*'Giá tháng'!E14*'Giá tháng'!G14)/100 -> 5502249.5 | O72: =E67*F72*(F69*('Giá tháng'!F9+Q69+R69)*'Giá tháng'!G9+F70*('Giá tháng'!F8+Q70+R70)*'Giá tháng'!G8+F71*('Giá tháng'!F14+Q71+R71)*'Giá tháng'!G14)/100 -> 7857793.1
C73: b) Nhân công
B74: ='Giá tháng'!B28 -> N2.30 | C74: ='Giá tháng'!C28 -> Nhân công 3,0/7 - Nhóm 2 | D74: ='Giá tháng'!D28 -> công | F74: 2.02 | G74: ='Giá tháng'!G28 -> 1 | H74: =E67*F74*G74 -> 922.8875 | S74: 202
A75: ='Công trình'!A59 -> 15 | B75: ='Công trình'!E59 -> AB.13411 | C75: ='Công trình'!F59 -> Đắp cát công trình bằng thủ công, đắp nền móng công trình | D75: ='Công trình'!G59 -> m3 | E75: ='Công trình'!P59 -> 73.1
C76: a) Vật liệu
B77: ='Giá tháng'!B6 -> A24.1042 | C77: ='Giá tháng'!C6 -> Cát | D77: ='Giá tháng'!D6 -> m3 | F77: 1.22 | G77: ='Giá tháng'!G6 -> 1 | H77: =E75*F77*G77 -> 89.182 | Q77: ='Cước VC'!AV6 -> 0 | R77: ='Cước bộ'!W6 -> 0 | S77: 104
B78: Z999 | C78: Vât liệu khác | D78: % | F78: 2 | M78: =E75*F78*(F77*'Giá tháng'!E6*'Giá tháng'!G6)/100 -> 249709.6 | O78: =E75*F78*(F77*('Giá tháng'!F6+Q77+R77)*'Giá tháng'!G6)/100 -> 499419.2
C79: b) Nhân công
B80: ='Giá tháng'!B27 -> N1.30 | C80: ='Giá tháng'!C27 -> Nhân công 3,0/7 - Nhóm 1 | D80: ='Giá tháng'!D27 -> công | F80: 0.45 | G80: ='Giá tháng'!G27 -> 1 | H80: =E75*F80*G80 -> 32.895 | S80: 201
A81: ='Công trình'!A61 -> 16 | B81: ='Công trình'!E61 -> AF.82511 | C81: ='Công trình'!F61 -> Ván khuôn thép. Ván khuôn móng dài | D81: ='Công trình'!G61 -> 100m2 | E81: ='Công trình'!P61 -> 0.464
C82: a) Vật liệu
B83: ='Giá tháng'!B21 -> A24.0726 | C83: ='Giá tháng'!C21 -> Thép tấm | D83: ='Giá tháng'!D21 -> kg | F83: 51.81 | G83: ='Giá tháng'!G21 -> 1 | H83: =E81*F83*G83 -> 24.03984 | Q83: ='Cước VC'!AV21 -> 0 | R83: ='Cước bộ'!W21 -> 0 | S83: 1019
B84: ='Giá tháng'!B20 -> A24.0712 | C84: ='Giá tháng'!C20 -> Thép hình | D84: ='Giá tháng'!D20 -> kg | F84: 32.02 | G84: ='Giá tháng'!G20 -> 1 | H84: =E81*F84*G84 -> 14.85728 | Q84: ='Cước VC'!AV20 -> 0 | R84: ='Cước bộ'!W20 -> 0 | S84: 1018
B85: ='Giá tháng'!B19 -> A24.0543 | C85: ='Giá tháng'!C19 -> Que hàn | D85: ='Giá tháng'!D19 -> kg | F85: 3.26 | G85: ='Giá tháng'!G19 -> 1 | H85: =E81*F85*G85 -> 1.51264 | Q85: ='Cước VC'!AV19 -> 0 | R85: ='Cước bộ'!W19 -> 0 | S85: 1017
B86: Z999 | C86: Vât liệu khác | D86: % | F86: 5 | M86: =E81*F86*(F83*'Giá tháng'!E21*'Giá tháng'!G21+F84*'Giá tháng'!E20*'Giá tháng'!G20+F85*'Giá tháng'!E19*'Giá tháng'!G19)/100 -> 39329.278 | O86: =E81*F86*(F83*('Giá tháng'!F21+Q83+R83)*'Giá tháng'!G21+F84*('Giá tháng'!F20+Q84+R84)*'Giá tháng'!G20+F85*('Giá tháng'!F19+Q85+R85)*'Giá tháng'!G19)/100 -> 38454.093
C87: b) Nhân công
B88: ='Giá tháng'!B30 -> N2.40 | C88: ='Giá tháng'!C30 -> Nhân công 4,0/7 - Nhóm 2 | D88: ='Giá tháng'!D30 -> công | F88: 12.25 | G88: ='Giá tháng'!G30 -> 1 | H88: =E81*F88*G88 -> 5.684 | S88: 204
C89: c) Máy thi công
B90: ='Giá tháng'!B45 -> M112.4003 | C90: ='Giá tháng'!C45 -> Máy hàn xoay chiều - công suất : 23,0 kW | D90: ='Giá tháng'!D45 -> ca | F90: 0.82 | G90: ='Giá tháng'!G45 -> 1 | H90: =E81*F90*G90 -> 0.38048 | S90: 3015
B91: M999 | C91: Máy khác | D91: % | F91: 2 | N91: =E81*F91*(F90*'Giá tháng'!E45*'Giá tháng'!G45)/100 -> 3132.8723 | P91: =E81*F91*(F90*'Giá tháng'!F45*'Giá tháng'!G45)/100 -> 3405.1819
A92: ='Công trình'!A63 -> 17 | B92: ='Công trình'!E63 -> AF.11211A | C92: ='Công trình'!F63 -> Đổ bê tông thủ công bằng máy trộn, bê tông móng, chiều rộng <= 250 cm, đá 1x2, mác 100, PCB30 | D92: ='Công trình'!G63 -> m3 | E92: ='Công trình'!P63 -> 73.1
C93: a) Vật liệu
B94: ='Giá tháng'!B25 -> A24.0797A | C94: ='Giá tháng'!C25 -> Xi măng PCB30 | D94: ='Giá tháng'!D25 -> kg | F94: 222.425 | G94: ='Giá tháng'!G25 -> 1 | H94: =E92*F94*G94 -> 16259.267 | Q94: ='Cước VC'!AV25 -> 0 | R94: ='Cước bộ'!W25 -> 0 | S94: 1023
B95: ='Giá tháng'!B7 -> A24.0180 | C95: ='Giá tháng'!C7 -> Cát vàng | D95: ='Giá tháng'!D7 -> m3 | F95: 0.552475 | G95: ='Giá tháng'!G7 -> 1 | H95: =E92*F95*G95 -> 40.385922 | Q95: ='Cước VC'!AV7 -> 0 | R95: ='Cước bộ'!W7 -> 0 | S95: 105
B96: ='Giá tháng'!B13 -> A24.0008 | C96: ='Giá tháng'!C13 -> Đá 1x2 | D96: ='Giá tháng'!D13 -> m3 | F96: 0.909175 | G96: ='Giá tháng'!G13 -> 1 | H96: =E92*F96*G96 -> 66.460692 | Q96: ='Cước VC'!AV13 -> 0 | R96: ='Cước bộ'!W13 -> 0 | S96: 1011
B97: ='Giá tháng'!B15 -> A24.0524 | C97: ='Giá tháng'!C15 -> Nước | D97: ='Giá tháng'!D15 -> lít | F97: 187.575 | G97: ='Giá tháng'!G15 -> 1 | H97: =E92*F97*G97 -> 13711.732 | Q97: ='Cước VC'!AV15 -> 0 | R97: ='Cước bộ'!W15 -> 0 | S97: 1013
B98: Z999 | C98: Vât liệu khác | D98: % | F98: 1 | M98: =E92*F98*(F94*'Giá tháng'!E25*'Giá tháng'!G25+F95*'Giá tháng'!E7*'Giá tháng'!G7+F96*'Giá tháng'!E13*'Giá tháng'!G13+F97*'Giá tháng'!E15*'Giá tháng'!G15)/100 -> 620434.17 | O98: =E92*F98*(F94*('Giá tháng'!F25+Q94+R94)*'Giá tháng'!G25+F95*('Giá tháng'!F7+Q95+R95)*'Giá tháng'!G7+F96*('Giá tháng'!F13+Q96+R96)*'Giá tháng'!G13+F97*('Giá tháng'!F15+Q97+R97)*'Giá tháng'!G15)/100 -> 876565.58
C99: b) Nhân công
B100: ='Giá tháng'!B28 -> N2.30 | C100: ='Giá tháng'!C28 -> Nhân công 3,0/7 - Nhóm 2 | D100: ='Giá tháng'!D28 -> công | F100: 1.23 | G100: ='Giá tháng'!G28 -> 1 | H100: =E92*F100*G100 -> 89.913 | S100: 202
C101: c) Máy thi công
...

Sheet Tổng hợp VT
A1: BẢNG TỔNG HỢP VẬT TƯ VÀ CHÊNH LỆCH GIÁ
A2: ='Công trình'!A2 -> CÔNG TRÌNH : XÂY DỰNG HỆ THỐNG CỐNG HỘP KÊNH BẾN KEM ĐOẠN TỪ NHÀ ÔNG CHÍN ĐẾN KÊNH ĐẠI TRÀ 2, XÃ KIẾN MINH
A3: ='Công trình'!F6 -> HẠNG MỤC 1
A4: STT | B4: Mã số | C4: Tên vật tư | D4: Đơn vị | E4: Khối lượng | F4: ="Giá gốc_x000D_ "&'Công trình'!AM1 -> Giá gốc_x000D_ (đ) | G4: ="Thành tiền_x000D_ "&'Công trình'!AM1 -> Thành tiền_x000D_ (đ) | H4: ="Giá T.B_x000D_ "&'Công trình'!AM1 -> Giá T.B_x000D_ (đ) | I4: ="Thành tiền_x000D_ "&'Công trình'!AM1 -> Thành tiền_x000D_ (đ) | J4: Hệ số | K4: ="Giá T.B x H.S_x000D_ "&'Công trình'!AM1 -> Giá T.B x H.S_x000D_ (đ) | L4: ="Thành tiền_x000D_ "&'Công trình'!AM1 -> Thành tiền_x000D_ (đ) | M4: ="Cước V.C_x000D_ Bù NL, lương_x000D_ "&'Công trình'!AM1 -> Cước V.C_x000D_ Bù NL, lương_x000D_ (đ) | N4: ="Thành tiền_x000D_ "&'Công trình'!AM1 -> Thành tiền_x000D_ (đ) | O4: ="Giá H.T_x000D_ "&'Công trình'!AM1 -> Giá H.T_x000D_ (đ) | P4: ="Thành tiền_x000D_ "&'Công trình'!AM1 -> Thành tiền_x000D_ (đ) | Q4: ="Chênh lệch_x000D_ "&'Công trình'!AM1 -> Chênh lệch_x000D_ (đ) | R4: ="Tổng chênh_x000D_ "&'Công trình'!AM1 -> Tổng chênh_x000D_ (đ) | S4: Ghi chú, Nguồn gốc xuất xứ | T4: Cước ôtô Cước sông | U4: Cước bộ
A5: I | C5: VẬT LIỆU
A6: 1 | B6: ='Công trình'!E32 -> TT | C6: ='Công trình'!F32 -> Cừ thép thuê 2500 đ/m/ngày dự kiến thi công 6 tháng ; cừ thép luân chuyển sử dung 3 lần | D6: ='Công trình'!G32 -> m | E6: ='Công trình'!P32 -> 2882.4 | F6: ='Công trình'!Q32+'Công trình'!R32 -> 2500 | G6: =E6*F6 -> 7206000 | H6: ='Công trình'!Q32+'Công trình'!R32 -> 2500 | I6: =E6*H6 -> 7206000 | J6: 1 | K6: =H6*J6 -> 2500 | L6: =E6*K6 -> 7206000 | M6: =T6+U6 -> 0 | N6: =E6*M6 -> 0 | O6: =H6+M6 -> 2500 | P6: =E6*O6*180 -> 1297080000 | Q6: =O6-F6 -> 0 | R6: =P6-G6 -> 1289874000
A7: 2 | B7: ='Công trình'!E36 -> TT | C7: ='Công trình'!F36 -> Thuê ván thép chống lầy để xe đi đóng cọc tre hố móng | D7: ='Công trình'!G36 -> đoạn | E7: ='Công trình'!P36 -> 5 | F7: ='Công trình'!Q36+'Công trình'!R36 -> 19500000 | G7: =E7*F7 -> 97500000 | H7: ='Công trình'!Q36+'Công trình'!R36 -> 19500000 | I7: =E7*H7 -> 97500000 | J7: 1 | K7: =H7*J7 -> 19500000 | L7: =E7*K7 -> 97500000 | M7: =T7+U7 -> 0 | N7: =E7*M7 -> 0 | O7: =H7+M7 -> 19500000 | P7: =E7*O7 -> 97500000 | Q7: =O7-F7 -> 0 | R7: =P7-G7 -> 0
A8: 3 | B8: ='Công trình'!E78 -> TT | C8: ='Công trình'!F78 -> Băng cản nước | D8: ='Công trình'!G78 -> m2 | E8: ='Công trình'!P78 -> 207.55 | F8: ='Công trình'!Q78+'Công trình'!R78 -> 300000 | G8: =E8*F8 -> 62265000 | H8: ='Công trình'!Q78+'Công trình'!R78 -> 300000 | I8: =E8*H8 -> 62265000 | J8: 1 | K8: =H8*J8 -> 300000 | L8: =E8*K8 -> 62265000 | M8: =T8+U8 -> 0 | N8: =E8*M8 -> 0 | O8: =H8+M8 -> 300000 | P8: =E8*O8 -> 62265000 | Q8: =O8-F8 -> 0 | R8: =P8-G8 -> 0
A9: 4 | B9: ='Công trình'!E112 -> TT | C9: ='Công trình'!F112 -> Vật liệu đất núi | D9: ='Công trình'!G112 -> m3 | E9: ='Công trình'!P112 -> 1551.352 | F9: ='Công trình'!Q112+'Công trình'!R112 -> 220000 | G9: =E9*F9 -> 341297440 | H9: ='Công trình'!Q112+'Công trình'!R112 -> 220000 | I9: =E9*H9 -> 341297440 | J9: 1 | K9: =H9*J9 -> 220000 | L9: =E9*K9 -> 341297440 | M9: =T9+U9 -> 0 | N9: =E9*M9 -> 0 | O9: =H9+M9 -> 220000 | P9: =E9*O9 -> 341297440 | Q9: =O9-F9 -> 0 | R9: =P9-G9 -> 0
A10: 5 | B10: ='Giá tháng'!B6 -> A24.1042 | C10: ='Giá tháng'!C6 -> Cát | D10: ='Giá tháng'!D6 -> m3 | E10: =SUMIF(HaoPhiVatTu!S6:S315,104,HaoPhiVatTu!H6:H315) -> 1082.5487 | F10: ='Giá tháng'!E6 -> 140000 | G10: =E10*F10 -> 151556818 | H10: ='Giá tháng'!F6 -> 280000 | I10: =E10*H10 -> 303113636 | J10: 1 | K10: =H10*J10 -> 280000 | L10: =E10*K10 -> 303113636 | M10: =T10+U10 -> 0 | N10: =E10*M10 -> 0 | O10: =H10+M10 -> 280000 | P10: =E10*O10 -> 303113636 | Q10: =O10-F10 -> 140000 | R10: =P10-G10 -> 151556818 | S10: ='Giá tháng'!K6 -> Áp theo "Cát san lấp" trong Thông báo giá VL số: 621/2025/TB-SXD của Sở XD TP Hải Phòng ngày 08/12/2025. Vùng: 10 | T10: ='Cước VC'!AV6 -> 0 | U10: ='Cước bộ'!W6 -> 0
A11: 6 | B11: ='Giá tháng'!B7 -> A24.0180 | C11: ='Giá tháng'!C7 -> Cát vàng | D11: ='Giá tháng'!D7 -> m3 | E11: =SUMIF(HaoPhiVatTu!S6:S315,105,HaoPhiVatTu!H6:H315) -> 357.71084 | F11: ='Giá tháng'!E7 -> 450000 | G11: =E11*F11 -> 1.6096988e+08 | H11: ='Giá tháng'!F7 -> 750000 | I11: =E11*H11 -> 2.6828313e+08 | J11: 1 | K11: =H11*J11 -> 750000 | L11: =E11*K11 -> 2.6828313e+08 | M11: =T11+U11 -> 0 | N11: =E11*M11 -> 0 | O11: =H11+M11 -> 750000 | P11: =E11*O11 -> 2.6828313e+08 | Q11: =O11-F11 -> 300000 | R11: =P11-G11 -> 1.0731325e+08 | S11: ='Giá tháng'!K7 -> Áp theo "Cát bê tông ML>2,0" trong Thông báo giá VL số: 621/2025/TB-SXD của Sở XD TP Hải Phòng ngày 08/12/2025. Vùng: 10 | T11: ='Cước VC'!AV7 -> 0 | U11: ='Cước bộ'!W7 -> 0
A12: 7 | B12: ='Giá tháng'!B8 -> A24.0183 | C12: ='Giá tháng'!C8 -> Cây chống | D12: ='Giá tháng'!D8 -> cây | E12: =SUMIF(HaoPhiVatTu!S6:S315,106,HaoPhiVatTu!H6:H315) -> 779.823 | F12: ='Giá tháng'!E8 -> 19000 | G12: =E12*F12 -> 14816637 | H12: ='Giá tháng'!F8 -> 22000 | I12: =E12*H12 -> 17156106 | J12: 1 | K12: =H12*J12 -> 22000 | L12: =E12*K12 -> 17156106 | M12: =T12+U12 -> 0 | N12: =E12*M12 -> 0 | O12: =H12+M12 -> 22000 | P12: =E12*O12 -> 17156106 | Q12: =O12-F12 -> 3000 | R12: =P12-G12 -> 2339469 | S12: ='Giá tháng'!K8 | T12: ='Cước VC'!AV8 -> 0 | U12: ='Cước bộ'!W8 -> 0
A13: 8 | B13: ='Giá tháng'!B9 -> A24.0227 | C13: ='Giá tháng'!C9 -> Cọc tre >2,5m | D13: ='Giá tháng'!D9 -> m | E13: =SUMIF(HaoPhiVatTu!S6:S315,107,HaoPhiVatTu!H6:H315) -> 49625.1 | F13: ='Giá tháng'!E9 -> 3200 | G13: =E13*F13 -> 158800320 | H13: ='Giá tháng'!F9 -> 4800 | I13: =E13*H13 -> 238200480 | J13: 1 | K13: =H13*J13 -> 4800 | L13: =E13*K13 -> 238200480 | M13: =T13+U13 -> 0 | N13: =E13*M13 -> 0 | O13: =H13+M13 -> 4800 | P13: =E13*O13 -> 238200480 | Q13: =O13-F13 -> 1600 | R13: =P13-G13 -> 79400160 | S13: ='Giá tháng'!K9 | T13: ='Cước VC'!AV9 -> 0 | U13: ='Cước bộ'!W9 -> 0
A14: 9 | B14: ='Giá tháng'!B10 -> A24.0230 | C14: ='Giá tháng'!C10 -> Cọc ván thép <=12m | D14: ='Giá tháng'!D10 -> m | E14: =SUMIF(HaoPhiVatTu!S6:S315,108,HaoPhiVatTu!H6:H315) -> 9608 | F14: ='Giá tháng'!E10 -> 0 | G14: =E14*F14 -> 0 | H14: ='Giá tháng'!F10 -> 0 | I14: =E14*H14 -> 0 | J14: 1 | K14: =H14*J14 -> 0 | L14: =E14*K14 -> 0 | M14: =T14+U14 -> 0 | N14: =E14*M14 -> 0 | O14: =H14+M14 -> 0 | P14: =E14*O14 -> 0 | Q14: =O14-F14 -> 0 | R14: =P14-G14 -> 0 | S14: ='Giá tháng'!K10 | T14: ='Cước VC'!AV10 -> 0 | U14: ='Cước bộ'!W10 -> 0
A15: 10 | B15: ='Giá tháng'!B11 -> A24.0262 | C15: ='Giá tháng'!C11 -> Cột chống thép ống | D15: ='Giá tháng'!D11 -> kg | E15: =SUMIF(HaoPhiVatTu!S6:S315,109,HaoPhiVatTu!H6:H315) -> 1068.9041 | F15: ='Giá tháng'!E11 -> 12627 | G15: =E15*F15 -> 13497052 | H15: ='Giá tháng'!F11 -> 12627 | I15: =E15*H15 -> 13497052 | J15: 1 | K15: =H15*J15 -> 12627 | L15: =E15*K15 -> 13497052 | M15: =T15+U15 -> 0 | N15: =E15*M15 -> 0 | O15: =H15+M15 -> 12627 | P15: =E15*O15 -> 13497052 | Q15: =O15-F15 -> 0 | R15: =P15-G15 -> 0 | S15: ='Giá tháng'!K11 | T15: ='Cước VC'!AV11 -> 0 | U15: ='Cước bộ'!W11 -> 0
A16: 11 | B16: ='Giá tháng'!B12 -> A24.0293 | C16: ='Giá tháng'!C12 -> Dây thép | D16: ='Giá tháng'!D12 -> kg | E16: =SUMIF(HaoPhiVatTu!S6:S315,1010,HaoPhiVatTu!H6:H315) -> 607.82014 | F16: ='Giá tháng'!E12 -> 20000 | G16: =E16*F16 -> 12156403 | H16: ='Giá tháng'!F12 -> 20000 | I16: =E16*H16 -> 12156403 | J16: 1 | K16: =H16*J16 -> 20000 | L16: =E16*K16 -> 12156403 | M16: =T16+U16 -> 0 | N16: =E16*M16 -> 0 | O16: =H16+M16 -> 20000 | P16: =E16*O16 -> 12156403 | Q16: =O16-F16 -> 0 | R16: =P16-G16 -> 0 | S16: ='Giá tháng'!K12 | T16: ='Cước VC'!AV12 -> 0 | U16: ='Cước bộ'!W12 -> 0
A17: 12 | B17: ='Giá tháng'!B13 -> A24.0008 | C17: ='Giá tháng'!C13 -> Đá 1x2 | D17: ='Giá tháng'!D13 -> m3 | E17: =SUMIF(HaoPhiVatTu!S6:S315,1011,HaoPhiVatTu!H6:H315) -> 589.23499 | F17: ='Giá tháng'!E13 -> 320000 | G17: =E17*F17 -> 1.885552e+08 | H17: ='Giá tháng'!F13 -> 470000 | I17: =E17*H17 -> 2.7694045e+08 | J17: 1 | K17: =H17*J17 -> 470000 | L17: =E17*K17 -> 2.7694045e+08 | M17: =T17+U17 -> 0 | N17: =E17*M17 -> 0 | O17: =H17+M17 -> 470000 | P17: =E17*O17 -> 2.7694045e+08 | Q17: =O17-F17 -> 150000 | R17: =P17-G17 -> 88385248 | S17: ='Giá tháng'!K13 -> Áp theo "Đá 1x2" trong Thông báo giá VL số: 621/2025/TB-SXD của Sở XD TP Hải Phòng ngày 08/12/2025. Vùng: 10 | T17: ='Cước VC'!AV13 -> 0 | U17: ='Cước bộ'!W13 -> 0
A18: 13 | B18: ='Giá tháng'!B14 -> A24.0418 | C18: ='Giá tháng'!C14 -> Gỗ ván | D18: ='Giá tháng'!D14 -> m3 | E18: =SUMIF(HaoPhiVatTu!S6:S315,1012,HaoPhiVatTu!H6:H315) -> 4.7262 | F18: ='Giá tháng'!E14 -> 3409091 | G18: =E18*F18 -> 16112046 | H18: ='Giá tháng'!F14 -> 3300000 | I18: =E18*H18 -> 15596460 | J18: 1 | K18: =H18*J18 -> 3300000 | L18: =E18*K18 -> 15596460 | M18: =T18+U18 -> 0 | N18: =E18*M18 -> 0 | O18: =H18+M18 -> 3300000 | P18: =E18*O18 -> 15596460 | Q18: =O18-F18 -> -109091 | R18: =P18-G18 -> -515585.88 | S18: ='Giá tháng'!K14 -> Áp theo "Gỗ cốp pha (dày 2-3cm)" trong Thông báo giá VL số: 621/2025/TB-SXD của Sở XD TP Hải Phòng ngày 08/12/2025. Vùng: 10 | T18: ='Cước VC'!AV14 -> 0 | U18: ='Cước bộ'!W14 -> 0
A19: 14 | B19: ='Giá tháng'!B15 -> A24.0524 | C19: ='Giá tháng'!C15 -> Nước | D19: ='Giá tháng'!D15 -> lít | E19: =SUMIF(HaoPhiVatTu!S6:S315,1013,HaoPhiVatTu!H6:H315) -> 130222 | F19: ='Giá tháng'!E15 -> 12 | G19: =E19*F19 -> 1562664 | H19: ='Giá tháng'!F15 -> 12 | I19: =E19*H19 -> 1562664 | J19: 1 | K19: =H19*J19 -> 12 | L19: =E19*K19 -> 1562664 | M19: =T19+U19 -> 0 | N19: =E19*M19 -> 0 | O19: =H19+M19 -> 12 | P19: =E19*O19 -> 1562664 | Q19: =O19-F19 -> 0 | R19: =P19-G19 -> 0 | S19: ='Giá tháng'!K15 | T19: ='Cước VC'!AV15 -> 0 | U19: ='Cước bộ'!W15 -> 0
A20: 15 | B20: ='Giá tháng'!B16 -> A24.0348 | C20: ='Giá tháng'!C16 -> ống xói F150mm | D20: ='Giá tháng'!D16 -> m | E20: =SUMIF(HaoPhiVatTu!S6:S315,1014,HaoPhiVatTu!H6:H315) -> 5.7645 | F20: ='Giá tháng'!E16 -> 160000 | G20: =E20*F20 -> 922320 | H20: ='Giá tháng'!F16 -> 350000 | I20: =E20*H20 -> 2017575 | J20: 1 | K20: =H20*J20 -> 350000 | L20: =E20*K20 -> 2017575 | M20: =T20+U20 -> 0 | N20: =E20*M20 -> 0 | O20: =H20+M20 -> 350000 | P20: =E20*O20 -> 2017575 | Q20: =O20-F20 -> 190000 | R20: =P20-G20 -> 1095255 | S20: ='Giá tháng'!K16 | T20: ='Cước VC'!AV16 -> 0 | U20: ='Cước bộ'!W16 -> 0
A21: 16 | B21: ='Giá tháng'!B17 -> A24.0349 | C21: ='Giá tháng'!C17 -> ống xói F250mm | D21: ='Giá tháng'!D17 -> m | E21: =SUMIF(HaoPhiVatTu!S6:S315,1015,HaoPhiVatTu!H6:H315) -> 5.7645 | F21: ='Giá tháng'!E17 -> 270000 | G21: =E21*F21 -> 1556415 | H21: ='Giá tháng'!F17 -> 550000 | I21: =E21*H21 -> 3170475 | J21: 1 | K21: =H21*J21 -> 550000 | L21: =E21*K21 -> 3170475 | M21: =T21+U21 -> 0 | N21: =E21*M21 -> 0 | O21: =H21+M21 -> 550000 | P21: =E21*O21 -> 3170475 | Q21: =O21-F21 -> 280000 | R21: =P21-G21 -> 1614060 | S21: ='Giá tháng'!K17 | T21: ='Cước VC'!AV17 -> 0 | U21: ='Cước bộ'!W17 -> 0
A22: 17 | B22: ='Giá tháng'!B18 -> A24.0350 | C22: ='Giá tháng'!C18 -> ống xói F50mm | D22: ='Giá tháng'!D18 -> m | E22: =SUMIF(HaoPhiVatTu!S6:S315,1016,HaoPhiVatTu!H6:H315) -> 5.7645 | F22: ='Giá tháng'!E18 -> 55000 | G22: =E22*F22 -> 317047.5 | H22: ='Giá tháng'!F18 -> 55000 | I22: =E22*H22 -> 317047.5 | J22: 1 | K22: =H22*J22 -> 55000 | L22: =E22*K22 -> 317047.5 | M22: =T22+U22 -> 0 | N22: =E22*M22 -> 0 | O22: =H22+M22 -> 55000 | P22: =E22*O22 -> 317047.5 | Q22: =O22-F22 -> 0 | R22: =P22-G22 -> 0 | S22: ='Giá tháng'!K18 | T22: ='Cước VC'!AV18 -> 0 | U22: ='Cước bộ'!W18 -> 0
A23: 18 | B23: ='Giá tháng'!B19 -> A24.0543 | C23: ='Giá tháng'!C19 -> Que hàn | D23: ='Giá tháng'!D19 -> kg | E23: =SUMIF(HaoPhiVatTu!S6:S315,1017,HaoPhiVatTu!H6:H315) -> 211.7602 | F23: ='Giá tháng'!E19 -> 25000 | G23: =E23*F23 -> 5294005.1 | H23: ='Giá tháng'!F19 -> 25000 | I23: =E23*H23 -> 5294005.1 | J23: 1 | K23: =H23*J23 -> 25000 | L23: =E23*K23 -> 5294005.1 | M23: =T23+U23 -> 0 | N23: =E23*M23 -> 0 | O23: =H23+M23 -> 25000 | P23: =E23*O23 -> 5294005.1 | Q23: =O23-F23 -> 0 | R23: =P23-G23 -> 0 | S23: ='Giá tháng'!K19 | T23: ='Cước VC'!AV19 -> 0 | U23: ='Cước bộ'!W19 -> 0
A24: 19 | B24: ='Giá tháng'!B20 -> A24.0712 | C24: ='Giá tháng'!C20 -> Thép hình | D24: ='Giá tháng'!D20 -> kg | E24: =SUMIF(HaoPhiVatTu!S6:S315,1018,HaoPhiVatTu!H6:H315) -> 1387.5284 | F24: ='Giá tháng'!E20 -> 19250 | G24: =E24*F24 -> 26709921 | H24: ='Giá tháng'!F20 -> 18800 | I24: =E24*H24 -> 26085533 | J24: 1 | K24: =H24*J24 -> 18800 | L24: =E24*K24 -> 26085533 | M24: =T24+U24 -> 0 | N24: =E24*M24 -> 0 | O24: =H24+M24 -> 18800 | P24: =E24*O24 -> 26085533 | Q24: =O24-F24 -> -450 | R24: =P24-G24 -> -624387.76 | S24: ='Giá tháng'!K20 | T24: ='Cước VC'!AV20 -> 0 | U24: ='Cước bộ'!W20 -> 0
A25: 20 | B25: ='Giá tháng'!B21 -> A24.0726 | C25: ='Giá tháng'!C21 -> Thép tấm | D25: ='Giá tháng'!D21 -> kg | E25: =SUMIF(HaoPhiVatTu!S6:S315,1019,HaoPhiVatTu!H6:H315) -> 1558.9888 | F25: ='Giá tháng'!E21 -> 19250 | G25: =E25*F25 -> 30010534 | H25: ='Giá tháng'!F21 -> 18800 | I25: =E25*H25 -> 29308990 | J25: 1 | K25: =H25*J25 -> 18800 | L25: =E25*K25 -> 29308990 | M25: =T25+U25 -> 0 | N25: =E25*M25 -> 0 | O25: =H25+M25 -> 18800 | P25: =E25*O25 -> 29308990 | Q25: =O25-F25 -> -450 | R25: =P25-G25 -> -701544.96 | S25: ='Giá tháng'!K21 | T25: ='Cước VC'!AV21 -> 0 | U25: ='Cước bộ'!W21 -> 0
A26: 21 | B26: ='Giá tháng'!B22 -> A24.0738 | C26: ='Giá tháng'!C22 -> Thép tròn D<=10mm | D26: ='Giá tháng'!D22 -> kg | E26: =SUMIF(HaoPhiVatTu!S6:S315,1020,HaoPhiVatTu!H6:H315) -> 32017.793 | F26: ='Giá tháng'!E22 -> 19200 | G26: =E26*F26 -> 6.1474162e+08 | H26: ='Giá tháng'!F22 -> 14700 | I26: =E26*H26 -> 4.7066155e+08 | J26: 1 | K26: =H26*J26 -> 14700 | L26: =E26*K26 -> 4.7066155e+08 | M26: =T26+U26 -> 0 | N26: =E26*M26 -> 0 | O26: =H26+M26 -> 14700 | P26: =E26*O26 -> 4.7066155e+08 | Q26: =O26-F26 -> -4500 | R26: =P26-G26 -> -1.4408007e+08 | S26: ='Giá tháng'!K22 | T26: ='Cước VC'!AV22 -> 0 | U26: ='Cước bộ'!W22 -> 0
A27: 22 | B27: ='Giá tháng'!B23 -> A24.0739 | C27: ='Giá tháng'!C23 -> Thép tròn D<=18mm | D27: ='Giá tháng'!D23 -> kg | E27: =SUMIF(HaoPhiVatTu!S6:S315,1021,HaoPhiVatTu!H6:H315) -> 10535.682 | F27: ='Giá tháng'!E23 -> 19200 | G27: =E27*F27 -> 2.0228509e+08 | H27: ='Giá tháng'!F23 -> 14700 | I27: =E27*H27 -> 1.5487453e+08 | J27: 1 | K27: =H27*J27 -> 14700 | L27: =E27*K27 -> 1.5487453e+08 | M27: =T27+U27 -> 0 | N27: =E27*M27 -> 0 | O27: =H27+M27 -> 14700 | P27: =E27*O27 -> 1.5487453e+08 | Q27: =O27-F27 -> -4500 | R27: =P27-G27 -> -47410569 | S27: ='Giá tháng'!K23 | T27: ='Cước VC'!AV23 -> 0 | U27: ='Cước bộ'!W23 -> 0
A28: 23 | B28: ='Giá tháng'!B24 -> A24.0782 | C28: ='Giá tháng'!C24 -> Vải địa kỹ thuật | D28: ='Giá tháng'!D24 -> m2 | E28: =SUMIF(HaoPhiVatTu!S6:S315,1022,HaoPhiVatTu!H6:H315) -> 151.2 | F28: ='Giá tháng'!E24 -> 11100 | G28: =E28*F28 -> 1678320 | H28: ='Giá tháng'!F24 -> 10400 | I28: =E28*H28 -> 1572480 | J28: 1 | K28: =H28*J28 -> 10400 | L28: =E28*K28 -> 1572480 | M28: =T28+U28 -> 0 | N28: =E28*M28 -> 0 | O28: =H28+M28 -> 10400 | P28: =E28*O28 -> 1572480 | Q28: =O28-F28 -> -700 | R28: =P28-G28 -> -105840 | S28: ='Giá tháng'!K24 -> Áp theo "Vài địa kỹ thuật không dệt 12KN" trong Thông báo giá VL số: 621/2025/TB-SXD của Sở XD TP Hải Phòng ngày 08/12/2025. Vùng: 10 | T28: ='Cước VC'!AV24 -> 0 | U28: ='Cước bộ'!W24 -> 0
A29: 24 | B29: ='Giá tháng'!B25 -> A24.0797A | C29: ='Giá tháng'!C25 -> Xi măng PCB30 | D29: ='Giá tháng'!D25 -> kg | E29: =SUMIF(HaoPhiVatTu!S6:S315,1023,HaoPhiVatTu!H6:H315) -> 245126.54 | F29: ='Giá tháng'!E25 -> 1380 | G29: =E29*F29 -> 3.3827463e+08 | H29: ='Giá tháng'!F25 -> 1597 | I29: =E29*H29 -> 3.9146709e+08 | J29: 1 | K29: =H29*J29 -> 1597 | L29: =E29*K29 -> 3.9146709e+08 | M29: =T29+U29 -> 0 | N29: =E29*M29 -> 0 | O29: =H29+M29 -> 1597 | P29: =E29*O29 -> 3.9146709e+08 | Q29: =O29-F29 -> 217 | R29: =P29-G29 -> 53192460 | S29: ='Giá tháng'!K25 -> Áp theo "Xi măng PCB30 bao Chinfon (đường bộ)" trong Thông báo giá VL số: 621/2025/TB-SXD của Sở XD TP Hải Phòng ngày 08/12/2025. Vùng: 10 | T29: ='Cước VC'!AV25 -> 0 | U29: ='Cước bộ'!W25 -> 0
A30: 25 | B30: Z999 | C30: Vât liệu khác | D30: % | G30: =HaoPhiVatTu!M4 -> 28201221 | P30: =HaoPhiVatTu!O4 -> 37554834 | R30: =P30-G30 -> 9353613.3
C31: TỔNG VẬT LIỆU | G31: =SUM(G6:G30) -> 2.4762866e+09 | I31: =SUM(I6:I30) -> 2.7395441e+09 | L31: =SUM(L6:L30) -> 2.7395441e+09 | N31: =SUM(N6:N30) -> 0 | P31: =SUM(P6:P30) -> 4.0669729e+09 | R31: =SUM(R6:R30) -> 1.5906863e+09
A32: II | C32: NHÂN CÔNG
A33: 1 | B33: ='Công trình'!E34 -> TT | C33: ='Công trình'!F34 -> Bơm nước thi công cho 5 phân đoạn | D33: ='Công trình'!G34 -> ca | E33: ='Công trình'!P34 -> 75 | F33: ='Công trình'!S34 -> 50000 | G33: =E33*F33 -> 3750000 | H33: ='Công trình'!S34 -> 50000 | I33: =E33*H33 -> 3750000 | J33: 1 | K33: =H33*J33 -> 50000 | L33: =E33*K33 -> 3750000 | O33: =H33 -> 50000 | P33: =E33*O33 -> 3750000 | Q33: =O33-F33 -> 0 | R33: =P33-G33 -> 0
A34: 2 | B34: ='Giá tháng'!B27 -> N1.30 | C34: ='Giá tháng'!C27 -> Nhân công 3,0/7 - Nhóm 1 | D34: ='Giá tháng'!D27 -> công | E34: =SUMIF(HaoPhiVatTu!S6:S315,201,HaoPhiVatTu!H6:H315) -> 562.10104 | F34: ='Giá tháng'!E27 -> 221303 | G34: =E34*F34 -> 1.2439465e+08 | H34: ='Giá tháng'!F27 -> 243700 | I34: =E34*H34 -> 1.3698402e+08 | J34: 1 | K34: =H34*J34 -> 243700 | L34: =E34*K34 -> 1.3698402e+08 | O34: =H34 -> 243700 | P34: =E34*O34 -> 1.3698402e+08 | Q34: =O34-F34 -> 22397 | R34: =P34-G34 -> 12589377 | S34: ='Giá tháng'!K27 -> Được tính toán, rồi Link từ sheet Nhân công sang
A35: 3 | B35: ='Giá tháng'!B28 -> N2.30 | C35: ='Giá tháng'!C28 -> Nhân công 3,0/7 - Nhóm 2 | D35: ='Giá tháng'!D28 -> công | E35: =SUMIF(HaoPhiVatTu!S6:S315,202,HaoPhiVatTu!H6:H315) -> 1291.8947 | F35: ='Giá tháng'!E28 -> 239592 | G35: =E35*F35 -> 3.0952763e+08 | H35: ='Giá tháng'!F28 -> 263800 | I35: =E35*H35 -> 3.4080181e+08 | J35: 1 | K35: =H35*J35 -> 263800 | L35: =E35*K35 -> 3.4080181e+08 | O35: =H35 -> 263800 | P35: =E35*O35 -> 3.4080181e+08 | Q35: =O35-F35 -> 24208 | R35: =P35-G35 -> 31274186 | S35: ='Giá tháng'!K28 -> Được tính toán, rồi Link từ sheet Nhân công sang
A36: 4 | B36: ='Giá tháng'!B29 -> N2.35 | C36: ='Giá tháng'!C29 -> Nhân công 3,5/7 - Nhóm 2 | D36: ='Giá tháng'!D29 -> công | E36: =SUMIF(HaoPhiVatTu!S6:S315,203,HaoPhiVatTu!H6:H315) -> 2071.3442 | F36: ='Giá tháng'!E29 -> 262000 | G36: =E36*F36 -> 5.4269217e+08 | H36: ='Giá tháng'!F29 -> 288500 | I36: =E36*H36 -> 5.975828e+08 | J36: 1 | K36: =H36*J36 -> 288500 | L36: =E36*K36 -> 5.975828e+08 | O36: =H36 -> 288500 | P36: =E36*O36 -> 5.975828e+08 | Q36: =O36-F36 -> 26500 | R36: =P36-G36 -> 54890621 | S36: ='Giá tháng'!K29 -> Được tính toán, rồi Link từ sheet Nhân công sang
A37: 5 | B37: ='Giá tháng'!B30 -> N2.40 | C37: ='Giá tháng'!C30 -> Nhân công 4,0/7 - Nhóm 2 | D37: ='Giá tháng'!D30 -> công | E37: =SUMIF(HaoPhiVatTu!S6:S315,204,HaoPhiVatTu!H6:H315) -> 774.11425 | F37: ='Giá tháng'!E30 -> 284408 | G37: =E37*F37 -> 2.2016429e+08 | H37: ='Giá tháng'!F30 -> 313200 | I37: =E37*H37 -> 2.4245258e+08 | J37: 1 | K37: =H37*J37 -> 313200 | L37: =E37*K37 -> 2.4245258e+08 | O37: =H37 -> 313200 | P37: =E37*O37 -> 2.4245258e+08 | Q37: =O37-F37 -> 28792 | R37: =P37-G37 -> 22288297 | S37: ='Giá tháng'!K30 -> Được tính toán, rồi Link từ sheet Nhân công sang
C38: TỔNG NHÂN CÔNG | G38: =SUM(G33:G37) -> 1.2005287e+09 | I38: =SUM(I33:I37) -> 1.3215712e+09 | L38: =SUM(L33:L37) -> 1.3215712e+09 | N38: =SUM(N33:N37) -> 0 | P38: =SUM(P33:P37) -> 1.3215712e+09 | R38: =SUM(R33:R37) -> 1.2104248e+08
A39: III | C39: MÁY THI CÔNG
A40: 1 | B40: ='Công trình'!E8 -> TT | C40: ='Công trình'!F8 -> Vận chuyển phao chuyến đến và chuyến về | D40: ='Công trình'!G8 -> ca | E40: ='Công trình'!P8 -> 2 | F40: ='Công trình'!T8 -> 3000000 | G40: =E40*F40 -> 6000000 | H40: ='Công trình'!T8 -> 3000000 | I40: =E40*H40 -> 6000000 | J40: 1 | K40: =H40*J40 -> 3000000 | L40: =E40*K40 -> 6000000 | N40: =E40*J40*M40 -> 0 | O40: =H40 -> 3000000 | P40: =E40*O40 -> 6000000 | Q40: =O40-F40 -> 0 | R40: =P40-G40 -> 0
A41: 2 | B41: ='Công trình'!E34 -> TT | C41: ='Công trình'!F34 -> Bơm nước thi công cho 5 phân đoạn | D41: ='Công trình'!G34 -> ca | E41: ='Công trình'!P34 -> 75 | F41: ='Công trình'!T34 -> 450000 | G41: =E41*F41 -> 33750000 | H41: ='Công trình'!T34 -> 450000 | I41: =E41*H41 -> 33750000 | J41: 1 | K41: =H41*J41 -> 450000 | L41: =E41*K41 -> 33750000 | N41: =E41*J41*M41 -> 0 | O41: =H41 -> 450000 | P41: =E41*O41 -> 33750000 | Q41: =O41-F41 -> 0 | R41: =P41-G41 -> 0
A42: 3 | B42: ='Giá tháng'!B32 -> M109.0507 | C42: ='Giá tháng'!C32 -> Ca nô 150 CV | D42: ='Giá tháng'!D32 -> ca | E42: =SUMIF(HaoPhiVatTu!S6:S315,302,HaoPhiVatTu!H6:H315) -> 1.1529 | F42: ='Giá tháng'!E32 -> 2067189 | G42: =E42*F42 -> 2383262.2 | H42: ='Giá tháng'!F32 -> 1995246 | I42: =E42*H42 -> 2300319.1 | J42: 1 | K42: =H42*J42 -> 1995246 | L42: =E42*K42 -> 2300319.1 | N42: =E42*J42*M42 -> 0 | O42: =H42 -> 1995246 | P42: =E42*O42 -> 2300319.1 | Q42: =O42-F42 -> -71943 | R42: =P42-G42 -> -82943.085 | S42: ='Giá tháng'!K32 -> Được tính toán, rồi Link từ sheet Máy sang
A43: 4 | B43: ='Giá tháng'!B33 -> M102.0302 | C43: ='Giá tháng'!C33 -> Cần cẩu bánh xích 10T | D43: ='Giá tháng'!D33 -> ca | E43: =SUMIF(HaoPhiVatTu!S6:S315,303,HaoPhiVatTu!H6:H315) -> 5.375 | F43: ='Giá tháng'!E33 -> 2256343 | G43: =E43*F43 -> 12127844 | H43: ='Giá tháng'!F33 -> 2090057 | I43: =E43*H43 -> 11234056 | J43: 1 | K43: =H43*J43 -> 2090057 | L43: =E43*K43 -> 11234056 | N43: =E43*J43*M43 -> 0 | O43: =H43 -> 2090057 | P43: =E43*O43 -> 11234056 | Q43: =O43-F43 -> -166286 | R43: =P43-G43 -> -893787.25 | S43: ='Giá tháng'!K33 -> Được tính toán, rồi Link từ sheet Máy sang
A44: 5 | B44: ='Giá tháng'!B34 -> M102.0501 | C44: ='Giá tháng'!C34 -> Cần cẩu nổi, kéo theo 30T | D44: ='Giá tháng'!D34 -> ca | E44: =SUMIF(HaoPhiVatTu!S6:S315,304,HaoPhiVatTu!H6:H315) -> 65.7153 | F44: ='Giá tháng'!E34 -> 7147541 | G44: =E44*F44 -> 4.697028e+08 | H44: ='Giá tháng'!F34 -> 6848149 | I44: =E44*H44 -> 4.5002817e+08 | J44: 1 | K44: =H44*J44 -> 6848149 | L44: =E44*K44 -> 4.5002817e+08 | N44: =E44*J44*M44 -> 0 | O44: =H44 -> 6848149 | P44: =E44*O44 -> 4.5002817e+08 | Q44: =O44-F44 -> -299392 | R44: =P44-G44 -> -19674635 | S44: ='Giá tháng'!K34 -> Được tính toán, rồi Link từ sheet Máy sang
A45: 6 | B45: ='Giá tháng'!B35 -> M102.0406 | C45: ='Giá tháng'!C35 -> Cần trục tháp - sức nâng : 25,0 T | D45: ='Giá tháng'!D35 -> ca | E45: =SUMIF(HaoPhiVatTu!S6:S315,305,HaoPhiVatTu!H6:H315) -> 3.5628612 | F45: ='Giá tháng'!E35 -> 3038093 | G45: =E45*F45 -> 10824304 | H45: ='Giá tháng'!F35 -> 3119874 | I45: =E45*H45 -> 11115678 | J45: 1 | K45: =H45*J45 -> 3119874 | L45: =E45*K45 -> 11115678 | N45: =E45*J45*M45 -> 0 | O45: =H45 -> 3119874 | P45: =E45*O45 -> 11115678 | Q45: =O45-F45 -> 81781 | R45: =P45-G45 -> 291374.35 | S45: ='Giá tháng'!K35 -> Được tính toán, rồi Link từ sheet Máy sang
A46: 7 | B46: ='Giá tháng'!B36 -> M112.0105 | C46: ='Giá tháng'!C36 -> Máy bơm nước, động cơ điện 14 kW | D46: ='Giá tháng'!D36 -> ca | E46: =SUMIF(HaoPhiVatTu!S6:S315,306,HaoPhiVatTu!H6:H315) -> 65.7153 | F46: ='Giá tháng'!E36 -> 90924 | G46: =E46*F46 -> 5975097.9 | H46: ='Giá tháng'!F36 -> 95300 | I46: =E46*H46 -> 6262668.1 | J46: 1 | K46: =H46*J46 -> 95300 | L46: =E46*K46 -> 6262668.1 | N46: =E46*J46*M46 -> 0 | O46: =H46 -> 95300 | P46: =E46*O46 -> 6262668.1 | Q46: =O46-F46 -> 4376 | R46: =P46-G46 -> 287570.15 | S46: ='Giá tháng'!K36 -> Được tính toán, rồi Link từ sheet Máy sang
A47: 8 | B47: ='Giá tháng'!B37 -> M112.0402 | C47: ='Giá tháng'!C37 -> Máy bơm xói 4MC (75 kW) | D47: ='Giá tháng'!D37 -> ca | E47: =SUMIF(HaoPhiVatTu!S6:S315,307,HaoPhiVatTu!H6:H315) -> 65.7153 | F47: ='Giá tháng'!E37 -> 734664 | G47: =E47*F47 -> 48278665 | H47: ='Giá tháng'!F37 -> 782820 | I47: =E47*H47 -> 51443251 | J47: 1 | K47: =H47*J47 -> 782820 | L47: =E47*K47 -> 51443251 | N47: =E47*J47*M47 -> 0 | O47: =H47 -> 782820 | P47: =E47*O47 -> 51443251 | Q47: =O47-F47 -> 48156 | R47: =P47-G47 -> 3164586 | S47: ='Giá tháng'!K37 -> Được tính toán, rồi Link từ sheet Máy sang
A48: 9 | B48: ='Giá tháng'!B38 -> M112.2601 | C48: ='Giá tháng'!C38 -> Máy cắt uốn cốt thép - công suất : 5,0 kW | D48: ='Giá tháng'!D38 -> ca | E48: =SUMIF(HaoPhiVatTu!S6:S315,308,HaoPhiVatTu!H6:H315) -> 16.048712 | F48: ='Giá tháng'!E38 -> 281286 | G48: =E48*F48 -> 4514278 | H48: ='Giá tháng'!F38 -> 307436 | I48: =E48*H48 -> 4933951.8 | J48: 1 | K48: =H48*J48 -> 307436 | L48: =E48*K48 -> 4933951.8 | N48: =E48*J48*M48 -> 0 | O48: =H48 -> 307436 | P48: =E48*O48 -> 4933951.8 | Q48: =O48-F48 -> 26150 | R48: =P48-G48 -> 419673.82 | S48: ='Giá tháng'!K38 -> Được tính toán, rồi Link từ sheet Máy sang
A49: 10 | B49: ='Giá tháng'!B39 -> M112.3801 | C49: ='Giá tháng'!C39 -> Máy cưa gỗ cầm tay - công suất : 1,3 kW | D49: ='Giá tháng'!D39 -> ca | E49: =SUMIF(HaoPhiVatTu!S6:S315,309,HaoPhiVatTu!H6:H315) -> 1.3 | F49: ='Giá tháng'!E39 -> 24662 | G49: =E49*F49 -> 32060.6 | H49: ='Giá tháng'!F39 -> 25048 | I49: =E49*H49 -> 32562.4 | J49: 1 | K49: =H49*J49 -> 25048 | L49: =E49*K49 -> 32562.4 | N49: =E49*J49*M49 -> 0 | O49: =H49 -> 25048 | P49: =E49*O49 -> 32562.4 | Q49: =O49-F49 -> 386 | R49: =P49-G49 -> 501.8 | S49: ='Giá tháng'!K39 -> Được tính toán, rồi Link từ sheet Máy sang
A50: 11 | B50: ='Giá tháng'!B40 -> M101.0104 | C50: ='Giá tháng'!C40 -> Máy đào một gầu, bánh xích - dung tích gầu : 0,80 m3 | D50: ='Giá tháng'!D40 -> ca | E50: =SUMIF(HaoPhiVatTu!S6:S315,3010,HaoPhiVatTu!H6:H315) -> 1.4704753 | F50: ='Giá tháng'!E40 -> 2938899 | G50: =E50*F50 -> 4321578.4 | H50: ='Giá tháng'!F40 -> 2551986 | I50: =E50*H50 -> 3752632.4 | J50: 1 | K50: =H50*J50 -> 2551986 | L50: =E50*K50 -> 3752632.4 | N50: =E50*J50*M50 -> 0 | O50: =H50 -> 2551986 | P50: =E50*O50 -> 3752632.4 | Q50: =O50-F50 -> -386913 | R50: =P50-G50 -> -568946.01 | S50: ='Giá tháng'!K40 -> Được tính toán, rồi Link từ sheet Máy sang
A51: 12 | B51: ='Giá tháng'!B41 -> M101.0105 | C51: ='Giá tháng'!C41 -> Máy đào một gầu, bánh xích - dung tích gầu : 1,25 m3 | D51: ='Giá tháng'!D41 -> ca | E51: =SUMIF(HaoPhiVatTu!S6:S315,3011,HaoPhiVatTu!H6:H315) -> 2.8232596 | F51: ='Giá tháng'!E41 -> 4000423 | G51: =E51*F51 -> 11294233 | H51: ='Giá tháng'!F41 -> 3498165 | I51: =E51*H51 -> 9876227.9 | J51: 1 | K51: =H51*J51 -> 3498165 | L51: =E51*K51 -> 9876227.9 | N51: =E51*J51*M51 -> 0 | O51: =H51 -> 3498165 | P51: =E51*O51 -> 9876227.9 | Q51: =O51-F51 -> -502258 | R51: =P51-G51 -> -1418004.7 | S51: ='Giá tháng'!K41 -> Được tính toán, rồi Link từ sheet Máy sang
A52: 13 | B52: ='Giá tháng'!B42 -> M112.1301 | C52: ='Giá tháng'!C42 -> Máy đầm bê tông, dầm dùi - công suất : 1,5 kW | D52: ='Giá tháng'!D42 -> ca | E52: =SUMIF(HaoPhiVatTu!S6:S315,3012,HaoPhiVatTu!H6:H315) -> 99.22619 | F52: ='Giá tháng'!E42 -> 276782 | G52: =E52*F52 -> 27464023 | H52: ='Giá tháng'!F42 -> 302675 | I52: =E52*H52 -> 30033287 | J52: 1 | K52: =H52*J52 -> 302675 | L52: =E52*K52 -> 30033287 | N52: =E52*J52*M52 -> 0 | O52: =H52 -> 302675 | P52: =E52*O52 -> 30033287 | Q52: =O52-F52 -> 25893 | R52: =P52-G52 -> 2569263.7 | S52: ='Giá tháng'!K42 -> Được tính toán, rồi Link từ sheet Máy sang
A53: 14 | B53: ='Giá tháng'!B43 -> M101.0803 | C53: ='Giá tháng'!C43 -> Máy đầm đất cầm tay - trọng lượng : 70 kg | D53: ='Giá tháng'!D43 -> ca | E53: =SUMIF(HaoPhiVatTu!S6:S315,3013,HaoPhiVatTu!H6:H315) -> 70.852972 | F53: ='Giá tháng'!E43 -> 396542 | G53: =E53*F53 -> 28096179 | H53: ='Giá tháng'!F43 -> 390153 | I53: =E53*H53 -> 27643500 | J53: 1 | K53: =H53*J53 -> 390153 | L53: =E53*K53 -> 27643500 | N53: =E53*J53*M53 -> 0 | O53: =H53 -> 390153 | P53: =E53*O53 -> 27643500 | Q53: =O53-F53 -> -6389 | R53: =P53-G53 -> -452679.64 | S53: ='Giá tháng'!K43 -> Được tính toán, rồi Link từ sheet Máy sang
A54: 15 | B54: ='Giá tháng'!B44 -> M103.0202 | C54: ='Giá tháng'!C44 -> Máy đóng cọc chạy trên ray - trọng lượng đầu búa : 1,8 T | D54: ='Giá tháng'!D44 -> ca | E54: =SUMIF(HaoPhiVatTu!S6:S315,3014,HaoPhiVatTu!H6:H315) -> 213.87408 | F54: ='Giá tháng'!E44 -> 1789199 | G54: =E54*F54 -> 3.8266329e+08 | H54: ='Giá tháng'!F44 -> 1633554 | I54: =E54*H54 -> 3.4937486e+08 | J54: 1 | K54: =H54*J54 -> 1633554 | L54: =E54*K54 -> 3.4937486e+08 | N54: =E54*J54*M54 -> 0 | O54: =H54 -> 1633554 | P54: =E54*O54 -> 3.4937486e+08 | Q54: =O54-F54 -> -155645 | R54: =P54-G54 -> -33288431 | S54: ='Giá tháng'!K44 -> Được tính toán, rồi Link từ sheet Máy sang
A55: 16 | B55: ='Giá tháng'!B45 -> M112.4003 | C55: ='Giá tháng'!C45 -> Máy hàn xoay chiều - công suất : 23,0 kW | D55: ='Giá tháng'!D45 -> ca | E55: =SUMIF(HaoPhiVatTu!S6:S315,3015,HaoPhiVatTu!H6:H315) -> 55.536102 | F55: ='Giá tháng'!E45 -> 411700 | G55: =E55*F55 -> 22864213 | H55: ='Giá tháng'!F45 -> 447485 | I55: =E55*H55 -> 24851573 | J55: 1 | K55: =H55*J55 -> 447485 | L55: =E55*K55 -> 24851573 | N55: =E55*J55*M55 -> 0 | O55: =H55 -> 447485 | P55: =E55*O55 -> 24851573 | Q55: =O55-F55 -> 35785 | R55: =P55-G55 -> 1987359.4 | S55: ='Giá tháng'!K45 -> Được tính toán, rồi Link từ sheet Máy sang
A56: 17 | B56: ='Giá tháng'!B46 -> M108.0308 | C56: ='Giá tháng'!C46 -> Máy nén khí, động cơ diezel - năng suất : 1200,00 m3/h | D56: ='Giá tháng'!D46 -> ca | E56: =SUMIF(HaoPhiVatTu!S6:S315,3016,HaoPhiVatTu!H6:H315) -> 65.7153 | F56: ='Giá tháng'!E46 -> 3027990 | G56: =E56*F56 -> 1.9898527e+08 | H56: ='Giá tháng'!F46 -> 2576996 | I56: =E56*H56 -> 1.6934807e+08 | J56: 1 | K56: =H56*J56 -> 2576996 | L56: =E56*K56 -> 1.6934807e+08 | N56: =E56*J56*M56 -> 0 | O56: =H56 -> 2576996 | P56: =E56*O56 -> 1.6934807e+08 | Q56: =O56-F56 -> -450994 | R56: =P56-G56 -> -29637206 | S56: ='Giá tháng'!K46 -> Được tính toán, rồi Link từ sheet Máy sang
A57: 18 | B57: ='Giá tháng'!B47 -> M104.0102 | C57: ='Giá tháng'!C47 -> Máy trộn bê tông - dung tích : 250,0 lít | D57: ='Giá tháng'!D47 -> ca | E57: =SUMIF(HaoPhiVatTu!S6:S315,3017,HaoPhiVatTu!H6:H315) -> 52.629079 | F57: ='Giá tháng'!E47 -> 320806 | G57: =E57*F57 -> 16883724 | H57: ='Giá tháng'!F47 -> 347214 | I57: =E57*H57 -> 18273553 | J57: 1 | K57: =H57*J57 -> 347214 | L57: =E57*K57 -> 18273553 | N57: =E57*J57*M57 -> 0 | O57: =H57 -> 347214 | P57: =E57*O57 -> 18273553 | Q57: =O57-F57 -> 26408 | R57: =P57-G57 -> 1389828.7 | S57: ='Giá tháng'!K47 -> Được tính toán, rồi Link từ sheet Máy sang
A58: 19 | B58: ='Giá tháng'!B48 -> M101.0503 | C58: ='Giá tháng'!C48 -> Máy ủi - công suất : 110,0 CV | D58: ='Giá tháng'!D48 -> ca | E58: =SUMIF(HaoPhiVatTu!S6:S315,3018,HaoPhiVatTu!H6:H315) -> 0.328286 | F58: ='Giá tháng'!E48 -> 2096893 | G58: =E58*F58 -> 688380.62 | H58: ='Giá tháng'!F48 -> 1831732 | I58: =E58*H58 -> 601331.97 | J58: 1 | K58: =H58*J58 -> 1831732 | L58: =E58*K58 -> 601331.97 | N58: =E58*J58*M58 -> 0 | O58: =H58 -> 1831732 | P58: =E58*O58 -> 601331.97 | Q58: =O58-F58 -> -265161 | R58: =P58-G58 -> -87048.644 | S58: ='Giá tháng'!K48 -> Được tính toán, rồi Link từ sheet Máy sang
A59: 20 | B59: ='Giá tháng'!B49 -> M102.1001 | C59: ='Giá tháng'!C49 -> Máy vận thăng lồng - sức nâng : 3,0 T | D59: ='Giá tháng'!D49 -> ca | E59: =SUMIF(HaoPhiVatTu!S6:S315,3019,HaoPhiVatTu!H6:H315) -> 3.5628612 | F59: ='Giá tháng'!E49 -> 826454 | G59: =E59*F59 -> 2944540.9 | H59: ='Giá tháng'!F49 -> 857495 | I59: =E59*H59 -> 3055135.7 | J59: 1 | K59: =H59*J59 -> 857495 | L59: =E59*K59 -> 3055135.7 | N59: =E59*J59*M59 -> 0 | O59: =H59 -> 857495 | P59: =E59*O59 -> 3055135.7 | Q59: =O59-F59 -> 31041 | R59: =P59-G59 -> 110594.77 | S59: ='Giá tháng'!K49 -> Được tính toán, rồi Link từ sheet Máy sang
A60: 21 | B60: ='Giá tháng'!B50 -> M106.0202 | C60: ='Giá tháng'!C50 -> Ô tô tự đổ - trọng tải : 5,0 T | D60: ='Giá tháng'!D50 -> ca | E60: =SUMIF(HaoPhiVatTu!S6:S315,3020,HaoPhiVatTu!H6:H315) -> 53.67378 | F60: ='Giá tháng'!E50 -> 1727890 | G60: =E60*F60 -> 92742388 | H60: ='Giá tháng'!F50 -> 1492461 | I60: =E60*H60 -> 80106023 | J60: 1 | K60: =H60*J60 -> 1492461 | L60: =E60*K60 -> 80106023 | N60: =E60*J60*M60 -> 0 | O60: =H60 -> 1492461 | P60: =E60*O60 -> 80106023 | Q60: =O60-F60 -> -235429 | R60: =P60-G60 -> -12636364 | S60: ='Giá tháng'!K50 -> Được tính toán, rồi Link từ sheet Máy sang
A61: 22 | B61: ='Giá tháng'!B52 -> M109.0104 | C61: ='Giá tháng'!C52 -> Sà lan 400T | D61: ='Giá tháng'!D52 -> ca | E61: =SUMIF(HaoPhiVatTu!S6:S315,3021,HaoPhiVatTu!H6:H315) -> 65.7153 | F61: ='Giá tháng'!E52 -> 891221 | G61: =E61*F61 -> 58566855 | H61: ='Giá tháng'!F52 -> 891221 | I61: =E61*H61 -> 58566855 | J61: 1 | K61: =H61*J61 -> 891221 | L61: =E61*K61 -> 58566855 | N61: =E61*J61*M61 -> 0 | O61: =H61 -> 891221 | P61: =E61*O61 -> 58566855 | Q61: =O61-F61 -> 0 | R61: =P61-G61 -> 0 | S61: ='Giá tháng'!K52 -> Được tính toán, rồi Link từ sheet Máy sang
A62: 23 | B62: M999 | C62: Máy khác | D62: % | G62: =HaoPhiVatTu!N4 -> 12613585 | P62: =HaoPhiVatTu!P4 -> 11649442 | R62: =P62-G62 -> -964143.07
C63: TỔNG MÁY THI CÔNG | G63: =SUM(G40:G62) -> 1.4537166e+09 | I63: =SUM(I40:I62) -> 1.3525837e+09 | L63: =SUM(L40:L62) -> 1.3525837e+09 | N63: =SUM(N40:N62) -> 0 | P63: =SUM(P40:P62) -> 1.3642331e+09 | R63: =SUM(R40:R62) -> -89483436

Sheet THVT gộp

Sheet Cước VC
A1: BẢNG CƯỚC VẬN CHUYỂN
A2: ='Công trình'!A2 -> CÔNG TRÌNH : XÂY DỰNG HỆ THỐNG CỐNG HỘP KÊNH BẾN KEM ĐOẠN TỪ NHÀ ÔNG CHÍN ĐẾN KÊNH ĐẠI TRÀ 2, XÃ KIẾN MINH
A4: STT | B4: Mã số | C4: Tên vật liệu / Diễn giải vận chuyển | D4: Đơn vị | E4: Khối lượng | F4: Nhóm vật liệu | G4: Quy đổi đơn vị | H4: Nguồn mua | I4: Phương tiện vận chuyển / Loại hình | J4: Bậc hàng | K4: Hệ số bậc hàng | L4: Cự ly tổng (km) | M4: Cung đường | N4: ="" | O4: ="" | P4: ="" | Q4: ="" | R4: ="" | S4: ="" | T4: ="" | U4: ="" | V4: H.số đổ ben hoặc bốc dỡ | W4: H.số sử dụng xe tải nhỏ | X4: Định mức ca máy <=1 km | Y4: Định mức ca máy <=10 km | Z4: Định mức ca máy <=60 km | AA4: Định mức ca máy >60 km | AB4: Định mức ca máy (ca/km) | AC4: Định mức ca máy đã v/c trước (ca/km) | AD4: Đơn giá ca máy (đ/ca) | AE4: Giá cước (đ) | AF4: Cộng thêm cước (đ/T) | AG4: Thành tiền Chi phí (đ) | AH4: Hệ số điều chỉnh cước VC | AI4: Cước V/C sau khi điều chỉnh (đ) | AJ4: Bốc xếp + vận chuyển bằng xe ben (đ) | AK4: Định mức bốc lên khi trung chuyển | AL4: Định mức dỡ xuống khi trung chuyển | AM4: Đơn giá bốc dỡ | AN4: Chi phí bốc dỡ khi trung chuyển (đ) | AO4: Hệ số hao hụt khi trung chuyển | AP4: Chi phí hao hụt khi trung chuyển (đ) | AQ4: Định mức bốc lên khi bảo quản | AR4: Định mức dỡ xuống khi bảo quản | AS4: Chi phí bốc dỡ khi bảo quản (đ) | AT4: Hệ số hao hụt bảo quản | AU4: Chi phí hao hụt bảo quản | AV4: Giá V/C trước thuế (đ) | AW4: Thành tiền Vận chuyển (đ) | AX4: Giá vật liệu gốc trước thuế (đ) | AY4: Giá hiện trường trước thuế (đ) | AZ4: Thành tiền hiện trường (đ)
A5: ="" | B5: ="" | C5: ="" | D5: ="" | E5: ="" | F5: ="" | G5: ="" | H5: ="" | ... L5: ="" | M5: Cự ly (km) | N5: Loại đường | O5: Vùng | P5: Hệ số loại đường | Q5: Đã v/c (km) | R5: Cự ly <=1 km | S5: Cự ly <=10 km | T5: Cự ly <=60 km | U5: Cự ly >60 km | V5: ="" | W5: ="" | X5: ="" | Y5: ="" | Z5: ="" | AA5: ="" | AB5: ="" | AC5: ="" | ... AZ5: =""
A6: 1 | B6: A24.1042 | C6: Cát | D6: m3 | E6: ='Tổng hợp VT'!E10 -> 1082.5487 | F6: Cát | G6: 1 | I6: ô tô tự đổ 7T | J6: 1 | K6: 1 | P6: 1 | R6: 0 | S6: 0 | T6: 0 | U6: 0 | V6: 1 | W6: 1 | AD6: 1 | AE6: =ROUND(K6*P6*V6*W6*(R6*X6+S6*Y6+T6*Z6+0.95*U6*AA6)*AD6,1) -> 0 | AF6: 0 | AG6: =ROUND(G6*(AE6+AF6),0) -> 0 | AH6: 1 | AI6: =ROUND(AG6*AH6,0) -> 0 | AN6: =ROUND((AK6+AL6)*AM6,0) -> 0 | AP6: =ROUND(AO6*AX6,0) -> 0 | AS6: =ROUND(AM6*(AQ6+AR6),0) -> 0 | AU6: =ROUND(AT6*((AI6+AJ6)/1.1+AN6+AP6+AX6),0) -> 0 | AV6: =ROUND((AI6+AJ6)/1+AN6+AP6+AS6+AU6,0) -> 0 | AW6: =ROUND(E6*AV6,0) -> 0 | AX6: ='Tổng hợp VT'!K10 -> 280000 | AY6: =ROUND(AV6+AX6,0) -> 280000 | AZ6: =ROUND(E6*AY6,0) -> 303113636 | BA6: 1
A7: 2 | B7: A24.0180 | C7: Cát vàng | D7: m3 | E7: ='Tổng hợp VT'!E11 -> 357.71084 | F7: Cát | G7: 1 | I7: ô tô tự đổ 7T | J7: 1 | K7: 1 | P7: 1 | R7: 0 | S7: 0 | T7: 0 | U7: 0 | V7: 1 | W7: 1 | AD7: 1 | AE7: =ROUND(K7*P7*V7*W7*(R7*X7+S7*Y7+T7*Z7+0.95*U7*AA7)*AD7,1) -> 0 | AF7: 0 | AG7: =ROUND(G7*(AE7+AF7),0) -> 0 | AH7: 1 | AI7: =ROUND(AG7*AH7,0) -> 0 | AN7: =ROUND((AK7+AL7)*AM7,0) -> 0 | AP7: =ROUND(AO7*AX7,0) -> 0 | AS7: =ROUND(AM7*(AQ7+AR7),0) -> 0 | AU7: =ROUND(AT7*((AI7+AJ7)/1.1+AN7+AP7+AX7),0) -> 0 | AV7: =ROUND((AI7+AJ7)/1+AN7+AP7+AS7+AU7,0) -> 0 | AW7: =ROUND(E7*AV7,0) -> 0 | AX7: ='Tổng hợp VT'!K11 -> 750000 | AY7: =ROUND(AV7+AX7,0) -> 750000 | AZ7: =ROUND(E7*AY7,0) -> 268283127 | BA7: 1
A8: 3 | B8: A24.0183 | C8: Cây chống | D8: cây | E8: ='Tổng hợp VT'!E12 -> 779.823 | I8: ô tô thùng 7T | J8: 1 | K8: 1 | P8: 1 | R8: 0 | S8: 0 | T8: 0 | U8: 0 | V8: 1 | W8: 1 | AD8: 1 | AE8: =ROUND(K8*P8*V8*W8*(R8*X8+S8*Y8+T8*Z8+0.95*U8*AA8)*AD8,1) -> 0 | AF8: 0 | AG8: =ROUND(G8*(AE8+AF8),0) -> 0 | AH8: 1 | AI8: =ROUND(AG8*AH8,0) -> 0 | AN8: =ROUND((AK8+AL8)*AM8,0) -> 0 | AP8: =ROUND(AO8*AX8,0) -> 0 | AS8: =ROUND(AM8*(AQ8+AR8),0) -> 0 | AU8: =ROUND(AT8*((AI8+AJ8)/1.1+AN8+AP8+AX8),0) -> 0 | AV8: =ROUND((AI8+AJ8)/1+AN8+AP8+AS8+AU8,0) -> 0 | AW8: =ROUND(E8*AV8,0) -> 0 | AX8: ='Tổng hợp VT'!K12 -> 22000 | AY8: =ROUND(AV8+AX8,0) -> 22000 | AZ8: =ROUND(E8*AY8,0) -> 17156106 | BA8: 1
A9: 4 | B9: A24.0227 | C9: Cọc tre >2,5m | D9: m | E9: ='Tổng hợp VT'!E13 -> 49625.1 | I9: ô tô thùng 7T | J9: 1 | K9: 1 | P9: 1 | R9: 0 | S9: 0 | T9: 0 | U9: 0 | V9: 1 | W9: 1 | AD9: 1 | AE9: =ROUND(K9*P9*V9*W9*(R9*X9+S9*Y9+T9*Z9+0.95*U9*AA9)*AD9,1) -> 0 | AF9: 0 | AG9: =ROUND(G9*(AE9+AF9),0) -> 0 | AH9: 1 | AI9: =ROUND(AG9*AH9,0) -> 0 | AN9: =ROUND((AK9+AL9)*AM9,0) -> 0 | AP9: =ROUND(AO9*AX9,0) -> 0 | AS9: =ROUND(AM9*(AQ9+AR9),0) -> 0 | AU9: =ROUND(AT9*((AI9+AJ9)/1.1+AN9+AP9+AX9),0) -> 0 | AV9: =ROUND((AI9+AJ9)/1+AN9+AP9+AS9+AU9,0) -> 0 | AW9: =ROUND(E9*AV9,0) -> 0 | AX9: ='Tổng hợp VT'!K13 -> 4800 | AY9: =ROUND(AV9+AX9,0) -> 4800 | AZ9: =ROUND(E9*AY9,0) -> 238200480 | BA9: 1
A10: 5 | B10: A24.0230 | C10: Cọc ván thép <=12m | D10: m | E10: ='Tổng hợp VT'!E14 -> 9608 | I10: ô tô thùng 7T | J10: 1 | K10: 1 | P10: 1 | R10: 0 | S10: 0 | T10: 0 | U10: 0 | V10: 1 | W10: 1 | AD10: 1 | AE10: =ROUND(K10*P10*V10*W10*(R10*X10+S10*Y10+T10*Z10+0.95*U10*AA10)*AD10,1) -> 0 | AF10: 0 | AG10: =ROUND(G10*(AE10+AF10),0) -> 0 | AH10: 1 | AI10: =ROUND(AG10*AH10,0) -> 0 | AN10: =ROUND((AK10+AL10)*AM10,0) -> 0 | AP10: =ROUND(AO10*AX10,0) -> 0 | AS10: =ROUND(AM10*(AQ10+AR10),0) -> 0 | AU10: =ROUND(AT10*((AI10+AJ10)/1.1+AN10+AP10+AX10),0) -> 0 | AV10: =ROUND((AI10+AJ10)/1+AN10+AP10+AS10+AU10,0) -> 0 | AW10: =ROUND(E10*AV10,0) -> 0 | AY10: =ROUND(AV10+AX10,0) -> 0 | AZ10: =ROUND(E10*AY10,0) -> 0 | BA10: 1
A11: 6 | B11: A24.0262 | C11: Cột chống thép ống | D11: kg | E11: ='Tổng hợp VT'!E15 -> 1068.9041 | F11: Thép các loại | G11: 0.001 | I11: ô tô thùng 7T | J11: 1 | K11: 1 | P11: 1 | R11: 0 | S11: 0 | T11: 0 | U11: 0 | V11: 1 | W11: 1 | AD11: 1 | AE11: =ROUND(K11*P11*V11*W11*(R11*X11+S11*Y11+T11*Z11+0.95*U11*AA11)*AD11,1) -> 0 | AF11: 0 | AG11: =ROUND(G11*(AE11+AF11),0) -> 0 | AH11: 1 | AI11: =ROUND(AG11*AH11,0) -> 0 | AN11: =ROUND((AK11+AL11)*AM11,0) -> 0 | AP11: =ROUND(AO11*AX11,0) -> 0 | AS11: =ROUND(AM11*(AQ11+AR11),0) -> 0 | AU11: =ROUND(AT11*((AI11+AJ11)/1.1+AN11+AP11+AX11),0) -> 0 | AV11: =ROUND((AI11+AJ11)/1+AN11+AP11+AS11+AU11,0) -> 0 | AW11: =ROUND(E11*AV11,0) -> 0 | AX11: ='Tổng hợp VT'!K15 -> 12627 | AY11: =ROUND(AV11+AX11,0) -> 12627 | AZ11: =ROUND(E11*AY11,0) -> 13497052 | BA11: 1
A12: 7 | B12: A24.0293 | C12: Dây thép | D12: kg | E12: ='Tổng hợp VT'!E16 -> 607.82014 | F12: Thép các loại | G12: 0.001 | I12: ô tô tự đổ 7T | J12: 1 | K12: 1 | P12: 1 | R12: 0 | S12: 0 | T12: 0 | U12: 0 | V12: 1 | W12: 1 | AD12: 1 | AE12: =ROUND(K12*P12*V12*W12*(R12*X12+S12*Y12+T12*Z12+0.95*U12*AA12)*AD12,1) -> 0 | AF12: 0 | AG12: =ROUND(G12*(AE12+AF12),0) -> 0 | AH12: 1 | AI12: =ROUND(AG12*AH12,0) -> 0 | AN12: =ROUND((AK12+AL12)*AM12,0) -> 0 | AP12: =ROUND(AO12*AX12,0) -> 0 | AS12: =ROUND(AM12*(AQ12+AR12),0) -> 0 | AU12: =ROUND(AT12*((AI12+AJ12)/1.1+AN12+AP12+AX12),0) -> 0 | AV12: =ROUND((AI12+AJ12)/1+AN12+AP12+AS12+AU12,0) -> 0 | AW12: =ROUND(E12*AV12,0) -> 0 | AX12: ='Tổng hợp VT'!K16 -> 20000 | AY12: =ROUND(AV12+AX12,0) -> 20000 | AZ12: =ROUND(E12*AY12,0) -> 12156403 | BA12: 1
A13: 8 | B13: A24.0008 | C13: Đá 1x2 | D13: m3 | E13: ='Tổng hợp VT'!E17 -> 589.23499 | F13: Đá dăm | G13: 1 | I13: ô tô tự đổ 7T | J13: 1 | K13: 1 | P13: 1 | R13: 0 | S13: 0 | T13: 0 | U13: 0 | V13: 1 | W13: 1 | AD13: 1 | AE13: =ROUND(K13*P13*V13*W13*(R13*X13+S13*Y13+T13*Z13+0.95*U13*AA13)*AD13,1) -> 0 | AF13: 0 | AG13: =ROUND(G13*(AE13+AF13),0) -> 0 | AH13: 1 | AI13: =ROUND(AG13*AH13,0) -> 0 | AN13: =ROUND((AK13+AL13)*AM13,0) -> 0 | AP13: =ROUND(AO13*AX13,0) -> 0 | AS13: =ROUND(AM13*(AQ13+AR13),0) -> 0 | AU13: =ROUND(AT13*((AI13+AJ13)/1.1+AN13+AP13+AX13),0) -> 0 | AV13: =ROUND((AI13+AJ13)/1+AN13+AP13+AS13+AU13,0) -> 0 | AW13: =ROUND(E13*AV13,0) -> 0 | AX13: ='Tổng hợp VT'!K17 -> 470000 | AY13: =ROUND(AV13+AX13,0) -> 470000 | AZ13: =ROUND(E13*AY13,0) -> 276940445 | BA13: 1
A14: 9 | B14: A24.0418 | C14: Gỗ ván | D14: m3 | E14: ='Tổng hợp VT'!E18 -> 4.7262 | F14: Gỗ các loại | I14: ô tô thùng 7T | J14: 1 | K14: 1 | P14: 1 | R14: 0 | S14: 0 | T14: 0 | U14: 0 | V14: 1 | W14: 1 | AD14: 1 | AE14: =ROUND(K14*P14*V14*W14*(R14*X14+S14*Y14+T14*Z14+0.95*U14*AA14)*AD14,1) -> 0 | AF14: 0 | AG14: =ROUND(G14*(AE14+AF14),0) -> 0 | AH14: 1 | AI14: =ROUND(AG14*AH14,0) -> 0 | AN14: =ROUND((AK14+AL14)*AM14,0) -> 0 | AP14: =ROUND(AO14*AX14,0) -> 0 | AS14: =ROUND(AM14*(AQ14+AR14),0) -> 0 | AU14: =ROUND(AT14*((AI14+AJ14)/1.1+AN14+AP14+AX14),0) -> 0 | AV14: =ROUND((AI14+AJ14)/1+AN14+AP14+AS14+AU14,0) -> 0 | AW14: =ROUND(E14*AV14,0) -> 0 | AX14: ='Tổng hợp VT'!K18 -> 3300000 | AY14: =ROUND(AV14+AX14,0) -> 3300000 | AZ14: =ROUND(E14*AY14,0) -> 15596460 | BA14: 1
A15: 10 | B15: A24.0524 | C15: Nước | D15: lít | E15: ='Tổng hợp VT'!E19 -> 130222 | I15: ô tô thùng 7T | J15: 1 | K15: 1 | P15: 1 | R15: 0 | S15: 0 | T15: 0 | U15: 0 | V15: 1 | W15: 1 | AD15: 1 | AE15: =ROUND(K15*P15*V15*W15*(R15*X15+S15*Y15+T15*Z15+0.95*U15*AA15)*AD15,1) -> 0 | AF15: 0 | AG15: =ROUND(G15*(AE15+AF15),0) -> 0 | AH15: 1 | AI15: =ROUND(AG15*AH15,0) -> 0 | AN15: =ROUND((AK15+AL15)*AM15,0) -> 0 | AP15: =ROUND(AO15*AX15,0) -> 0 | AS15: =ROUND(AM15*(AQ15+AR15),0) -> 0 | AU15: =ROUND(AT15*((AI15+AJ15)/1.1+AN15+AP15+AX15),0) -> 0 | AV15: =ROUND((AI15+AJ15)/1+AN15+AP15+AS15+AU15,0) -> 0 | AW15: =ROUND(E15*AV15,0) -> 0 | AX15: ='Tổng hợp VT'!K19 -> 12 | AY15: =ROUND(AV15+AX15,0) -> 12 | AZ15: =ROUND(E15*AY15,0) -> 1562664 | BA15: 1
A16: 11 | B16: A24.0348 | C16: ống xói F150mm | D16: m | E16: ='Tổng hợp VT'!E20 -> 5.7645 | I16: ô tô thùng 7T | J16: 1 | K16: 1 | P16: 1 | R16: 0 | S16: 0 | T16: 0 | U16: 0 | V16: 1 | W16: 1 | AD16: 1 | AE16: =ROUND(K16*P16*V16*W16*(R16*X16+S16*Y16+T16*Z16+0.95*U16*AA16)*AD16,1) -> 0 | AF16: 0 | AG16: =ROUND(G16*(AE16+AF16),0) -> 0 | AH16: 1 | AI16: =ROUND(AG16*AH16,0) -> 0 | AN16: =ROUND((AK16+AL16)*AM16,0) -> 0 | AP16: =ROUND(AO16*AX16,0) -> 0 | AS16: =ROUND(AM16*(AQ16+AR16),0) -> 0 | AU16: =ROUND(AT16*((AI16+AJ16)/1.1+AN16+AP16+AX16),0) -> 0 | AV16: =ROUND((AI16+AJ16)/1+AN16+AP16+AS16+AU16,0) -> 0 | AW16: =ROUND(E16*AV16,0) -> 0 | AX16: ='Tổng hợp VT'!K20 -> 350000 | AY16: =ROUND(AV16+AX16,0) -> 350000 | AZ16: =ROUND(E16*AY16,0) -> 2017575 | BA16: 1
A17: 12 | B17: A24.0349 | C17: ống xói F250mm | D17: m | E17: ='Tổng hợp VT'!E21 -> 5.7645 | I17: ô tô thùng 7T | J17: 1 | K17: 1 | P17: 1 | R17: 0 | S17: 0 | T17: 0 | U17: 0 | V17: 1 | W17: 1 | AD17: 1 | AE17: =ROUND(K17*P17*V17*W17*(R17*X17+S17*Y17+T17*Z17+0.95*U17*AA17)*AD17,1) -> 0 | AF17: 0 | AG17: =ROUND(G17*(AE17+AF17),0) -> 0 | AH17: 1 | AI17: =ROUND(AG17*AH17,0) -> 0 | AN17: =ROUND((AK17+AL17)*AM17,0) -> 0 | AP17: =ROUND(AO17*AX17,0) -> 0 | AS17: =ROUND(AM17*(AQ17+AR17),0) -> 0 | AU17: =ROUND(AT17*((AI17+AJ17)/1.1+AN17+AP17+AX17),0) -> 0 | AV17: =ROUND((AI17+AJ17)/1+AN17+AP17+AS17+AU17,0) -> 0 | AW17: =ROUND(E17*AV17,0) -> 0 | AX17: ='Tổng hợp VT'!K21 -> 550000 | AY17: =ROUND(AV17+AX17,0) -> 550000 | AZ17: =ROUND(E17*AY17,0) -> 3170475 | BA17: 1
A18: 13 | B18: A24.0350 | C18: ống xói F50mm | D18: m | E18: ='Tổng hợp VT'!E22 -> 5.7645 | I18: ô tô thùng 7T | J18: 1 | K18: 1 | P18: 1 | R18: 0 | S18: 0 | T18: 0 | U18: 0 | V18: 1 | W18: 1 | AD18: 1 | AE18: =ROUND(K18*P18*V18*W18*(R18*X18+S18*Y18+T18*Z18+0.95*U18*AA18)*AD18,1) -> 0 | AF18: 0 | AG18: =ROUND(G18*(AE18+AF18),0) -> 0 | AH18: 1 | AI18: =ROUND(AG18*AH18,0) -> 0 | AN18: =ROUND((AK18+AL18)*AM18,0) -> 0 | AP18: =ROUND(AO18*AX18,0) -> 0 | AS18: =ROUND(AM18*(AQ18+AR18),0) -> 0 | AU18: =ROUND(AT18*((AI18+AJ18)/1.1+AN18+AP18+AX18),0) -> 0 | AV18: =ROUND((AI18+AJ18)/1+AN18+AP18+AS18+AU18,0) -> 0 | AW18: =ROUND(E18*AV18,0) -> 0 | AX18: ='Tổng hợp VT'!K22 -> 55000 | AY18: =ROUND(AV18+AX18,0) -> 55000 | AZ18: =ROUND(E18*AY18,0) -> 317048 | BA18: 1
A19: 14 | B19: A24.0543 | C19: Que hàn | D19: kg | E19: ='Tổng hợp VT'!E23 -> 211.7602 | F19: Thép các loại | G19: 0.001 | I19: ô tô thùng 7T | J19: 1 | K19: 1 | P19: 1 | R19: 0 | S19: 0 | T19: 0 | U19: 0 | V19: 1 | W19: 1 | AD19: 1 | AE19: =ROUND(K19*P19*V19*W19*(R19*X19+S19*Y19+T19*Z19+0.95*U19*AA19)*AD19,1) -> 0 | AF19: 0 | AG19: =ROUND(G19*(AE19+AF19),0) -> 0 | AH19: 1 | AI19: =ROUND(AG19*AH19,0) -> 0 | AN19: =ROUND((AK19+AL19)*AM19,0) -> 0 | AP19: =ROUND(AO19*AX19,0) -> 0 | AS19: =ROUND(AM19*(AQ19+AR19),0) -> 0 | AU19: =ROUND(AT19*((AI19+AJ19)/1.1+AN19+AP19+AX19),0) -> 0 | AV19: =ROUND((AI19+AJ19)/1+AN19+AP19+AS19+AU19,0) -> 0 | AW19: =ROUND(E19*AV19,0) -> 0 | AX19: ='Tổng hợp VT'!K23 -> 25000 | AY19: =ROUND(AV19+AX19,0) -> 25000 | AZ19: =ROUND(E19*AY19,0) -> 5294005 | BA19: 1
A20: 15 | B20: A24.0712 | C20: Thép hình | D20: kg | E20: ='Tổng hợp VT'!E24 -> 1387.5284 | F20: Thép các loại | G20: 0.001 | I20: ô tô thùng 7T | J20: 1 | K20: 1 | P20: 1 | R20: 0 | S20: 0 | T20: 0 | U20: 0 | V20: 1 | W20: 1 | AD20: 1 | AE20: =ROUND(K20*P20*V20*W20*(R20*X20+S20*Y20+T20*Z20+0.95*U20*AA20)*AD20,1) -> 0 | AF20: 0 | AG20: =ROUND(G20*(AE20+AF20),0) -> 0 | AH20: 1 | AI20: =ROUND(AG20*AH20,0) -> 0 | AN20: =ROUND((AK20+AL20)*AM20,0) -> 0 | AP20: =ROUND(AO20*AX20,0) -> 0 | AS20: =ROUND(AM20*(AQ20+AR20),0) -> 0 | AU20: =ROUND(AT20*((AI20+AJ20)/1.1+AN20+AP20+AX20),0) -> 0 | AV20: =ROUND((AI20+AJ20)/1+AN20+AP20+AS20+AU20,0) -> 0 | AW20: =ROUND(E20*AV20,0) -> 0 | AX20: ='Tổng hợp VT'!K24 -> 18800 | AY20: =ROUND(AV20+AX20,0) -> 18800 | AZ20: =ROUND(E20*AY20,0) -> 26085533 | BA20: 1
A21: 16 | B21: A24.0726 | C21: Thép tấm | D21: kg | E21: ='Tổng hợp VT'!E25 -> 1558.9888 | F21: Thép các loại | G21: 0.001 | I21: ô tô thùng 7T | J21: 1 | K21: 1 | P21: 1 | R21: 0 | S21: 0 | T21: 0 | U21: 0 | V21: 1 | W21: 1 | AD21: 1 | AE21: =ROUND(K21*P21*V21*W21*(R21*X21+S21*Y21+T21*Z21+0.95*U21*AA21)*AD21,1) -> 0 | AF21: 0 | AG21: =ROUND(G21*(AE21+AF21),0) -> 0 | AH21: 1 | AI21: =ROUND(AG21*AH21,0) -> 0 | AN21: =ROUND((AK21+AL21)*AM21,0) -> 0 | AP21: =ROUND(AO21*AX21,0) -> 0 | AS21: =ROUND(AM21*(AQ21+AR21),0) -> 0 | AU21: =ROUND(AT21*((AI21+AJ21)/1.1+AN21+AP21+AX21),0) -> 0 | AV21: =ROUND((AI21+AJ21)/1+AN21+AP21+AS21+AU21,0) -> 0 | AW21: =ROUND(E21*AV21,0) -> 0 | AX21: ='Tổng hợp VT'!K25 -> 18800 | AY21: =ROUND(AV21+AX21,0) -> 18800 | AZ21: =ROUND(E21*AY21,0) -> 29308990 | BA21: 1
A22: 17 | B22: A24.0738 | C22: Thép tròn D<=10mm | D22: kg | E22: ='Tổng hợp VT'!E26 -> 32017.793 | F22: Thép các loại | G22: 0.001 | I22: ô tô thùng 7T | J22: 1 | K22: 1 | P22: 1 | R22: 0 | S22: 0 | T22: 0 | U22: 0 | V22: 1 | W22: 1 | AD22: 1 | AE22: =ROUND(K22*P22*V22*W22*(R22*X22+S22*Y22+T22*Z22+0.95*U22*AA22)*AD22,1) -> 0 | AF22: 0 | AG22: =ROUND(G22*(AE22+AF22),0) -> 0 | AH22: 1 | AI22: =ROUND(AG22*AH22,0) -> 0 | AN22: =ROUND((AK22+AL22)*AM22,0) -> 0 | AP22: =ROUND(AO22*AX22,0) -> 0 | AS22: =ROUND(AM22*(AQ22+AR22),0) -> 0 | AU22: =ROUND(AT22*((AI22+AJ22)/1.1+AN22+AP22+AX22),0) -> 0 | AV22: =ROUND((AI22+AJ22)/1+AN22+AP22+AS22+AU22,0) -> 0 | AW22: =ROUND(E22*AV22,0) -> 0 | AX22: ='Tổng hợp VT'!K26 -> 14700 | AY22: =ROUND(AV22+AX22,0) -> 14700 | AZ22: =ROUND(E22*AY22,0) -> 470661550 | BA22: 1
A23: 18 | B23: A24.0739 | C23: Thép tròn D<=18mm | D23: kg | E23: ='Tổng hợp VT'!E27 -> 10535.682 | F23: Thép các loại | G23: 0.001 | I23: ô tô thùng 7T | J23: 1 | K23: 1 | P23: 1 | R23: 0 | S23: 0 | T23: 0 | U23: 0 | V23: 1 | W23: 1 | AD23: 1 | AE23: =ROUND(K23*P23*V23*W23*(R23*X23+S23*Y23+T23*Z23+0.95*U23*AA23)*AD23,1) -> 0 | AF23: 0 | AG23: =ROUND(G23*(AE23+AF23),0) -> 0 | AH23: 1 | AI23: =ROUND(AG23*AH23,0) -> 0 | AN23: =ROUND((AK23+AL23)*AM23,0) -> 0 | AP23: =ROUND(AO23*AX23,0) -> 0 | AS23: =ROUND(AM23*(AQ23+AR23),0) -> 0 | AU23: =ROUND(AT23*((AI23+AJ23)/1.1+AN23+AP23+AX23),0) -> 0 | AV23: =ROUND((AI23+AJ23)/1+AN23+AP23+AS23+AU23,0) -> 0 | AW23: =ROUND(E23*AV23,0) -> 0 | AX23: ='Tổng hợp VT'!K27 -> 14700 | AY23: =ROUND(AV23+AX23,0) -> 14700 | AZ23: =ROUND(E23*AY23,0) -> 154874525 | BA23: 1
A24: 19 | B24: A24.0782 | C24: Vải địa kỹ thuật | D24: m2 | E24: ='Tổng hợp VT'!E28 -> 151.2 | I24: ô tô thùng 7T | J24: 1 | K24: 1 | P24: 1 | R24: 0 | S24: 0 | T24: 0 | U24: 0 | V24: 1 | W24: 1 | AD24: 1 | AE24: =ROUND(K24*P24*V24*W24*(R24*X24+S24*Y24+T24*Z24+0.95*U24*AA24)*AD24,1) -> 0 | AF24: 0 | AG24: =ROUND(G24*(AE24+AF24),0) -> 0 | AH24: 1 | AI24: =ROUND(AG24*AH24,0) -> 0 | AN24: =ROUND((AK24+AL24)*AM24,0) -> 0 | AP24: =ROUND(AO24*AX24,0) -> 0 | AS24: =ROUND(AM24*(AQ24+AR24),0) -> 0 | AU24: =ROUND(AT24*((AI24+AJ24)/1.1+AN24+AP24+AX24),0) -> 0 | AV24: =ROUND((AI24+AJ24)/1+AN24+AP24+AS24+AU24,0) -> 0 | AW24: =ROUND(E24*AV24,0) -> 0 | AX24: ='Tổng hợp VT'!K28 -> 10400 | AY24: =ROUND(AV24+AX24,0) -> 10400 | AZ24: =ROUND(E24*AY24,0) -> 1572480 | BA24: 1
A25: 20 | B25: A24.0797A | C25: Xi măng PCB30 | D25: kg | E25: ='Tổng hợp VT'!E29 -> 245126.54 | F25: Xi măng bao | G25: 0.001 | I25: ô tô thùng 7T | J25: 1 | K25: 1 | P25: 1 | R25: 0 | S25: 0 | T25: 0 | U25: 0 | V25: 1 | W25: 1 | AD25: 1 | AE25: =ROUND(K25*P25*V25*W25*(R25*X25+S25*Y25+T25*Z25+0.95*U25*AA25)*AD25,1) -> 0 | AF25: 0 | AG25: =ROUND(G25*(AE25+AF25),0) -> 0 | AH25: 1 | AI25: =ROUND(AG25*AH25,0) -> 0 | AN25: =ROUND((AK25+AL25)*AM25,0) -> 0 | AP25: =ROUND(AO25*AX25,0) -> 0 | AS25: =ROUND(AM25*(AQ25+AR25),0) -> 0 | AU25: =ROUND(AT25*((AI25+AJ25)/1.1+AN25+AP25+AX25),0) -> 0 | AV25: =ROUND((AI25+AJ25)/1+AN25+AP25+AS25+AU25,0) -> 0 | AW25: =ROUND(E25*AV25,0) -> 0 | AX25: ='Tổng hợp VT'!K29 -> 1597 | AY25: =ROUND(AV25+AX25,0) -> 1597 | AZ25: =ROUND(E25*AY25,0) -> 391467091 | BA25: 1

Sheet Cước bộ
A1: BẢNG CƯỚC VẬN CHUYỂN BỘ HẠNG MỤC CÔNG TRÌNH
A2: ='Công trình'!A2 -> CÔNG TRÌNH : XÂY DỰNG HỆ THỐNG CỐNG HỘP KÊNH BẾN KEM ĐOẠN TỪ NHÀ ÔNG CHÍN ĐẾN KÊNH ĐẠI TRÀ 2, XÃ KIẾN MINH
A4: STT | B4: Mã số | C4: Tên vật liệu / Diễn giải cung đường | D4: Đơn vị | E4: Khối lượng | F4: Nhóm vật liệu | G4: Phương tiện vận chuyển | H4: Có bốc dỡ | I4: Cự ly vận chuyển (m) | J4: Hệ số cự ly | K4: Cự ly quy đổi (m) | L4: Số công bốc dỡ / V.C (công) | M4: ="" | N4: ="" | O4: Đơn giá bốc dỡ / V.C (đồng) | P4: ="" | Q4: ="" | R4: Hệ số độ dốc | S4: Giá cước 1 cung đường (đ) | T4: Hệ số khu vực | U4: Hệ số điều chỉnh cước | V4: Trọng lượng đơn vị | W4: Giá cước bộ (đ) | X4: Thành tiền vận chuyển (đ) | Y4: Giá vật liệu gốc trước thuế (đ) | Z4: Giá hiện trường trước thuế (đ) | AA4: Thành tiền hiện trường (đ) | AB4: Đơn giá NC (đ)
A5: ="" | B5: ="" | C5: ="" | D5: ="" | E5: ="" | F5: ="" | G5: ="" | H5: ="" | ... K5: ="" | L5: Bốc dỡ | M5: 10m đầu | N5: 10m tiếp | O5: Bốc dỡ | P5: 10m đầu | Q5: 10m tiếp | R5: ="" | S5: ="" | T5: ="" | U5: ="" | V5: ="" | W5: ="" | X5: ="" | Y5: ="" | ... AA5: ="" | AB5: 100000
A6: 1 | B6: A24.1042 | C6: Cát | D6: m3 | E6: ='Tổng hợp VT'!E10 -> 1082.5487 | F6: Cát các loại | H6: FALSE | J6: 1 | R6: 1 | T6: 1 | U6: 1 | V6: 1 | W6: =ROUND(SUM(S6:S6)*T6*U6*V6,1) -> 0 | Y6: ='Tổng hợp VT'!K10 -> 280000 | Z6: =ROUND(W6+Y6,0) -> 280000 | AA6: =ROUND(E6*Z6,0) -> 303113636
A7: 2 | B7: A24.0180 | C7: Cát vàng | D7: m3 | E7: ='Tổng hợp VT'!E11 -> 357.71084 | F7: Cát các loại | H7: FALSE | J7: 1 | R7: 1 | T7: 1 | U7: 1 | V7: 1 | W7: =ROUND(SUM(S7:S7)*T7*U7*V7,1) -> 0 | Y7: ='Tổng hợp VT'!K11 -> 750000 | Z7: =ROUND(W7+Y7,0) -> 750000 | AA7: =ROUND(E7*Z7,0) -> 268283127
A8: 3 | B8: A24.0183 | C8: Cây chống | D8: cây | E8: ='Tổng hợp VT'!E12 -> 779.823 | F8: Tre, cây chống | H8: FALSE | J8: 1 | R8: 1 | T8: 1 | U8: 1 | V8: 0.01 | W8: =ROUND(SUM(S8:S8)*T8*U8*V8,1) -> 0 | Y8: ='Tổng hợp VT'!K12 -> 22000 | Z8: =ROUND(W8+Y8,0) -> 22000 | AA8: =ROUND(E8*Z8,0) -> 17156106
A9: 4 | B9: A24.0227 | C9: Cọc tre >2,5m | D9: m | E9: ='Tổng hợp VT'!E13 -> 49625.1 | H9: FALSE | J9: 1 | R9: 1 | T9: 1 | U9: 1 | V9: 1 | W9: =ROUND(SUM(S9:S9)*T9*U9*V9,1) -> 0 | Y9: ='Tổng hợp VT'!K13 -> 4800 | Z9: =ROUND(W9+Y9,0) -> 4800 | AA9: =ROUND(E9*Z9,0) -> 238200480
A10: 5 | B10: A24.0230 | C10: Cọc ván thép <=12m | D10: m | E10: ='Tổng hợp VT'!E14 -> 9608 | H10: FALSE | J10: 1 | R10: 1 | T10: 1 | U10: 1 | V10: 1 | W10: =ROUND(SUM(S10:S10)*T10*U10*V10,1) -> 0
A11: 6 | B11: A24.0262 | C11: Cột chống thép ống | D11: kg | E11: ='Tổng hợp VT'!E15 -> 1068.9041 | F11: Thép các loại | H11: FALSE | J11: 1 | R11: 1 | T11: 1 | U11: 1 | V11: 0.001 | W11: =ROUND(SUM(S11:S11)*T11*U11*V11,1) -> 0 | Y11: ='Tổng hợp VT'!K15 -> 12627 | Z11: =ROUND(W11+Y11,0) -> 12627 | AA11: =ROUND(E11*Z11,0) -> 13497052
A12: 7 | B12: A24.0293 | C12: Dây thép | D12: kg | E12: ='Tổng hợp VT'!E16 -> 607.82014 | F12: Thép các loại | H12: FALSE | J12: 1 | R12: 1 | T12: 1 | U12: 1 | V12: 0.001 | W12: =ROUND(SUM(S12:S12)*T12*U12*V12,1) -> 0 | Y12: ='Tổng hợp VT'!K16 -> 20000 | Z12: =ROUND(W12+Y12,0) -> 20000 | AA12: =ROUND(E12*Z12,0) -> 12156403
A13: 8 | B13: A24.0008 | C13: Đá 1x2 | D13: m3 | E13: ='Tổng hợp VT'!E17 -> 589.23499 | F13: Sỏi, đá dăm các loại | H13: FALSE | J13: 1 | R13: 1 | T13: 1 | U13: 1 | V13: 1 | W13: =ROUND(SUM(S13:S13)*T13*U13*V13,1) -> 0 | Y13: ='Tổng hợp VT'!K17 -> 470000 | Z13: =ROUND(W13+Y13,0) -> 470000 | AA13: =ROUND(E13*Z13,0) -> 276940445
A14: 9 | B14: A24.0418 | C14: Gỗ ván | D14: m3 | E14: ='Tổng hợp VT'!E18 -> 4.7262 | F14: Gỗ các loại | H14: FALSE | J14: 1 | R14: 1 | T14: 1 | U14: 1 | V14: 1 | W14: =ROUND(SUM(S14:S14)*T14*U14*V14,1) -> 0 | Y14: ='Tổng hợp VT'!K18 -> 3300000 | Z14: =ROUND(W14+Y14,0) -> 3300000 | AA14: =ROUND(E14*Z14,0) -> 15596460
A15: 10 | B15: A24.0524 | C15: Nước | D15: lít | E15: ='Tổng hợp VT'!E19 -> 130222 | H15: FALSE | J15: 1 | R15: 1 | T15: 1 | U15: 1 | V15: 1 | W15: =ROUND(SUM(S15:S15)*T15*U15*V15,1) -> 0 | Y15: ='Tổng hợp VT'!K19 -> 12 | Z15: =ROUND(W15+Y15,0) -> 12 | AA15: =ROUND(E15*Z15,0) -> 1562664
A16: 11 | B16: A24.0348 | C16: ống xói F150mm | D16: m | E16: ='Tổng hợp VT'!E20 -> 5.7645 | H16: FALSE | J16: 1 | R16: 1 | T16: 1 | U16: 1 | V16: 1 | W16: =ROUND(SUM(S16:S16)*T16*U16*V16,1) -> 0 | Y16: ='Tổng hợp VT'!K20 -> 350000 | Z16: =ROUND(W16+Y16,0) -> 350000 | AA16: =ROUND(E16*Z16,0) -> 2017575
A17: 12 | B17: A24.0349 | C17: ống xói F250mm | D17: m | E17: ='Tổng hợp VT'!E21 -> 5.7645 | H17: FALSE | J17: 1 | R17: 1 | T17: 1 | U17: 1 | V17: 1 | W17: =ROUND(SUM(S17:S17)*T17*U17*V17,1) -> 0 | Y17: ='Tổng hợp VT'!K21 -> 550000 | Z17: =ROUND(W17+Y17,0) -> 550000 | AA17: =ROUND(E17*Z17,0) -> 3170475
A18: 13 | B18: A24.0350 | C18: ống xói F50mm | D18: m | E18: ='Tổng hợp VT'!E22 -> 5.7645 | H18: FALSE | J18: 1 | R18: 1 | T18: 1 | U18: 1 | V18: 1 | W18: =ROUND(SUM(S18:S18)*T18*U18*V18,1) -> 0 | Y18: ='Tổng hợp VT'!K22 -> 55000 | Z18: =ROUND(W18+Y18,0) -> 55000 | AA18: =ROUND(E18*Z18,0) -> 317048
A19: 14 | B19: A24.0543 | C19: Que hàn | D19: kg | E19: ='Tổng hợp VT'!E23 -> 211.7602 | F19: Thép các loại | H19: FALSE | J19: 1 | R19: 1 | T19: 1 | U19: 1 | V19: 0.001 | W19: =ROUND(SUM(S19:S19)*T19*U19*V19,1) -> 0 | Y19: ='Tổng hợp VT'!K23 -> 25000 | Z19: =ROUND(W19+Y19,0) -> 25000 | AA19: =ROUND(E19*Z19,0) -> 5294005
A20: 15 | B20: A24.0712 | C20: Thép hình | D20: kg | E20: ='Tổng hợp VT'!E24 -> 1387.5284 | F20: Thép các loại | H20: FALSE | J20: 1 | R20: 1 | T20: 1 | U20: 1 | V20: 0.001 | W20: =ROUND(SUM(S20:S20)*T20*U20*V20,1) -> 0 | Y20: ='Tổng hợp VT'!K24 -> 18800 | Z20: =ROUND(W20+Y20,0) -> 18800 | AA20: =ROUND(E20*Z20,0) -> 26085533
A21: 16 | B21: A24.0726 | C21: Thép tấm | D21: kg | E21: ='Tổng hợp VT'!E25 -> 1558.9888 | F21: Thép các loại | H21: FALSE | J21: 1 | R21: 1 | T21: 1 | U21: 1 | V21: 0.001 | W21: =ROUND(SUM(S21:S21)*T21*U21*V21,1) -> 0 | Y21: ='Tổng hợp VT'!K25 -> 18800 | Z21: =ROUND(W21+Y21,0) -> 18800 | AA21: =ROUND(E21*Z21,0) -> 29308990
A22: 17 | B22: A24.0738 | C22: Thép tròn D<=10mm | D22: kg | E22: ='Tổng hợp VT'!E26 -> 32017.793 | F22: Thép các loại | H22: FALSE | J22: 1 | R22: 1 | T22: 1 | U22: 1 | V22: 0.001 | W22: =ROUND(SUM(S22:S22)*T22*U22*V22,1) -> 0 | Y22: ='Tổng hợp VT'!K26 -> 14700 | Z22: =ROUND(W22+Y22,0) -> 14700 | AA22: =ROUND(E22*Z22,0) -> 470661550
A23: 18 | B23: A24.0739 | C23: Thép tròn D<=18mm | D23: kg | E23: ='Tổng hợp VT'!E27 -> 10535.682 | F23: Thép các loại | H23: FALSE | J23: 1 | R23: 1 | T23: 1 | U23: 1 | V23: 0.001 | W23: =ROUND(SUM(S23:S23)*T23*U23*V23,1) -> 0 | Y23: ='Tổng hợp VT'!K27 -> 14700 | Z23: =ROUND(W23+Y23,0) -> 14700 | AA23: =ROUND(E23*Z23,0) -> 154874525
A24: 19 | B24: A24.0782 | C24: Vải địa kỹ thuật | D24: m2 | E24: ='Tổng hợp VT'!E28 -> 151.2 | H24: FALSE | J24: 1 | R24: 1 | T24: 1 | U24: 1 | V24: 1 | W24: =ROUND(SUM(S24:S24)*T24*U24*V24,1) -> 0 | Y24: ='Tổng hợp VT'!K28 -> 10400 | Z24: =ROUND(W24+Y24,0) -> 10400 | AA24: =ROUND(E24*Z24,0) -> 1572480
A25: 20 | B25: A24.0797A | C25: Xi măng PCB30 | D25: kg | E25: ='Tổng hợp VT'!E29 -> 245126.54 | F25: Xi măng bao | H25: FALSE | J25: 1 | R25: 1 | T25: 1 | U25: 1 | V25: 0.001 | W25: =ROUND(SUM(S25:S25)*T25*U25*V25,1) -> 0 | Y25: ='Tổng hợp VT'!K29 -> 1597 | Z25: =ROUND(W25+Y25,0) -> 1597 | AA25: =ROUND(E25*Z25,0) -> 391467091

Sheet Đơn giá chi tiết

Sheet Giá tổng hợp

Sheet THKP hạng mục
A1: BẢNG TỔNG HỢP DỰ TOÁN CHI PHÍ XÂY DỰNG
A2: Tên công trình: XÂY DỰNG HỆ THỐNG CỐNG HỘP KÊNH BẾN KEM ĐOẠN TỪ NHÀ ÔNG CHÍN ĐẾN KÊNH ĐẠI TRÀ 2, XÃ KIẾN MINH
A3: Tên hạng mục: HẠNG MỤC 1
A4: STT | B4: Nội dung chi phí | C4: Ký hiệu | D4: Cách tính | G4: Hệ số | H4: ="Giá trị_x000D_ "&'Công trình'!AM1 -> Giá trị_x000D_ (đ)
A5: I | B5: CHI PHÍ TRỰC TIẾP
A6: 1 | B6: Chi phí Vật liệu | C6: VL | D6: =C9 -> A | H6: =H9 -> 4.0669726e+09
B7: + Theo đơn giá trực tiếp | C7: A1 | D7: Bảng dự toán hạng mục | H7: ='Công trình'!U119+'Công trình'!V119 -> 2.4762862e+09
B8: + Chênh lệch vật liệu | C8: CL | D8: Theo bảng bù giá | H8: ='Tổng hợp VT'!R31 -> 1.5906863e+09
B9: Cộng | C9: A | D9: A1 + CL | H9: =H7+H8 -> 4.0669726e+09
A10: 2 | B10: Chi phí Nhân công | C10: NC | D10: =C13 -> B | H10: =H13 -> 1.3215712e+09
B11: + Theo đơn giá trực tiếp | C11: B1 | D11: Bảng dự toán hạng mục | H11: ='Công trình'!W119 -> 1.2005287e+09
B12: + Chênh lệch nhân công | C12: CLNC | D12: Theo bảng bù giá | H12: ='Tổng hợp VT'!R38 -> 1.2104248e+08
B13: Cộng | C13: B | D13: B1 + CLNC | H13: =H11+H12 -> 1.3215712e+09
A14: 3 | B14: Chi phí Máy thi công | C14: M | D14: =C17 -> C | H14: =H17 -> 1.3642336e+09
B15: + Theo đơn giá trực tiếp | C15: C1 | D15: Bảng dự toán hạng mục | H15: ='Công trình'!X119 -> 1.453717e+09
B16: + Chênh lệch Máy thi công | C16: CLMay | D16: Theo bảng bù giá | H16: ='Tổng hợp VT'!R63 -> -89483436
B17: Cộng | C17: C | D17: C1 + CLMay | H17: =H15+H16 -> 1.3642336e+09
A18: ="" | B18: Cộng chi phí trực tiếp | C18: T | D18: VL + NC + M | H18: =H6+H10+H14 -> 6.7527773e+09
A19: II | B19: CHI PHÍ GIÁN TIẾP | C19: ="" | D19: =""
A20: 1 | B20: Chi phí chung | C20: C | D20: ="T x "&HSXL!C$14 -> T x 5,5% | G20: =HSXL!C$14 -> 5,5% | H20: =H18*HSXL!D$14 -> 3.7140275e+08
A21: 2 | B21: Chi phí nhà tạm để ở và điều hành thi công | C21: LT | D21: ="T x "&HSXL!C$18 -> T x 1,1% | G21: =HSXL!C$18 -> 1,1% | H21: =H18*HSXL!D$18 -> 74280551
A22: 3 | B22: Chi phí một số công việc không xác định được khối lượng từ thiết kế | C22: TT | D22: ="T x "&HSXL!C$13 -> T x 2% | G22: =HSXL!C$13 -> 2% | H22: =H18*HSXL!D$13 -> 1.3505555e+08
A23: ="" | B23: Cộng chi phí gián tiếp | C23: GT | D23: (C + LT + TT) | H23: =SUM(H20:H22) -> 5.8073885e+08
A24: III | B24: THU NHẬP CHỊU THUẾ TÍNH TRƯỚC | C24: TL | D24: ="(T+GT) x "&HSXL!C$16 -> (T+GT) x 5,5% | G24: =HSXL!C$16 -> 5,5% | H24: =(H18+H23)*HSXL!D$16 -> 4.0334339e+08
A25: ="" | B25: Chi phí xây dựng trước thuế | C25: G | D25: (T+GT+TL) | H25: =H18+H23+H24 -> 7.7368596e+09
A26: IV | B26: THUẾ GIÁ TRỊ GIA TĂNG | C26: GTGT | D26: ="G x "&HSXL!C$17 -> G x 8% | E26: =G26 -> 0.08 | G26: =HSXL!D$17 -> 0.08 | H26: =E26*H25 -> 6.1894877e+08
A27: V | B27: Chi phí xây dựng sau thuế | C27: Gxd | D27: G+GTGT | H27: =ROUND(H25+H26,0) -> 8355808339
B28: LÀM TRÒN | H28: =ROUND(H27,-3) -> 8355808000
A29: Bằng chữ: Sáu tỷ sáu trăm tám mươi tám triệu năm trăm tám mươi ba nghìn đồng chẵn./.

Sheet TH chi phí XD
A1: BẢNG TỔNG HỢP CHI PHÍ XÂY DỰNG CÔNG TRÌNH
A2: ='Công trình'!A2 -> CÔNG TRÌNH : XÂY DỰNG HỆ THỐNG CỐNG HỘP KÊNH BẾN KEM ĐOẠN TỪ NHÀ ÔNG CHÍN ĐẾN KÊNH ĐẠI TRÀ 2, XÃ KIẾN MINH
A3: ="Đơn vị tính: "&'Công trình'!AM1 -> Đơn vị tính: (đ)
A4: STT | B4: Hạng mục | C4: Chi phí xây dựng trước thuế | D4: Thuế giá trị gia tăng | E4: Chi phí xây dựng sau thuế | F4: Chi phí khác | G4: Tổng cộng
A5: 1 | B5: ='Công trình'!F6 -> HẠNG MỤC 1 | C5: ='THKP hạng mục'!H25 -> 7.7368596e+09 | D5: =C5*HSXL!D17 -> 6.1894877e+08 | E5: =ROUND(C5+D5,0) -> 8355808339 | F5: =ROUND(G5-E5,0) -> 0 | G5: ='THKP hạng mục'!H27 -> 8355808339
B6: TỔNG CỘNG | C6: =ROUND(SUM(C5:C5),0) -> 7736859573 | D6: =ROUND(SUM(D5:D5),0) -> 618948766 | E6: =ROUND(SUM(E5:E5),0) -> 8355808339 | F6: =ROUND(SUM(F5:F5),0) -> 0 | G6: =ROUND(SUM(G5:G5),0) -> 8355808339
B7: LÀM TRÒN | E7: =ROUND(E6,-3) -> 8355808000 | G7: =ROUND(G6,-3) -> 8355808000
A8: Bằng chữ: Sáu tỷ sáu trăm tám mươi tám triệu năm trăm tám mươi ba nghìn đồng chẵn./.

Sheet TH chi phí TB
A1: BẢNG TỔNG HỢP CHI PHÍ THIẾT BỊ CÔNG TRÌNH | J1: =""
A2: ='Công trình'!A2 -> CÔNG TRÌNH : XÂY DỰNG HỆ THỐNG CỐNG HỘP KÊNH BẾN KEM ĐOẠN TỪ NHÀ ÔNG CHÍN ĐẾN KÊNH ĐẠI TRÀ 2, XÃ KIẾN MINH | J2: =""
J3: =""
A4: STT | B4: Tên vật tư | C4: Đơn vị | D4: Số lượng | E4: ="Đơn giá_x000D_ trước thuế_x000D_ "&'Công trình'!AM1 -> Đơn giá_x000D_ trước thuế_x000D_ (đ) | F4: ="Thành tiền_x000D_ trước thuế_x000D_ "&'Công trình'!AM1 -> Thành tiền_x000D_ trước thuế_x000D_ (đ) | G4: Thuế VAT | I4: ="Thành tiền_x000D_ sau thuế_x000D_ "&'Công trình'!AM1 -> Thành tiền_x000D_ sau thuế_x000D_ (đ) | J4: Ghi chú, Nguồn gốc xuất xứ
G5: % | H5: ="Thành tiền_x000D_ "&'Công trình'!AM1 -> Thành tiền_x000D_ (đ)
A6: 1 | B6: Chi phí mua sắm thiết bị | F6: =D6*E6 -> 0 | H6: =F6*G6/100 -> 0 | I6: =F6+H6 -> 0
F7: =D7*E7 -> 0 | H7: =F7*G7/100 -> 0 | I7: =F7+H7 -> 0
F8: =D8*E8 -> 0 | H8: =F8*G8/100 -> 0 | I8: =F8+H8 -> 0
F9: =D9*E9 -> 0 | H9: =F9*G9/100 -> 0 | I9: =F9+H9 -> 0
F10: =D10*E10 -> 0 | H10: =F10*G10/100 -> 0 | I10: =F10+H10 -> 0
F11: =D11*E11 -> 0 | H11: =F11*G11/100 -> 0 | I11: =F11+H11 -> 0
F12: =D12*E12 -> 0 | H12: =F12*G12/100 -> 0 | I12: =F12+H12 -> 0
F13: =D13*E13 -> 0 | H13: =F13*G13/100 -> 0 | I13: =F13+H13 -> 0
F14: =D14*E14 -> 0 | H14: =F14*G14/100 -> 0 | I14: =F14+H14 -> 0
F15: =D15*E15 -> 0 | H15: =F15*G15/100 -> 0 | I15: =F15+H15 -> 0
F16: =D16*E16 -> 0 | H16: =F16*G16/100 -> 0 | I16: =F16+H16 -> 0
F17: =D17*E17 -> 0 | H17: =F17*G17/100 -> 0 | I17: =F17+H17 -> 0
F18: =D18*E18 -> 0 | H18: =F18*G18/100 -> 0 | I18: =F18+H18 -> 0
F19: =D19*E19 -> 0 | H19: =F19*G19/100 -> 0 | I19: =F19+H19 -> 0
B20: TỔNG CỘNG | F20: =ROUND(SUM(F6:F19),0) -> 0 | H20: =ROUND(SUM(H6:H19),0) -> 0 | I20: =ROUND(SUM(I6:I19),0) -> 0
A21: Bằng chữ: Không đồng chẵn./.

Sheet HM chung

Sheet Dự phòng
A1: ='Công trình'!A2 -> CÔNG TRÌNH : XÂY DỰNG HỆ THỐNG CỐNG HỘP KÊNH BẾN KEM ĐOẠN TỪ NHÀ ÔNG CHÍN ĐẾN KÊNH ĐẠI TRÀ 2, XÃ KIẾN MINH
A2: CHỈ SỐ GIÁ BÌNH QUÂN
A3: STT | B3: Thời điểm | C3: Chỉ số giá XD | F3: Tỷ lệ ( Isau / Itrước ) | G3: Chỉ số giá XD bình quân
A4: 1 | B4: 2021 | C4: 1.05 | F4: =IF(C4<>0,ROUND(C5/C4,5),0) -> 1 | G4: =ROUND(SUM(F4:F8)/A8,5) -> 1.00952
A5: 2 | B5: 2022 | C5: 1.05 | F5: =IF(C5<>0,ROUND(C6/C5,5),0) -> 1
A6: 3 | B6: 2023 | C6: 1.05 | F6: =IF(C6<>0,ROUND(C7/C6,5),0) -> 1
A7: 4 | B7: 2024 | C7: 1.05 | F7: =IF(C7<>0,ROUND(C8/C7,5),0) -> 1.04762
A8: 5 | B8: 2025 | C8: 1.1 | F8: 1
A10: CHI PHÍ DỰ PHÒNG DO YẾU TỐ TRƯỢT GIÁ
A11: STT | B11: Năm | C11: Vốn phân bổ từng năm | D11: Lãi vay | E11: Chi phí tính dự phòng | F11: Chỉ số giá XD bình quân | G11: Mức biến động chỉ số giá XD | H11: Dự phòng từng năm | I11: Dự phòng lũy kế
C12: ='Công trình'!AM1 -> (đ) | D12: ='Công trình'!AM1 -> (đ) | E12: ='Công trình'!AM1 -> (đ) | H12: ='Công trình'!AM1 -> (đ) | I12: ='Công trình'!AM1 -> (đ)
A13: 1 | B13: 2026 | C13: 1869275331 | D13: 0 | E13: =C13-D13 -> 1869275331 | F13: =G4 -> 1.00952 | G13: 0.05 | H13: =C13*((F13+G13)^A13-1) -> 1.1125927e+08 | I13: =H13 -> 1.1125927e+08
A14: 2 | B14: 2027 | C14: 1869275331 | D14: 0 | E14: =C14-D14 -> 1869275331 | F14: =G4 -> 1.00952 | G14: 0.05 | H14: =C14*((F14+G14)^A14-1) -> 2.2914069e+08 | I14: =H14+I13 -> 3.4039995e+08
A15: 3 | B15: 2028 | C15: ='TH kinh phí'!K80-SUM(C13:C14) -> 5572341338 | D15: 0 | E15: =C15-D15 -> 5572341338 | F15: =G4 -> 1.00952 | G15: 0.05 | H15: =C15*((F15+G15)^A15-1) -> 1.0553945e+09 | I15: =H15+I14 -> 1.3957944e+09
A16: TỔNG CỘNG | C16: =SUM(C13:C15) -> 9310892000 | D16: =SUM(D13:D15) -> 0 | E16: =SUM(E13:E15) -> 9310892000 | H16: =I15 -> 1.3957944e+09

Sheet TH kinh phí
A1: BẢNG TỔNG HỢP DỰ TOÁN
A2: DỰ ÁN: XÂY DỰNG HỆ THỐNG CỐNG HỘP KÊNH BẾN KEM ĐOẠN TỪ NHÀ ÔNG CHÍN ĐẾN KÊNH ĐẠI TRÀ 2, XÃ KIẾN MINH
A3: ="Đơn vị tính: "&'Công trình'!AM1 -> Đơn vị tính: (đ) | L3: Tổng mức đầu tư
A4: STT | B4: Khoản mục chi phí | C4: Ký hiệu | D4: Định mức | E4: Hệ số | F4: Cách tính | G4: Chi phí trước thuế | H4: Thuế giá trị gia tăng | I4: Chi phí sau thuế | K4: 0.08 | L4: Dự kiến | M4: Tiền khả thi | N4: Được duyệt | O4: Ghi chú/ Hướng dẫn
A5: 1 | B5: Chi phí bồi thường, hỗ trợ và tái định cư | C5: Gbt,tđc | F5: ="" | H5: 0 | I5: 0 | J5: Gbttdc | K5: 1
A6: 1 | B6: Chi phí xây dựng | C6: Gcpxd | F6: ="" | G6: =G7+G9 -> 7736859573 | H6: =H7+H9 -> 618948766 | I6: =I7+I9 -> 8355808000 | J6: Gxd | K6: 1 | L6: =L7+L9 -> 7736859573 | M6: =M7+M9 -> 7736859573 | N6: =N7+N9 -> 7736859573
A7: 1.1 | B7: Chi phí xây dựng công trình chính, phụ trợ tạm phục vụ thi công | C7: Gxd | F7: ="" | G7: =SUM(G8:G8) -> 7736859573 | H7: =SUM(H8:H8) -> 618948766 | I7: =ROUND(G7+H7,-3) -> 8355808000 | J7: Gxdcpt | K7: =G7+G65 -> 7736859573 | L7: =SUM(L8:L8) -> 7736859573 | M7: =SUM(M8:M8) -> 7736859573 | N7: =SUM(N8:N8) -> 7736859573
B8: ="+ "&'Công trình'!F6 -> + HẠNG MỤC 1 | C8: Gxd.1 | G8: =ROUND('TH chi phí XD'!C5,0) -> 7736859573 | H8: =ROUND(G8*HSXL!D17,0) -> 618948766 | I8: =G8+H8 -> 8355808339 | L8: =G8 -> 7736859573 | M8: =G8 -> 7736859573 | N8: =G8 -> 7736859573
A9: 1.2 | B9: Chi phí xây dựng nhà tạm tại hiện trường để ở và điều hành thi công | C9: Gnt | F9: ="" | G9: =ROUND(I9/(1+0.08),0) -> 0 | H9: =ROUND(G9*0.08,0) -> 0 | J9: Gxdnt | K9: 1
A10: 2 | B10: Chi phí thiết bị | C10: Gtb | F10: ="" | I10: =G10+H10 -> 0 | J10: Gtb | K10: 1 | L10: =SUM(L15:L15) -> 0 | M10: =SUM(M15:M15) -> 0 | N10: =SUM(N15:N15) -> 0
A11: 2.1 | B11: Trong đó : | F11: ="" | J11: Gtb_CT | K11: 1
B12: + Chi phí Mua sắm thiết bị | F12: ="" | I12: =G12+H12 -> 0 | J12: Gtb_MS | K12: 1
B13: + Chi phí lắp đặt, thí nghiệm, hiệu chỉnh, đào tạo và chuyển giao thiết bị | F13: ="" | G13: 0 | H13: 0 | I13: 0 | J13: Gtb_LD | K13: 1
A14: 2.2 | B14: Phân bổ chi phí thiết bị cho các hạng mục, công trình | F14: ="" | J14: Gtb_PB | K14: 1
B15: ="+ "&'Công trình'!F6 -> + HẠNG MỤC 1 | C15: Gtb.1 | G15: 0 | H15: =ROUND(G15*HSXL!D17,0) -> 0 | I15: =G15+H15 -> 0 | L15: =G15 -> 0 | M15: =G15 -> 0 | N15: =G15 -> 0
A16: 2 | B16: Chi phí quản lý dự án | C16: Gqlda | D16: ='Định mức tư vấn'!F3 -> 0.02901 | F16: 2,901% x Gxd | G16: =ROUND(D16*(G7+G10),0) -> 224446296 | I16: =ROUND(G16+H16,-3) -> 224446000 | J16: Gqlda | K16: 1 | O16: Thông tư 60/2025/TT-BXD
A17: 3 | B17: Chi phí hoạt động của đơn vị quản lý dự án thuộc cơ quan nhà nước có thẩm quyền thực hiện dự án theo hình thức đối tác công tư (PPP) | C17: Gqlda | H17: =ROUND(K4*G17,0) -> 0 | I17: =G17+H17 -> 0 | J17: GqldaPPP | K17: 1
A18: 3 | B18: Chi phí tư vấn đầu tư xây dựng | C18: Gtv | F18: Gtv1 : Gtv8 | G18: =SUMIF(K19:K62,1,G19:G62) -> 571390394 | H18: =SUMIF(K19:K62,1,H19:H62) -> 45711231 | I18: =SUMIF(K19:K62,1,I19:I62) -> 617102000 | J18: Gtv | K18: 1
A19: 3.1 | B19: Chi phí khảo sát | C19: Gtv1 | F19: Dự toán | G19: 52699139 | H19: =ROUND(K4*G19,0) -> 4215931 | I19: =ROUND(G19+H19,-3) -> 56915000 | J19: Gks | K19: 1 | O19: Người dùng nhập ở cột Chi phí trước thuế hoặc Tạo và khai báo loại hạng mục "3. Khảo sát" bên sheet Công trình
B20: Chi phí lập nhiệm vụ khảo sát xây dựng | C20: Gtv2 | D20: 0.03 | F20: 3%*Gtv1 | H20: =ROUND(K4*G20,0) -> 0 | I20: =G20+H20 -> 0 | J20: Glnvks | K20: 1
B21: Chi phí giám sát công tác khảo sát xây dựng | C21: Gtv3 | F21: 0%*Gtv1 | H21: =ROUND(K4*G21,0) -> 0 | I21: =G21+H21 -> 0 | J21: Ggsks | K21: 1
B22: Chi phí lập dự án | C22: Gtv4 | H22: =ROUND(K4*G22,0) -> 0 | J22: Glapda | K22: 1
B23: Chi phí thẩm tra tính hiệu quả và tính khả thi của dự án đầu tư | C23: Gtv5 | H23: =ROUND(K4*G23,0) -> 0 | J23: Ghqkt | K23: 1
B24: Chi phí Lập báo cáo đánh giá tác động môi trường | C24: Gtv6 | H24: =ROUND(K4*G24,0) -> 0 | I24: =G24+H24 -> 0 | J24: Gltdmt | K24: 1
B25: Chi phí Thẩm định báo cáo đánh giá tác động môi trường (Thông tư 195/2016/TT-BTC) | C25: Gtv7 | H25: =ROUND(K4*G25,0) -> 0 | I25: =G25+H25 -> 0 | J25: Gdgtdmt | K25: 1
B26: Chi phí lập báo cáo đề xuất chủ trương đầu tư | C26: Gtv8 | H26: =ROUND(K4*G26,0) -> 0 | I26: =G26+H26 -> 0 | J26: Gbcdxctdt | K26: 1
B27: Chi phí lập báo cáo nghiên cứu tiền khả thi | C27: Gtv9 | H27: =ROUND(K4*G27,0) -> 0 | I27: =G27+H27 -> 0 | J27: Gbcnctkt | K27: 1
B28: Chi phí lập báo cáo nghiên cứu khả thi | C28: Gtv10 | H28: =ROUND(K4*G28,0) -> 0 | I28: =G28+H28 -> 0 | J28: Gbcnckt | K28: 1
A29: 3.2 | B29: Chi phí lập báo cáo kinh tế - kỹ thuật | C29: Gtv2 | D29: ='Định mức tư vấn'!F4 -> 0.0325263 | F29: 3,56137% x Gxd | G29: =ROUND(D29*(L7+L10),0) -> 251651416 | H29: =ROUND(K4*G29,0) -> 20132113 | I29: =ROUND(G29+H29,-3) -> 271784000 | J29: Gbcktkt | K29: 1 | O29: Thông tư 60/2025/TT-BXD
B30: Chi phí thẩm tra báo cáo đề xuất chủ trương đầu tư | C30: Gtv12 | H30: =ROUND(K4*G30,0) -> 0 | I30: =G30+H30 -> 0 | J30: Gttbcdxctdt | K30: 1
B31: Chi phí thẩm tra báo cáo nghiên cứu tiền khả thi | C31: Gtv13 | H31: =ROUND(K4*G31,0) -> 0 | I31: =G31+H31 -> 0 | J31: Gttbcnctkt | K31: 1
B32: Chi phí thẩm tra báo cáo nghiên cứu khả thi | C32: Gtv14 | H32: =ROUND(K4*G32,0) -> 0 | I32: =G32+H32 -> 0 | J32: Gttbcnckt | K32: 1
B33: Chi phí thẩm tra thiết kế công nghệ | C33: Gtv15 | D33: 0.2 | F33: 20%*Gtv13 | H33: =ROUND(K4*G33,0) -> 0 | I33: =G33+H33 -> 0 | J33: Gtttkcn | K33: 1
B34: Chi phí thẩm tra Báo cáo kinh tế - kỹ thuật, phần thiết kế | C34: Gtv16 | H34: =ROUND(K4*G34,0) -> 0 | I34: =G34+H34 -> 0 | J34: Gttbcktkt_tk | K34: 1
B35: Chi phí thẩm tra Báo cáo kinh tế - kỹ thuật, phần dự toán | C35: Gtv17 | H35: =ROUND(K4*G35,0) -> 0 | I35: =G35+H35 -> 0 | J35: Gttbcktkt_dt | K35: 1
B36: Chi phí thẩm định Báo cáo nghiên cứu khả thi | C36: Gtv18 | F36: 0%*Gtv13 | H36: =ROUND(K4*G36,0) -> 0 | I36: =G36+H36 -> 0 | J36: Gtdbcnckt | K36: 1
B37: Chi phí thẩm định Báo cáo kinh tế - kỹ thuật | C37: Gtv19 | F37: 0%*(Gtv15+Gtv16) | H37: =ROUND(K4*G37,0) -> 0 | I37: =G37+H37 -> 0 | J37: Gtdbcktkt | K37: 1
B38: Chi phí thi tuyển thiết kế kiến trúc | C38: Gtv20 | H38: =ROUND(K4*G38,0) -> 0 | I38: =G38+H38 -> 0 | J38: Gkt | K38: 1
B39: Chi phí thiết kế kỹ thuật | C39: Gtv21 | H39: =ROUND(K4*G39,0) -> 0 | I39: =G39+H39 -> 0 | J39: Gtk | K39: 1
B40: Chi phí thiết kế bản vẽ thi công | C40: Gtv22 | H40: =ROUND(K4*G40,0) -> 0 | I40: =G40+H40 -> 0 | J40: Gtkbv | K40: 1
B41: Chi phí thiết kế - Phần thiết bị (khi Chi phí thiết bị ≥ 50% Tổng chi phí xây dựng và chi phí thiết bị) | C41: Gtv23 | H41: =ROUND(K4*G41,0) -> 0 | I41: =G41+H41 -> 0 | J41: GtkThietBi | K41: 1
B42: Chi phí thẩm tra thiết kế xây dựng | C42: Gtv24 | H42: =ROUND(K4*G42,0) -> 0 | I42: =G42+H42 -> 0 | J42: Gtttkkt | K42: 1
A43: 3.3 | B43: Chi phí thẩm tra thiết kế bản vẽ thi công | C43: Gtv3 | D43: ='Định mức tư vấn'!F6 -> 0.00197 | F43: 0,197% x Gxd | G43: =ROUND(D43*G7,0) -> 15241613 | H43: =ROUND(K4*G43,0) -> 1219329 | I43: =ROUND(G43+H43,-3) -> 16461000 | J43: Gtttktc | K43: 1 | O43: Thông tư 60/2025/TT-BXD
A44: 3.4 | B44: Chi phí thẩm tra dự toán công trình | C44: Gtv4 | D44: ='Định mức tư vấn'!F7 -> 0.00191 | F44: 0,191% x Gxd | G44: =ROUND(D44*G7,0) -> 14777402 | H44: =ROUND(K4*G44,0) -> 1182192 | I44: =ROUND(G44+H44,-3) -> 15960000 | J44: Gttdt | K44: 1 | O44: Thông tư 60/2025/TT-BXD
A45: 3.5 | B45: Chi phí Lập hồ sơ mời thầu, đánh giá hồ sơ dự thầu thi công xây dựng | C45: Gtv5 | D45: ='Định mức tư vấn'!F8 -> 0.00388 | F45: 0,388%*Ggtxd | G45: =ROUND(D45*'Dự toán gói thầu'!C9,0) -> 24284967 | H45: =ROUND(K4*G45,0) -> 1942797 | I45: =ROUND(G45+H45,-3) -> 26228000 | J45: Glcnt | K45: 1 | O45: Thông tư 60/2025/TT-BXD
B46: Chi phí lập hoặc thẩm định kế hoạch tổng thể lựa chọn nhà thầu (Nghị định 214/2025/NĐ-CP) | C46: Gtv28 | F46: 0,5%*Gtv9 | H46: =ROUND(K4*G46,0) -> 0 | I46: =G46+H46 -> 0 | J46: Gltdkhttlcnt | K46: 1
B47: Chi phí lập hồ sơ mời quan tâm, hồ sơ mời sơ tuyển (Nghị định 214/2025/NĐ-CP) | C47: Gtv29 | F47: 0,1%*Gcpxd | H47: =ROUND(K4*G47,0) -> 0 | I47: =G47+H47 -> 0 | J47: Glhsmqt | K47: 1
B48: Chi phí thẩm định hồ sơ mời quan tâm, hồ sơ mời sơ tuyển (Nghị định 214/2025/NĐ-CP) | C48: Gtv30 | F48: 0,06%*Gcpxd | H48: =ROUND(K4*G48,0) -> 0 | I48: =G48+H48 -> 0 | J48: Gtdhsmqt | K48: 1
B49: Chi phí lập hồ sơ mời thầu, hồ sơ yêu cầu (Nghị định 214/2025/NĐ-CP) | C49: Gtv31 | F49: 0,2%*Gcpxd | H49: =ROUND(K4*G49,0) -> 0 | I49: =G49+H49 -> 0 | J49: Glhsmt | K49: 1
A50: 3.6 | B50: Chi phí thẩm định hồ sơ mời thầu, hồ sơ yêu cầu (Nghị định 214/2025/NĐ-CP) | C50: Gtv6 | D50: 0.001 | F50: 0,1%*Ggtxd | G50: =ROUND(IF('Dự toán gói thầu'!C17*0.1%<2000000,2000000,IF('Dự toán gói thầu'!C17*0.1%>60000000,60000000,'Dự toán gói thầu'!C17*0.1%)),0) -> 7104020 | H50: =ROUND(K4*G50,0) -> 568322 | I50: =ROUND(G50+H50,-3) -> 7672000 | J50: Gtdhsmt | K50: 1 | O50: Nghị định 214/2025/NĐ-CP
B51: Chi phí đánh giá hồ sơ quan tâm, hồ sơ dự sơ tuyển (Nghị định 214/2025/NĐ-CP) | C51: Gtv33 | F51: 0,1%*Gcpxd | H51: =ROUND(K4*G51,0) -> 0 | I51: =G51+H51 -> 0 | J51: Gdghsqt | K51: 1
B52: Chi phí đánh giá hồ sơ dự thầu, hồ sơ đề xuất (Nghị định 214/2025/NĐ-CP) | C52: Gtv34 | F52: 0,2%*Gcpxd | H52: =ROUND(K4*G52,0) -> 0 | I52: =G52+H52 -> 0 | J52: Gdghsdt | K52: 1
A53: 3.7 | B53: Chi phí thẩm định kết quả lựa chọn nhà thầu (Nghị định 214/2025/NĐ-CP) | C53: Gtv7 | D53: 0.001 | F53: 0,1%*Ggtxd | G53: =ROUND(IF('Dự toán gói thầu'!C17*0.1%<3000000,3000000,IF('Dự toán gói thầu'!C17*0.1%>60000000,60000000,'Dự toán gói thầu'!C17*0.1%)),0) -> 7104020 | H53: =ROUND(K4*G53,0) -> 568322 | I53: =ROUND(G53+H53,-3) -> 7672000 | J53: Gtdkqnt | K53: 1 | O53: Nghị định 214/2025/NĐ-CP
B54: Chi phí cho Hội đồng tư vấn giải quyết kiến nghị của nhà thầu (Nghị định 214/2025/NĐ-CP) | C54: Gtv36 | F54: 0,015%-0,03%*Gcpxd | H54: =ROUND(K4*G54,0) -> 0 | I54: =G54+H54 -> 0 | J54: Ghdtvgqkn | K54: 1
A55: 3.8 | B55: Chi phí giám sát thi công xây dựng | C55: Gtv8 | D55: ='Định mức tư vấn'!F9 -> 0.02566 | F55: 2,566% x Gxd | G55: =ROUND(D55*G7,0) -> 198527817 | H55: =ROUND(K4*G55,0) -> 15882225 | I55: =ROUND(G55+H55,-3) -> 214410000 | J55: Ggstcxd | K55: 1 | O55: Thông tư 60/2025/TT-BXD
B56: Chi phí lập hồ sơ mời thầu, đánh giá hồ sơ dự thầu mua sắm thiết bị | C56: Gtv38 | H56: =ROUND(K4*G56,0) -> 0 | I56: =G56+H56 -> 0 | J56: Glcldtb | K56: 1
B57: Chi phí lập hồ sơ mời quan tâm, đánh giá hồ sơ quan tâm | C57: Gtv39 | D57: 0.3 | F57: 30%*(Gtv4+Gtv8) | H57: =ROUND(K4*G57,0) -> 0 | I57: =G57+H57 -> 0 | J57: Glhsmqt79 | K57: 1
B58: Chi phí lập hồ sơ yêu cầu, đánh giá hồ sơ đề xuất | C58: Gtv40 | D58: 0.6 | F58: 60%*(Gtv4+Gtv8) | H58: =ROUND(K4*G58,0) -> 0 | I58: =G58+H58 -> 0 | J58: Glhsyc79 | K58: 1
B59: Chi phí giám sát lắp đặt thiết bị | C59: Gtv41 | H59: =ROUND(K4*G59,0) -> 0 | I59: =G59+H59 -> 0 | J59: Ggsldtb | K59: 1
B60: Chi phí Lập hồ sơ mời thầu, đánh giá hồ sơ dự thầu tư vấn | C60: Gtv42 | H60: =ROUND(K4*G60,0) -> 0 | I60: =G60+H60 -> 0 | J60: Gthautv | K60: 1
B61: Chi phí lập mô hình thủy lực và thí nghiệm mô hình | C61: Gtv43 | H61: =ROUND(K4*G61,0) -> 0 | I61: =G61+H61 -> 0 | J61: Glmhtl | K61: 1
B62: Chi phí tư vấn khác | C62: Gtv44 | H62: 0 | I62: 0 | J62: Gtuvankhac | K62: 1
A63: 4 | B63: Chi phí khác | C63: Gk | F63: Gk1 : Gk5 | G63: =SUMIF(K64:K77,1,G64:G77) -> 1.0873458e+08 | H63: =SUMIF(K64:K77,1,H64:H77) -> 4801423.8 | I63: =SUMIF(K64:K77,1,I64:I77) -> 113536000 | J63: Gk | K63: 1
B64: Chi phí rà phá bom mìn, vật nổ | C64: Gk1 | H64: =ROUND(K4*G64,0) -> 0 | I64: =G64+H64 -> 0 | J64: Gbommin | K64: 1
B65: Chi phí hạng mục chung, phụ trợ khác | C65: Gk2 | H65: 0 | I65: 0 | J65: Ghmc | K65: 1
A66: 5.1 | B66: Phí thẩm định thiết kế xây dựng triển khai sau thiết kế cơ sở (Thông tư 27/2023/TT-BTC) | C66: Gk1 | D66: 0.00122 | F66: 0,126% x Gxd | G66: =ROUND(D66*G7,0) -> 9438969 | I66: =ROUND(G66+H66,-3) -> 9439000 | J66: Gtttk_BTC | K66: 1 | O66: Thông tư 27/2023/TT-BTC
A67: 4.2 | B67: Phí thẩm định dự toán xây dựng (Thông tư 27/2023/TT-BTC) | C67: Gk2 | D67: 0.00019 | F67: 0,122% x Gxd | G67: =ROUND(D67*G7,0) -> 1470003 | I67: =ROUND(G67+H67,-3) -> 1470000 | J67: Gttdt_BTC | K67: 1 | O67: Thông tư 27/2023/TT-BTC
B68: Phí thẩm định dự án đầu tư xây dựng (Thông tư 28/2023/TT-BTC) | C68: Gk5 | H68: =K4*G68 -> 0 | I68: =G68+H68 -> 0 | J68: Gthamdinh
B69: Phí thẩm định dự án đầu tư xây dựng đã được phê duyệt trong Tổng mức đầu tư | C69: Gk6 | H69: =K4*G69 -> 0 | I69: =G69+H69 -> 0 | J69: Gthamdinh1 | K69: 1 | O69: Nếu là Tổng dự toán thì người dùng nhập ở cột Chi phí trước thuế giá trị của Phí thẩm định dự án ĐTXD đã được phê duyệt trong Tổng mức đầu tư trước đó
B70: Phí thẩm định thiết kế cơ sở (Thông tư 28/2023/TT-BTC) | C70: Gk7 | D70: 0.5 | F70: 50%*Gk5 | H70: =K4*G70 -> 0 | I70: =G70+H70 -> 0 | J70: GthamdinhTKCSTruoc | K70: 1
B71: Phí thẩm định phê duyệt thiết kế phòng cháy và chữa cháy | C71: Gk8 | I71: =G71+H71 -> 0 | J71: GthamdinhPCCC
B72: Phí thẩm định phê duyệt thiết kế về phòng cháy và chữa cháy đã được duyệt trong Tổng mức đầu tư | C72: Gk9 | I72: =G72+H72 -> 0 | J72: GthamdinhPCCC1 | K72: 1 | O72: Nếu là Tổng dự toán thì người dùng nhập ở cột Chi phí trước thuế giá trị của Phí thẩm định phê duyệt thiết kế về PCCC đã được phê duyệt trong Tổng mức đầu tư trước đó
A73: 4.3 | B73: Chi phí thẩm tra, phê duyệt quyết toán | C73: Gk3 | D73: 0.0047684 | E73: 0.5 | F73: 0,477% x (Gcpxd +Gqlda+Gtv+Gk1+Gk2) x 0,5 | G73: =D73*E73*K81 -> 17955033 | I73: =ROUND(G73+H73,-3) -> 17955000 | J73: Gthamtra | K73: 1 | O73: Nghị định 254/2025/NĐ-CP
A74: 4.4 | B74: Chi phí kiểm toán độc lập | C74: Gk4 | D74: 0.0079696 | F74: 0,797% x (Gcpxd +Gqlda+Gtv+Gk1+Gk2) | G74: =D74*K81 -> 60017797 | H74: =K4*G74 -> 4801423.8 | I74: =ROUND(G74+H74,-3) -> 64819000 | J74: Gkiemtoan | K74: 1 | O74: Nghị định 254/2025/NĐ-CP
B75: Phí bảo hiểm công trình (Phụ lục III - Nghị định 67/2023/NĐ-CP) | C75: Gk12 | F75: 0%*Gcpxd | H75: =ROUND(K4*G75,0) -> 0 | I75: =G75+H75 -> 0 | J75: Gbaohiem | K75: 1
B76: Phí bảo hiểm trách nhiệm nghề nghiệp Tư vấn đầu tư xây dựng (Phụ lục IV - Nghị định 67/2023/NĐ-CP) | C76: Gk13 | F76: 0%*Gtv | H76: =ROUND(K4*G76,0) -> 0 | I76: =G76+H76 -> 0 | J76: Gbaohiemtuvan | K76: 1
A77: 4.5 | B77: Chi phí kiểm tra công tác nghiệm thu công trình xây dựng (Thông tư 10/2021/TT-BXD) | C77: Gk5 | D77: 0.1 | F77: 10%*Gtv8 | G77: =D77*G55 -> 19852782 | I77: =ROUND(G77+H77,-3) -> 19853000 | J77: Gkiemtranghiemthu | K77: 1 | O77: Thông tư 10/2021/TT-BXD
A78: 5 | B78: Chi phí dự phòng | C78: Gdp | I78: =SUM(I79:I80) -> 931089200 | J78: Gdp | K78: 1
A79: 5.1 | B79: Chi phí dự phòng cho yếu tố khối lượng phát sinh | C79: Gdp1 | D79: 0.1 | F79: 10% x (Gcpxd+Gqlda+Gtv+Gk) | I79: =D79*(I5+I6+I10+I16+I18+I63) -> 931089200 | J79: Gdp1 | K79: 1
B80: Chi phí dự phòng cho yếu tố trượt giá | C80: Gdp2 | J80: Gdp2 | K80: =I5+I6+I10+I16+I17+I18+I63 -> 9310892000
B81: TỔNG CỘNG | F81: ="" | I81: =I5+I6+I10+I16+I17+I18+I63+I78 -> 10241981200 | J81: Gtmdt | K81: 7.5308419e+09 | L81: =I81-I78 -> 9310892000 | M81: =ROUND(K81-L81,1) -> -1.7800501e+09 | O81: Nội suy theo Tổng mức đầu tư: OK
B82: Chi phí thẩm định, thẩm tra, kiểm toán | C82: Gkt | F82: Gkt1 : Gkt4 | H82: =SUM(H83:H86) -> 0 | I82: =SUM(I83:I86) -> 0 | J82: Gthamdinhkiemtoan | K82: 1
B83: Phí thẩm định dự án đầu tư xây dựng (Thông tư 209/2016/TT-BTC) | C83: Gkt1 | F83: ="" | H83: =ROUND(K4*G83,0) -> 0 | I83: =G83+H83 -> 0 | J83: GthamdinhSau | K83: 1
B84: Phí thẩm định thiết kế cơ sở (Thông tư 209/2016/TT-BTC) | C84: Gkt2 | F84: =D84*100&"%*"&C83 -> 0%*Gkt1 | H84: =ROUND(K4*G84,0) -> 0 | I84: =G84+H84 -> 0 | J84: GthamdinhTKCS | K84: 1
B85: Chi phí thẩm tra, phê duyệt quyết toán | C85: Gkt3 | F85: ="" | H85: =ROUND(K4*G85,0) -> 0 | I85: =G85+H85 -> 0 | J85: GthamtraSau | K85: 1
B86: Chi phí kiểm toán độc lập | C86: Gkt4 | F86: ="" | H86: =ROUND(K4*G86,0) -> 0 | I86: =G86+H86 -> 0 | J86: GkiemtoanSau | K86: 1
B87: TỔNG CỘNG (SAU KIỂM TOÁN) | F87: ="" | H87: =H81+H82 -> 0 | I87: =I81+I82 -> 10241981200 | J87: GtmdtSau | K87: 1
B88: LÀM TRÒN | C88: Gtmdt | F88: ="" | I88: =ROUND(I87,-3) -> 10241981000 | J88: Glamtron | K88: 7.6739525e+09 | L88: =G81 -> 0
A89: Bằng chữ: Tám tỷ, ba trăm bốn mươi lăm triệu, sáu trăm tám mươi lăm nghìn đồng chẵn./.

Sheet Chi tiết KL

Sheet Luật XD

Sheet Công trình TL
A1: BẢNG DỰ TOÁN HẠNG MỤC CÔNG TRÌNH
A2: ='Công trình'!A2 -> CÔNG TRÌNH : XÂY DỰNG HỆ THỐNG CỐNG HỘP KÊNH BẾN KEM ĐOẠN TỪ NHÀ ÔNG CHÍN ĐẾN KÊNH ĐẠI TRÀ 2, XÃ KIẾN MINH
A3: ='Công trình'!F6 -> HẠNG MỤC 1
A4: TT | B4: Mã số | C4: Tên công tác | D4: Đơn vị | E4: Khối lượng | F4: ="Đơn giá "&'Công trình'!AM1 -> Đơn giá (đ) | K4: ="Thành tiền "&'Công trình'!AM1 -> Thành tiền (đ) | P4: Hệ số điều chỉnh
B5: Đơn giá | F5: Vật liệu | G5: Bù VL | H5: NC XL | I5: NC đất | J5: Ca máy | K5: Vật liệu | L5: Bù VL | M5: NC XL | N5: NC đất | O5: Ca máy | P5: V.L | Q5: N.C | R5: Máy

Sheet Chiết tính
A1: BẢNG CHIẾT TÍNH DỰ THẦU HẠNG MỤC CÔNG TRÌNH
A2: ='Công trình'!A2 -> CÔNG TRÌNH : XÂY DỰNG HỆ THỐNG CỐNG HỘP KÊNH BẾN KEM ĐOẠN TỪ NHÀ ÔNG CHÍN ĐẾN KÊNH ĐẠI TRÀ 2, XÃ KIẾN MINH
A3: ='Công trình'!F6 -> HẠNG MỤC 1
A4: STT | B4: Mã số | C4: Thành phần hao phí | D4: Đơn vị | E4: Định mức | F4: ="Đơn giá_x000D_ "&'Công trình'!AM1 -> Đơn giá_x000D_ (đ) | G4: Hệ số | H4: ="Thành tiền_x000D_ "&'Công trình'!AM1 -> Thành tiền_x000D_ (đ)
A5: ='Công trình'!A8 -> 1 | B5: ='Công trình'!E8 -> TT | C5: ='Công trình'!F8 -> Vận chuyển phao chuyến đến và chuyến về | D5: ='Công trình'!G8 -> ca | E5: 1
C6: c) Máy thi công | H6: =H7 -> 3000000
B7: ="" | C7: Máy thi công | D7: ="" | E7: 1 | F7: ='Tổng hợp VT'!O40 -> 3000000 | H7: =E7*F7 -> 3000000
C8: Cộng chi phí trực tiếp (VL+NC+M) | D8: T | H8: =+H6 -> 3000000
C9: CHI PHÍ GIÁN TIẾP | D9: =""
C10: ="Chi phí chung (T x "&HSXL!C$14&")" -> Chi phí chung (T x 5,5%) | D10: C | E10: =HSXL!C$14 -> 5,5% | H10: =H8*HSXL!D$14 -> 165000
C11: ="Chi phí nhà tạm để ở và điều hành thi công (T x "&HSXL!C$18&")" -> Chi phí nhà tạm để ở và điều hành thi công (T x 1,1%) | D11: LT | E11: =HSXL!C$18 -> 1,1% | H11: =H8*HSXL!D$18 -> 33000
C12: ="Chi phí một số công việc không xác định được khối lượng từ thiết kế (T x "&HSXL!C$13&")" -> Chi phí một số công việc không xác định được khối lượng từ thiết kế (T x 2%) | D12: TT | E12: =HSXL!C$13 -> 2% | H12: =H8*HSXL!D$13 -> 60000
C13: Cộng chi phí gián tiếp (C + LT + TT) | D13: GT | H13: =SUM(H10:H12) -> 258000
C14: ="THU NHẬP CHỊU THUẾ TÍNH TRƯỚC (T+GT) x "&HSXL!C$16 -> THU NHẬP CHỊU THUẾ TÍNH TRƯỚC (T+GT) x 5,5% | D14: TL | E14: =HSXL!C$16 -> 5,5% | H14: =(H8+H13)*HSXL!D$16 -> 179190
C15: Chi phí xây dựng trước thuế (T+GT+TL) | D15: G | H15: =H8+H13+H14 -> 3437190
C16: ="THUẾ GIÁ TRỊ GIA TĂNG (G x "&HSXL!C$17&")" -> THUẾ GIÁ TRỊ GIA TĂNG (G x 8%) | D16: GTGT | E16: =HSXL!D$17 -> 0.08 | H16: =E16*H15 -> 274975.2
C17: Chi phí xây dựng sau thuế (G+GTGT) | D17: Gxd | H17: =H15+H16 -> 3712165.2
A18: ='Công trình'!A10 -> 2 | B18: ='Công trình'!E10 -> AC.22111 | C18: ='Công trình'!F10 -> Đóng cọc ván thép (cừ Larsen) trên cạn bằng máy đóng cọc 1,8T, chiều dài cọc <=12 m, đất cấp I | D18: ='Công trình'!G10 -> 100m | E18: 1
C19: a) Vật liệu | H19: =H22 -> 0
B20: ='Giá tháng'!B$10 -> A24.0230 | C20: ='Giá tháng'!C$10 -> Cọc ván thép <=12m | D20: ='Giá tháng'!D$10 -> m | E20: =HaoPhiVatTu!F$8 -> 100 | F20: ='Tổng hợp VT'!O$14 -> 0 | G20: ='Giá tháng'!G$10 -> 1 | H20: =E20*F20*G20 -> 0
B21: Z999 | C21: Vât liệu khác | D21: % | E21: =HaoPhiVatTu!F$9 -> 0.5 | F21: =SUM(H20:H20) -> 0 | H21: =E21*F21/100 -> 0
C22: Cộng | H22: =SUM(H20:H21) -> 0
C23: b) Nhân công | H23: =H24 -> 1927180
B24: ='Giá tháng'!B$29 -> N2.35 | C24: ='Giá tháng'!C$29 -> Nhân công 3,5/7 - Nhóm 2 | D24: ='Giá tháng'!D$29 -> công | E24: =HaoPhiVatTu!F$11 -> 6.68 | F24: ='Tổng hợp VT'!O$36 -> 288500 | G24: ='Giá tháng'!G$29 -> 1 | H24: =E24*F24*G24 -> 1927180
C25: c) Máy thi công | H25: =H28 -> 3745379.9
B26: ='Giá tháng'!B$44 -> M103.0202 | C26: ='Giá tháng'!C$44 -> Máy đóng cọc chạy trên ray - trọng lượng đầu búa : 1,8 T | D26: ='Giá tháng'!D$44 -> ca | E26: =HaoPhiVatTu!F$13 -> 2.226 | F26: ='Tổng hợp VT'!O$54 -> 1633554 | G26: ='Giá tháng'!G$44 -> 1 | H26: =E26*F26*G26 -> 3636291.2
B27: M999 | C27: Máy khác | D27: % | E27: =HaoPhiVatTu!F$14 -> 3 | F27: =SUM(H26:H26) -> 3636291.2 | H27: =E27*F27/100 -> 109088.74
C28: Cộng | H28: =SUM(H26:H27) -> 3745379.9
C29: Cộng chi phí trực tiếp (VL+NC+M) | D29: T | H29: =H19+H23+H25 -> 5672559.9
C30: CHI PHÍ GIÁN TIẾP | D30: =""
C31: ="Chi phí chung (T x "&HSXL!C$14&")" -> Chi phí chung (T x 5,5%) | D31: C | E31: =HSXL!C$14 -> 5,5% | H31: =H29*HSXL!D$14 -> 311990.8
C32: ="Chi phí nhà tạm để ở và điều hành thi công (T x "&HSXL!C$18&")" -> Chi phí nhà tạm để ở và điều hành thi công (T x 1,1%) | D32: LT | E32: =HSXL!C$18 -> 1,1% | H32: =H29*HSXL!D$18 -> 62398.159
C33: ="Chi phí một số công việc không xác định được khối lượng từ thiết kế (T x "&HSXL!C$13&")" -> Chi phí một số công việc không xác định được khối lượng từ thiết kế (T x 2%) | D33: TT | E33: =HSXL!C$13 -> 2% | H33: =H29*HSXL!D$13 -> 113451.2
C34: Cộng chi phí gián tiếp (C + LT + TT) | D34: GT | H34: =SUM(H31:H33) -> 487840.15
C35: ="THU NHẬP CHỊU THUẾ TÍNH TRƯỚC (T+GT) x "&HSXL!C$16 -> THU NHẬP CHỊU THUẾ TÍNH TRƯỚC (T+GT) x 5,5% | D35: TL | E35: =HSXL!C$16 -> 5,5% | H35: =(H29+H34)*HSXL!D$16 -> 338822.01
C36: Chi phí xây dựng trước thuế (T+GT+TL) | D36: G | H36: =H29+H34+H35 -> 6499222.1
C37: ="THUẾ GIÁ TRỊ GIA TĂNG (G x "&HSXL!C$17&")" -> THUẾ GIÁ TRỊ GIA TĂNG (G x 8%) | D37: GTGT | E37: =HSXL!D$17 -> 0.08 | H37: =E37*H36 -> 519937.77
C38: Chi phí xây dựng sau thuế (G+GTGT) | D38: Gxd | H38: =H36+H37 -> 7019159.9
A39: ='Công trình'!A32 -> 3 | B39: ='Công trình'!E32 -> TT | C39: ='Công trình'!F32 -> Cừ thép thuê 2500 đ/m/ngày dự kiến thi công 6 tháng ; cừ thép luân chuyển sử dung 3 lần | D39: ='Công trình'!G32 -> m | E39: 1
C40: a) Vật liệu | H40: =H41 -> 2500
B41: ="" | C41: Vật liệu | D41: ="" | E41: 1 | F41: ='Tổng hợp VT'!O6 -> 2500 | H41: =E41*F41 -> 2500
C42: Cộng chi phí trực tiếp (VL+NC+M) | D42: T | H42: =H40 -> 2500
C43: CHI PHÍ GIÁN TIẾP | D43: =""
C44: ="Chi phí chung (T x "&HSXL!C$14&")" -> Chi phí chung (T x 5,5%) | D44: C | E44: =HSXL!C$14 -> 5,5% | H44: =H42*HSXL!D$14 -> 137.5
C45: ="Chi phí nhà tạm để ở và điều hành thi công (T x "&HSXL!C$18&")" -> Chi phí nhà tạm để ở và điều hành thi công (T x 1,1%) | D45: LT | E45: =HSXL!C$18 -> 1,1% | H45: =H42*HSXL!D$18 -> 27.5
C46: ="Chi phí một số công việc không xác định được khối lượng từ thiết kế (T x "&HSXL!C$13&")" -> Chi phí một số công việc không xác định được khối lượng từ thiết kế (T x 2%) | D46: TT | E46: =HSXL!C$13 -> 2% | H46: =H42*HSXL!D$13 -> 50
C47: Cộng chi phí gián tiếp (C + LT + TT) | D47: GT | H47: =SUM(H44:H46) -> 215
C48: ="THU NHẬP CHỊU THUẾ TÍNH TRƯỚC (T+GT) x "&HSXL!C$16 -> THU NHẬP CHỊU THUẾ TÍNH TRƯỚC (T+GT) x 5,5% | D48: TL | E48: =HSXL!C$16 -> 5,5% | H48: =(H42+H47)*HSXL!D$16 -> 149.325
C49: Chi phí xây dựng trước thuế (T+GT+TL) | D49: G | H49: =H42+H47+H48 -> 2864.325
C50: ="THUẾ GIÁ TRỊ GIA TĂNG (G x "&HSXL!C$17&")" -> THUẾ GIÁ TRỊ GIA TĂNG (G x 8%) | D50: GTGT | E50: =HSXL!D$17 -> 0.08 | H50: =E50*H49 -> 229.146
C51: Chi phí xây dựng sau thuế (G+GTGT) | D51: Gxd | H51: =H49+H50 -> 3093.471
A52: ='Công trình'!A34 -> 4 | B52: ='Công trình'!E34 -> TT | C52: ='Công trình'!F34 -> Bơm nước thi công cho 5 phân đoạn | D52: ='Công trình'!G34 -> ca | E52: 1
C53: b) Nhân công | H53: =H54 -> 50000
B54: ="" | C54: Nhân công | D54: ="" | E54: 1 | F54: ='Tổng hợp VT'!O33 -> 50000 | H54: =E54*F54 -> 50000
C55: c) Máy thi công | H55: =H56 -> 450000
B56: ="" | C56: Máy thi công | D56: ="" | E56: 1 | F56: ='Tổng hợp VT'!O41 -> 450000 | H56: =E56*F56 -> 450000
C57: Cộng chi phí trực tiếp (VL+NC+M) | D57: T | H57: =+H53+H55 -> 500000
C58: CHI PHÍ GIÁN TIẾP | D58: =""
C59: ="Chi phí chung (T x "&HSXL!C$14&")" -> Chi phí chung (T x 5,5%) | D59: C | E59: =HSXL!C$14 -> 5,5% | H59: =H57*HSXL!D$14 -> 27500
C60: ="Chi phí nhà tạm để ở và điều hành thi công (T x "&HSXL!C$18&")" -> Chi phí nhà tạm để ở và điều hành thi công (T x 1,1%) | D60: LT | E60: =HSXL!C$18 -> 1,1% | H60: =H57*HSXL!D$18 -> 5500
C61: ="Chi phí một số công việc không xác định được khối lượng từ thiết kế (T x "&HSXL!C$13&")" -> Chi phí một số công việc không xác định được khối lượng từ thiết kế (T x 2%) | D61: TT | E61: =HSXL!C$13 -> 2% | H61: =H57*HSXL!D$13 -> 10000
C62: Cộng chi phí gián tiếp (C + LT + TT) | D62: GT | H62: =SUM(H59:H61) -> 43000
C63: ="THU NHẬP CHỊU THUẾ TÍNH TRƯỚC (T+GT) x "&HSXL!C$16 -> THU NHẬP CHỊU THUẾ TÍNH TRƯỚC (T+GT) x 5,5% | D63: TL | E63: =HSXL!C$16 -> 5,5% | H63: =(H57+H62)*HSXL!D$16 -> 29865
C64: Chi phí xây dựng trước thuế (T+GT+TL) | D64: G | H64: =H57+H62+H63 -> 572865
C65: ="THUẾ GIÁ TRỊ GIA TĂNG (G x "&HSXL!C$17&")" -> THUẾ GIÁ TRỊ GIA TĂNG (G x 8%) | D65: GTGT | E65: =HSXL!D$17 -> 0.08 | H65: =E65*H64 -> 45829.2
C66: Chi phí xây dựng sau thuế (G+GTGT) | D66: Gxd | H66: =H64+H65 -> 618694.2
A67: ='Công trình'!A36 -> 5 | B67: ='Công trình'!E36 -> TT | C67: ='Công trình'!F36 -> Thuê ván thép chống lầy để xe đi đóng cọc tre hố móng | D67: ='Công trình'!G36 -> đoạn | E67: 1
C68: a) Vật liệu | H68: =H69 -> 19500000
B69: ="" | C69: Vật liệu | D69: ="" | E69: 1 | F69: ='Tổng hợp VT'!O7 -> 19500000 | H69: =E69*F69 -> 19500000
C70: Cộng chi phí trực tiếp (VL+NC+M) | D70: T | H70: =H68 -> 19500000
C71: CHI PHÍ GIÁN TIẾP | D71: =""
C72: ="Chi phí chung (T x "&HSXL!C$14&")" -> Chi phí chung (T x 5,5%) | D72: C | E72: =HSXL!C$14 -> 5,5% | H72: =H70*HSXL!D$14 -> 1072500
C73: ="Chi phí nhà tạm để ở và điều hành thi công (T x "&HSXL!C$18&")" -> Chi phí nhà tạm để ở và điều hành thi công (T x 1,1%) | D73: LT | E73: =HSXL!C$18 -> 1,1% | H73: =H70*HSXL!D$18 -> 214500
C74: ="Chi phí một số công việc không xác định được khối lượng từ thiết kế (T x "&HSXL!C$13&")" -> Chi phí một số công việc không xác định được khối lượng từ thiết kế (T x 2%) | D74: TT | E74: =HSXL!C$13 -> 2% | H74: =H70*HSXL!D$13 -> 390000
C75: Cộng chi phí gián tiếp (C + LT + TT) | D75: GT | H75: =SUM(H72:H74) -> 1677000
C76: ="THU NHẬP CHỊU THUẾ TÍNH TRƯỚC (T+GT) x "&HSXL!C$16 -> THU NHẬP CHỊU THUẾ TÍNH TRƯỚC (T+GT) x 5,5% | D76: TL | E76: =HSXL!C$16 -> 5,5% | H76: =(H70+H75)*HSXL!D$16 -> 1164735
C77: Chi phí xây dựng trước thuế (T+GT+TL) | D77: G | H77: =H70+H75+H76 -> 22341735
C78: ="THUẾ GIÁ TRỊ GIA TĂNG (G x "&HSXL!C$17&")" -> THUẾ GIÁ TRỊ GIA TĂNG (G x 8%) | D78: GTGT | E78: =HSXL!D$17 -> 0.08 | H78: =E78*H77 -> 1787338.8
C79: Chi phí xây dựng sau thuế (G+GTGT) | D79: Gxd | H79: =H77+H78 -> 24129074
A80: ='Công trình'!A39 -> 6 | B80: ='Công trình'!E39 -> AC.22111 | C80: ='Công trình'!F39 -> Nhổ cọc ván thép (cừ Larsen) trên cạn bằng máy đóng cọc 1,8T, chiều dài cọc <=12 m, đất cấp I | D80: ='Công trình'!G39 -> 100m | E80: 1
C81: a) Vật liệu | H81: =H84 -> 0
B82: ='Giá tháng'!B$10 -> A24.0230 | C82: ='Giá tháng'!C$10 -> Cọc ván thép <=12m | D82: ='Giá tháng'!D$10 -> m | E82: =HaoPhiVatTu!F$17 -> 100 | F82: ='Tổng hợp VT'!O$14 -> 0 | G82: ='Giá tháng'!G$10 -> 1 | H82: =E82*F82*G82 -> 0
B83: Z999 | C83: Vât liệu khác | D83: % | E83: =HaoPhiVatTu!F$18 -> 0.5 | F83: =SUM(H82:H82) -> 0 | H83: =E83*F83/100 -> 0
C84: Cộng | H84: =SUM(H82:H83) -> 0
C85: b) Nhân công | H85: =H86 -> 1927180
B86: ='Giá tháng'!B$29 -> N2.35 | C86: ='Giá tháng'!C$29 -> Nhân công 3,5/7 - Nhóm 2 | D86: ='Giá tháng'!D$29 -> công | E86: =HaoPhiVatTu!F$20 -> 6.68 | F86: ='Tổng hợp VT'!O$36 -> 288500 | G86: ='Giá tháng'!G$29 -> 1 | H86: =E86*F86*G86 -> 1927180
C87: c) Máy thi công | H87: =H90 -> 3745379.9
B88: ='Giá tháng'!B$44 -> M103.0202 | C88: ='Giá tháng'!C$44 -> Máy đóng cọc chạy trên ray - trọng lượng đầu búa : 1,8 T | D88: ='Giá tháng'!D$44 -> ca | E88: =HaoPhiVatTu!F$22 -> 2.226 | F88: ='Tổng hợp VT'!O$54 -> 1633554 | G88: ='Giá tháng'!G$44 -> 1 | H88: =E88*F88*G88 -> 3636291.2
B89: M999 | C89: Máy khác | D89: % | E89: =HaoPhiVatTu!F$23 -> 3 | F89: =SUM(H88:H88) -> 3636291.2 | H89: =E89*F89/100 -> 109088.74
C90: Cộng | H90: =SUM(H88:H89) -> 3745379.9
C91: Cộng chi phí trực tiếp (VL+NC+M) | D91: T | H91: =H81+H85+H87 -> 5672559.9
C92: CHI PHÍ GIÁN TIẾP | D92: =""
C93: ="Chi phí chung (T x "&HSXL!C$14&")" -> Chi phí chung (T x 5,5%) | D93: C | E93: =HSXL!C$14 -> 5,5% | H93: =H91*HSXL!D$14 -> 311990.8
C94: ="Chi phí nhà tạm để ở và điều hành thi công (T x "&HSXL!C$18&")" -> Chi phí nhà tạm để ở và điều hành thi công (T x 1,1%) | D94: LT | E94: =HSXL!C$18 -> 1,1% | H94: =H91*HSXL!D$18 -> 62398.159
C95: ="Chi phí một số công việc không xác định được khối lượng từ thiết kế (T x "&HSXL!C$13&")" -> Chi phí một số công việc không xác định được khối lượng từ thiết kế (T x 2%) | D95: TT | E95: =HSXL!C$13 -> 2% | H95: =H91*HSXL!D$13 -> 113451.2
C96: Cộng chi phí gián tiếp (C + LT + TT) | D96: GT | H96: =SUM(H93:H95) -> 487840.15
C97: ="THU NHẬP CHỊU THUẾ TÍNH TRƯỚC (T+GT) x "&HSXL!C$16 -> THU NHẬP CHỊU THUẾ TÍNH TRƯỚC (T+GT) x 5,5% | D97: TL | E97: =HSXL!C$16 -> 5,5% | H97: =(H91+H96)*HSXL!D$16 -> 338822.01
C98: Chi phí xây dựng trước thuế (T+GT+TL) | D98: G | H98: =H91+H96+H97 -> 6499222.1
C99: ="THUẾ GIÁ TRỊ GIA TĂNG (G x "&HSXL!C$17&")" -> THUẾ GIÁ TRỊ GIA TĂNG (G x 8%) | D99: GTGT | E99: =HSXL!D$17 -> 0.08 | H99: =E99*H98 -> 519937.77
C100: Chi phí xây dựng sau thuế (G+GTGT) | D100: Gxd | H100: =H98+H99 -> 7019159.9
...

Sheet Hệ số
A1: BẢNG HỆ SỐ CHI PHÍ XÂY DỰNG
A2: ='Công trình'!A2 -> CÔNG TRÌNH : XÂY DỰNG HỆ THỐNG CỐNG HỘP KÊNH BẾN KEM ĐOẠN TỪ NHÀ ÔNG CHÍN ĐẾN KÊNH ĐẠI TRÀ 2, XÃ KIẾN MINH
A3: ='Công trình'!F6 -> HẠNG MỤC 1
A4: STT | B4: Nội dung chi phí | C4: Ký hiệu | D4: Cách tính | G4: Hệ số | H4: ="Giá trị_x000D_ "&'Công trình'!AM1 -> Giá trị_x000D_ (đ)

Sheet Đơn giá TH
A4: TT | B4: Mã số | C4: Thành phần hao phí | D4: Đơn vị | E4: ="Đơn giá "&'Công trình'!AM1 -> Đơn giá (đ) | J4: ="Thành tiền "&'Công trình'!AM1 -> Thành tiền (đ) | O4: ="Đơn giá_x000D_ tổng hợp_x000D_ "&'Công trình'!AM1 -> Đơn giá_x000D_ tổng hợp_x000D_ (đ)
E5: Vật liệu | F5: Bù V.L | G5: NC XL | H5: NC Đất | I5: Ca máy | J5: Vật liệu | K5: Bù V.L | L5: NC XL | M5: NC Đất | N5: Ca máy

Sheet Dự thầu
A1: BẢNG ĐƠN GIÁ DỰ THẦU HẠNG MỤC CÔNG TRÌNH
A2: ='Công trình'!A2 -> CÔNG TRÌNH : XÂY DỰNG HỆ THỐNG CỐNG HỘP KÊNH BẾN KEM ĐOẠN TỪ NHÀ ÔNG CHÍN ĐẾN KÊNH ĐẠI TRÀ 2, XÃ KIẾN MINH
A3: ='Công trình'!F6 -> HẠNG MỤC 1
A4: STT | B4: Mã số | C4: Tên công tác | D4: Đơn vị | E4: Khối lượng | F4: ="Vật liệu_x000D_ "&'Công trình'!AM1 -> Vật liệu_x000D_ (đ) | G4: ="Nhân công_x000D_ "&'Công trình'!AM1 -> Nhân công_x000D_ (đ) | H4: ="Máy_x000D_ "&'Công trình'!AM1 -> Máy_x000D_ (đ) | I4: ="Đơn giá_x000D_ "&'Công trình'!AM1 -> Đơn giá_x000D_ (đ) | J4: ="Thành tiền_x000D_ "&'Công trình'!AM1 -> Thành tiền_x000D_ (đ)
B5: =IF('Công trình'!B7="",'Công trình'!E7,'Công trình'!B7) -> 0 | C5: ='Công trình'!F7 -> BIỆN PHÁP THI CÔNG
A6: ='Công trình'!A8 -> 1 | B6: ='Công trình'!E8 -> TT | C6: ='Công trình'!F8 -> Vận chuyển phao chuyến đến và chuyến về | D6: ='Công trình'!G8 -> ca | E6: ='Công trình'!P8 -> 2 | F6: ='Công trình'!Q8+'Công trình'!R8 -> 0 | G6: ='Công trình'!S8 -> 0 | H6: ='Chiết tính'!H$6 -> 3000000 | I6: ='Chiết tính'!H$17 -> 3712165.2 | J6: =E6*I6 -> 7424330.4 | M6: 1
A7: ='Công trình'!A10 -> 2 | B7: ='Công trình'!E10 -> AC.22111 | C7: ='Công trình'!F10 -> Đóng cọc ván thép (cừ Larsen) trên cạn bằng máy đóng cọc 1,8T, chiều dài cọc <=12 m, đất cấp I | D7: ='Công trình'!G10 -> 100m | E7: ='Công trình'!P10 -> 48.04 | F7: ='Chiết tính'!H$19 -> 0 | G7: ='Chiết tính'!H$23 -> 1927180 | H7: ='Chiết tính'!H$25 -> 3745379.9 | I7: ='Chiết tính'!H$38 -> 7019159.9 | J7: =E7*I7 -> 3.3720044e+08 | M7: 1
A8: ='Công trình'!A32 -> 3 | B8: ='Công trình'!E32 -> TT | C8: ='Công trình'!F32 -> Cừ thép thuê 2500 đ/m/ngày dự kiến thi công 6 tháng ; cừ thép luân chuyển sử dung 3 lần | D8: ='Công trình'!G32 -> m | E8: ='Công trình'!P32 -> 2882.4 | F8: ='Chiết tính'!H$40 -> 2500 | G8: ='Công trình'!S32 -> 0 | H8: ='Công trình'!T32 -> 0 | I8: ='Chiết tính'!H$51 -> 3093.471 | J8: =E8*I8 -> 8916620.8 | M8: 1
A9: ='Công trình'!A34 -> 4 | B9: ='Công trình'!E34 -> TT | C9: ='Công trình'!F34 -> Bơm nước thi công cho 5 phân đoạn | D9: ='Công trình'!G34 -> ca | E9: ='Công trình'!P34 -> 75 | F9: ='Công trình'!Q34+'Công trình'!R34 -> 0 | G9: ='Chiết tính'!H$53 -> 50000 | H9: ='Chiết tính'!H$55 -> 450000 | I9: ='Chiết tính'!H$66 -> 618694.2 | J9: =E9*I9 -> 46402065 | M9: 1
A10: ='Công trình'!A36 -> 5 | B10: ='Công trình'!E36 -> TT | C10: ='Công trình'!F36 -> Thuê ván thép chống lầy để xe đi đóng cọc tre hố móng | D10: ='Công trình'!G36 -> đoạn | E10: ='Công trình'!P36 -> 5 | F10: ='Chiết tính'!H$68 -> 19500000 | G10: ='Công trình'!S36 -> 0 | H10: ='Công trình'!T36 -> 0 | I10: ='Chiết tính'!H$79 -> 24129074 | J10: =E10*I10 -> 120645369 | M10: 1
A11: ='Công trình'!A39 -> 6 | B11: ='Công trình'!E39 -> AC.22111 | C11: ='Công trình'!F39 -> Nhổ cọc ván thép (cừ Larsen) trên cạn bằng máy đóng cọc 1,8T, chiều dài cọc <=12 m, đất cấp I | D11: ='Công trình'!G39 -> 100m | E11: ='Công trình'!P39 -> 48.04 | F11: ='Chiết tính'!H$81 -> 0 | G11: ='Chiết tính'!H$85 -> 1927180 | H11: ='Chiết tính'!H$87 -> 3745379.9 | I11: ='Chiết tính'!H$100 -> 7019159.9 | J11: =E11*I11 -> 3.3720044e+08 | M11: 1
A12: ='Công trình'!A41 -> 7 | B12: ='Công trình'!E41 -> AL.16121 | C12: ='Công trình'!F41 -> Rải vải địa kỹ thuật làm nền đường, mái đê, đập | D12: ='Công trình'!G41 -> 100m2 | E12: ='Công trình'!P41 -> 1.44 | F12: ='Chiết tính'!H$102 -> 1094184 | G12: ='Chiết tính'!H$106 -> 340430 | H12: ='Công trình'!T41 -> 0 | I12: ='Chiết tính'!H$117 -> 1775174.7 | J12: =E12*I12 -> 2556251.6 | M12: 1
B13: =IF('Công trình'!B43="",'Công trình'!E43,'Công trình'!B43) -> 0 | C13: ='Công trình'!F43 -> 2.THI CÔNG PHÂN ĐOẠN 1+2+3+4+5
A14: ='Công trình'!A44 -> 8 | B14: ='Công trình'!E44 -> AA.12111 | C14: ='Công trình'!F44 -> Chặt cây ở địa hình bằng phẳng bằng máy cưa, đường kính gốc cây <= 20cm | D14: ='Công trình'!G44 -> cây | E14: ='Công trình'!P44 -> 20 | F14: ='Công trình'!Q44+'Công trình'!R44 -> 0 | G14: ='Chiết tính'!H$119 -> 17059 | H14: ='Chiết tính'!H$121 -> 1628.12 | I14: ='Chiết tính'!H$132 -> 23123.226 | J14: =E14*I14 -> 462464.51 | M14: 1
B15: =IF('Công trình'!B46="",'Công trình'!E46,'Công trình'!B46) -> 0 | C15: ='Công trình'!F46 -> PHẦN MÓNG
A16: ='Công trình'!A47 -> 9 | B16: ='Công trình'!E47 -> AB.36120 | C16: ='Công trình'!F47 -> Xói hút bùn trong khung vây phòng nước, các trụ dưới nước | D16: ='Công trình'!G47 -> m3 | E16: ='Công trình'!P47 -> 1152.9 | F16: ='Chiết tính'!H$134 -> 5013.75 | G16: ='Chiết tính'!H$140 -> 82858 | H16: ='Chiết tính'!H$142 -> 640080.95 | I16: ='Chiết tính'!H$159 -> 900760.22 | J16: =E16*I16 -> 1.0384865e+09 | M16: 1
A17: ='Công trình'!A49 -> 10 | B17: ='Công trình'!E49 -> AB.25211 | C17: ='Công trình'!F49 -> Đào móng công trình, chiều rộng móng <= 10m, bằng máy đào 0,8m3, đất cấp I | D17: ='Công trình'!G49 -> 100m3 | E17: ='Công trình'!P49 -> 4.8853 | F17: ='Công trình'!Q49+'Công trình'!R49 -> 0 | G17: ='Chiết tính'!H$161 -> 419164 | H17: ='Chiết tính'!H$163 -> 768147.79 | I17: ='Chiết tính'!H$174 -> 1469165.8 | J17: =E17*I17 -> 7177315.8 | M17: 1
A18: ='Công trình'!A51 -> 11 | B18: ='Công trình'!E51 -> AB.24131 | C18: ='Công trình'!F51 -> Đào xúc đất bằng máy đào 1,25m3, đất cấp I | D18: ='Công trình'!G51 -> 100m3 | E18: ='Công trình'!P51 -> 16.4143 | F18: ='Công trình'!Q51+'Công trình'!R51 -> 0 | G18: ='Chiết tính'!H$176 -> 90169 | H18: ='Chiết tính'!H$178 -> 638319.02 | I18: ='Chiết tính'!H$191 -> 901422.63 | J18: =E18*I18 -> 14796221 | M18: 1
A19: ='Công trình'!A53 -> 12 | B19: ='Công trình'!E53 -> AB.41411 | C19: ='Công trình'!F53 -> Vận chuyển đất bằng ôtô tự đổ 5 tấn trong phạm vi <= 1000m, đất cấp I | D19: ='Công trình'!G53 -> 100m3 | E19: ='Công trình'!P53 -> 16.414 | F19: ='Công trình'!Q53+'Công trình'!R53 -> 0 | G19: ='Công trình'!S53 -> 0 | H19: ='Chiết tính'!H$193 -> 1716330.1 | I19: ='Chiết tính'!H$204 -> 2123767 | J19: =E19*I19 -> 34859512 | M19: 1
A20: ='Công trình'!A55 -> 13 | B20: ='Công trình'!E55 -> AB.42111 | C20: ='Công trình'!F55 -> Vận chuyển đất bằng ô tô tự đổ 5T 1km tiếp theo trong phạm vi <= 5km, đất cấp I | D20: ='Công trình'!G55 -> 100m3 | E20: ='Công trình'!P55 -> 16.414 | F20: ='Công trình'!Q55+'Công trình'!R55 -> 0 | G20: ='Công trình'!S55 -> 0 | H20: ='Chiết tính'!H$206 -> 3164017.3 | I20: ='Chiết tính'!H$217 -> 3915118.3 | J20: =E20*I20 -> 64262752 | M20: 1
A21: ='Công trình'!A57 -> 14 | B21: ='Công trình'!E57 -> AC.11121 | C21: ='Công trình'!F57 -> Đóng cọc tre bằng thủ công, chiều dài cọc > 2,5m vào đất cấp I | D21: ='Công trình'!G57 -> 100m | E21: ='Công trình'!P57 -> 456.875 | F21: ='Chiết tính'!H$219 -> 590499 | G21: ='Chiết tính'!H$225 -> 532876 | H21: ='Công trình'!T57 -> 0 | I21: ='Chiết tính'!H$236 -> 1390051.2 | J21: =E21*I21 -> 6.3507964e+08 | M21: 1
A22: ='Công trình'!A59 -> 15 | B22: ='Công trình'!E59 -> AB.13411 | C22: ='Công trình'!F59 -> Đắp cát công trình bằng thủ công, đắp nền móng công trình | D22: ='Công trình'!G59 -> m3 | E22: ='Công trình'!P59 -> 73.1 | F22: ='Chiết tính'!H$238 -> 348432 | G22: ='Chiết tính'!H$242 -> 109665 | H22: ='Công trình'!T59 -> 0 | I22: ='Chiết tính'!H$253 -> 566843.91 | J22: =E22*I22 -> 41436290 | M22: 1
A23: ='Công trình'!A61 -> 16 | B23: ='Công trình'!E61 -> AF.82511 | C23: ='Công trình'!F61 -> Ván khuôn thép. Ván khuôn móng dài | D23: ='Công trình'!G61 -> 100m2 | E23: ='Công trình'!P61 -> 0.464 | F23: ='Chiết tính'!H$255 -> 1740379.2 | G23: ='Chiết tính'!H$261 -> 3836700 | H23: ='Chiết tính'!H$263 -> 374276.45 | I23: ='Chiết tính'!H$276 -> 7364138.5 | J23: =E23*I23 -> 3416960.2 | M23: 1
A24: ='Công trình'!A63 -> 17 | B24: ='Công trình'!E63 -> AF.11211A | C24: ='Công trình'!F63 -> Đổ bê tông thủ công bằng máy trộn, bê tông móng, chiều rộng <= 250 cm, đá 1x2, mác 100, PCB30 | D24: ='Công trình'!G63 -> m3 | E24: ='Công trình'!P63 -> 73.1 | F24: ='Chiết tính'!H$278 -> 1211123.4 | G24: ='Chiết tính'!H$285 -> 324474 | H24: ='Chiết tính'!H$287 -> 59923.405 | I24: ='Chiết tính'!H$300 -> 1974279 | J24: =E24*I24 -> 1.4431979e+08 | M24: 1
A25: ='Công trình'!A65 -> 18 | B25: ='Công trình'!E65 -> AF.61120 | C25: ='Công trình'!F65 -> Công tác gia công lắp dựng cốt thép. Cốt thép móng, đường kính cốt thép <= 18mm | D25: ='Công trình'!G65 -> tấn | E25: ='Công trình'!P65 -> 10.3291 | F25: ='Chiết tính'!H$302 -> 15295600 | G25: ='Chiết tính'!H$307 -> 2212795 | H25: ='Chiết tính'!H$309 -> 599562.72 | I25: ='Chiết tính'!H$322 -> 22406577 | J25: =E25*I25 -> 2.3143977e+08 | M25: 1
A26: ='Công trình'!A67 -> 19 | B26: ='Công trình'!E67 -> AF.82511 | C26: ='Công trình'!F67 -> Ván khuôn thép. Ván khuôn móng dài | D26: ='Công trình'!G67 -> 100m2 | E26: ='Công trình'!P67 -> 1.16 | F26: ='Chiết tính'!H$324 -> 1740379.2 | G26: ='Chiết tính'!H$330 -> 3836700 | H26: ='Chiết tính'!H$332 -> 374276.45 | I26: ='Chiết tính'!H$345 -> 7364138.5 | J26: =E26*I26 -> 8542400.6 | M26: 1
A27: ='Công trình'!A69 -> 20 | B27: ='Công trình'!E69 -> AF.11214A | C27: ='Công trình'!F69 -> Đổ bê tông thủ công bằng máy trộn, bê tông móng, chiều rộng <= 250 cm, đá 1x2, mác 250, PCB30 | D27: ='Công trình'!G69 -> m3 | E27: ='Công trình'!P69 -> 182.75 | F27: ='Chiết tính'!H$347 -> 1394384.4 | G27: ='Chiết tính'!H$354 -> 324474 | H27: ='Chiết tính'!H$356 -> 59923.405 | I27: ='Chiết tính'!H$369 -> 2201044 | J27: =E27*I27 -> 4.0224079e+08 | M27: 1
B28: =IF('Công trình'!B71="",'Công trình'!E71,'Công trình'!B71) -> 0 | C28: ='Công trình'!F71 -> TƯỜNG CỐNG
A29: ='Công trình'!A72 -> 21 | B29: ='Công trình'!E72 -> AF.61311 | C29: ='Công trình'!F72 -> Công tác gia công lắp dựng cốt thép. Cốt thép tường, đường kính cốt thép <= 10mm, chiều cao <= 6m | D29: ='Công trình'!G72 -> tấn | E29: ='Công trình'!P72 -> 22.3225 | F29: ='Chiết tính'!H$371 -> 15094900 | G29: ='Chiết tính'!H$375 -> 3736075 | H29: ='Chiết tính'!H$377 -> 122974.4 | I29: ='Chiết tính'!H$388 -> 23453397 | J29: =E29*I29 -> 5.2353846e+08 | M29: 1
A30: ='Công trình'!A74 -> 22 | B30: ='Công trình'!E74 -> AF.86211 | C30: ='Công trình'!F74 -> Ván khuôn thép, khung xương thép, cột chống bằng thép ống. Ván khuôn tường, chiều cao <= 28m | D30: ='Công trình'!G74 -> 100m2 | E30: ='Công trình'!P74 -> 21.625 | F30: ='Chiết tính'!H$390 -> 2639371.9 | G30: ='Chiết tính'!H$397 -> 8926200 | H30: ='Chiết tính'!H$399 -> 1171482 | I30: ='Chiết tính'!H$414 -> 15760683 | J30: =E30*I30 -> 3.4082476e+08 | M30: 1
A31: ='Công trình'!A76 -> 23 | B31: ='Công trình'!E76 -> AF.12114A | C31: ='Công trình'!F76 -> Đổ bê tông thủ công bằng máy trộn, bê tông tường chiều dày <= 45cm, chiều cao <= 6m, đá 1x2, mác 250, PCB30 | D31: ='Công trình'!G76 -> m3 | E31: ='Công trình'!P76 -> 280.1925 | F31: ='Chiết tính'!H$416 -> 1449607.6 | G31: ='Chiết tính'!H$423 -> 718365 | H31: ='Chiết tính'!H$425 -> 87466.83 | I31: ='Chiết tính'!H$438 -> 2790854.6 | J31: =E31*I31 -> 7.8197652e+08 | M31: 1
A32: ='Công trình'!A78 -> 24 | B32: ='Công trình'!E78 -> TT | C32: ='Công trình'!F78 -> Băng cản nước | D32: ='Công trình'!G78 -> m2 | E32: ='Công trình'!P78 -> 207.55 | F32: ='Chiết tính'!H$440 -> 300000 | G32: ='Công trình'!S78 -> 0 | H32: ='Công trình'!T78 -> 0 | I32: ='Chiết tính'!H$451 -> 371216.52 | J32: =E32*I32 -> 77045989 | M32: 1
B33: =IF('Công trình'!B80="",'Công trình'!E80,'Công trình'!B80) -> 0 | C33: ='Công trình'!F80 -> BẢN MẶT CỐNG
A34: ='Công trình'!A81 -> 25 | B34: ='Công trình'!E81 -> AF.86111 | C34: ='Công trình'!F81 -> Ván khuôn thép, khung xương thép, cột chống bằng thép ống. Ván khuôn sàn mái, chiều cao <= 28m | D34: ='Công trình'!G81 -> 100m2 | E34: ='Công trình'!P81 -> 6.535 | F34: ='Chiết tính'!H$453 -> 2449811.8 | G34: ='Chiết tính'!H$460 -> 6264000 | H34: ='Chiết tính'!H$462 -> 1171482 | I34: ='Chiết tính'!H$477 -> 12231948 | J34: =E34*I34 -> 79935779 | M34: 1
A35: ='Công trình'!A83 -> 26 | B35: ='Công trình'!E83 -> AF.61711 | C35: ='Công trình'!F83 -> Công tác gia công lắp dựng cốt thép. Cốt thép sàn mái, đường kính cốt thép <=10mm, chiều cao <= 28m | D35: ='Công trình'!G83 -> tấn | E35: ='Công trình'!P83 -> 9.3036 | F35: ='Chiết tính'!H$479 -> 15094900 | G35: ='Chiết tính'!H$483 -> 4010150 | H35: ='Chiết tính'!H$485 -> 194401.47 | I35: ='Chiết tính'!H$500 -> 23880917 | J35: =E35*I35 -> 2.221785e+08 | M35: 1
A36: ='Công trình'!A85 -> 27 | B36: ='Công trình'!E85 -> AF.22314A | C36: ='Công trình'!F85 -> Đổ bê tông bằng máy, đổ bằng cần cẩu, bê tông xà dầm, giằng, sàn mái, chiều cao <= 6m, đá 1x2, mác 250, PCB30 | D36: ='Công trình'!G85 -> m3 | E36: ='Công trình'!P85 -> 134.375 | F36: ='Chiết tính'!H$502 -> 1406650.1 | G36: ='Chiết tính'!H$509 -> 478910 | H36: ='Chiết tính'!H$511 -> 140845.46 | I36: ='Chiết tính'!H$525 -> 2507450.7 | J36: =E36*I36 -> 3.3693869e+08 | M36: 1
A37: ='Công trình'!A87 -> 28 | B37: ='Công trình'!E87 -> AB.66142 | C37: ='Công trình'!F87 -> Đắp cát công trình bằng máy đầm đất cầm tay 70kg, độ chặt yêu cầu K=0,90 | D37: ='Công trình'!G87 -> 100m3 | E37: ='Công trình'!P87 -> 8.1421 | F37: ='Chiết tính'!H$527 -> 34160000 | G37: ='Chiết tính'!H$529 -> 1018666 | H37: ='Chiết tính'!H$531 -> 808642.81 | I37: ='Chiết tính'!H$544 -> 44530278 | J37: =E37*I37 -> 3.6256998e+08 | M37: 1
B38: =IF('Công trình'!B89="",'Công trình'!E89,'Công trình'!B89) -> 0 | C38: ='Công trình'!F89 -> THI CÔNG CỬA CỐNG
A39: ='Công trình'!A90 -> 29 | B39: ='Công trình'!E90 -> AC.11122 | C39: ='Công trình'!F90 -> Đóng cọc tre bằng thủ công, chiều dài cọc > 2,5m vào đất cấp II | D39: ='Công trình'!G90 -> 100m | E39: ='Công trình'!P90 -> 15.745 | F39: ='Chiết tính'!H$546 -> 590499 | G39: ='Chiết tính'!H$552 -> 593550 | H39: ='Công trình'!T90 -> 0 | I39: ='Chiết tính'!H$563 -> 1465128.5 | J39: =E39*I39 -> 23068448 | M39: 1
A40: ='Công trình'!A92 -> 30 | B40: ='Công trình'!E92 -> AB.13411 | C40: ='Công trình'!F92 -> Đắp cát công trình bằng thủ công, đắp nền móng công trình | D40: ='Công trình'!G92 -> m3 | E40: ='Công trình'!P92 -> 0.025 | F40: ='Chiết tính'!H$565 -> 348432 | G40: ='Chiết tính'!H$569 -> 109665 | H40: ='Công trình'!T92 -> 0 | I40: ='Chiết tính'!H$580 -> 566843.91 | J40: =E40*I40 -> 14171.098 | M40: 1
A41: ='Công trình'!A94 -> 31 | B41: ='Công trình'!E94 -> AF.82511 | C41: ='Công trình'!F94 -> Ván khuôn thép. Ván khuôn móng dài | D41: ='Công trình'!G94 -> 100m2 | E41: ='Công trình'!P94 -> 0.019 | F41: ='Chiết tính'!H$582 -> 1740379.2 | G41: ='Chiết tính'!H$588 -> 3836700 | H41: ='Chiết tính'!H$590 -> 374276.45 | I41: ='Chiết tính'!H$603 -> 7364138.5 | J41: =E41*I41 -> 139918.63 | M41: 1
A42: ='Công trình'!A96 -> 32 | B42: ='Công trình'!E96 -> AF.11211A | C42: ='Công trình'!F96 -> Đổ bê tông thủ công bằng máy trộn, bê tông móng, chiều rộng <= 250 cm, đá 1x2, mác 100, PCB30 | D42: ='Công trình'!G96 -> m3 | E42: ='Công trình'!P96 -> 2.52 | F42: ='Chiết tính'!H$605 -> 1211123.4 | G42: ='Chiết tính'!H$612 -> 324474 | H42: ='Chiết tính'!H$614 -> 59923.405 | I42: ='Chiết tính'!H$627 -> 1974279 | J42: =E42*I42 -> 4975183.1 | M42: 1
A43: ='Công trình'!A98 -> 33 | B43: ='Công trình'!E98 -> AF.82511 | C43: ='Công trình'!F98 -> Ván khuôn thép. Ván khuôn móng dài | D43: ='Công trình'!G98 -> 100m2 | E43: ='Công trình'!P98 -> 0.075 | F43: ='Chiết tính'!H$629 -> 1740379.2 | G43: ='Chiết tính'!H$635 -> 3836700 | H43: ='Chiết tính'!H$637 -> 374276.45 | I43: ='Chiết tính'!H$650 -> 7364138.5 | J43: =E43*I43 -> 552310.38 | M43: 1
A44: ='Công trình'!A100 -> 34 | B44: ='Công trình'!E100 -> AF.11214A | C44: ='Công trình'!F100 -> Đổ bê tông thủ công bằng máy trộn, bê tông móng, chiều rộng <= 250 cm, đá 1x2, mác 250, PCB30 | D44: ='Công trình'!G100 -> m3 | E44: ='Công trình'!P100 -> 12.834 | F44: ='Chiết tính'!H$652 -> 1394384.4 | G44: ='Chiết tính'!H$659 -> 324474 | H44: ='Chiết tính'!H$661 -> 59923.405 | I44: ='Chiết tính'!H$674 -> 2201044 | J44: =E44*I44 -> 28248199 | M44: 1
A45: ='Công trình'!A103 -> 35 | B45: ='Công trình'!E103 -> AF.61311 | C45: ='Công trình'!F103 -> Công tác gia công lắp dựng cốt thép. Cốt thép tường, đường kính cốt thép <= 10mm, chiều cao <= 6m | D45: ='Công trình'!G103 -> tấn | E45: ='Công trình'!P103 -> 0.2324 | F45: ='Chiết tính'!H$676 -> 15094900 | G45: ='Chiết tính'!H$680 -> 3736075 | H45: ='Chiết tính'!H$682 -> 122974.4 | I45: ='Chiết tính'!H$693 -> 23453397 | J45: =E45*I45 -> 5450569.5 | M45: 1
A46: ='Công trình'!A105 -> 36 | B46: ='Công trình'!E105 -> AF.86211 | C46: ='Công trình'!F105 -> Ván khuôn thép, khung xương thép, cột chống bằng thép ống. Ván khuôn tường, chiều cao <= 28m | D46: ='Công trình'!G105 -> 100m2 | E46: ='Công trình'!P105 -> 0.2125 | F46: ='Chiết tính'!H$695 -> 2639371.9 | G46: ='Chiết tính'!H$702 -> 8926200 | H46: ='Chiết tính'!H$704 -> 1171482 | I46: ='Chiết tính'!H$719 -> 15760683 | J46: =E46*I46 -> 3349145.1 | M46: 1
A47: ='Công trình'!A107 -> 37 | B47: ='Công trình'!E107 -> AF.12114A | C47: ='Công trình'!F107 -> Đổ bê tông thủ công bằng máy trộn, bê tông tường chiều dày <= 45cm, chiều cao <= 6m, đá 1x2, mác 250, PCB30 | D47: ='Công trình'!G107 -> m3 | E47: ='Công trình'!P107 -> 2.5938 | F47: ='Chiết tính'!H$721 -> 1449607.6 | G47: ='Chiết tính'!H$728 -> 718365 | H47: ='Chiết tính'!H$730 -> 87466.83 | I47: ='Chiết tính'!H$743 -> 2790854.6 | J47: =E47*I47 -> 7238918.6 | M47: 1
B48: =IF('Công trình'!B109="",'Công trình'!E109,'Công trình'!B109) -> 0 | C48: ='Công trình'!F109 -> ĐẮP ĐẤT HOÀN THIỆN MẶT BẰNG
A49: ='Công trình'!A110 -> 38 | B49: ='Công trình'!E110 -> AB.65120 | C49: ='Công trình'!F110 -> Đắp đất công trình bằng đầm đất cầm tay 70kg, độ chặt yêu cầu K=0,90 | D49: ='Công trình'!G110 -> 100m3 | E49: ='Công trình'!P110 -> 14.1032 | F49: ='Công trình'!Q110+'Công trình'!R110 -> 0 | G49: ='Chiết tính'!H$745 -> 1508503 | H49: ='Chiết tính'!H$747 -> 1500138.3 | I49: ='Chiết tính'!H$758 -> 3722857.8 | J49: =E49*I49 -> 52504208 | M49: 1
A50: ='Công trình'!A112 -> 39 | B50: ='Công trình'!E112 -> TT | C50: ='Công trình'!F112 -> Vật liệu đất núi | D50: ='Công trình'!G112 -> m3 | E50: ='Công trình'!P112 -> 1551.352 | F50: ='Chiết tính'!H$760 -> 220000 | G50: ='Công trình'!S112 -> 0 | H50: ='Công trình'!T112 -> 0 | I50: ='Chiết tính'!H$771 -> 272225.45 | J50: =E50*I50 -> 4.2231749e+08 | M50: 1
C51: TỔNG CỘNG | J51: =ROUND(SUM(J5:J50),0) -> 6759733141
C52: LÀM TRÒN | J52: =ROUND(J51,-3) -> 6759733000
A53: Bằng chữ: Sáu tỷ sáu bảy trăm năm mươi chín triệu bảy trăm ba mươi ba nghìn đồng chẵn./.

Sheet HM chung thầu

Sheet Dự phòng thầu
A1: ='Công trình'!A2 -> CÔNG TRÌNH : XÂY DỰNG HỆ THỐNG CỐNG HỘP KÊNH BẾN KEM ĐOẠN TỪ NHÀ ÔNG CHÍN ĐẾN KÊNH ĐẠI TRÀ 2, XÃ KIẾN MINH
A2: CHỈ SỐ GIÁ BÌNH QUÂN
A3: STT | B3: Thời điểm | C3: Chỉ số giá XD | F3: Tỷ lệ ( Isau / Itrước ) | G3: Chỉ số giá XD bình quân
A4: 1 | B4: 2021 | C4: 1.05 | F4: =IF(C4<>0,ROUND(C5/C4,5),0) -> 1 | G4: =ROUND(SUM(F4:F8)/A8,5) -> 1.00952
A5: 2 | B5: 2022 | C5: 1.05 | F5: =IF(C5<>0,ROUND(C6/C5,5),0) -> 1
A6: 3 | B6: 2023 | C6: 1.05 | F6: =IF(C6<>0,ROUND(C7/C6,5),0) -> 1
A7: 4 | B7: 2024 | C7: 1.05 | F7: =IF(C7<>0,ROUND(C8/C7,5),0) -> 1.04762
A8: 5 | B8: 2025 | C8: 1.1 | F8: 1
A10: CHI PHÍ DỰ PHÒNG DO YẾU TỐ TRƯỢT GIÁ
A11: STT | B11: Năm | C11: Vốn phân bổ từng năm | D11: Lãi vay | E11: Chi phí tính dự phòng | F11: Chỉ số giá XD bình quân | G11: Mức biến động chỉ số giá XD | H11: Dự phòng từng năm | I11: Dự phòng lũy kế
C12: ='Công trình'!AM1 -> (đ) | D12: ='Công trình'!AM1 -> (đ) | E12: ='Công trình'!AM1 -> (đ) | H12: ='Công trình'!AM1 -> (đ) | I12: ='Công trình'!AM1 -> (đ)
A13: 1 | B13: 2026 | C13: 1869275331 | D13: 0 | E13: =C13-D13 -> 1869275331 | F13: =G4 -> 1.00952 | G13: 0.05 | H13: =C13*((F13+G13)^A13-1) -> 1.1125927e+08 | I13: =H13 -> 1.1125927e+08
A14: 2 | B14: 2027 | C14: 1869275331 | D14: 0 | E14: =C14-D14 -> 1869275331 | F14: =G4 -> 1.00952 | G14: 0.05 | H14: =C14*((F14+G14)^A14-1) -> 2.2914069e+08 | I14: =H14+I13 -> 3.4039995e+08
A15: 3 | B15: 2028 | C15: ='Dự toán gói thầu'!G16-SUM(C13:C14) -> 3021182479 | D15: 0 | E15: =C15-D15 -> 3021182479 | F15: =G4 -> 1.00952 | G15: 0.05 | H15: =C15*((F15+G15)^A15-1) -> 5.7220818e+08 | I15: =H15+I14 -> 9.1260814e+08
A16: TỔNG CỘNG | C16: =SUM(C13:C15) -> 6759733141 | D16: =SUM(D13:D15) -> 0 | E16: =SUM(E13:E15) -> 6759733141 | H16: =I15 -> 9.1260814e+08

Sheet Dự toán gói thầu
A1: TỔNG HỢP DỰ TOÁN GÓI THẦU
A2: Tên dự án:
A3: Tên gói thầu: XÂY DỰNG HỆ THỐNG CỐNG HỘP KÊNH BẾN KEM ĐOẠN TỪ NHÀ ÔNG CHÍN ĐẾN KÊNH ĐẠI TRÀ 2, XÃ KIẾN MINH
A4: Thời điểm lập dự toán gói thầu:
A5: Thời gian thực hiện gói thầu:
A6: ="Đơn vị tính: "&'Công trình'!AM1 -> Đơn vị tính: (đ)
A7: STT | B7: KHOẢN MỤC CHI PHÍ | C7: GIÁ TRỊ TRƯỚC THUẾ | D7: THUẾ GTGT | E7: GIÁ TRỊ SAU THUẾ | F7: KÝ HIỆU
A8: [1] | B8: [2] | C8: [3] | D8: [4] | E8: [5] | F8: [6]
A9: 1 | B9: Chi phí xây dựng của gói thầu | C9: =ROUND(C10+C11,0) -> 6259012168 | D9: =ROUND(D10+D11,0) -> 500720973 | E9: =ROUND(E10+E11,0) -> 6759733141 | F9: GXD
A10: * | B10: Chi phí do Bên A cấp | F10: GA
A11: * | B11: Chi phí do Bên B đấu thầu | C11: =ROUND(C12,0) -> 6259012168 | D11: =ROUND(D12,0) -> 500720973 | E11: =ROUND(E12,0) -> 6759733141 | F11: GB
A12: 1.1 | B12: ='Công trình'!F6 -> HẠNG MỤC 1 | C12: =ROUND(E12/(1+HSXL!D17),0) -> 6259012168 | D12: =ROUND(E12-C12,0) -> 500720973 | E12: =ROUND('Dự thầu'!J51,0) -> 6759733141 | F12: Gthau1
A13: 2 | B13: Chi phí khác có liên quan của gói thầu | F13: GKXD
A14: 3 | B14: Chi phí dự phòng (GDPXD1 + GDPXD2) | C14: =ROUND(E14/(1+HSXL!D17),0) -> 845007532 | D14: =E14-C14 -> 67600603 | E14: =ROUND(E15+E16,0) -> 912608135 | F14: GDPXD
A15: 3.1 | B15: ="Chi phí dự phòng cho yếu tố khối lượng phát sinh [ 0% x ("&A9&"+"&A13&") ]" -> Chi phí dự phòng cho yếu tố khối lượng phát sinh [ 0% x (1+2) ] | E15: =ROUND(0%*(E9+E13),0) -> 0 | F15: GDPXD1
A16: 3.2 | B16: Chi phí dự phòng cho yếu tố trượt giá | E16: ='Dự phòng thầu'!H16 -> 9.1260814e+08 | F16: GDPXD2 | G16: =ROUND(E9+E13,0) -> 6759733141
B17: ="TỔNG CỘNG "&A9&" + "&A13&" + "&A14 -> TỔNG CỘNG 1 + 2 + 3 | C17: =ROUND(C9+C13+C14,0) -> 7104019700 | D17: =ROUND(D9+D13+D14,0) -> 568321576 | E17: =ROUND(E9+E13+E14,0) -> 7672341276 | F17: GGTXD
B18: LÀM TRÒN | E18: =ROUND(E17,-3) -> 7672341000
A19: Bằng chữ: Bảy tỷ năm trăm tám mươi bảy triệu bảy trăm mười sáu nghìn đồng chẵn./.

Sheet Phân tích VT

Sheet Bìa

Sheet NhiênLiệu

Sheet Thẩm định

Sheet TH chi phí tư vấn

Sheet Thép

Sheet HSXL
A1: BẢNG HỆ SỐ CHI PHÍ XÂY LẮP
A2: ='Công trình'!A2 -> CÔNG TRÌNH : XÂY DỰNG HỆ THỐNG CỐNG HỘP KÊNH BẾN KEM ĐOẠN TỪ NHÀ ÔNG CHÍN ĐẾN KÊNH ĐẠI TRÀ 2, XÃ KIẾN MINH
A3: ='Công trình'!F6 -> HẠNG MỤC 1
A4: STT | B4: Hệ số chi phí xây lắp | C4: Diễn giải hệ số | D4: Hệ số
A5: 1 | B5: Hệ số riêng Vật liệu | C5: 1 | D5: 1
A6: 2 | B6: Hệ số Vật liệu phụ | C6: 0 | D6: 0
A7: 3 | B7: Hệ số riêng Nhân công | C7: 1 | D7: 1
A8: 4 | B8: Hệ số Bù Nhân công | C8: 0 | D8: 0
A9: 5 | B9: Hệ số riêng Nhân công đất | C9: 1 | D9: 1
A10: 6 | B10: Hệ số Bù Nhân công đất | C10: 0 | D10: 0
A11: 7 | B11: Hệ số riêng Máy | C11: 1 | D11: 1
A12: 8 | B12: Hệ số Bù Máy | C12: 0 | D12: 0
A13: 9 | B13: Trực tiếp phí khác | C13: =SUBSTITUTE(D13*100&"%",".",",") -> 2% | D13: 0.02
A14: 10 | B14: Chi phí chung | C14: =SUBSTITUTE(D14*100&"%",".",",") -> 5,5% | D14: 0.055
A15: 11 | B15: Chi phí chung cho công tác đất thủ công | C15: =SUBSTITUTE(D15*100&"%",".",",") -> 5,5% | D15: 0.055
A16: 12 | B16: Thu nhập chịu thuế tính trước | C16: =SUBSTITUTE(D16*100&"%",".",",") -> 5,5% | D16: 0.055
A17: 13 | B17: Thuế VAT | C17: =SUBSTITUTE(D17*100&"%",".",",") -> 8% | D17: 0.08
A18: 14 | B18: Lán trại nhà tạm | C18: =SUBSTITUTE(D18*100&"%",".",",") -> 1,1% | D18: 0.011
A19: 15 | B19: Gián tiếp khác | C19: =SUBSTITUTE(D19*100&"%",".",",") -> 0% | D19: 0

Sheet Định mức tư vấn
A1: ĐỊNH MỨC QUẢN LÝ DỰ ÁN VÀ TƯ VẤN
A2: STT | B2: Tên chi phí | C2: Loại, cấp công trình | D2: Chi phí (tỷ đồng) | E2: Định mức | F2: Nội suy | G2: Ghi chú
A3: ='TH kinh phí'!A16 -> 2 | B3: ='TH kinh phí'!B16 -> Chi phí quản lý dự án | C3: Công trình hạ tầng kỹ thuật | D3: 10 | E3: 0.02901 | F3: =ROUND(E3,7) -> 0.02901 | G3: Thông tư 60/2025/TT-BXD
A4: ='TH kinh phí'!A29 -> 3.2 | B4: ='TH kinh phí'!B29 -> Chi phí lập báo cáo kinh tế - kỹ thuật | C4: Công trình hạ tầng kỹ thuật | D4: 3 | E4: 0.042 | F4: =ROUND(E4+(('TH kinh phí'!L7+'TH kinh phí'!L10)/10^9-D4)*(E5-E4)/(D5-D4),7) -> 0.0325263 | G4: Thông tư 60/2025/TT-BXD
D5: 7 | E5: 0.034
A6: ='TH kinh phí'!A43 -> 3.3 | B6: ='TH kinh phí'!B43 -> Chi phí thẩm tra thiết kế bản vẽ thi công | C6: Công trình hạ tầng kỹ thuật | D6: 10 | E6: 0.00197 | F6: =ROUND(E6,7) -> 0.00197 | G6: Thông tư 60/2025/TT-BXD
A7: ='TH kinh phí'!A44 -> 3.4 | B7: ='TH kinh phí'!B44 -> Chi phí thẩm tra dự toán công trình | C7: Công trình hạ tầng kỹ thuật | D7: 10 | E7: 0.00191 | F7: =ROUND(E7,7) -> 0.00191 | G7: Thông tư 60/2025/TT-BXD
A8: ='TH kinh phí'!A45 -> 3.5 | B8: ='TH kinh phí'!B45 -> Chi phí Lập hồ sơ mời thầu, đánh giá hồ sơ dự thầu thi công xây dựng | C8: Công trình hạ tầng kỹ thuật | D8: 10 | E8: 0.00388 | F8: =ROUND(E8,7) -> 0.00388 | G8: Thông tư 60/2025/TT-BXD
A9: ='TH kinh phí'!A55 -> 3.8 | B9: ='TH kinh phí'!B55 -> Chi phí giám sát thi công xây dựng | C9: Công trình hạ tầng kỹ thuật | D9: 10 | E9: 0.02566 | F9: =ROUND(E9,7) -> 0.02566 | G9: Thông tư 60/2025/TT-BXD
A10: ='TH kinh phí'!A66 -> 5.1 | B10: ='TH kinh phí'!B66 -> Phí thẩm định thiết kế xây dựng triển khai sau thiết kế cơ sở (Thông tư 27/2023/TT-BTC) | C10: Công trình hạ tầng kỹ thuật | D10: 15 | E10: 0.00126 | F10: =ROUND(E10,7) -> 0.00126 | G10: Thông tư 27/2023/TT-BTC
A11: ='TH kinh phí'!A67 -> 4.2 | B11: ='TH kinh phí'!B67 -> Phí thẩm định dự toán xây dựng (Thông tư 27/2023/TT-BTC) | C11: Công trình hạ tầng kỹ thuật | D11: 15 | E11: 0.00122 | F11: =ROUND(E11,7) -> 0.00122 | G11: Thông tư 27/2023/TT-BTC
A12: ='TH kinh phí'!A74 -> 4.4 | B12: ='TH kinh phí'!B74 -> Chi phí kiểm toán độc lập | D12: 5 | E12: 0.0096 | F12: =E12+('TH kinh phí'!K81/10^9-D12)*(E13-E12)/(D13-D12) -> 0.0080055696 | G12: Nghị định 254/2025/NĐ-CP
D13: 10 | E13: 0.00645
A14: ='TH kinh phí'!A73 -> 4.3 | B14: ='TH kinh phí'!B73 -> Chi phí thẩm tra, phê duyệt quyết toán | D14: 5 | E14: 0.0057 | F14: =E14+('TH kinh phí'!K81/10^9-D14)*(E15-E14)/(D15-D14) -> #DIV/0! | G14: Nghị định 254/2025/NĐ-CP
A15: ='TH kinh phí'!A74 -> 4.4 | B15: ='TH kinh phí'!B74 -> Chi phí kiểm toán độc lập | D15: 5 | E15: 0.0096 | F15: =E15+('TH kinh phí'!K81/10^9-D15)*(E16-E15)/(D16-D15) -> 0.0080055696 | G15: Nghị định 254/2025/NĐ-CP
D16: 10 | E16: 0.00645
