Workbook

Sheet SGV

Sheet THQY
A1: BẢNG TỔNG HỢP QUYẾT TOÁN CÔNG TRÌNH
A2: Công trình: Sửa chữa tuyến đường từ nhà Bà Trường, tổ 5 phường Vạn Hương đến nhà bà Kim, tổ dân phố Bắc Hải phường Bàng La
A3: Gói thầu số 04: Thi công xây dựng
A4: Hợp đồng số: 29.11/2022/HĐ-XD ngày 29 tháng 11 năm 2022
A5: Chủ đầu tư: Ủy ban nhân dân phường Vạn Hương
A6: Nhà thầu: Công ty Cổ phần dịch vụ thương mại Thành Dương
A7: STT | B7: Hạng mục | C7: Cách tính | D7: Chi phí
D8: Trước thuế | E8: Thuế(10%) | F8: Sau thuế
A9: I | B9: Chi phí xây dựng | D9: =D10 -> 1.8622791e+09 | E9: =E10 -> 1.8622791e+08 | F9: =E9+D9 -> 2.048507e+09 | G9: 2061950000 | H9: 2048507000
A10: 1 | B10: Sửa chữa tuyến đường từ nhà Bà Trường, tổ 5 phường Vạn Hương đến nhà bà Kim, tổ dân phố Bắc Hải phường Bàng La | C10: Bảng chi tiết giá trị quyết toán | D10: =F10/1.1 -> 1.8622791e+09 | E10: =D10*0.1 -> 1.8622791e+08 | F10: =H9 -> 2048507000 | H10: =G9-H9 -> 13443000
A11: II | B11: Chi phí quản lý dự án | C11: Dự toán được duyệt | D11: =F11/1.1 -> 56684545 | E11: =D11*0.1 -> 5668454.5 | F11: 62353000 | G11: 62353000
A12: III | B12: Chi phí tư vấn đầu tư xây dựng | C12: Dự toán được duyệt | D12: =SUM(D13:D21) -> 2.031957e+08 | E12: =SUM(E13:E21) -> 20319570 | F12: 223515000 | G12: 223515000
A13: 1 | B13: Chi phí khảo sát địa hình | D13: =F13/1.1 -> 39691779 | E13: =D13*0.1 -> 3969177.9 | F13: 43660957 | G13: 43660957
A14: 2 | B14: Chi phí lập báo cáo kinh tế - kỹ thuật | D14: =F14/1.1 -> 86469745 | E14: =D14*0.1 -> 8646974.5 | F14: 95116720 | G14: 95116720
A15: 3 | B15: Chi phí thẩm tra Báo cáo kinh tế - kỹ thuật, phần thiết kế | D15: =F15/1.1 -> 3186650 | E15: =D15*0.1 -> 318665 | F15: 3505315 | G15: 3505315
A16: 4 | B16: Chi phí thẩm tra Báo cáo kinh tế - kỹ thuật, phần dự toán | D16: =F16/1.1 -> 3111670 | E16: =D16*0.1 -> 311167 | F16: 3422837 | G16: 3422837
A17: 5 | B17: Chi phí Lập hồ sơ mời thầu, đánh giá hồ sơ dự thầu thi công xây dựng | D17: =F17/1.1 -> 6485773.6 | E17: =D17*0.1 -> 648577.36 | F17: 7134351 | G17: 7134351
A18: 6 | B18: Chi phí thẩm định hồ sơ mời thầu, hồ sơ yêu cầu (Nghị định 63/2014/NĐ-CP) | D18: =F18/1.1 -> 1052462.7 | E18: =D18*0.1 -> 105246.27 | F18: 1157709 | G18: 1157709
A19: 7 | B19: Chi phí đánh giá hồ sơ dự thầu, hồ sơ đề xuất (Nghị định 63/2014/NĐ-CP) | D19: =F19/1.1 -> 2104926.4 | E19: =D19*0.1 -> 210492.64 | F19: 2315419 | G19: 2315419
A20: 8 | B20: Chi phí thẩm định kết quả lựa chọn nhà thầu (Nghị định 63/2014/NĐ-CP) | D20: =F20/1.1 -> 1052462.7 | E20: =D20*0.1 -> 105246.27 | F20: 1157709 | G20: 1157709
A21: 9 | B21: Chi phí giám sát thi công xây dựng | D21: =F21/1.1 -> 60040233 | E21: =D21*0.1 -> 6004023.3 | F21: 66044256 | G21: 66044256
A22: IV | B22: Chi phí khác | C22: Dự toán được duyệt | D22: =ROUND(+D23+D25+D24,-3) -> 21052000 | F22: =ROUND(+F23+F25+F24,-3) -> 21052000 | G22: 21052000
A23: 1 | B23: Phí thẩm định báo cáo KTKT | D23: 944748 | F23: =D23 -> 944748 | G23: 944748
A24: 2 | B24: Chi phí thẩm tra, phê duyệt quyết toán | D24: 13502559 | F24: =D24 -> 13502559 | G24: 13502559
A25: 3 | B25: Chi phí kiểm tra công tác nghiệm thu công trình xây dựng (Thông tư 10/2021/TT-BXD) | D25: 6604425.6 | F25: =D25 -> 6604425.6 | G25: 6604425.6
B26: CỘNG I+II+III+IV | F26: =F9+F11+F12+F22 -> 2355427000 | G26: =+G9+G11+G12+G22 -> 2368870000 | H26: =G26-F26 -> 13443000
A27: (Bằng chữ: Hai tỷ, ba trăm năm mươi lăm triệu, bốn trăm hai mươi bảy nghìn đồng./.)
D28: Vạn Hương, ngày tháng năm 2023
B29: ĐẠI DIỆN CHỦ ĐẦU TƯ | D29: ĐẠI DIỆN NHÀ THẦU

Sheet CTQT
B2: BẢNG CHI TIẾT GIÁ TRỊ QUYẾT TOÁN
B4: Công trình: Sửa
B5: Gói thầu số 3: Thi công xây dựng
B6: Hợp đồng số:
B7: Chủ đầu tư:
B8: Nhà thầu:
K9: Đơn vị: Đồng
B10: Stt | C10: Tên công việc | D10: Đơn vị tính | E10: Khối lượng | H10: Đơn giá theo hợp đồng | I10: Thành tiền | L10: Ghi chú
E11: Theo hợp đồng | F11: Quyết toán | G11: Tăng(+), giảm(-) | I11: Theo hợp đồng | J11: Quyết toán | K11: Tăng(+), giảm(-)
B12: 1 | C12: =B12+1 -> 2 | D12: =C12+1 -> 3 | E12: =D12+1 -> 4 | F12: =E12+1 -> 5 | G12: =F12+1 -> 6 | H12: =G12+1 -> 7 | I12: =H12+1 -> 8 | J12: =I12+1 -> 9 | ... L12: =K12+1 -> 11
B13: HM | C13: SỬA CHỮA NHÀ LÀM VIỆC SỐ 1
B14: 1 | C14: Nhân công tháo dỡ, vận chuyển nhà kho trên tầng 2 | D14: công | E14: 2 | H14: 311452.67 | I14: =H14*E14 -> 622905.34
B15: 2 | C15: Tháo dỡ cửa bằng thủ công | D15: m2 | E15: 60.29 | H15: 12458.107 | I15: =H15*E15 -> 751099.26
B16: 3 | C16: Tháo dỡ khuôn cửa gỗ | D16: m | E16: 101.9 | H16: 31145.267 | I16: =H16*E16 -> 3173702.7
B17: 4 | C17: Tháo dỡ hoa sắt cửa sổ | D17: m2 | E17: 15.12 | H17: 25633.417 | I17: =H17*E17 -> 387577.26
B18: 5 | C18: Phá dỡ tường xây gạch chiều dày tường <=22cm | D18: m3 | E18: 2.453 | H18: 361715.99 | I18: =H18*E18 -> 887289.33
B19: 6 | C19: Xây chèn cửa, bịt cửa | D19: m3 | E19: 1.373 | H19: 1831340.4 | I19: =H19*E19 -> 2514430.4
B20: 7 | C20: Phá dỡ lớp vữa trát má cửa sổ | D20: m2 | E20: 6.864 | H20: 34177.889 | I20: =H20*E20 -> 234597.03
B21: 8 | C21: Trát tường | D21: m2 | E21: 31.633 | H21: 110138.91 | I21: =H21*E21 -> 3484024.1
B22: 9 | C22: Bả bột bả vào tường | D22: m2 | E22: 31.633 | H22: 41396.33 | I22: =H22*E22 -> 1309490.1
B23: 10 | C23: Sơn dầm, trần, cột, tường trong nhà đã bả - 1 nước lót, 2 nước phủ | D23: m2 | E23: 31.633 | H23: 65082.843 | I23: =H23*E23 -> 2058765.6
B24: 11 | C24: Phá dỡ gạch nát nền | D24: m2 | E24: 11.25 | H24: 25633.417 | I24: =H24*E24 -> 288375.94
B25: 12 | C25: Tháo dỡ gạch ốp chân tường | D25: m2 | E25: 1.125 | H25: 40488.847 | I25: =H25*E25 -> 45549.953
... B42: 29 | C42: Vận chuyển phế thải tiếp 1000m bằng ô tô - 5,0T | D42: m3 | E42: 4.633 | H42: 14859.046 | I42: =H42*E42 -> 68841.962
B43: HM | C43: SỬA CHỮA NHÀ LÀM VIỆC SỐ 2 | I43: =H43*E43 -> 0
B44: 30 | C44: Tháo dỡ cửa bằng thủ công | D44: m2 | E44: 72.141 | H44: 12458.107 | I44: =H44*E44 -> 898740.28
B45: 31 | C45: Tháo dỡ khuôn cửa gỗ | D45: m | E45: 135.69 | H45: 31145.267 | I45: =H45*E45 -> 4226101.3
B46: 32 | C46: Tháo dỡ hoa sắt cửa sổ | D46: m2 | E46: 30.24 | H46: 25633.417 | I46: =H46*E46 -> 775154.53
B47: 33 | C47: Phá dỡ lớp vữa trát má cửa | D47: m2 | E47: 14.652 | H47: 34177.889 | I47: =H47*E47 -> 500774.43
B48: 34 | C48: Sơn sắt thép bằng sơn các loại, 1 nước lót, 2 nước phủ | D48: m2 | E48: 30.24 | H48: 57560.803 | I48: =H48*E48 -> 1740638.7
B49: 35 | C49: Lắp dựng hoa sắt cửa | D49: m2 | E49: 30.24 | H49: 81183.751 | I49: =H49*E49 -> 2454996.6
B50: 36 | C50: Gia công, lắp dựng cửa sổ nhôm kính hệ 55, kinh dán an toàn 6,38mm(bao gồm cả khóa và phụ kiện) | D50: m2 | E50: 31.32 | H50: 2380939.8 | I50: =H50*E50 -> 74571035
B51: 37 | C51: Gia công, lắp dựng cửa đi nhôm kính hệ 55, kinh dán an toàn 6,38mm(bao gồm cả khóa và phụ kiện) | D51: m2 | E51: 40.821 | H51: 2638338.7 | I51: =H51*E51 -> 1.0769963e+08
B52: 38 | C52: Lát nền, sàn, kích thước gạch 500x500mm, vữa XM mác 75, PCB30 | D52: m2 | E52: 29.792 | H52: 247091.6 | I52: =H52*E52 -> 7361353.1
B53: 39 | C53: Công tác ốp gạch vào chân tường, kích thước gạch 500x120mm | D53: m2 | E53: 1.732 | H53: 258673.75 | I53: =H53*E53 -> 448022.94
B54: 40 | C54: Lắp đặt chậu rửa 1 vòi-chậu đứng | D54: bộ | E54: 1 | H54: 1481461.9 | I54: =H54*E54 -> 1481461.9
B55: 41 | C55: Lắp đặt hộp đựng xà bông | D55: cái | E55: 1 | H55: 56305.006 | I55: =H55*E55 -> 56305.006
... B77: 63 | C77: Vận chuyển phế thải tiếp 1000m bằng ô tô - 5,0T | D77: m3 | E77: 2.604 | H77: 14859.046 | I77: =H77*E77 -> 38692.957
B78: III | C78: SỬA CHỮA ĐIỆN | I78: =H78*E78 -> 0
B79: 64 | C79: Lắp đặt dây dẫn 3x16mm2+1x10mm2 | D79: m | E79: 50 | H79: 488256.98 | I79: =H79*E79 -> 24412849
B80: 65 | C80: Đầu cốt M16 | E80: 10 | H80: 19304.917 | I80: =H80*E80 -> 193049.17
B81: 66 | C81: Lắp công tơ điện 3 pha vào bảng đã có sẵn | D81: cái | E81: 1 | H81: 2288480 | I81: =H81*E81 -> 2288480
B82: 67 | C82: Kẹp hãm | E82: 1 | H82: 32174.862 | I82: =H82*E82 -> 32174.862
B83: 68 | C83: Lắp đặt tủ điện 25x35x15mm | D83: hộp | E83: 1 | H83: 949568.27 | I83: =H83*E83 -> 949568.27
B84: 69 | C84: Kẹp bổ trợ | E84: 1 | H84: 32174.862 | I84: =H84*E84 -> 32174.862
B85: 70 | C85: Lắp đặt aptomat 3 pha, cường độ dòng điện <= 100Ampe | D85: cái | E85: 1 | H85: 1116519.2 | I85: =H85*E85 -> 1116519.2
C86: TỔNG CỘNG(LÀM TRÒN) | I86: =ROUND(SUM(I13:I85),-3) -> 664076000 | J86: =ROUND(SUM(J13:J85),-3) -> 0 | K86: =ROUND(SUM(K13:K85),-3) -> 0
B87: (Bằng chữ: Hai tỷ, không trăm bốn mươi tám triệu, năm trăm linh bảy nghìn đồng./.)
I88: Bàng La, ngày tháng 12 năm 2023
B90: ĐẠI DIỆN CHỦ ĐẦU TƯ | I90: ĐẠI DIỆN NHÀ THẦU THI CÔNG
B91: (Ký, ghi rõ họ tên, chức vụ và đóng dấu) | I91: (Ký, ghi rõ họ tên, chức vụ và đóng dấu)

Sheet KL QLDA
A1: BẢNG TỔNG HỢP KHỐI LƯỢNG HOÀN THÀNH CÔNG TRÌNH (Kèm theo biên bản nghiệm thu hoàn thành lần 1)
A2: (Kèm theo Biên bản nghiệm thu hoàn thành công trình ngày 14/12/2023)
A3: Công trình:
A4: Gói thầu số 03: Thi công xây dựng
A5: Hợp đồng số:
A6: Chủ đầu tư:
A7: Nhà thầu: Công ty
A9: Stt | B9: Tên công việc | C9: Đơn vị tính | D9: Khối lượng | G9: Ghi chú
D10: Theo hợp đồng | E10: Thực hiện | F10: Tăng(+), giảm(-)
A11: 1 | B11: 2 | C11: 3 | D11: 4 | E11: 5 | F11: 6=5-4 | G11: 7
A12: HM | B12: SỬA CHỮA NHÀ LÀM VIỆC SỐ 1
A13: 1 | B13: Nhân công tháo dỡ, vận chuyển nhà kho trên tầng 2 | C13: công | D13: 2 | E13: 2 | F13: =E13-D13 -> 0
A14: 2 | B14: Tháo dỡ cửa bằng thủ công | C14: m2 | D14: 60.29 | E14: 60.29 | F14: =E14-D14 -> 0
A15: 3 | B15: Tháo dỡ khuôn cửa gỗ | C15: m | D15: 101.9 | E15: 94.8 | F15: =E15-D15 -> -7.1
A16: 4 | B16: Tháo dỡ hoa sắt cửa sổ | C16: m2 | D16: 15.12 | E16: 15.12 | F16: =E16-D16 -> 0
A17: 5 | B17: Phá dỡ tường xây gạch chiều dày tường <=22cm | C17: m3 | D17: 2.453 | E17: 1.624 | F17: =E17-D17 -> -0.829
A18: 6 | B18: Xây chèn cửa, bịt cửa | C18: m3 | D18: 1.373 | E18: 1.144 | F18: =E18-D18 -> -0.229
A19: 7 | B19: Phá dỡ lớp vữa trát má cửa sổ | C19: m2 | D19: 6.864 | E19: 6.864 | F19: =E19-D19 -> 0
A20: 8 | B20: Trát tường | C20: m2 | D20: 31.633 | E20: 27.89 | F20: =E20-D20 -> -3.743
A21: 9 | B21: Bả bột bả vào tường | C21: m2 | D21: 31.633 | E21: 27.89 | F21: =E21-D21 -> -3.743
A22: 10 | B22: Sơn dầm, trần, cột, tường trong nhà đã bả - 1 nước lót, 2 nước phủ | C22: m2 | D22: 31.633 | E22: 27.89 | F22: =E22-D22 -> -3.743
A23: 11 | B23: Phá dỡ gạch nát nền | C23: m2 | D23: 11.25 | E23: 11.25 | F23: =E23-D23 -> 0
A24: 12 | B24: Tháo dỡ gạch ốp chân tường | C24: m2 | D24: 1.125 | E24: 1.125 | F24: =E24-D24 -> 0
... A34: 22 | B34: Lắp đặt aptomat loại 2 pha, 16A | C34: cái | D34: 1 | E34: 1 | F34: =E34-D34 -> 0
A35: 23 | B35: Máy điều hòa không khí >=9000BTU | C35: cái | D35: 1 | E35: =D35 -> 1 | F35: =E35-D35 -> 0
A36: 24 | B36: Ống đồng, bảo ôn và các vật liệu phụ | C36: m | D36: 8 | E36: =D36 -> 8 | F36: =E36-D36 -> 0
A37: 25 | B37: bảo dưỡng, vệ sinh, bơm ga điều hòa hiệ có | C37: bộ | D37: 7 | E37: =D37 -> 7 | F37: =E37-D37 -> 0
A38: 26 | B38: Lắp đặt máy điều hoà không khí (điều hoà cục bộ), máy điều hòa 2 cục, loại treo tường (Định mức vật liệu chưa bao gồm ống các loại và dây điện) | C38: máy | D38: 7 | E38: =D38 -> 7 | F38: =E38-D38 -> 0
A39: 27 | B39: Vận chuyển bằng thủ công 10m khởi điểm - vận chuyển phế thải các loại | C39: m3 | D39: 4.633 | E39: 4.633 | F39: =E39-D39 -> 0
A40: 28 | B40: Vận chuyển phế thải trong phạm vi 1000m bằng ô tô - 5,0T | C40: m3 | D40: 4.633 | E40: 4.633 | F40: =E40-D40 -> 0
A41: 29 | B41: Vận chuyển phế thải tiếp 1000m bằng ô tô - 5,0T | C41: m3 | D41: 4.633 | E41: 4.633 | F41: =E41-D41 -> 0
A42: HM | B42: SỬA CHỮA NHÀ LÀM VIỆC SỐ 2 | F42: =E42-D42 -> 0
A43: 30 | B43: Tháo dỡ cửa bằng thủ công | C43: m2 | D43: 72.141 | E43: 72.141 | F43: =E43-D43 -> 0
A44: 31 | B44: Tháo dỡ khuôn cửa gỗ | C44: m | D44: 135.69 | E44: 135.69 | F44: =E44-D44 -> 0
A45: 32 | B45: Tháo dỡ hoa sắt cửa sổ | C45: m2 | D45: 30.24 | E45: 30.24 | F45: =E45-D45 -> 0
A46: 33 | B46: Phá dỡ lớp vữa trát má cửa | C46: m2 | D46: 14.652 | E46: 14.652 | F46: =E46-D46 -> 0
A47: 34 | B47: Sơn sắt thép bằng sơn các loại, 1 nước lót, 2 nước phủ | C47: m2 | D47: 30.24 | E47: 30.24 | F47: =E47-D47 -> 0
A48: 35 | B48: Lắp dựng hoa sắt cửa | C48: m2 | D48: 30.24 | E48: 30.24 | F48: =E48-D48 -> 0
A49: 36 | B49: Gia công, lắp dựng cửa sổ nhôm kính hệ 55, kinh dán an toàn 6,38mm(bao gồm cả khóa và phụ kiện) | C49: m2 | D49: 31.32 | E49: 31.32 | F49: =E49-D49 -> 0
A50: 37 | B50: Gia công, lắp dựng cửa đi nhôm kính hệ 55, kinh dán an toàn 6,38mm(bao gồm cả khóa và phụ kiện) | C50: m2 | D50: 40.821 | E50: 40.821 | F50: =E50-D50 -> 0
A51: 38 | B51: Lát nền, sàn, kích thước gạch 500x500mm, vữa XM mác 75, PCB30 | C51: m2 | D51: 29.792 | E51: 29.792 | F51: =E51-D51 -> 0
A52: 39 | B52: Công tác ốp gạch vào chân tường, kích thước gạch 500x120mm | C52: m2 | D52: 1.732 | E52: 1.732 | F52: =E52-D52 -> 0
A53: 40 | B53: Lắp đặt chậu rửa 1 vòi-chậu đứng | C53: bộ | D53: 1 | E53: 1 | F53: =E53-D53 -> 0
A54: 41 | B54: Lắp đặt hộp đựng xà bông | C54: cái | D54: 1 | E54: 1 | F54: =E54-D54 -> 0
... A76: 63 | B76: Vận chuyển phế thải tiếp 1000m bằng ô tô - 5,0T | C76: m3 | D76: 2.604 | E76: 2.604 | F76: =E76-D76 -> 0
A77: III | B77: SỬA CHỮA ĐIỆN | F77: =E77-D77 -> 0
A78: 64 | B78: Lắp đặt dây dẫn 3x16mm2+1x10mm2 | C78: m | D78: 50 | E78: 50 | F78: =E78-D78 -> 0
A79: 65 | B79: Đầu cốt M16 | D79: 10 | E79: 10 | F79: =E79-D79 -> 0
A80: 66 | B80: Lắp công tơ điện 3 pha vào bảng đã có sẵn | C80: cái | D80: 1 | E80: 1 | F80: =E80-D80 -> 0
A81: 67 | B81: Kẹp hãm | D81: 1 | E81: 1 | F81: =E81-D81 -> 0
A82: 68 | B82: Lắp đặt tủ điện 25x35x15mm | C82: hộp | D82: 1 | E82: 1 | F82: =E82-D82 -> 0
A83: 69 | B83: Kẹp bổ trợ | D83: 1 | E83: 1 | F83: =E83-D83 -> 0
A84: 70 | B84: Lắp đặt aptomat 3 pha, cường độ dòng điện <= 100Ampe | C84: cái | D84: 1 | E84: 1 | F84: =E84-D84 -> 0
B85: ĐD. TƯ VẤN QLDA | C85: ĐD. TVGS | E85: ĐD. ĐƠN VỊ THI CÔNG
B96: CB. Quản lý dự án | C96: CB. Giám sát | E96: Kỹ thuật thi công
B103: Trần Lê Minh Tú | C103: Vũ Văn Nam | E103: Phạm Trần Hùng Anh

Sheet 2a
A1: UBND XÃ KIẾN MINH | E1: Mẫu số 02.a/TT
A2: PHÒNG KINH TẾ
A3: BẢNG TỔNG HỢP THÔNG TIN HỢP ĐỒNG
A4: Căn cứ Căn cứ Hợp đồng số 1303/2026/HĐTV ngày 13 tháng 03 năm 2026 Về việc thực hiện gói thầu số 02: Quản lý dự án: Nạo vét tuyến kênh từ gốc đa Miếu Bà đến cống Bà Xoàng, thôn Phong Cầu 2, xã Kiến Minh.
E5: Đơn vị: Đồng
A6: STT | B6: Chỉ tiêu | C6: Thông tin hợp đồng Lần đầu | D6: Thông tin hợp đồng điều chỉnh lần 1 | E6: Thông tin hợp đồng điều chỉnh lần 2 | F6: Thông tin hợp đồng điều chỉnh lần | G6: Ghi chú
A7: 1 | B7: 2 | C7: 3 | D7: 4 | E7: 5 | F7: 6 | G7: 7
A8: I | B8: Thông tin chung
A9: 1 | B9: Hợp đồng
A10: 1.1 | B10: Số Hợp đồng | C10: 1303/2026/HĐTV | D10: Không điều chỉnh
A11: 1.2 | B11: Ngày, tháng, năm ký hợp đồng | C11: Ngày 13 tháng 03 năm 2026 | D11: Không điều chỉnh
A12: 1.3 | B12: Loại hợp đồng | C12: Trọn gói | D12: Không điều chỉnh
A13: 1.4 | B13: Ngày hiệu lực của hợp đồng | C13: Ngày 13 tháng 03 năm 2026 | D13: Không điều chỉnh
A14: 1.5 | B14: Thời gian thực hiện hợp đồng | C14: 90 ngày kể từ ngày khởi công | D14: Không điều chỉnh
A15: 2 | B15: Tên Dự án/gói thầu
A16: 2.1 | B16: Tên dự án | C16: Nạo vét tuyến kênh từ gốc đa Miếu Bà đến cống Bà Xoàng, thôn Phong Cầu 2, xã Kiến Minh. | D16: Không điều chỉnh
A17: 2.2 | B17: Tên gói thầu (Nếu có) | C17: Gói thầu số 02: Quản lý dự án | D17: Không điều chỉnh
A18: 2.3 | B18: Mã dự án đầu tư
A19: 3 | B19: Chủ đầu tư:
A20: 3.1 | B20: Tên giao dịch | C20: Phòng Kinh tế xã Kiến Minh | D20: Không điều chỉnh
A21: 3.2 | B21: Đại diện | C21: Ông: Vũ Văn Hiệp - Chức vụ: Trưởng phòng | D21: Không điều chỉnh
A22: 3.3 | B22: Địa chỉ: | C22: Thôn Vũ Vị, xã Kiến Minh, thành phố Hải Phòng. | D22: Không điều chỉnh
A23: 3.4 | B23: Tài khoản tại NHTM | C23: Số 9527.4.1144513 Mở tại Kho bạc Nhà nước khu vực III - Phòng giao dịch số 3 | D23: Không điều chỉnh
A24: 3.5 | B24: Mã số thuế: | C24: 0202304184 | D24: Không điều chỉnh
A25: 3.6 | B25: Cơ quan quản lý thuế | C25: Thuế cơ sở 6 thành phố Hải Phòng
A26: 4 | B26: Nhà thầu (liên danh, thầu phụ, liên doanh)
A27: 4.1 | B27: Nhà thầu chính (tên giao dịch) | C27: Công ty cổ phần tư vấn xây dựng và thương mại Cường Đạt | D27: Không điều chỉnh
A28: 4.1.1 | B28: Đại diện | C28: Ông: Phạm Văn Dự - Chức vụ: Tổng Giám đốc | D28: Không điều chỉnh
A29: 4.1.2 | B29: Địa chỉ: | C29: Thôn Hồi Xuân, xã Kiến Hải, TP Hải Phòng. | D29: Không điều chỉnh
A30: 4.1.3 | B30: Tài khoản tại KBNN/NH | C30: Số 20239666Tại Ngân hàng VietinBank – PGD Kiến Thụy | D30: Không điều chỉnh
A31: 4.1.4 | B31: Mã số thuế | C31: 0201774099 | D31: Không điều chỉnh
A32: 4.1.5 | B32: Cơ quan quản lý thuế | C32: Thuế cơ sở 6 thành phố Hải Phòng
A33: 4.2 | B33: Nhà thầu phụ (tên giao dịch)
A34: 4.2.1 | B34: Đại diện
A35: 4.2.2 | B35: Địa chỉ:
A36: 4.2.3 | B36: Tài khoản tại KBNN/NH
A37: 4.2.4 | B37: Mã số thuế
A38: 4.2.5 | B38: Cơ quan quản lý thuế
A39: 4.3 | B39: Nhà thầu liên danh liên doanh...
A40: 4.3.1 | B40: Đại diện
A41: 4.3.2 | B41: Địa chỉ:
A42: 4.3.3 | B42: Tài khoản tại KBNN/NH
A43: 4.3.4 | B43: Mã số thuế
A44: 4.3.5 | B44: Cơ quan quản lý thuế
A45: II | B45: Thông tin chi tiết
A46: 1 | B46: Giá hợp đồng, tạm ứng và thanh toán
A47: 1.1 | B47: Giá trị hợp đồng | C47: 9606000 | D47: Không điều chỉnh
A48: 1.1.1 | B48: Giá trị hợp đồng tương ứng với Nhà thầu | D48: Không điều chỉnh
A49: 1.1.2 | B49: Giá trị hợp đồng tương ứng với Nhà thầu...
A50: 1.2 | B50: Quản lý Tạm ứng và thu hồi tạm ứng | C50: Không áp dụng | D50: Không điều chỉnh
A51: 1.2.1 | B51: Mức vốn tạm ứng
A52: 1.2.2 | B52: Thời điểm tạm ứng lần đầu
A53: 1.3 | B53: Thu hồi tạm ứng | C53: Không áp dụng | D53: Không điều chỉnh
A54: 1.4 | B54: Quy định về tạm giữ chờ quyết toán hoàn thành dự án (nếu có)
A55: 2 | B55: Bảo hiểm và bảo hành công trình
A56: 2.1 | B56: Bảo hiểm | C56: - Chủ đầu tư phải mua bảo hiểm công trình xây dựng theo quy định. - Nhà thầu phải thực hiện mua bảo hiểm đối với các thiết bị, nhân lực của Nhà thầu, bảo hiểm đối với bên thứ 3 | D56: Không điều chỉnh
A57: 2.2 | B57: Bảo hành công trình | C57: - Thực hiện việc bảo hành công trình trong thời gian 12 tháng với giá trị bảo hành là 5% giá trị hợp đồng. Hình thức bằng bảo lãnh ngân hàng. | D57: Không điều chỉnh
A58: 2.3 | B58: Thông tin chi tiết số văn bản bảo lãnh bảo hành của tổ chức tín dụng trong trường hợp hợp đồng quy định hình thức bảo lãnh để đảm bảo bảo hành.
A59: 3 | B59: Quy định về việc sử dụng chứng chỉ thanh toán tạm thời đối với dự án sử dụng vốn nước ngoài (nếu có)
A60: 4 | B60: Thỏa thuận về đặt cọc đối với hợp đồng mua bán nhà, đất của dự án tại nước ngoài
D61: Kiến Minh, ngày tháng 06 năm 2026
D62: ĐẠI DIỆN CHỦ ĐẦU TƯ

Sheet 3a XL
A1: PHÒNG KINH TẾ XÃ KIẾN MINH | I1: Mẫu số 03.a/TT
A3: BẢNG XÁC ĐỊNH GIÁ TRỊ KHỐI LƯỢNG CÔNG VIỆC HOÀN THÀNH
A5: Tên dự án: Nạo vét tuyến kênh từ gốc đa Miếu Bà đến cống Bà Xoàng, thôn Phong Cầu 2, xã Kiến Minh;
A6: Mã dự án:
A7: Căn cứ Bảng thông tin của Hợp đồng: Hợp đồng số 1303/2026/HĐTV ngày 13tháng 03 năm 2026
A8: Căn cứ Bảng thông tin Dự toán số:
A9: Chủ đầu tư: Phòng Kinh tế xã Kiến Minh
A10: Nhà thầu: Công ty cổ phần tư vấn xây dựng và thương mại Cường Đạt
A11: Thanh toán lần thứ: Quyết toán
A12: Căn cứ Biên bản nghiệm thu khối lượng hoàn thành công trình ngày 16/05/2026
I13: Đơn vị: Đồng
A14: Số TT | B14: Chỉ tiêu | C14: Giá trị hợp đồng/dự toán | D14: Giá trị KLHT chưa thanh toán đến hết kỳ trước | E14: Giá trị KLHT nghiệm thu trong kỳ này | F14: Giá trị KLHT đề nghị thanh toán kỳ này | G14: Giá trị KLHT chưa thanh toán đến hết kỳ này | H14: Lũy kế giá trị KLHT đã thanh toán đến hết kỳ trước | I14: Lũy kế giá trị KLHT đã thanh toán đến hết kỳ này | J14: Ghi chú
A15: 1 | B15: 2 | C15: 3 | D15: 4 | E15: 5 | F15: 6 | G15: 7=4+5-6 | H15: 8 | I15: 9=8+6 | J15: 10
A16: I | B16: Công việc thực hiện thông qua hợp đồng thi công xây dựng công trình | C16: =C17 -> 9606000 | D16: =D17 -> 0 | E16: =E17 -> 9606000 | F16: =F17 -> 9606000 | G16: =G17 -> 0 | H16: =H17 -> 0 | I16: =I17 -> 9606000
A17: 1 | B17: Quản lý dự án công trình: Nạo vét tuyến kênh từ gốc đa Miếu Bà đến cống Bà Xoàng, thôn Phong Cầu 2, xã Kiến Minh; | C17: ='2a'!C47 -> 9606000 | D17: 0 | E17: =C17 -> 9606000 | F17: =E17 -> 9606000 | G17: 0 | H17: 0 | I17: =H17+F17 -> 9606000
A19: 1. Giá trị tạm ứng còn lại chưa thu hồi đến hết kỳ trước: | G19: 0 | H19: đồng
A20: 2. Số tiền đã thanh toán khối lượng hoàn thành đến hết kỳ trước: | G20: =G21+G22+G23 -> 0 | H20: đồng
A21: 2.1. Thanh toán cho nhà thầu: | G21: =H16 -> 0 | H21: đồng
A22: 2.2. Tiền bảo hành công trình (trong trường hợp không bảo lãnh bảo hành công trình): | G22: 0 | H22: đồng
A23: 2.3. Chuyển vào tài khoản tạm giữ chờ quyết toán: | G23: 0 | H23: đồng
A24: 3. Lũy kế giá trị khối lượng thực hiện đến hết kỳ này: | G24: =E16 -> 9606000 | H24: đồng
A25: 4. Thanh toán để thu hồi tạm ứng: | G25: 0 | H25: đồng
A26: 5. Giá trị đề nghị giải ngân kỳ này: | G26: =G28+G29 -> 9606000 | H26: đồng
A27: Số tiền bằng chữ: (Bằng chữ: Chín triệu sáu trăm lẻ sáu nghìn đồng./.), trong đó:
A28: 5.1 Tạm ứng: | G28: 0 | H28: đồng
A29: 5.2 Thanh toán khối lượng hoàn thành: | G29: =G30+G31+G32 -> 9606000 | H29: đồng
A30: + Thanh toán cho nhà thầu: | G30: =I16 -> 9606000 | H30: đồng
A31: + Tiền bảo hành công trình (trong trường hợp không bảo lãnh bảo hành công trình): | G31: 0 | H31: đồng
A32: + Chuyển vào tài khoản tạm giữ chờ quyết toán: | G32: 0 | H32: đồng
A33: 6. Lũy kế giá trị giải ngân: | G33: =G35+G36 -> 9606000 | H33: đồng
A34: Trong đó:
A35: 6.1. Tạm ứng: | G35: =G19-G25 -> 0 | H35: đồng
A36: 6.2. Thanh toán khối lượng hoàn thành: | G36: =G37+G38+G39 -> 9606000 | H36: đồng
A37: - Thanh toán cho nhà thầu | G37: =G20+G25+G26 -> 9606000 | H37: đồng
A38: - Tiền bảo hành công trình (trong trường hợp không bảo lãnh bảo hành công trình): | G38: 0 | H38: đồng | L38: z
A39: - Chuyển vào tài khoản tạm giữ chờ quyết toán: | G39: 0 | H39: đồng
G40: Ngày tháng 6 năm 2026
A41: ĐẠI DIỆN NHÀ THẦU | G41: ĐẠI DIỆN CHỦ ĐẦU TƯ
A42: (Ký, ghi rõ họ tên chức vụ, đóng dấu) | G42: (Ký, ghi rõ họ tên chức vụ, đóng dấu)

Sheet ĐNTT
A1: CÔNG TY CỔ PHẦN TƯ VẤN XÂY DỰNG & THƯƠNG MẠI CƯỜNG ĐẠT | F1: CỘNG HÒA XÃ HỘI CHỦ NGHĨA VIỆT NAM
F2: Độc lập - Tự do - Hạnh phúc
A4: Số: 05/CV-CĐ | F4: Hải Phòng, ngày 16 tháng 6 năm 2026
A6: V/v: thanh toán lần 01 - Gói thầu số 02: Gói thầu tư vấn Quản lý dự án: Cải tạo, sửa chữa tuyến đường từ nhà ông Động đến nhà bà Khía, thôn Đức Phong, xã Kiến Minh
A8: - Căn cứ Hợp đồng số 0903/2026/HĐTV ngày 09 tháng 03 năm 2026 ký kết giữa Phòng Kinh tế xã Kiến Minh với Công ty cổ phần tư vấn xây dựng và thương mại Cường Đạt về việc thực hiện gói thầu số 02: Quản lý dự án: Cải tạo, sửa chữa tuyến đường từ nhà ông Động đến nhà bà Khía, thôn Đức Phong, xã Kiến Minh.
A9: - Căn cứ hồ sơ thanh toán đợt 01;
A10: - Căn cứ quy định Hợp đồng, Chúng tôi đã hoàn thành công việc tuân thủ đúng theo các điều kiện và quy định của Hợp đồng. Vì vậy, chúng tôi xin trình giá trị của đợt này là:
B11: Giá trị hợp đồng : | G11: ='3a XL'!C16 -> 9606000
B12: Luỹ kế giá trị thanh toán cuối kỳ trước: | G12: ='3a XL'!G20 -> 0
B13: Lũy kế giá trị thực hiện kỳ này: | G13: ='3a XL'!E16 -> 9606000
B14: Giá trị thu hồi tạm ứng kỳ này: | G14: ='3a XL'!G25 -> 0
B15: Giá trị đề nghị thanh toán kỳ này: | G15: ='3a XL'!G26 -> 9606000
A16: Bằng chữ: | C16: Bốn mươi chín triệu sáu trăm hai mươi tám triệu đồng
A18: Đơn vị thụ hưởng: | D18: Công ty cổ phần tư vấn xây dựng và thương mại Cường Đạt
A19: Tài khoản: | C19: Số 20239666 Tại Ngân hàng VietinBank – PGD Kiến Thụy
A21: Nơi nhận | E21: ĐẠI DIỆN NHÀ THẦU
A22: - Như kính gửi,
A23: - Lưu: VT.

Sheet GTQT
B2: BẢNG CHI TIẾT GIÁ TRỊ QUYẾT TOÁN
B3: Dự án: Xây dựng hệ thống chiếu sáng tuyến đường của thôn Tân Linh (đoạn từ gốc đa đến cống chùa Hưng Khánh), xã Kiến Minh
B4: Gói thầu số 04: Gói thầu xây lắp
B5: Căn cứ Hợp đồng số: 28.01/2026/HĐ-XL ngày 28/01/2026
B6: Chủ đầu tư: Phòng Kinh tế xã Kiến Minh
B7: Nhà thầu: Công ty cổ phần phát triển xây dựng Tân Hòa
K8: Đơn vị: Đồng
B9: Stt | C9: Tên công việc | D9: Đơn vị tính | E9: Khối lượng | H9: Đơn giá quyết toán theo Hợp đồng | I9: Thành tiền | L9: Ghi chú
E10: Theo Hợp đồng | F10: Quyết toán | G10: Tăng(+), giảm(-) | I10: Theo Hợp đồng | J10: Quyết toán | K10: Tăng(+), giảm(-)
B11: 1 | C11: =B11+1 -> 2 | D11: =C11+1 -> 3 | E11: =D11+1 -> 4 | F11: =E11+1 -> 5 | G11: =F11+1 -> 6 | H11: =G11+1 -> 7 | I11: =H11+1 -> 8 | J11: =I11+1 -> 9 | ... L11: =K11+1 -> 11
C12: Rãnh xây B800
B13: 1 | C13: Đào hữu cơ, bằng máy đào 0,8m3, đất cấp I (Đào bằng máy 90% khối lượng) | D13: 100m3 | E13: 4.2194 | F13: =#REF! -> #REF! | G13: =F13-E13 -> #REF! | H13: 1877945.7 | I13: =H13*E13 -> 7923803.9 | J13: =F13*H13 -> #REF! | K13: =J13-I13 -> #REF! | M13: =J13-I13 -> #REF!
B14: 2 | C14: Đào hữu cơ, đường cáp bằng thủ công, đất cấp I (Đào bằng thủ công 10% khối lượng) | D14: m3 | E14: 46.882 | F14: =#REF! -> #REF! | G14: =F14-E14 -> #REF! | H14: 183951.73 | I14: =H14*E14 -> 8624025.1 | J14: =F14*H14 -> #REF! | K14: =J14-I14 -> #REF! | M14: =J14-I14 -> #REF!
B15: 3 | C15: Vận chuyển đất bằng ôtô tự đổ 7 tấn trong phạm vi <= 1000m, đất cấp I | D15: 100m3 | E15: 4.6882 | F15: =#REF! -> #REF! | G15: =F15-E15 -> #REF! | H15: 1933761 | I15: =H15*E15 -> 9065858.5 | J15: =F15*H15 -> #REF! | K15: =J15-I15 -> #REF! | M15: =J15-I15 -> #REF!
B16: 4 | C16: Vận chuyển đất bằng ô tô tự đổ 7T 1km tiếp theo trong phạm vi <= 5km, đất cấp I | D16: 100m3 | E16: 4.6882 | F16: =#REF! -> #REF! | G16: =F16-E16 -> #REF! | H16: 4121848.9 | I16: =H16*E16 -> 19324052 | J16: =F16*H16 -> #REF! | K16: =J16-I16 -> #REF! | M16: =J16-I16 -> #REF!
B17: 5 | C17: Đào móng công trình, chiều rộng móng <= 6m, bằng máy đào 0,8m3, đất cấp II (Đào bằng máy 90% khối lượng) | D17: 100m3 | E17: 4.2516 | F17: =#REF! -> #REF! | G17: =F17-E17 -> #REF! | H17: 2320071.3 | I17: =H17*E17 -> 9864015 | J17: =F17*H17 -> #REF! | K17: =J17-I17 -> #REF! | M17: =J17-I17 -> #REF!
B18: 6 | C18: Đào rãnh, đường cáp bằng thủ công, đất cấp II | D18: m3 | E18: 47.24 | F18: =#REF! -> #REF! | G18: =F18-E18 -> #REF! | H18: 283466.6 | I18: =H18*E18 -> 13390962 | J18: =F18*H18 -> #REF! | K18: =J18-I18 -> #REF! | M18: =J18-I18 -> #REF!
B19: 7 | C19: Vận chuyển đất bằng ôtô tự đổ 7 tấn trong phạm vi <= 1000m, đất cấp II | D19: 100m3 | E19: 4.724 | F19: =#REF! -> #REF! | G19: =F19-E19 -> #REF! | H19: 2190280.4 | I19: =H19*E19 -> 10346884 | J19: =F19*H19 -> #REF! | K19: =J19-I19 -> #REF! | M19: =J19-I19 -> #REF!
B20: 8 | C20: Vận chuyển đất bằng ô tô tự đổ 7T 1km tiếp theo trong phạm vi <= 5km, đất cấp II | D20: 100m3 | E20: 4.724 | F20: =#REF! -> #REF! | G20: =F20-E20 -> #REF! | H20: 4669967.1 | I20: =H20*E20 -> 22060925 | J20: =F20*H20 -> #REF! | K20: =J20-I20 -> #REF! | M20: =J20-I20 -> #REF!
B21: 9 | C21: Đổ bê tông thủ công bằng máy trộn, bê tông lót móng, chiều rộng <= 250 cm, đá 4x6, vữa mác 100, PCB30 | D21: m3 | E21: 85.26 | F21: =#REF! -> #REF! | G21: =F21-E21 -> #REF! | H21: 1828495.1 | I21: =H21*E21 -> 1.5589749e+08 | J21: =F21*H21 -> #REF! | K21: =J21-I21 -> #REF! | M21: =J21-I21 -> #REF!
B22: 10 | C22: Đổ bê tông thủ công bằng máy trộn, bê tông móng, chiều rộng <= 250 cm, đá 2x4, mác 200, PCB40 | D22: m3 | E22: 134.24 | F22: =#REF! -> #REF! | G22: =F22-E22 -> #REF! | H22: 2011809.6 | I22: =H22*E22 -> 2.7006532e+08 | J22: =F22*H22 -> #REF! | K22: =J22-I22 -> #REF! | M22: =J22-I22 -> #REF!
B23: 11 | C23: Ván khuôn gỗ. Ván khuôn móng băng, móng bè, bệ máy | D23: 100m2 | E23: 1.81 | F23: =#REF! -> #REF! | G23: =F23-E23 -> #REF! | H23: 10744967 | I23: =H23*E23 -> 19448391 | J23: =F23*H23 -> #REF! | K23: =J23-I23 -> #REF! | M23: =J23-I23 -> #REF!
B24: 12 | C24: Xây gạch không nung 6,5x10,5x22, xây tường rãnh, vữa XM mác 75, PCB40 | D24: m3 | E24: 184.35 | F24: =#REF! -> #REF! | G24: =F24-E24 -> #REF! | H24: 2056422.6 | I24: =H24*E24 -> 3.7910151e+08 | J24: =F24*H24 -> #REF! | K24: =J24-I24 -> #REF! | M24: =J24-I24 -> #REF!
B25: 13 | C25: Trát tường xây gạch không nung bằng vữa thông thường, trát tường rãnh, chiều dày trát 2cm, vữa XM mác 75, PCB40 | D25: m2 | E25: 837.95 | F25: =#REF! -> #REF! | G25: =F25-E25 -> #REF! | H25: 117463.37 | I25: =H25*E25 -> 98428429 | J25: =F25*H25 -> #REF! | K25: =J25-I25 -> #REF! | M25: =J25-I25 -> #REF!
B26: 14 | C26: Đổ bê tông thủ công bằng máy trộn, bê tông giằng rãnh, đá 1x2, mác 200, PCB40 | D26: m3 | E26: 33.74 | F26: 33.74 | G26: =F26-E26 -> 0 | H26: 2531548.6 | I26: =H26*E26 -> 85414449 | J26: =F26*H26 -> 85414449 | K26: =J26-I26 -> 0 | M26: =J26-I26 -> 0
B27: 15 | C27: Công tác gia công lắp dựng cốt thép. Cốt thép giằng, đường kính cốt thép <= 10mm | D27: tấn | E27: 1.41 | F27: 1.41 | G27: =F27-E27 -> 0 | H27: 25480894 | I27: =H27*E27 -> 35928061 | J27: =F27*H27 -> 35928061 | K27: =J27-I27 -> 0 | M27: =J27-I27 -> 0
B28: 16 | C28: Ván khuôn gỗ. Ván khuôn xà dầm, giằng | D28: 100m2 | E28: 3.63 | F28: 3.63 | G28: =F28-E28 -> 0 | H28: 18246727 | I28: =H28*E28 -> 66235618 | J28: =F28*H28 -> 66235618 | K28: =J28-I28 -> 0 | M28: =J28-I28 -> 0
C29: Tấm đan | M29: =J29-I29 -> 0
B30: 17 | C30: Đổ bê tông đúc sẵn bằng thủ công - sản xuất bằng máy trộn. Bê tông tấm đan, đá 1x2, mác 250, PCB40 | D30: m3 | E30: 57.14 | F30: =#REF! -> #REF! | G30: =F30-E30 -> #REF! | H30: 2264296 | I30: =H30*E30 -> 1.2938187e+08 | J30: =F30*H30 -> #REF! | K30: =J30-I30 -> #REF! | M30: =J30-I30 -> #REF!
B31: 18 | C31: Ván khuôn bê tông đúc sẵn, ván khuôn gỗ tấm đan ga | D31: 100m2 | E31: 3.37 | F31: =#REF! -> #REF! | G31: =F31-E31 -> #REF! | H31: 9435741.1 | I31: =H31*E31 -> 31798448 | J31: =F31*H31 -> #REF! | K31: =J31-I31 -> #REF! | M31: =J31-I31 -> #REF!
B32: 19 | C32: Công tác gia công, lắp đặt cốt thép bê tông đúc sẵn. Cốt thép tấm đan | D32: tấn | E32: 6.29 | F32: =#REF! -> #REF! | G32: =F32-E32 -> #REF! | H32: 26076523 | I32: =H32*E32 -> 1.6402133e+08 | J32: =F32*H32 -> #REF! | K32: =J32-I32 -> #REF! | M32: =J32-I32 -> #REF!
B33: 20 | C33: Lắp dựng cấu kiện bê tông tấm đan | D33: 1 cấu kiện | E33: 907 | F33: 907 | G33: =F33-E33 -> 0 | H33: 40732.939 | I33: =H33*E33 -> 36944776 | J33: =F33*H33 -> 36944776 | K33: =J33-I33 -> 0 | M33: =J33-I33 -> 0
C34: Thanh chống | M34: =J34-I34 -> 0
B35: 21 | C35: Đổ bê tông đúc sẵn bằng thủ công - sản xuất bằng máy trộn. Bê tông thanh chống, đá 1x2, mác 250, PCB40 | D35: m3 | E35: 2.11 | F35: =#REF! -> #REF! | G35: =F35-E35 -> #REF! | H35: 2264296 | I35: =H35*E35 -> 4777664.5 | J35: =F35*H35 -> #REF! | K35: =J35-I35 -> #REF! | M35: =J35-I35 -> #REF!
B36: 22 | C36: Ván khuôn bê tông đúc sẵn, ván khuôn gỗ thanh chống | D36: 100m2 | E36: 0.45 | F36: =#REF! -> #REF! | G36: =F36-E36 -> #REF! | H36: 9435741.1 | I36: =H36*E36 -> 4246083.5 | J36: =F36*H36 -> #REF! | K36: =J36-I36 -> #REF! | M36: =J36-I36 -> #REF!
B37: 23 | C37: Công tác gia công, lắp đặt cốt thép bê tông đúc sẵn. Cốt thép thanh chống | D37: tấn | E37: 0.29 | F37: =#REF! -> #REF! | G37: =F37-E37 -> #REF! | H37: 26076523 | I37: =H37*E37 -> 7562191.8 | J37: =F37*H37 -> #REF! | K37: =J37-I37 -> #REF! | M37: =J37-I37 -> #REF!
B38: 24 | C38: Lắp dựng cấu kiện bê tông thanh chống | D38: 1 cấu kiện | E38: 151 | F38: =#REF! -> #REF! | G38: =F38-E38 -> #REF! | H38: 40732.939 | I38: =H38*E38 -> 6150673.8 | J38: =F38*H38 -> #REF! | K38: =J38-I38 -> #REF! | M38: =J38-I38 -> #REF!
B39: 25 | C39: Đắp đất công trình bằng đầm đất cầm tay 70kg, độ chặt yêu cầu K=0,90 | D39: 100m3 | E39: 8.5954 | F39: 8.5954 | G39: =F39-E39 -> 0 | H39: 3745791.5 | I39: =H39*E39 -> 32196576 | J39: =F39*H39 -> 32196576 | K39: =J39-I39 -> 0 | M39: =J39-I39 -> 0
B40: 26 | C40: Mua đất đắp nền | D40: m3 | E40: 945.494 | F40: 945.494 | G40: =F40-E40 -> 0 | H40: 272225.45 | I40: =H40*E40 -> 2.5738753e+08 | J40: =F40*H40 -> 2.5738753e+08 | K40: =J40-I40 -> 0 | M40: =J40-I40 -> 0
B41: 27 | C41: Thuê bãi đúc cấu kiện | D41: tháng | E41: 2 | F41: 2 | G41: =F41-E41 -> 0 | H41: 12373884 | I41: =H41*E41 -> 24747768 | J41: =F41*H41 -> 24747768 | K41: =J41-I41 -> 0 | M41: =J41-I41 -> 0
C42: CỘNG | I42: =SUM(I12:I41) -> 1.9103347e+09 | J42: =SUM(J12:J41) -> #REF! | K42: =J42-I42 -> #REF!
C43: TỔNG CỘNG(LÀM TRÒN) | I43: =ROUND(I42,-3) -> 1910335000 | J43: =ROUNDDOWN(J42,-3) -> #REF! | K43: =J43-I43 -> #REF! | M43: 0.95
B44: Bằng chữ: Một tỷ, chín trăm linh chín triệu, chín trăm bảy mươi chín nghìn đồng ./. | M44: =K43*M43 -> #REF!
I45: Kiến Minh, ngày tháng năm 2026
B47: ĐẠI DIỆN BÊN A | I47: ĐẠI DIỆN BÊN B
B48: (Ký, ghi rõ họ tên, chức vụ và đóng dấu) | I48: (Ký, ghi rõ họ tên, chức vụ và đóng dấu)

Sheet dght
A1: BẢNG DIỄN GIẢI KHỐI LƯỢNG HOÀN THÀNH CÔNG TRÌNH Dự án: Xây dựng hệ thống thoát nước tuyến đường(từ nhà ông Cường đến nhà ông Hưng thôn Đại Trà Đức)
A2: TT | B2: Hạng mục công việc | C2: Đơn vị | D2: Ký hiệu | E2: Diễn giải | F2: Khối lượng
B3: Rãnh xây B800 | C3: m | D3: Lr | E3: Thống kê bình đồ thoát nước | F3: 453.5
B4: Chiều cao rãnh trung bình | C4: m | D4: Hrx | E4: Bảng THKL chi tiết | F4: =AVERAGE('[1]Bang KL chi tiet'!C4:C24,'[1]Bang KL chi tiet'!C30:C68) -> 1.443871
B5: Chiều cao xây rãnh trung bình | C5: m | D5: Hx | E5: Hr-0,52 | F5: =+F4-0.52 -> 0.92387097
A6: 1 | B6: Đào bóc hữu cơ | C6: m3 | D6: Vhc | E6: Bảng THKL chi tiết*90%/100 | F6: 4.2194
A7: 2 | B7: Đào rãnh B800 | C7: m3 | D7: Vđr | E7: Bảng THKL chi tiết*90%/100 | F7: 4.2516
A8: 3 | B8: Bê tông lót móng M100, đá 4x6, dày 10cm | C8: m3 | D8: Vđl | E8: Lr*1,88*0,1 | F8: 85.26
A9: 4 | B9: Bê tông móng M200 đá 2x4 | C9: m3 | D9: Vbtm | E9: Lr*1,48*0,2 | F9: 134.24
A10: 5 | B10: Ván khuôn móng | C10: 100m2 | D10: Svkm | E10: Lr*0,2*2/100 | F10: 1.81
A11: 6 | B11: Xây tường bằng gạch không nung, VXM mác 75 | C11: m3 | D11: Vxm | E11: Lr*Hx*0,22*2 | F11: 184.35
A12: 7 | B12: Trát tường VXM mác 75 | C12: m2 | D12: Stt | E12: Lr*Hx*2 | F12: =837.95-151*0.1*0.1*2 -> 834.93
A13: 8 | B13: Bê tông giằng tường M200, đá 1x2 | C13: m3 | D13: Vbtg | E13: Lr*(0,12*0,11+0,1*0,24)*2 | F13: 33.74
A14: 9 | B14: Cốt thép giằng tường | C14: tấn | D14: Tg | E14: Lr*2*1,55/1000 | F14: 1.41
A15: 10 | B15: Ván khuôn giằng tường | C15: 100m2 | D15: Svkg | E15: (Lr*0,2)*2*2/100 | F15: 3.63
A16: 11 | B16: Lắp đặt tấm đan | C16: cái | D16: Ntđ | E16: Lr/0,5 | F16: 907
A17: 12 | B17: Bê tông tấm đan M250, đá 1x2 | C17: m3 | D17: Vbttđ | E17: Ntđ*1,05*0,5*0,12 | F17: 57.14
A18: 13 | B18: Ván khuôn tấm đan | C18: 100m2 | D18: Scktđ | E18: Ntđ*(1,05+0,5)*2*0,12/100 | F18: 3.37
A19: 14 | B19: Cốt thép tấm đan | C19: tấn | D19: Ttđ | E19: Ntđ*(4,48+1,99+0,47)/1000 | F19: 6.29
A20: 15 | B20: Lắp đặt thanh chống | C20: cái | D20: T | E20: Lr/3 | F20: =ROUND(F3/3,0) -> 151
A21: 16 | B21: Bê tông thanh chống | C21: m3 | D21: Vbttc | E21: T*0,014 | F21: 2.11
A22: 17 | B22: Ván khuôn thanh chống | C22: 100m2 | D22: Svktc | E22: T*(1+0,3+0,1*2)*2*0,1/100 | F22: 0.45
A23: 18 | B23: Cốt thép thanh chống | C23: tấn | D23: Ttc | E23: T*(1,42+0,47)/1000 | F23: 0.29
A24: 19 | B24: Đắp đất K0,90 | C24: m3 | D24: Vđp | E24: Bảng THKL chi tiết | F24: 859.54
A25: 20 | B25: Mua đất đắp | C25: m3 | E25: 859,54*1,10 | F25: =859.54*1.1 -> 945.494
A26: 21 | B26: Thuê bãi đúc cấu kiện | C26: tháng | F26: 2
B27: Cán bộ tư vấn giám sát | E27: Cán bộ thi công
B33: Nguyễn Văn Lực | E33: Phạm Văn Huynh

Sheet dgctht
A1: BẢNG TỔNG HỢP KHỐI LƯỢNG CHI TIẾT HOÀN THÀNH CÔNG TRÌNH (Kèm theo Biên bản nghiệm thu hoàn thành công trình ngày 25/04/2026)
A2: Tên cọc | B2: KC lẻ (m) | C2: Diện tích
C3: H rãnh (m) | D3: S Đào HC-VB (m2) | E3: S Đắp đất K90 (m2) | F3: S Đào rãnh (m2) | G3: V Đào HC-VB (m3) | H3: V Đắp đất K90 (m3) | I3: V Đào rãnh (m3)
A4: D0 | C4: 1.58 | D4: 1 | E4: 1.86 | F4: 1.2
B5: 3.03 | G5: =(D4+D6)/2*$B5 -> 3.1815 | H5: =(E4+E6)/2*$B5 -> 5.56005 | I5: =(F4+F6)/2*$B5 -> 3.2724
A6: 1 | C6: 1.52 | D6: 1.1 | E6: 1.81 | F6: 0.96
B7: 14.47 | G7: =(D6+D8)/2*$B7 -> 16.71285 | H7: =(E6+E8)/2*$B7 -> 25.3225 | I7: =(F6+F8)/2*$B7 -> 12.1548
A8: 2 | C8: 1.36 | D8: 1.21 | E8: 1.69 | F8: 0.72
B9: 17.5 | G9: =(D8+D10)/2*$B9 -> 20.475 | H9: =(E8+E10)/2*$B9 -> 29.75 | I9: =(F8+F10)/2*$B9 -> 11.2875
A10: 3 | C10: 1.39 | D10: 1.13 | E10: 1.71 | F10: 0.57
B11: 17.5 | G11: =(D10+D12)/2*$B11 -> 22.4875 | H11: =(E10+E12)/2*$B11 -> 38.4125 | I11: =(F10+F12)/2*$B11 -> 13.2125
A12: 4 | C12: 1.39 | D12: 1.44 | E12: 2.68 | F12: 0.94
B13: 13.5 | G13: =(D12+D14)/2*$B13 -> 19.7775 | H13: =(E12+E14)/2*$B13 -> 39.4875 | I13: =(F12+F14)/2*$B13 -> 13.5
A14: D1 | C14: 1.41 | D14: 1.49 | E14: 3.17 | F14: 1.06
B15: 20.22 | G15: =(D14+D16)/2*$B15 -> 26.4882 | H15: =(E14+E16)/2*$B15 -> 53.3808 | I15: =(F14+F16)/2*$B15 -> 23.4552
A16: 5 | C16: 1.42 | D16: 1.13 | E16: 2.11 | F16: 1.26
B17: 18.79 | G17: =(D16+D18)/2*$B17 -> 20.4811 | H17: =(E16+E18)/2*$B17 -> 36.35865 | I17: =(F16+F18)/2*$B17 -> 19.44765
A18: 6 | C18: 1.46 | D18: 1.05 | E18: 1.76 | F18: 0.81
B19: 24 | G19: =(D18+D20)/2*$B19 -> 26.16 | H19: =(E18+E20)/2*$B19 -> 45.24 | I19: =(F18+F20)/2*$B19 -> 17.4
A20: 7 | C20: 1.49 | D20: 1.13 | E20: 2.01 | F20: 0.64
B21: 15.29 | G21: =(D20+D22)/2*$B21 -> 17.2777 | H21: =(E20+E22)/2*$B21 -> 28.8981 | I21: =(F20+F22)/2*$B21 -> 12.0791
A22: D2 | C22: 1.49 | D22: 1.13 | E22: 1.77 | F22: 0.94
B23: 7.41 | G23: =(D22+D24)/2*$B23 -> 8.11395 | H23: =(E22+E24)/2*$B23 -> 13.07865 | I23: =(F22+F24)/2*$B23 -> 7.7805
A24: 8 | C24: 1.49 | D24: 1.06 | E24: 1.76 | F24: 1.16
B25: 3.27 | G25: =(D24+D26)/2*$B25 -> 1.7331 | H25: =(E24+E26)/2*$B25 -> 2.8776 | I25: =(F24+F26)/2*$B25 -> 1.8966
A26: 9 | C26: 0 | D26: 0 | E26: 0 | F26: 0
B27: 4.11 | G27: =(D26+D28)/2*$B27 -> 0 | H27: =(E26+E28)/2*$B27 -> 0 | I27: =(F26+F28)/2*$B27 -> 0
A28: 10 | C28: 0 | D28: 0 | E28: 0 | F28: 0
B29: 5.17 | G29: =(D28+D30)/2*$B29 -> 2.068 | H29: =(E28+E30)/2*$B29 -> 4.26525 | I29: =(F28+F30)/2*$B29 -> 4.4979
A30: D3 | C30: 1.47 | D30: 0.8 | E30: 1.65 | F30: 1.74
B31: 10.75 | G31: =(D30+D32)/2*$B31 -> 8.97625 | H31: =(E30+E32)/2*$B31 -> 17.3075 | I31: =(F30+F32)/2*$B31 -> 15.42625
A32: 11 | C32: 1.46 | D32: 0.87 | E32: 1.57 | F32: 1.13
B33: 17.5 | G33: =(D32+D34)/2*$B33 -> 14.9625 | H33: =(E32+E34)/2*$B33 -> 26.6875 | I33: =(F32+F34)/2*$B33 -> 20.475
A34: 12 | C34: 1.4 | D34: 0.84 | E34: 1.48 | F34: 1.21
B35: 17.5 | G35: =(D34+D36)/2*$B35 -> 14.7875 | H35: =(E34+E36)/2*$B35 -> 25.9 | I35: =(F34+F36)/2*$B35 -> 22.05
A36: 13 | C36: 1.38 | D36: 0.85 | E36: 1.48 | F36: 1.31
B37: 17.5 | G37: =(D36+D38)/2*$B37 -> 14.525 | H37: =(E36+E38)/2*$B37 -> 25.8125 | I37: =(F36+F38)/2*$B37 -> 23.1
A38: 14 | C38: 1.39 | D38: 0.81 | E38: 1.47 | F38: 1.33
B39: 17.5 | G39: =(D38+D40)/2*$B39 -> 15.225 | H39: =(E38+E40)/2*$B39 -> 27.475 | I39: =(F38+F40)/2*$B39 -> 19.95
A40: 15 | C40: 1.4 | D40: 0.93 | E40: 1.67 | F40: 0.95
B41: 18.19 | G41: =(D40+D42)/2*$B41 -> 17.91715 | H41: =(E40+E42)/2*$B41 -> 32.10535 | I41: =(F40+F42)/2*$B41 -> 15.73435
A42: D4 | C42: 1.4 | D42: 1.04 | E42: 1.86 | F42: 0.78
B43: 16.81 | G43: =(D42+D44)/2*$B43 -> 18.1548 | H43: =(E42+E44)/2*$B43 -> 32.52735 | I43: =(F42+F44)/2*$B43 -> 13.19585
A44: 16 | C44: 1.41 | D44: 1.12 | E44: 2.01 | F44: 0.79
B45: 17.5 | G45: =(D44+D46)/2*$B45 -> 20.0375 | H45: =(E44+E46)/2*$B45 -> 36.6625 | I45: =(F44+F46)/2*$B45 -> 13.9125
A46: 17 | C46: 1.43 | D46: 1.17 | E46: 2.18 | F46: 0.8
B47: 17.5 | G47: =(D46+D48)/2*$B47 -> 20.475 | H47: =(E46+E48)/2*$B47 -> 39.375 | I47: =(F46+F48)/2*$B47 -> 15.6625
A48: 18 | C48: 1.52 | D48: 1.17 | E48: 2.32 | F48: 0.99
B49: 17.5 | G49: =(D48+D50)/2*$B49 -> 19.075 | H49: =(E48+E50)/2*$B49 -> 35.7875 | I49: =(F48+F50)/2*$B49 -> 20.3875
A50: 19 | C50: 1.57 | D50: 1.01 | E50: 1.77 | F50: 1.34
B51: 17.5 | G51: =(D50+D52)/2*$B51 -> 16.3625 | H51: =(E50+E52)/2*$B51 -> 33.25 | I51: =(F50+F52)/2*$B51 -> 27.5625
A52: 20 | C52: 1.64 | D52: 0.86 | E52: 2.03 | F52: 1.81
B53: 21.21 | G53: =(D52+D54)/2*$B53 -> 9.1203 | H53: =(E52+E54)/2*$B53 -> 21.52815 | I53: =(F52+F54)/2*$B53 -> 19.19505
A54: D5 | C54: 0 | D54: 0 | E54: 0 | F54: 0
B55: 13.79 | G55: =(D54+D56)/2*$B55 -> 6.68815 | H55: =(E54+E56)/2*$B55 -> 14.27265 | I55: =(F54+F56)/2*$B55 -> 8.9635
A56: 21 | C56: 1.65 | D56: 0.97 | E56: 2.07 | F56: 1.3
B57: 17.5 | G57: =(D56+D58)/2*$B57 -> 16.8 | H57: =(E56+E58)/2*$B57 -> 34.65 | I57: =(F56+F58)/2*$B57 -> 21.7
A58: 22 | C58: 1.59 | D58: 0.95 | E58: 1.89 | F58: 1.18
B59: 17.5 | G59: =(D58+D60)/2*$B59 -> 16.45 | H59: =(E58+E60)/2*$B59 -> 33.1625 | I59: =(F58+F60)/2*$B59 -> 21.7875
A60: 23 | C60: 1.6 | D60: 0.93 | E60: 1.9 | F60: 1.31
B61: 17.5 | G61: =(D60+D62)/2*$B61 -> 17.0625 | H61: =(E60+E62)/2*$B61 -> 32.375 | I61: =(F60+F62)/2*$B61 -> 20.2125
A62: 24 | C62: 1.56 | D62: 1.02 | E62: 1.8 | F62: 1
B63: 17.5 | G63: =(D62+D64)/2*$B63 -> 17.85 | H63: =(E62+E64)/2*$B63 -> 31.9375 | I63: =(F62+F64)/2*$B63 -> 16.1
A64: 25 | C64: 1.58 | D64: 1.02 | E64: 1.85 | F64: 0.84
B65: 14.26 | G65: =(D64+D66)/2*$B65 -> 14.7591 | H65: =(E64+E66)/2*$B65 -> 26.5949 | I65: =(F64+F66)/2*$B65 -> 12.1923
A66: 26 | C66: 1.63 | D66: 1.05 | E66: 1.88 | F66: 0.87
B67: 3.74 | G67: =(D66+D68)/2*$B67 -> 4.6376 | H67: =(E66+E68)/2*$B67 -> 9.4996 | I67: =(F66+F68)/2*$B67 -> 4.8059
A68: 27 | C68: 1.68 | D68: 1.43 | E68: 3.2 | F68: 1.7
A69: TỔNG | G69: =SUM(G4:G68) -> 468.82225 | H69: =SUM(H4:H68) -> 859.5421 | I69: =SUM(I4:I68) -> 472.39735
A71: Cán bộ tư vấn giám sát | G71: Cán bộ thi công
A76: Nguyễn Văn Lực | G76: Phạm Văn Huynh

Sheet dien giai
A1: BẢNG DIỄN GIẢI KHỐI LƯỢNG
A2: Dự án: Xây dựng hệ thống thoát nước tuyến đường(từ nhà ông Cường đến nhà ông Hưng thôn Đại Trà Đức)
A3: Địa chỉ: Xã Kiến Minh, thành phố Hải Phòng
A4: STT | B4: Tên công việc | C4: Đơn vị tính | D4: Số lượng cấu kiện | E4: diễn giải khối lượng | I4: Khối lượng | J4: Tổng khối lượng | K4: Ghi chú
E5: Dài | F5: Rộng | G5: Cao | H5: Hệ số
B6: Rãnh xây B800
A7: 1 | B7: Đào hữu cơ, bằng máy đào 0,8m3, đất cấp I (Đào bằng máy 90% khối lượng) | C7: 100m3
L9: 41.16
L13: 284.328
L14: 1.623
L15: 96.898
A19: 2 | B19: Đào hữu cơ, đường cáp bằng thủ công, đất cấp I (Đào bằng thủ công 10% khối lượng) | C19: m3
L24: 53.842
A28: 3 | B28: Vận chuyển đất bằng ôtô tự đổ 7 tấn trong phạm vi <= 1000m, đất cấp I | C28: 100m3
L35: 234.234
A36: 4 | B36: Vận chuyển đất bằng ô tô tự đổ 7T 1km tiếp theo trong phạm vi <= 5km, đất cấp I | C36: 100m3
L38: 178.345
L42: 427.811
L43: 427.811
A44: 5 | B44: Đào móng công trình, chiều rộng móng <= 6m, bằng máy đào 0,8m3, đất cấp II (Đào bằng máy 90% khối lượng) | C44: 100m3
L45: 54.733
A51: 6 | B51: Đào rãnh, đường cáp bằng thủ công, đất cấp II | C51: m3
L56: 148.628
A58: 7 | B58: Vận chuyển đất bằng ôtô tự đổ 7 tấn trong phạm vi <= 1000m, đất cấp II | C58: 100m3
L59: 0.751
L62: 70.544
A67: 8 | B67: Vận chuyển đất bằng ô tô tự đổ 7T 1km tiếp theo trong phạm vi <= 5km, đất cấp II | C67: 100m3
A77: 9 | B77: Đổ bê tông thủ công bằng máy trộn, bê tông lót móng, chiều rộng <= 250 cm, đá 4x6, vữa mác 100, PCB30 | C77: m3
L81: 34.851
A85: 10 | B85: Đổ bê tông thủ công bằng máy trộn, bê tông móng, chiều rộng <= 250 cm, đá 2x4, mác 200, PCB40 | C85: m3
A93: 11 | B93: Ván khuôn gỗ. Ván khuôn móng băng, móng bè, bệ máy | C93: 100m2
L94: 113.07
L97: 84.225
A99: 12 | B99: Xây gạch không nung 6,5x10,5x22, xây tường rãnh, vữa XM mác 75, PCB40 | C99: m3
L101: 246.506
L102: 246.506
L104: 64.125
A108: 13 | B108: Trát tường xây gạch không nung bằng vữa thông thường, trát tường rãnh, chiều dày trát 2cm, vữa XM mác 75, PCB40 | C108: m2
L111: 242.88
L112: 1.144
L113: 0.865
L114: 55.98
A115: 14 | B115: Đổ bê tông thủ công bằng máy trộn, bê tông giằng rãnh, đá 1x2, mác 200, PCB40 | C115: m3
L122: 29.713
A123: 15 | B123: Công tác gia công lắp dựng cốt thép. Cốt thép giằng, đường kính cốt thép <= 10mm | C123: tấn
L129: 190.839
A130: 16 | B130: Ván khuôn gỗ. Ván khuôn xà dầm, giằng | C130: 100m2
L132: 20.721
L134: 138.338
L135: 138.338
L137: 11.4
B139: Tấm đan
A140: 17 | B140: Đổ bê tông đúc sẵn bằng thủ công - sản xuất bằng máy trộn. Bê tông tấm đan, đá 1x2, mác 250, PCB40 | C140: m3
L141: 57.375
L142: 0.277
L143: 19.995
A149: 18 | B149: Ván khuôn bê tông đúc sẵn, ván khuôn gỗ tấm đan ga | C149: 100m2
L155: 8.921
A156: 19 | B156: Công tác gia công, lắp đặt cốt thép bê tông đúc sẵn. Cốt thép tấm đan | C156: tấn
L162: 43.146
A163: 20 | B163: Lắp dựng cấu kiện bê tông tấm đan | C163: 1 cấu kiện
L164: 5.96
L166: 45.339
L167: 45.339
L169: 3.906
B170: Thanh chống
A171: 21 | B171: Đổ bê tông đúc sẵn bằng thủ công - sản xuất bằng máy trộn. Bê tông thanh chống, đá 1x2, mác 250, PCB40 | C171: m3 | L171: 8.303
L178: 2.337
A180: 22 | B180: Ván khuôn bê tông đúc sẵn, ván khuôn gỗ thanh chống | C180: 100m2
L182: 2.519
L184: 17.107
L185: 17.107
A186: 23 | B186: Công tác gia công, lắp đặt cốt thép bê tông đúc sẵn. Cốt thép thanh chống | C186: tấn
L187: 5.4
L189: 10.063
A194: 24 | B194: Lắp dựng cấu kiện bê tông thanh chống | C194: 1 cấu kiện
A201: 25 | B201: Đắp đất công trình bằng đầm đất cầm tay 70kg, độ chặt yêu cầu K=0,90 | C201: 100m3 | L201: 1.939
L205: 3.178
L207: 19.734
A210: 26 | B210: Mua đất đắp nền | C210: m3 | L210: 19.56 | T210: 1A | U210: 1B | V210: 1C
T211: =12.8*48.7 -> 623.36 | V211: =12.75*36.7 -> 467.925 | X211: 19.56
T212: =11.8*47.7 -> 562.86 | V212: =11.75*35.5 -> 417.125 | X212: 12.819
T213: =T212+T211 -> 1186.22 | V213: =V212+V211 -> 885.05 | X213: 15.019
L214: 12.819 | T214: =T213/2 -> 593.11 | V214: =V213/2 -> 442.525
T215: =T214*1.5 -> 889.665 | V215: =V214*1.5 -> 663.7875
T216: =T215/100 -> 8.89665 | V216: =V215/100 -> 6.637875
U217: =T216+V216 -> 15.534525 | V217: 19.56
A218: 27 | B218: Thuê bãi đúc cấu kiện | C218: tháng | V218: =V217-I211-I213 -> 19.56
L220: 15.019 | V220: =X211-V216-T216 -> 4.025475
L222: 3234
L224: 294
L226: 692.37
L228: 8.308
L229: 8.308
L230: 2.308
L231: 2.308
L232: 6
L234: 0.887
L236: 63.7
L238: 693.048
...

Sheet dg2
A1: BẢNG TỔNG HỢP KHỐI LƯỢNG CHI TIẾT HOÀN THÀNH LẦN 1
A2: Stt | B2: Tên cọc | C2: Lý trình | D2: KC lẻ (m) | E2: Diện tích | I2: Khối lượng | M2: =0.22+0.1+0.2 -> 0.52
E3: H rãnh (m) | F3: S Đào HC-VB (m2) | G3: S Đắp đất K90 (m2) | H3: S Đào rãnh (m2) | I3: H rãnh (m) | J3: V Đào HC-VB (m3) | K3: V Đắp đất K90 (m3) | L3: V Đào rãnh (m3)
A4: 1 | B4: D0 | C4: 0 | E4: 1.58 | F4: 1 | G4: 1.86 | H4: 1.2
D5: 3.03 | I5: =(E4+E6)/2 -> 1.55 | J5: =(F4+F6)/2*$D5 -> 3.1815 | K5: =(G4+G6)/2*$D5 -> 5.56005 | L5: =(H4+H6)/2*$D5 -> 3.2724 | M5: 3.1815 | N5: =M5-J5 -> 0
A6: 2 | B6: 1 | C6: 3.03 | E6: 1.52 | F6: 1.1 | G6: 1.81 | H6: 0.96 | N6: =M6-J6 -> 0
D7: =C8-C6 -> 14.47 | I7: =(E6+E8)/2 -> 1.44 | J7: =(F6+F8)/2*$D7 -> 16.71285 | K7: =(G6+G8)/2*$D7 -> 25.3225 | L7: =(H6+H8)/2*$D7 -> 12.1548 | M7: 16.71285 | N7: =M7-J7 -> 0
A8: 3 | B8: 2 | C8: 17.5 | E8: 1.36 | F8: 1.21 | G8: 1.69 | H8: 0.72 | N8: =M8-J8 -> 0
D9: =C10-C8 -> 17.5 | I9: =(E8+E10)/2 -> 1.375 | J9: =(F8+F10)/2*$D9 -> 20.475 | K9: =(G8+G10)/2*$D9 -> 29.75 | L9: =(H8+H10)/2*$D9 -> 11.2875 | M9: 20.475 | N9: =M9-J9 -> 0
A10: 4 | B10: 3 | C10: 35 | E10: 1.39 | F10: 1.13 | G10: 1.71 | H10: 0.57 | N10: =M10-J10 -> 0
D11: =C12-C10 -> 17.5 | I11: =(E10+E12)/2 -> 1.39 | J11: =(F10+F12)/2*$D11 -> 22.4875 | K11: =(G10+G12)/2*$D11 -> 38.4125 | L11: =(H10+H12)/2*$D11 -> 13.2125 | M11: 22.4875 | N11: =M11-J11 -> 0
A12: 5 | B12: 4 | C12: 52.5 | E12: 1.39 | F12: 1.44 | G12: 2.68 | H12: 0.94 | N12: =M12-J12 -> 0
D13: =C14-C12 -> 13.5 | I13: =(E12+E14)/2 -> 1.4 | J13: =(F12+F14)/2*$D13 -> 19.7775 | K13: =(G12+G14)/2*$D13 -> 39.4875 | L13: =(H12+H14)/2*$D13 -> 13.5 | M13: 19.7775 | N13: =M13-J13 -> 0
A14: 6 | B14: D1 | C14: 66 | E14: 1.41 | F14: 1.49 | G14: 3.17 | H14: 1.06 | N14: =M14-J14 -> 0
D15: =C16-C14 -> 20.21 | I15: =(E14+E16)/2 -> 1.415 | J15: =(F14+F16)/2*$D15 -> 26.4751 | K15: =(G14+G16)/2*$D15 -> 53.3544 | L15: =(H14+H16)/2*$D15 -> 23.4436 | M15: 26.4882 | N15: =M15-J15 -> 0.0131
A16: 7 | B16: 5 | C16: 86.21 | E16: 1.42 | F16: 1.13 | G16: 2.11 | H16: 1.26 | N16: =M16-J16 -> 0
D17: =C18-C16 -> 18.79 | I17: =(E16+E18)/2 -> 1.44 | J17: =(F16+F18)/2*$D17 -> 20.4811 | K17: =(G16+G18)/2*$D17 -> 36.35865 | L17: =(H16+H18)/2*$D17 -> 19.44765 | M17: 20.4811 | N17: =M17-J17 -> 0
A18: 8 | B18: 6 | C18: 105 | E18: 1.46 | F18: 1.05 | G18: 1.76 | H18: 0.81 | N18: =M18-J18 -> 0
D19: =C20-C18 -> 24 | I19: =(E18+E20)/2 -> 1.475 | J19: =(F18+F20)/2*$D19 -> 26.16 | K19: =(G18+G20)/2*$D19 -> 45.24 | L19: =(H18+H20)/2*$D19 -> 17.4 | M19: 26.16 | N19: =M19-J19 -> 0
A20: 9 | B20: 7 | C20: 129 | E20: 1.49 | F20: 1.13 | G20: 2.01 | H20: 0.64 | N20: =M20-J20 -> 0
D21: =C22-C20 -> 15.29 | I21: =(E20+E22)/2 -> 1.49 | J21: =(F20+F22)/2*$D21 -> 17.2777 | K21: =(G20+G22)/2*$D21 -> 28.8981 | L21: =(H20+H22)/2*$D21 -> 12.0791 | M21: 17.2777 | N21: =M21-J21 -> 0
A22: 10 | B22: D2 | C22: 144.29 | E22: 1.49 | F22: 1.13 | G22: 1.77 | H22: 0.94 | N22: =M22-J22 -> 0
D23: =C24-C22 -> 6.88 | I23: =(E22+E24)/2 -> 1.49 | J23: =(F22+F24)/2*$D23 -> 7.5336 | K23: =(G22+G24)/2*$D23 -> 12.1432 | L23: =(H22+H24)/2*$D23 -> 7.224 | M23: 8.11395 | N23: =M23-J23 -> 0.58035
A24: 11 | B24: 8 | C24: 151.17 | E24: 1.49 | F24: 1.06 | G24: 1.76 | H24: 1.16 | N24: =M24-J24 -> 0
D25: =C26-C24 -> 3.8 | I25: =(E24+E26)/2 -> 0.745 | J25: =(F24+F26)/2*$D25 -> 2.014 | K25: =(G24+G26)/2*$D25 -> 3.344 | L25: =(H24+H26)/2*$D25 -> 2.204 | M25: 1.7331 | N25: =M25-J25 -> -0.2809
A26: 12 | B26: 9 | C26: 154.97 | E26: 0 | F26: 0 | G26: 0 | H26: 0 | N26: =M26-J26 -> 0
D27: =C28-C26 -> 4.11 | I27: =(E26+E28)/2 -> 0 | J27: =(F26+F28)/2*$D27 -> 0 | K27: =(G26+G28)/2*$D27 -> 0 | L27: =(H26+H28)/2*$D27 -> 0 | M27: 0 | N27: =M27-J27 -> 0
A28: 13 | B28: 10 | C28: 159.08 | E28: 0 | F28: 0 | G28: 0 | H28: 0 | N28: =M28-J28 -> 0
D29: =C30-C28 -> 5.17 | I29: =(E28+E30)/2 -> 0.735 | J29: =(F28+F30)/2*$D29 -> 2.068 | K29: =(G28+G30)/2*$D29 -> 4.26525 | L29: =(H28+H30)/2*$D29 -> 4.4979 | M29: 2.068 | N29: =M29-J29 -> 4.8849813e-15
A30: 14 | B30: D3 | C30: 164.25 | E30: 1.47 | F30: 0.8 | G30: 1.65 | H30: 1.74 | N30: =M30-J30 -> 0
D31: =C32-C30 -> 10.75 | I31: =(E30+E32)/2 -> 1.465 | J31: =(F30+F32)/2*$D31 -> 8.97625 | K31: =(G30+G32)/2*$D31 -> 17.3075 | L31: =(H30+H32)/2*$D31 -> 15.42625 | M31: 8.97625 | N31: =M31-J31 -> 0
A32: 15 | B32: 11 | C32: 175 | E32: 1.46 | F32: 0.87 | G32: 1.57 | H32: 1.13 | N32: =M32-J32 -> 0
D33: =C34-C32 -> 17.5 | I33: =(E32+E34)/2 -> 1.43 | J33: =(F32+F34)/2*$D33 -> 14.9625 | K33: =(G32+G34)/2*$D33 -> 26.6875 | L33: =(H32+H34)/2*$D33 -> 20.475 | M33: 14.9625 | N33: =M33-J33 -> 0
A34: 16 | B34: 12 | C34: 192.5 | E34: 1.4 | F34: 0.84 | G34: 1.48 | H34: 1.21 | N34: =M34-J34 -> 0
D35: =C36-C34 -> 17.5 | I35: =(E34+E36)/2 -> 1.39 | J35: =(F34+F36)/2*$D35 -> 14.7875 | K35: =(G34+G36)/2*$D35 -> 25.9 | L35: =(H34+H36)/2*$D35 -> 22.05 | M35: 14.7875 | N35: =M35-J35 -> 0
A36: 17 | B36: 13 | C36: 210 | E36: 1.38 | F36: 0.85 | G36: 1.48 | H36: 1.31 | N36: =M36-J36 -> 0
D37: =C38-C36 -> 17.5 | I37: =(E36+E38)/2 -> 1.385 | J37: =(F36+F38)/2*$D37 -> 14.525 | K37: =(G36+G38)/2*$D37 -> 25.8125 | L37: =(H36+H38)/2*$D37 -> 23.1 | M37: 14.525 | N37: =M37-J37 -> 0
A38: 18 | B38: 14 | C38: 227.5 | E38: 1.39 | F38: 0.81 | G38: 1.47 | H38: 1.33 | N38: =M38-J38 -> 0
D39: =C40-C38 -> 17.5 | I39: =(E38+E40)/2 -> 1.395 | J39: =(F38+F40)/2*$D39 -> 15.225 | K39: =(G38+G40)/2*$D39 -> 27.475 | L39: =(H38+H40)/2*$D39 -> 19.95 | M39: 15.225 | N39: =M39-J39 -> 0
A40: 19 | B40: 15 | C40: 245 | E40: 1.4 | F40: 0.93 | G40: 1.67 | H40: 0.95 | N40: =M40-J40 -> 0
D41: =C42-C40 -> 18.19 | I41: =(E40+E42)/2 -> 1.4 | J41: =(F40+F42)/2*$D41 -> 17.91715 | K41: =(G40+G42)/2*$D41 -> 32.10535 | L41: =(H40+H42)/2*$D41 -> 15.73435 | M41: 17.91715 | N41: =M41-J41 -> 0
A42: 20 | B42: D4 | C42: 263.19 | E42: 1.4 | F42: 1.04 | G42: 1.86 | H42: 0.78 | N42: =M42-J42 -> 0
D43: =C44-C42 -> 16.81 | I43: =(E42+E44)/2 -> 1.405 | J43: =(F42+F44)/2*$D43 -> 18.1548 | K43: =(G42+G44)/2*$D43 -> 32.52735 | L43: =(H42+H44)/2*$D43 -> 13.19585 | M43: 18.1548 | N43: =M43-J43 -> 0
A44: 21 | B44: 16 | C44: 280 | E44: 1.41 | F44: 1.12 | G44: 2.01 | H44: 0.79 | N44: =M44-J44 -> 0
D45: =C46-C44 -> 17.5 | I45: =(E44+E46)/2 -> 1.42 | J45: =(F44+F46)/2*$D45 -> 20.0375 | K45: =(G44+G46)/2*$D45 -> 36.6625 | L45: =(H44+H46)/2*$D45 -> 13.9125 | M45: 20.0375 | N45: =M45-J45 -> 0
A46: 22 | B46: 17 | C46: 297.5 | E46: 1.43 | F46: 1.17 | G46: 2.18 | H46: 0.8 | N46: =M46-J46 -> 0
D47: =C48-C46 -> 17.5 | I47: =(E46+E48)/2 -> 1.475 | J47: =(F46+F48)/2*$D47 -> 20.475 | K47: =(G46+G48)/2*$D47 -> 39.375 | L47: =(H46+H48)/2*$D47 -> 15.6625 | M47: 20.475 | N47: =M47-J47 -> 0
A48: 23 | B48: 18 | C48: 315 | E48: 1.52 | F48: 1.17 | G48: 2.32 | H48: 0.99 | N48: =M48-J48 -> 0
D49: =C50-C48 -> 17.5 | I49: =(E48+E50)/2 -> 1.545 | J49: =(F48+F50)/2*$D49 -> 19.075 | K49: =(G48+G50)/2*$D49 -> 35.7875 | L49: =(H48+H50)/2*$D49 -> 20.3875 | M49: 19.075 | N49: =M49-J49 -> 0
A50: 24 | B50: 19 | C50: 332.5 | E50: 1.57 | F50: 1.01 | G50: 1.77 | H50: 1.34 | N50: =M50-J50 -> 0
D51: =C52-C50 -> 17.5 | I51: =(E50+E52)/2 -> 1.605 | J51: =(F50+F52)/2*$D51 -> 16.3625 | K51: =(G50+G52)/2*$D51 -> 33.25 | L51: =(H50+H52)/2*$D51 -> 27.5625 | M51: 16.3625 | N51: =M51-J51 -> 0
A52: 25 | B52: 20 | C52: 350 | E52: 1.64 | F52: 0.86 | G52: 2.03 | H52: 1.81 | N52: =M52-J52 -> 0
D53: =C54-C52 -> 21.21 | I53: =(E52+E54)/2 -> 0.82 | J53: =(F52+F54)/2*$D53 -> 9.1203 | K53: =(G52+G54)/2*$D53 -> 21.52815 | L53: =(H52+H54)/2*$D53 -> 19.19505 | M53: 9.1203 | N53: =M53-J53 -> 0
A54: 26 | B54: D5 | C54: 371.21 | E54: 0 | F54: 0 | G54: 0 | H54: 0 | N54: =M54-J54 -> 0
D55: =C56-C54 -> 13.79 | I55: =(E54+E56)/2 -> 0.825 | J55: =(F54+F56)/2*$D55 -> 6.68815 | K55: =(G54+G56)/2*$D55 -> 14.27265 | L55: =(H54+H56)/2*$D55 -> 8.9635 | M55: 6.68815 | N55: =M55-J55 -> -1.0658141e-14
A56: 27 | B56: 21 | C56: 385 | E56: 1.65 | F56: 0.97 | G56: 2.07 | H56: 1.3 | N56: =M56-J56 -> 0
D57: =C58-C56 -> 17.5 | I57: =(E56+E58)/2 -> 1.62 | J57: =(F56+F58)/2*$D57 -> 16.8 | K57: =(G56+G58)/2*$D57 -> 34.65 | L57: =(H56+H58)/2*$D57 -> 21.7 | M57: 16.8 | N57: =M57-J57 -> 0
A58: 28 | B58: 22 | C58: 402.5 | E58: 1.59 | F58: 0.95 | G58: 1.89 | H58: 1.18 | N58: =M58-J58 -> 0
D59: =C60-C58 -> 17.5 | I59: =(E58+E60)/2 -> 1.595 | J59: =(F58+F60)/2*$D59 -> 16.45 | K59: =(G58+G60)/2*$D59 -> 33.1625 | L59: =(H58+H60)/2*$D59 -> 21.7875 | M59: 16.45 | N59: =M59-J59 -> 0
A60: 29 | B60: 23 | C60: 420 | E60: 1.6 | F60: 0.93 | G60: 1.9 | H60: 1.31 | N60: =M60-J60 -> 0
D61: =C62-C60 -> 17.5 | I61: =(E60+E62)/2 -> 1.58 | J61: =(F60+F62)/2*$D61 -> 17.0625 | K61: =(G60+G62)/2*$D61 -> 32.375 | L61: =(H60+H62)/2*$D61 -> 20.2125 | M61: 17.0625 | N61: =M61-J61 -> 0
A62: 30 | B62: 24 | C62: 437.5 | E62: 1.56 | F62: 1.02 | G62: 1.8 | H62: 1 | N62: =M62-J62 -> 0
D63: =C64-C62 -> 17.5 | I63: =(E62+E64)/2 -> 1.57 | J63: =(F62+F64)/2*$D63 -> 17.85 | K63: =(G62+G64)/2*$D63 -> 31.9375 | L63: =(H62+H64)/2*$D63 -> 16.1 | M63: 17.85 | N63: =M63-J63 -> 0
A64: 31 | B64: 25 | C64: 455 | E64: 1.58 | F64: 1.02 | G64: 1.85 | H64: 0.84 | N64: =M64-J64 -> 0
D65: =C66-C64 -> 14.26 | I65: =(E64+E66)/2 -> 1.605 | J65: =(F64+F66)/2*$D65 -> 14.7591 | K65: =(G64+G66)/2*$D65 -> 26.5949 | L65: =(H64+H66)/2*$D65 -> 12.1923 | M65: 14.7591 | N65: =M65-J65 -> 0
A66: 32 | B66: 26 | C66: 469.26 | E66: 1.63 | F66: 1.05 | G66: 1.88 | H66: 0.87 | N66: =M66-J66 -> 0
D67: =C68-C66 -> 3.74 | I67: =(E66+E68)/2 -> 1.655 | J67: =(F66+F68)/2*$D67 -> 4.6376 | K67: =(G66+G68)/2*$D67 -> 9.4996 | L67: =(H66+H68)/2*$D67 -> 4.8059 | M67: 4.6376 | N67: =M67-J67 -> -1.1546319e-14
A68: 33 | B68: 27 | C68: 473 | E68: 1.68 | F68: 1.43 | G68: 3.2 | H68: 1.7
A69: TỔNG | J69: =SUM(J4:J68) -> 468.5097 | K69: =SUM(K4:K68) -> 859.04665 | L69: =SUM(L4:L68) -> 472.13665 | N69: =SUM(N5:N67) -> 0.31255
B71: Cán bộ tư vấn giám sát | H71: Cán bộ thi công
B76: Nguyễn Văn Lực | H76: Phạm Văn Huynh

Sheet Diễn giai
A1: BẢNG DIỄN GIẢI KHỐI LƯỢNG HOÀN THÀNH LẦN 1
A2: Dự án: Xây dựng cầu Nghĩa Phương qua kênh Đồng Thổ 1, phường Minh Đức
A3: Stt | B3: Nội dung công việc | C3: Đơn vị tính | D3: Diễn giải | E3: Khối lượng | G3: Gốc
A4: A | B4: PHẦN ĐIỀU CHỈNH, PHÁT SINH TRONG PHẠM VI HỢP ĐỒNG
A5: I | B5: PHỤ TRỢ THI CÔNG
A6: 1 | B6: Phá dỡ cầu cũ
A7: 2 | B7: Phá dỡ cầu hiện trạng và vận chuyển phế thải đến bãi thải rắn Đình Vũ | C7: toàn bộ | E7: 1 | G7: 1
A8: 3 | B8: Măt bằng công trường và di dời hạ tầng kỹ thuật
A9: 4 | B9: Thuê mặt bằng bãi chứa dầm, bãi vật liệu | C9: tháng | E9: 0 | G9: 0
A10: 5 | B10: Đào san đât bãi chứa dầm, bãi vật liệu bằng máy đào , đất cấp II | C10: 100m3 | D10: 170*0,3/100 | E10: =170*0.3/100 -> 0.51 | G10: 0.51
A11: 6 | B11: Đào móng công trình, đất cấp II | C11: 100m3 | G11: 0.482
A12: 7 | B12: Đắp đất công trình, độ chặt yêu cầu K=0,95 | C12: 100m3 | G12: 1.124
A13: 8 | B13: Vật liệu đất núi K95 đắp bù | C13: m3 | G13: 14.916
A14: 9 | B14: Thi công móng cấp phối đá dăm | C14: 100m3 | G14: 0.34
A15: 10 | B15: Đổ bê tông lót móng, đá 4x6, vữa mác 100, PCB30 | C15: m3 | G15: 18.2
A16: 11 | B16: Đổ bê tông móng, đá 1x2, mác 150, PCB30 | C16: m3 | G16: 1.8
A17: 12 | B17: Ván khuôn gỗ. Ván khuôn móng | C17: 100m2 | G17: 0.169
A18: 13 | B18: Tháo dỡ côt điện hiện trạng | C18: cột | G18: 1
A19: 14 | B19: Lắp dựng cột điện bằng máy, cột bê tông chiều cao cột >10m | C19: cột | G19: 1
A20: 15 | B20: Xây đá hộc, xây mái dốc thẳng, vữa XM mác 100, PCB30 | C20: m3 | G20: 12
A21: 16 | B21: Lắp đặt khối móng bê tông đỡ đoạn ống, đường kính D800mm | C21: cái | G21: 40
A22: 17 | B22: Lắp đặt ống bê tông, đoạn ống dài 4m, đường kính <=1000mm | C22: đoạn ống | G22: 5
... A31: 26 | B31: Bơm nước hố móng | C31: ca | G31: 10
A32: 27 | B32: Hàng rào bảo vệ công trình
A33: 28 | B33: Đào móng cột, trụ, đất cấp II | C33: m3 | G33: 2.08
A34: 29 | B34: Đổ bê tông lót móng, đá 2x4, vữa mác 150, PCB30 | C34: m3 | G34: 2.08
A35: 30 | B35: Gia công cột bằng thép hình | C35: tấn | G35: 0.2156
A36: 31 | B36: Lắp dựng cột thép các loại | C36: tấn | G36: 0.2156
A37: 32 | B37: Gia công xà gồ thép | C37: tấn | G37: 0.3376
A38: 33 | B38: Lắp dựng xà gồ thép | C38: tấn | G38: 0.3376
A39: 34 | B39: Lợp bao che tường bằng tôn múi mạ kẽm dày 0.33 mm | C39: 100m2 | G39: 1.386
A40: 35 | B40: Cầu tạm đảm bảo giao thông
A41: 36 | B41: Đào móng công trình, đất cấp II | C41: 100m3 | G41: 0.123
A42: 37 | B42: Vận chuyển đất đi đổ, đất cấp II | C42: 100m3 | G42: 0
A43: 38 | B43: Thi công lớp đá đệm móng, loại đá có đường kính Dmax<= 6 | C43: m3 | G43: 3.68
A44: 39 | B44: Làm và thả rọ đá, loại rọ 1x1x1 m dưới nước | C44: rọ | G44: 2
A45: 40 | B45: Làm và thả rọ đá, loại rọ 2x1x1 m dưới nước | C45: rọ | G45: 8
A46: 41 | B46: Làm và thả rọ đá, loại rọ 2x1x0,5 m dưới nước | C46: rọ | G46: 6
A47: 42 | B47: Đắp đất, dung trọng <=1,65 T/m3 | C47: 100m3 | G47: 0.176
A48: 43 | B48: Vật liệu đất núi K95 | C48: m3 | G48: 19.888
A49: 44 | B49: Gia công cấu kiện dầm thép. Gia công dầm dọc | C49: tấn | G49: 2.9546
A50: 45 | B50: Lắp dựng dầm cầu thép các loại, dưới nước | C50: tấn | G50: 2.9546
A51: 46 | B51: Bu lông liên kết các loại | C51: cái | G51: 100
A52: 47 | B52: Gia công, lắp dựng các kết cấu mặt cầu, gỗ ngang mặt cầu | C52: m3 cấu kiện | G52: 1.22
... A54: 49 | B54: Gia công, lắp dựng các kết cấu mặt cầu, gỗ đà chắn bánh xe | C54: m3 cấu kiện | G54: 0.25
A55: 50 | B55: Bệ đúc dầm bản BTCT DƯL
A56: 51 | B56: Đào móng công trình, đất cấp II | C56: 100m3 | G56: 0.053
A57: 52 | B57: Đắp đất công trình, độ chặt yêu cầu K=0,95 | C57: 100m3 | G57: 0.047
A58: 53 | B58: Thi công lớp đá đệm móng, loại đá có đường kính Dmax<= 6 | C58: m3 | G58: 4.5
A59: 54 | B59: Ván khuôn bệ đúc dầm | C59: 100m2 | G59: 0.21
A60: 55 | B60: Đổ bê tông nền, đá 1x2, mác 300, PCB30 | C60: m3 | G60: 12.6
A61: 56 | B61: Công tác gia công lắp dựng cốt thép. Cốt thép móng, đường kính cốt thép <= 18mm | C61: tấn | G61: 0.9476
A62: 57 | B62: Gia công thép bản bệ đúc dầm | C62: tấn | G62: 9.2625
A63: 58 | B63: Lắp đặt thép bản bệ đúc dầm | C63: tấn | G63: 9.2625
A64: 59 | B64: Tháo dỡ thép bản bệ đúc dầm | C64: tấn | G64: 9.2625
A65: 60 | B65: Phá dỡ bệ đúc dầm | C65: m3 | G65: 12.6
A66: 61 | B66: Vận chuyển phế thải tiếp 19000m bằng ô tô - 7,0T | C66: m3 | G66: 0
A67: 62 | B67: Thi công mố cầu
A68: 63 | B68: Đào móng công trình, đất cấp II | C68: 100m3 | G68: 2.21
A69: 64 | B69: Vận chuyển đất đi đổ, đất cấp II
A70: 65 | B70: Đắp đất công trình, độ chặt yêu cầu K=0,95 | C70: 100m3 | G70: 0.42
A71: 66 | B71: Thi công lớp đá đệm móng, loại đá có đường kính Dmax<= 6 | C71: m3 | G71: 10
A72: 67 | B72: Gia công hệ sàn đạo, sàn thao tác | C72: tấn | G72: 7.406
A73: 68 | B73: Lắp dựng kết cấu thép hệ khung dàn, sàn đạo trên cạn | C73: tấn | G73: 14.812
A74: 69 | B74: Tháo dỡ kết cấu thép hệ khung dàn, sàn đạo trên cạn | C74: tấn | G74: 14.812
A75: 70 | B75: Gia công ống vách thép cọc khoan nhồi (gia công một đoạn dài 4m sử dụng cho toàn bộ công trình) | C75: tấn | G75: 3.29
A76: 71 | B76: Đường đầu cầu
A77: 72 | B77: Đào nền đường cũ, đất cấp III | C77: m3 | G77: 85,822
A78: 73 | B78: Vận chuyển đất đi đổ, đất cấp III | C78: 100m3 | G78: 0
A79: 74 | B79: Đắp đất nền đường, độ chặt yêu cầu K=0,95 | C79: 100m3 | G79: 2.7079
A80: 75 | B80: Đắp đất nền đường , độ chặt yêu cầu K=0,98 | C80: 100m3 | G80: 0.6289
A81: 76 | B81: Vật liệu đất núi K95, K98 | C81: m3 | G81: 383.3474
A82: 77 | B82: Đục nhám mặt đường cũ | C82: m2 | G82: 675.6
A83: 78 | B83: Thi công móng cấp phối đá dăm lớp dưới | C83: 100m3 | G83: 1.3512
A84: 79 | B84: Thi công móng cấp phối đá dăm lớp trên | C84: 100m3 | G84: 1.7315
A85: 80 | B85: Tưới lớp dính bám mặt đường bằng nhựa pha dầu, lượng nhựa 1,0 kg/m2 | C85: 100m2 | G85: 6.756
A86: 81 | B86: Thi công mặt đường láng nhựa. Láng nhựa 3 lớp dày 3,5cm tiêu chuẩn nhựa 4,5kg/m2 | C86: 100m2 | G86: 6.756
A87: 82 | B87: Thí nghiệm cọc
A88: 83 | B88: Thí nghiệm ép cọc biến dạng lớn PDA. Đường kính cọc 1.200mm | C88: lần TN/cọc | G88: 0
A89: 84 | B89: Chi phí vận chuyển hệ thí nghiệm bao gồm búa và khung (02 chuyến đi và về) | C89: ca | G89: 2
A90: 85 | B90: Đổ bê tông cọc nhồi trên cạn, đường kính cọc > 1000mm, đá 1x2, mác 300, PCB40 | C90: m3 | G90: 3.8
A91: 86 | B91: Đập đầu cọc bê tông các loại trên cạn | C91: m3 | G91: 3.8
A92: 87 | B92: Bơm vữa sika grout lấp đầy ống siêu âm | C92: m3 | G92: 0.05
A93: 88 | B93: Cốt thép cọc khoan nhồi trên cạn, đường kính <= 18mm | C93: tấn | G93: 0.0024
A94: 89 | B94: Cốt thép cọc khoan nhồi, cọc, tường barrette trên cạn, đường kính > 18mm | C94: tấn | G94: 0.0005
A95: 90 | B95: Lắp đặt ống thép đen, Ống kiểm tra D106/114 | C95: 100m | G95: 0.035
A96: 91 | B96: Lắp đặt ống thép đen, Ống siêu âm D54/60 | C96: 100m | G96: 0.104
A97: 92 | B97: Lắp Nút bịt thép 74x74x3 mm | C97: cái | G97: 6
A98: 93 | B98: Lắp Nút bịt thép 130x130x3 mm | C98: cái | G98: 2
A99: 94 | B99: Vận chuyển đất đi đổ, đất cấp II | C99: 100m3 | G99: 0
A100: 95 | B100: KẾT CẤU PHẦN DƯỚI
A101: 96 | B101: Cọc khoan nhồi
A102: 97 | B102: Khoan tạo lỗ vào đất trên cạn, đường kính lỗ khoan 1200mm | C102: m
A103: 98 | B103: Bơm dung dịch bentonit chống sụt thành lỗ khoan, thành cọc barrette, lỗ khoan trên cạn | C103: m3 | G103: 161.805
A104: 99 | B104: Cốt thép cọc khoan nhồi trên cạn, đường kính <= 18mm | C104: tấn | G104: 8.6579
A105: 100 | B105: Cốt thép cọc khoan nhồi, cọc, tường barrette trên cạn, đường kính > 18mm | C105: tấn | G105: 20.6369
A106: 101 | B106: Bộ nối thép chủ bằng bu lông M16 L=250 | C106: bộ | G106: 2592
A107: 102 | B107: Lắp đặt ống thép đen, Ống kiểm tra D106/114 | C107: 100m | G107: 3.1266
A108: 103 | B108: Lắp đặt ống thép đen, Ống siêu âm D60/66 | C108: 100m | G108: 0
A109: 104 | B109: Lắp đặt Cút thép D114/122 | C109: cái | G109: 48
...

Sheet Công trình
A1: BẢNG DIỄN GIẢI KHỐI LƯỢNG | AL1: (đ)
A2: CÔNG TRÌNH : SỬA CHỮA TUYẾN ĐƯỜNG TỪ NHÀ BÀ TRƯỜNG, TỔ 5 PHƯỜNG VẠN HƯƠNG ĐẾN NHÀ BÀ KIM, TỔ DÂN PHỐ BẮC HẢI PHƯỜNG BÀNG LA
A3: SỬA CHỮA NỀN MẶT ĐƯỜNG, HỆ THỐNG THOÁT NƯỚC
A4: STT | B4: Ký hiệu bản vẽ | C4: Mã hiệu định mức | D4: Mã hiệu vữa | E4: Mã hiệu công tác | F4: Danh mục công tác / Diễn giải KL | G4: Đơn vị tính | H4: Số C.K | I4: Kích thước | L4: Hệ số phụ | M4: Tổng dài | N4: D.tích (M2) | O4: K.L C.Kiện | P4: Khối lượng | Q4: ="Đơn giá "&'Công trình'!AL1 -> Đơn giá (đ) | U4: ="Thành tiền "&'Công trình'!AL1 -> Thành tiền (đ) | Y4: Hệ số điều chỉnh | AB4: Dữ liệu đã dùng | AD4: Hao phí định mức | AG4: Hệ số định mức | AJ4: Thời điểm thi công | AL4: Tỉnh TP / Chuyên ngành
I5: Dài | J5: Rộng | K5: Cao | Q5: Vật liệu | R5: V.L phụ | S5: Nhân công | T5: Máy T.C | U5: Vật liệu | V5: V.L phụ | W5: Nhân công | X5: Máy thi công | Y5: V.L | Z5: N.C | AA5: Máy | AB5: Đơn giá | AC5: Giá máy | AD5: V.L | AE5: N.C | AF5: Máy | AG5: V.L | AH5: N.C | AI5: Máy | AJ5: Bắt đầu | AK5: Kết thúc
E6: HM | F6: SỬA CHỮA NỀN MẶT ĐƯỜNG, HỆ THỐNG THOÁT NƯỚC | O6: 4
E7: * | F7: SỬA CHỮA NỀN MẶT ĐƯỜNG:
A8: I | F8: NỀN ĐƯỜNG:
A9: 1 | C9: AA.22310 | E9: AA.22310 | F9: Phá dỡ kết cấu bê tông bằng máy đào 1,25m3 gắn đầu búa thủy lực | G9: m3 | P9: =ROUND(SUM(O9:O10),4) -> 90.89 | S9: 2877 | T9: 93882 | U9: =ROUND(IF(P7=0,ROUND(P9,4)*Q9,P7*ROUND(P9,4)*Q9),1) -> 0 | V9: =ROUND(IF(P7=0,ROUND(P9,4)*R9,P7*ROUND(P9,4)*R9),1) -> 0 | W9: =ROUND(IF(P7=0,ROUND(P9,4)*S9,P7*ROUND(P9,4)*S9),1) -> 261490.5 | X9: =ROUND(IF(P7=0,ROUND(P9,4)*T9,P7*ROUND(P9,4)*T9),1) -> 8532935 | AB9: DG2595_2022HP_XD | AC9: Giá máy 156/2022/QĐ-SXD Vùng 1 | AE9: N1.30~Nhân công 3,0/7 - Nhóm 1~công~0.013~0.013~221303~221303~0~1~1~0~0~N1.30~~0 | AF9: M101.0115~Máy đào 1,25 m3 gắn đầu búa thủy lực / hàm kẹp~ca~0.022~0.022~4267355~4293002~293092~1~1~0~0~M15A~(Theo Giá máy 156/2022/QĐ-SXD Vùng 1)~0 | AL9: HaiPhong
F10: 90,89 = 90,89 | O10: 90.89
A11: 2 | C11: AB.31122 | E11: AB.31122 | F11: Đào nền đường, đất cấp II | G11: 100m3 | P11: =ROUND(SUM(O11:O12),4) -> 7.7825 | S11: 759069 | T11: 1141863 | U11: =ROUND(IF(P7=0,ROUND(P11,4)*Q11,P7*ROUND(P11,4)*Q11),1) -> 0 | V11: =ROUND(IF(P7=0,ROUND(P11,4)*R11,P7*ROUND(P11,4)*R11),1) -> 0 | W11: =ROUND(IF(P7=0,ROUND(P11,4)*S11,P7*ROUND(P11,4)*S11),1) -> 5907454.5 | X11: =ROUND(IF(P7=0,ROUND(P11,4)*T11,P7*ROUND(P11,4)*T11),1) -> 8886548.8 | AB11: DG2595_2022HP_XD | AC11: Giá máy 156/2022/QĐ-SXD Vùng 1 | AE11: N1.30~Nhân công 3,0/7 - Nhóm 1~công~3.43~3.43~221303~221303~0~1~1~0~0~N1.30~~0 | AF11: M101.0104~Máy đào một gầu, bánh xích - dung tích gầu : 0,80 m3~ca~0.355~0.355~2938899~2958984~293092~1~1~0~0~M6~(Theo Giá máy 156/2022/QĐ-SXD Vùng 1)~0žM101.0503~Máy ủi - công suất : 110,0 CV~ca~0.047~0.047~2096893~2111107~293092~1~1~0~0~M45~(Theo Giá máy 156/2022/QĐ-SXD Vùng 1)~0 | AL11: HaiPhong
F12: 778,25/100 = 7,7825 | O12: 7.7825
A13: 3 | C13: AB.64113 | E13: AB.64113 | F13: Lớp đất núi đầm chặt K95, dày 30cm | G13: 100m3 | P13: =ROUND(SUM(O13:O14),4) -> 5.2056 | S13: 365150 | T13: 938368 | U13: =ROUND(IF(P7=0,ROUND(P13,4)*Q13,P7*ROUND(P13,4)*Q13),1) -> 0 | V13: =ROUND(IF(P7=0,ROUND(P13,4)*R13,P7*ROUND(P13,4)*R13),1) -> 0 | W13: =ROUND(IF(P7=0,ROUND(P13,4)*S13,P7*ROUND(P13,4)*S13),1) -> 1900824.8 | X13: =ROUND(IF(P7=0,ROUND(P13,4)*T13,P7*ROUND(P13,4)*T13),1) -> 4884768.5 | AB13: DG2595_2022HP_XD | AC13: Giá máy 156/2022/QĐ-SXD Vùng 1 | AE13: N1.30~Nhân công 3,0/7 - Nhóm 1~công~1.65~1.65~221303~221303~0~1~1~0~0~N1.30~~0 | AF13: M101.1102~Máy lu bánh thép tự hành - trọng lượng tĩnh : 8,5 T - 9 T~ca~0.42~0.42~1152746~1160162~293092~1~1~0~0~M87~(Theo Giá máy 156/2022/QĐ-SXD Vùng 1)~0žM101.0503~Máy ủi - công suất : 110,0 CV~ca~0.21~0.21~2096893~2111107~293092~1~1~0~0~M45~(Theo Giá máy 156/2022/QĐ-SXD Vùng 1)~0žM999~Máy khác~%~1.5~1.5~9245.0085~9306.0051~0~1~1~0~0~~~0 | AL13: HaiPhong
F14: 520,56/100 = 5,2056 | O14: 5.2056
A15: 4 | E15: TT | F15: Tiền đất núi | G15: m3 | P15: =ROUND(SUM(O15:O16),4) -> 588.2328 | Q15: 190000 | U15: =ROUND(IF(P7=0,ROUND(P15,4)*Q15,P7*ROUND(P15,4)*Q15),1) -> 111764232 | V15: =ROUND(IF(P7=0,ROUND(P15,4)*R15,P7*ROUND(P15,4)*R15),1) -> 0 | W15: =ROUND(IF(P7=0,ROUND(P15,4)*S15,P7*ROUND(P15,4)*S15),1) -> 0 | X15: =ROUND(IF(P7=0,ROUND(P15,4)*T15,P7*ROUND(P15,4)*T15),1) -> 0
F16: 520,56*1,13 = 588,2328 | O16: 588.2328
A17: 5 | C17: AD.11222 | E17: AD.11222 | F17: Cấp phối đá dăm loại I, lớp trên dày 18 cm | G17: 100m3 | P17: =ROUND(SUM(O17:O18),4) -> 3.1234 | Q17: 24768962 | S17: 843364 | T17: 2700118 | U17: =ROUND(IF(P7=0,ROUND(P17,4)*Q17,P7*ROUND(P17,4)*Q17),1) -> 77363376 | V17: =ROUND(IF(P7=0,ROUND(P17,4)*R17,P7*ROUND(P17,4)*R17),1) -> 0 | W17: =ROUND(IF(P7=0,ROUND(P17,4)*S17,P7*ROUND(P17,4)*S17),1) -> 2634163.1 | X17: =ROUND(IF(P7=0,ROUND(P17,4)*T17,P7*ROUND(P17,4)*T17),1) -> 8433548.6 | AB17: DG2595_2022HP_XD | AC17: Giá máy 156/2022/QĐ-SXD Vùng 1 | AD17: A24.0251~Cấp phối đá dăm loại I~m3~134~134~184843~285000~0~1~1~0~313500~CapPhoiDaDam~~0 | AE17: N2.30~Nhân công 3,0/7 - Nhóm 2~công~3.52~3.52~239592~239592~0~1~1~0~0~N2.30~~0 | AF17: M105.0401~Máy rải cấp phối đá dăm - năng suất : 50 m3/h - 60 m3/h~ca~0.21~0.21~3778425~3787695~591513~1~1~0~0~M594~(Theo Giá máy 156/2022/QĐ-SXD Vùng 1)~0žM101.1006~Máy lu rung tự hành - trọng lượng tĩnh : 25T~ca~0.32~0.32~3200091~3220793~293092~1~1~0~0~M84~(Theo Giá máy 156/2022/QĐ-SXD Vùng 1)~0žM101.0902~Máy lu bánh hơi tự hành - trọng lượng tĩnh : 16,0 T~ca~0.15~0.15~1781990~1793732~293092~1~1~0~0~M78~(Theo Giá máy 156/2022/QĐ-SXD Vùng 1)~0žM101.1103~Máy lu bánh thép tự hành - trọng lượng tĩnh : 10,0 T~ca~0.26~0.26~1287637~1295671~293092~1~1~0~0~M88~(Theo Giá máy 156/2022/QĐ-SXD Vùng 1)~0žM106.0502~Ô tô tưới nước - dung tích : 5,0 m3~ca~0.21~0.21~1271914~1279021~320339~1~1~0~0~M135~(Theo Giá máy 156/2022/QĐ-SXD Vùng 1)~0žM999~Máy khác~%~0.5~0.5~26866.8443~27005.9838~0~1~1~0~0~~~0 | AL17: HaiPhong
F18: 312,34/100 = 3,1234 | O18: 3.1234
A19: 6 | C19: AB.41413 | E19: AB.41413 | F19: Vận chuyển đất bằng ôtô tự đổ 5 tấn | G19: 100m3 | P19: =ROUND(SUM(O19:O21),4) -> 0.9089 | T19: 2956420 | U19: =ROUND(IF(P7=0,ROUND(P19,4)*Q19,P7*ROUND(P19,4)*Q19),1) -> 0 | V19: =ROUND(IF(P7=0,ROUND(P19,4)*R19,P7*ROUND(P19,4)*R19),1) -> 0 | W19: =ROUND(IF(P7=0,ROUND(P19,4)*S19,P7*ROUND(P19,4)*S19),1) -> 0 | X19: =ROUND(IF(P7=0,ROUND(P19,4)*T19,P7*ROUND(P19,4)*T19),1) -> 2687090.1 | AB19: DG2595_2022HP_XD | AC19: Giá máy 156/2022/QĐ-SXD Vùng 1 | AF19: M106.0202~Ô tô tự đổ - trọng tải : 5,0 T~ca~1.711~1.711~1727890~1740559~270000~1~1~0~0~M107~(Theo Giá máy 156/2022/QĐ-SXD Vùng 1)~0 | AL19: HaiPhong
F20: Kl đào phá lớp BTXM hiện trạng:
F21: =P9/100 -> 0.9089 | O21: 0.9089
A22: 7 | C22: AB.42213 | E22: AB.42213 | F22: Vận chuyển đất bằng ô tô tự đổ 5T 1km tiếp theo ngoài phạm vi 5km, đất cấp III | G22: 100m3 | P22: =ROUND(SUM(O22:O23),4) -> 0.9089 | T22: =986625*AA22 -> 3946500 | U22: =ROUND(IF(P7=0,ROUND(P22,4)*Q22,P7*ROUND(P22,4)*Q22),1) -> 0 | V22: =ROUND(IF(P7=0,ROUND(P22,4)*R22,P7*ROUND(P22,4)*R22),1) -> 0 | W22: =ROUND(IF(P7=0,ROUND(P22,4)*S22,P7*ROUND(P22,4)*S22),1) -> 0 | X22: =ROUND(IF(P7=0,ROUND(P22,4)*T22,P7*ROUND(P22,4)*T22),1) -> 3586973.9 | AA22: 4 | AB22: DG2595_2022HP_XD | AC22: Giá máy 156/2022/QĐ-SXD Vùng 1 | AF22: M106.0202~Ô tô tự đổ - trọng tải : 5,0 T~ca~0.571~0.571~1727890~1740559~270000~1~1~0~0~M107~(Theo Giá máy 156/2022/QĐ-SXD Vùng 1)~0 | AL22: HaiPhong
F23: =P19 -> 0.9089 | O23: 0.9089
A24: 7 | C24: AB.41412 | E24: AB.41412 | F24: Vận chuyển đất bằng ôtô tự đổ 5 tấn trong phạm vi <= 1000m, đất cấp II | G24: 100m3 | P24: =ROUND(SUM(O24:O26),4) -> 7.7825 | T24: 2296366 | U24: =ROUND(IF(P7=0,ROUND(P24,4)*Q24,P7*ROUND(P24,4)*Q24),1) -> 0 | V24: =ROUND(IF(P7=0,ROUND(P24,4)*R24,P7*ROUND(P24,4)*R24),1) -> 0 | W24: =ROUND(IF(P7=0,ROUND(P24,4)*S24,P7*ROUND(P24,4)*S24),1) -> 0 | X24: =ROUND(IF(P7=0,ROUND(P24,4)*T24,P7*ROUND(P24,4)*T24),1) -> 17871468 | AB24: DG2595_2022HP_XD | AC24: Giá máy 156/2022/QĐ-SXD Vùng 1 | AF24: M106.0202~Ô tô tự đổ - trọng tải : 5,0 T~ca~1.329~1.329~1727890~1740559~270000~1~1~0~0~M107~(Theo Giá máy 156/2022/QĐ-SXD Vùng 1)~0 | AL24: HaiPhong
F25: KL đất đào nền đường:
F26: =P11 -> 7.7825 | O26: 7.7825
A27: 9 | C27: AB.42212 | E27: AB.42212 | F27: Vận chuyển đất bằng ô tô tự đổ 5T 1km tiếp theo ngoài phạm vi 5km, đất cấp II | G27: 100m3 | P27: =ROUND(SUM(O27:O29),4) -> 7.7825 | T27: =881224*AA27 -> 3524896 | U27: =ROUND(IF(P7=0,ROUND(P27,4)*Q27,P7*ROUND(P27,4)*Q27),1) -> 0 | V27: =ROUND(IF(P7=0,ROUND(P27,4)*R27,P7*ROUND(P27,4)*R27),1) -> 0 | W27: =ROUND(IF(P7=0,ROUND(P27,4)*S27,P7*ROUND(P27,4)*S27),1) -> 0 | X27: =ROUND(IF(P7=0,ROUND(P27,4)*T27,P7*ROUND(P27,4)*T27),1) -> 27432503 | AA27: 4 | AB27: DG2595_2022HP_XD | AC27: Giá máy 156/2022/QĐ-SXD Vùng 1 | AF27: M106.0202~Ô tô tự đổ - trọng tải : 5,0 T~ca~0.51~0.51~1727890~1740559~270000~1~1~0~0~M107~(Theo Giá máy 156/2022/QĐ-SXD Vùng 1)~0 | AL27: HaiPhong
F28: =P24 -> 7.7825 | O28: 7.7825
F29: I.B. MẶT ĐƯỜNG
A30: 8 | C30: AL.16122 | E30: AL.16122 | F30: Nilon chống mất nước xi măng | G30: 100m2 | P30: =ROUND(SUM(O30:O31),4) -> 17.352 | Q30: 1167831 | S30: 282960 | U30: =ROUND(IF(P7=0,ROUND(P30,4)*Q30,P7*ROUND(P30,4)*Q30),1) -> 20264204 | V30: =ROUND(IF(P7=0,ROUND(P30,4)*R30,P7*ROUND(P30,4)*R30),1) -> 0 | W30: =ROUND(IF(P7=0,ROUND(P30,4)*S30,P7*ROUND(P30,4)*S30),1) -> 4909921.9 | X30: =ROUND(IF(P7=0,ROUND(P30,4)*T30,P7*ROUND(P30,4)*T30),1) -> 0 | AB30: DG2595_2022HP_XD | AC30: Giá máy 156/2022/QĐ-SXD Vùng 1 | AD30: A24.0782~Nilon chống mất nước XM~m2~105~105~11100~10500~0~1~1~0~11550~VaiDiaKyThuat~~0žZ999~Vât liệu khác~%~0.2~0.2~11655~11025~0~1~1~0~0~VatLieuKhac~~0 | AE30: N2.35~Nhân công 3,5/7 - Nhóm 2~công~1.08~1.08~262000~262000~0~1~1~0~0~N2.35~~0 | AL30: HaiPhong
F31: 1735,2/100 = 17,352 | O31: 17.352
A32: 9 | C32: AF.82411 | E32: AF.82411 | F32: Ván khuôn thép. Ván khuôn mặt đường | G32: 100m2 | P32: =ROUND(SUM(O32:O33),4) -> 1.8123 | Q32: 678169 | S32: 3270692 | T32: 176372 | U32: =ROUND(IF(P7=0,ROUND(P32,4)*Q32,P7*ROUND(P32,4)*Q32),1) -> 1229045.7 | V32: =ROUND(IF(P7=0,ROUND(P32,4)*R32,P7*ROUND(P32,4)*R32),1) -> 0 | W32: =ROUND(IF(P7=0,ROUND(P32,4)*S32,P7*ROUND(P32,4)*S32),1) -> 5927475.1 | X32: =ROUND(IF(P7=0,ROUND(P32,4)*T32,P7*ROUND(P32,4)*T32),1) -> 319639 | AB32: DG2595_2022HP_XD | AC32: Giá máy 156/2022/QĐ-SXD Vùng 1 | AD32: A24.0921~Thép hình, thép tấm~kg~31.5~31.5~19250~19500~0~1~1~0~21450~ThepTam~~0žA24.0543~Que hàn~kg~1.58~1.58~25000~25000~0~1~1~0~27500~QueHan~~0žZ999~Vât liệu khác~%~5~5~6458.75~6537.5~0~1~1~0~0~VatLieuKhac~~0 | AE32: N2.40~Nhân công 4,0/7 - Nhóm 2~công~11.5~11.5~284408~284408~0~1~1~0~0~N2.40~~0 | AF32: M112.4003~Máy hàn xoay chiều - công suất : 23,0 kW~ca~0.42~0.42~411700~402656~293092~1~1~0~0~M423~(Theo Giá máy 156/2022/QĐ-SXD Vùng 1)~0žM999~Máy khác~%~2~2~1729.14~1691.1552~0~1~1~0~0~~~0 | AL32: HaiPhong
F33: 181,23/100 = 1,8123 | O33: 1.8123
A34: 10 | C34: AF.15410 | D34: C2234 | E34: AF.15434A | F34: Đổ bê tông thủ công bằng máy trộn, bê tông mặt đường, chiều dày mặt đường <=25 cm, đá 2x4, mác 250, PCB30 | G34: m3 | P34: =ROUND(SUM(O34:O36),4) -> 354.86 | Q34: 1011667 | S34: 358940 | T34: 80984 | U34: =ROUND(IF(P7=0,ROUND(P34,4)*Q34,P7*ROUND(P34,4)*Q34),1) -> 3.5900015e+08 | V34: =ROUND(IF(P7=0,ROUND(P34,4)*R34,P7*ROUND(P34,4)*R34),1) -> 0 | W34: =ROUND(IF(P7=0,ROUND(P34,4)*S34,P7*ROUND(P34,4)*S34),1) -> 1.2737345e+08 | X34: =ROUND(IF(P7=0,ROUND(P34,4)*T34,P7*ROUND(P34,4)*T34),1) -> 28737982 | AB34: DG2595_2022HP_XD | AC34: Giá máy 156/2022/QĐ-SXD Vùng 1 | AD34: A24.0797A~Xi măng PCB30~kg~348.5~348.5~1380~1481~0~1~1~0~1629.1~XiMangPCB30~(Áp theo Thông báo giá VL số : 08/2022/CBG-SXD của Sở XD TP Hải Phòng ngày 09/08/2022. Vùng : 16)~0žA24.0180~Cát vàng~m3~0.529925~0.529925~450000~500000~0~1~1~0~550000~CatVang~~0žA24.0009~Đá 2x4~m3~0.859975~0.859975~320000~340000~0~1~1~0~374000~Da2x4~~0žA24.0524~Nước~lít~177.325~177.325~12~20~0~1~1~0~22~Nuoc(Lit)~~0žZ999~Vât liệu khác~%~1.5~1.5~9967.1615~10770.29~0~1~1~0~0~VatLieuKhac~~0 | AE34: N2.35~Nhân công 3,5/7 - Nhóm 2~công~1.37~1.37~262000~262000~0~1~1~0~0~N2.35~~0 | AF34: M104.0102~Máy trộn bê tông - dung tích : 250,0 lít~ca~0.095~0.095~320806~318734~246908~1~1~0~0~M270~(Theo Giá máy 156/2022/QĐ-SXD Vùng 1)~0žM112.1101~Máy đầm bê tông, đầm bàn - công suất : 1,0 kW~ca~0.089~0.089~272875~271933~246908~1~1~0~0~M305~(Theo Giá máy 156/2022/QĐ-SXD Vùng 1)~0žM112.1301~Máy đầm bê tông, dầm dùi - công suất : 1,5 kW~ca~0.089~0.089~276782~275463~246908~1~1~0~0~M310~(Theo Giá máy 156/2022/QĐ-SXD Vùng 1)~0žM999~Máy khác~%~2~2~793.96043~789.97974~0~1~1~0~0~~~0 | AL34: HaiPhong
F35: Mặt đường mở rộng: 351,93 = 351,93 | O35: 351.93
F36: Vuốt nối: 2,93 = 2,93 | O36: 2.93
A37: 11 | C37: AK.41110 | D37: B1224 | E37: AK.41114A (VD) | F37: Đánh bóng bề mặt đường BTXM bằng máy xoa, kết hợp bổ sung xi măng | G37: m2 | P37: =ROUND(SUM(O37:O38),4) -> 1735.2 | Q37: 10384 | S37: 9670 | T37: 4000 | U37: =ROUND(IF(P7=0,ROUND(P37,4)*Q37,P7*ROUND(P37,4)*Q37),1) -> 18018317 | V37: =ROUND(IF(P7=0,ROUND(P37,4)*R37,P7*ROUND(P37,4)*R37),1) -> 0 | W37: =ROUND(IF(P7=0,ROUND(P37,4)*S37,P7*ROUND(P37,4)*S37),1) -> 16779384 | X37: =ROUND(IF(P7=0,ROUND(P37,4)*T37,P7*ROUND(P37,4)*T37),1) -> 6940800 | AB37: DG2595_2022HP_XD | AC37: Giá máy 156/2022/QĐ-SXD Vùng 1 | AD37: A24.0797A~Xi măng PCB30~kg~10.75~10.75~1380~1481~0~0.7~1~0~1629.1~XiMangPCB30~(Áp theo Thông báo giá VL số : 08/2022/CBG-SXD của Sở XD TP Hải Phòng ngày 09/08/2022. Vùng : 16)~0žA24.0176~Cát mịn ML=1,5-2,0~m3~0~0~400000~450000~0~1~1~0~495000~CatMin~~0žA24.0524~Nước~lít~0~0~12~20~0~1~1~0~22~Nuoc(Lit)~~0 | AE37: N2.40~Nhân công 4,0/7 - Nhóm 2~công~0.068~0.068~284408~284408~0~0.5~1~0~0~N2.40~~0 | AF37: TT*~Máy xoa~Ca~0.02~0.02~200000~200000~246908~1~0~0~0~~~0 | AL37: HaiPhong
F38: 1735,2 = 1735,2 | O38: 1735.2
A39: 12 | C39: AL.24111 | E39: AL.24111 | F39: Thi công khe co sân, bãi, mặt đường bê tông | G39: m | P39: =ROUND(SUM(O39:O40),4) -> 268 | Q39: 85408 | S39: 23580 | T39: 13126 | U39: =ROUND(IF(P7=0,ROUND(P39,4)*Q39,P7*ROUND(P39,4)*Q39),1) -> 22889344 | V39: =ROUND(IF(P7=0,ROUND(P39,4)*R39,P7*ROUND(P39,4)*R39),1) -> 0 | W39: =ROUND(IF(P7=0,ROUND(P39,4)*S39,P7*ROUND(P39,4)*S39),1) -> 6319440 | X39: =ROUND(IF(P7=0,ROUND(P39,4)*T39,P7*ROUND(P39,4)*T39),1) -> 3517768 | AB39: DG2595_2022HP_XD | AC39: Giá máy 156/2022/QĐ-SXD Vùng 1 | AD39: A24.0480~Ma tít chèn khe~kg~1.36~1.36~4700~4700~0~1~1~0~5170~MaTit~~0žA24.0520~Nhựa đường~kg~0.13~0.13~15300~17100~0~1~1~0~18810~NhuaDuong~~0žA24.1074~Thép F25~kg~3.8~3.8~19200~19500~0~1~1~0~21450~Thep~~0žZ999~Vât liệu khác~%~5~5~813.41~827.15~0~1~1~0~0~VatLieuKhac~~0 | AE39: N2.35~Nhân công 3,5/7 - Nhóm 2~công~0.09~0.09~262000~262000~0~1~1~0~0~N2.35~~0 | AF39: M112.2601~Máy cắt uốn cốt thép - công suất : 5,0 kW~ca~0.013~0.013~281286~279591~246908~1~1~0~0~M454~(Theo Giá máy 156/2022/QĐ-SXD Vùng 1)~0žM108.0306~Máy nén khí, động cơ diezel - năng suất : 600,00 m3/h~ca~0.005~0.005~1842337~1856860~293092~1~1~0~0~M404~(Theo Giá máy 156/2022/QĐ-SXD Vùng 1)~0žM999~Máy khác~%~2~2~128.68403~129.18983~0~1~1~0~0~~~0 | AL39: HaiPhong
F40: 268 = 268 | O40: 268
A41: 13 | C41: AL.24112 | E41: AL.24112 | F41: Làm khe giãn, bố trí 20m/Khe giãn sâu 20cm | G41: m | P41: =ROUND(SUM(O41:O42),4) -> 89 | Q41: 192609 | S41: 57640 | T41: 16856 | U41: =ROUND(IF(P7=0,ROUND(P41,4)*Q41,P7*ROUND(P41,4)*Q41),1) -> 17142201 | V41: =ROUND(IF(P7=0,ROUND(P41,4)*R41,P7*ROUND(P41,4)*R41),1) -> 0 | W41: =ROUND(IF(P7=0,ROUND(P41,4)*S41,P7*ROUND(P41,4)*S41),1) -> 5129960 | X41: =ROUND(IF(P7=0,ROUND(P41,4)*T41,P7*ROUND(P41,4)*T41),1) -> 1500184 | AB41: DG2595_2022HP_XD | AC41: Giá máy 156/2022/QĐ-SXD Vùng 1 | AD41: A24.0480~Ma tít chèn khe~kg~1.33~1.33~4700~4700~0~1~1~0~5170~MaTit~~0žA24.0520~Nhựa đường~kg~0.25~0.25~15300~17100~0~1~1~0~18810~NhuaDuong~~0žA24.1074~Thép F25~kg~7.65~7.65~19200~19500~0~1~1~0~21450~Thep~~0žA24.0489~Mùn cưa~kg~0.43~0.43~233~233~0~1~1~0~256.3~MunCua~~0žA24.0233~Cao su đệm~m~1.2~1.2~5000~12000~0~1~1~0~13200~CaoSuDem~~0žA24.0334~ống nhựa F42~m~1.59~1.59~12818~18500~0~1~1~0~20350~OngNhua~~0žZ999~Vât liệu khác~%~5~5~1834.3681~2036.1619~0~1~1~0~0~VatLieuKhac~~0 | AE41: N2.35~Nhân công 3,5/7 - Nhóm 2~công~0.22~0.22~262000~262000~0~1~1~0~0~N2.35~~0 | AF41: M112.2601~Máy cắt uốn cốt thép - công suất : 5,0 kW~ca~0.026~0.026~281286~279591~246908~1~1~0~0~M454~(Theo Giá máy 156/2022/QĐ-SXD Vùng 1)~0žM108.0306~Máy nén khí, động cơ diezel - năng suất : 600,00 m3/h~ca~0.005~0.005~1842337~1856860~293092~1~1~0~0~M404~(Theo Giá máy 156/2022/QĐ-SXD Vùng 1)~0žM999~Máy khác~%~2~2~165.25121~165.53666~0~1~1~0~0~~~0 | AL41: HaiPhong
F42: 89 = 89 | O42: 89
A43: II | E43: * | F43: HỆ THỐNG THOÁT NƯỚC
F44: II.1. GA, CỐNG DƯỚI ĐƯỜNG
F45: * GA THU NƯỚC:
A46: 1 | C46: AB.25112 | E46: AB.25112 | F46: Đào móng công trình | G46: 100m3 | P46: 1.281 | S46: 840951 | T46: 1093270 | U46: =ROUND(IF(P43=0,ROUND(P46,4)*Q46,P43*ROUND(P46,4)*Q46),1) -> 0 | V46: =ROUND(IF(P43=0,ROUND(P46,4)*R46,P43*ROUND(P46,4)*R46),1) -> 0 | W46: =ROUND(IF(P43=0,ROUND(P46,4)*S46,P43*ROUND(P46,4)*S46),1) -> 1077258.2 | X46: =ROUND(IF(P43=0,ROUND(P46,4)*T46,P43*ROUND(P46,4)*T46),1) -> 1400478.9 | AB46: DG2595_2022HP_XD | AC46: Giá máy 156/2022/QĐ-SXD Vùng 1 | AE46: N1.30~Nhân công 3,0/7 - Nhóm 1~công~3.8~3.8~221303~221303~0~1~1~0~0~N1.30~~0 | AF46: M101.0104~Máy đào một gầu, bánh xích - dung tích gầu : 0,80 m3~ca~0.372~0.372~2938899~2958984~293092~1~1~0~0~M6~(Theo Giá máy 156/2022/QĐ-SXD Vùng 1)~0 | AL46: HaiPhong
F47: 12,81/100 | O47: 0.1153
A48: 2 | C48: AB.64123 | E48: AB.64123 | F48: Đất đắp thân ga (tận dụng) | G48: 100m3 | P48: =ROUND(SUM(O48:O49),4) -> 0.0384 | S48: 320889 | T48: 897860 | U48: =ROUND(IF(P43=0,ROUND(P48,4)*Q48,P43*ROUND(P48,4)*Q48),1) -> 0 | V48: =ROUND(IF(P43=0,ROUND(P48,4)*R48,P43*ROUND(P48,4)*R48),1) -> 0 | W48: =ROUND(IF(P43=0,ROUND(P48,4)*S48,P43*ROUND(P48,4)*S48),1) -> 12322.1 | X48: =ROUND(IF(P43=0,ROUND(P48,4)*T48,P43*ROUND(P48,4)*T48),1) -> 34477.8 | AB48: DG2595_2022HP_XD | AC48: Giá máy 156/2022/QĐ-SXD Vùng 1 | AE48: N1.30~Nhân công 3,0/7 - Nhóm 1~công~1.45~1.45~221303~221303~0~1~1~0~0~N1.30~~0 | AF48: M101.1105~Máy lu bánh thép tự hành - trọng lượng tĩnh : 16 T~ca~0.335~0.335~1595255~1606688~293092~1~1~0~0~M92A~(Theo Giá máy 156/2022/QĐ-SXD Vùng 1)~0žM101.0503~Máy ủi - công suất : 110,0 CV~ca~0.167~0.167~2096893~2111107~293092~1~1~0~0~M45~(Theo Giá máy 156/2022/QĐ-SXD Vùng 1)~0žM999~Máy khác~%~1.5~1.5~8845.91556~8907.95349~0~1~1~0~0~~~0 | AL48: HaiPhong
F49: 3,84/100 = 0,0384 | O49: 0.0384
A50: 3 | C50: AB.41412 | E50: AB.41412 | F50: Vận chuyển đất bằng ôtô tự đổ 5 tấn trong phạm vi <= 1000m, đất cấp II | G50: 100m3 | P50: =ROUND(SUM(O50:O51),4) -> 0.0897 | T50: 2296366 | U50: =ROUND(IF(P43=0,ROUND(P50,4)*Q50,P43*ROUND(P50,4)*Q50),1) -> 0 | V50: =ROUND(IF(P43=0,ROUND(P50,4)*R50,P43*ROUND(P50,4)*R50),1) -> 0 | W50: =ROUND(IF(P43=0,ROUND(P50,4)*S50,P43*ROUND(P50,4)*S50),1) -> 0 | X50: =ROUND(IF(P43=0,ROUND(P50,4)*T50,P43*ROUND(P50,4)*T50),1) -> 205984 | AB50: DG2595_2022HP_XD | AC50: Giá máy 156/2022/QĐ-SXD Vùng 1 | AF50: M106.0202~Ô tô tự đổ - trọng tải : 5,0 T~ca~1.329~1.329~1727890~1740559~270000~1~1~0~0~M107~(Theo Giá máy 156/2022/QĐ-SXD Vùng 1)~0 | AL50: HaiPhong
F51: 8,97/100 = 0,0897 | O51: 0.0897
A52: 20 | C52: AB.42212 | E52: AB.42212 | F52: Vận chuyển đất bằng ô tô tự đổ 5T 1km tiếp theo ngoài phạm vi 5km, đất cấp II | G52: 100m3 | P52: =ROUND(SUM(O52:O53),4) -> 0.0897 | T52: =881224*AA52 -> 3524896 | U52: =ROUND(IF(P43=0,ROUND(P52,4)*Q52,P43*ROUND(P52,4)*Q52),1) -> 0 | V52: =ROUND(IF(P43=0,ROUND(P52,4)*R52,P43*ROUND(P52,4)*R52),1) -> 0 | W52: =ROUND(IF(P43=0,ROUND(P52,4)*S52,P43*ROUND(P52,4)*S52),1) -> 0 | X52: =ROUND(IF(P43=0,ROUND(P52,4)*T52,P43*ROUND(P52,4)*T52),1) -> 316183.2 | AA52: 4 | AB52: DG2595_2022HP_XD | AC52: Giá máy 156/2022/QĐ-SXD Vùng 1 | AF52: M106.0202~Ô tô tự đổ - trọng tải : 5,0 T~ca~0.51~0.51~1727890~1740559~270000~1~1~0~0~M107~(Theo Giá máy 156/2022/QĐ-SXD Vùng 1)~0 | AL52: HaiPhong
F53: =P50 -> 0.0897 | O53: 0.0897
A54: 4 | C54: AK.98110 | E54: AK.98110 | F54: Đá dăm lót móng, đá 2x4, dày 10cm | G54: m3 | P54: =ROUND(SUM(O54:O55),4) -> 3.29 | Q54: 426000 | S54: 420924 | U54: =ROUND(IF(P43=0,ROUND(P54,4)*Q54,P43*ROUND(P54,4)*Q54),1) -> 1401540 | V54: =ROUND(IF(P43=0,ROUND(P54,4)*R54,P43*ROUND(P54,4)*R54),1) -> 0 | W54: =ROUND(IF(P43=0,ROUND(P54,4)*S54,P43*ROUND(P54,4)*S54),1) -> 1384840 | X54: =ROUND(IF(P43=0,ROUND(P54,4)*T54,P43*ROUND(P54,4)*T54),1) -> 0 | AB54: DG2595_2022HP_XD | AC54: Giá máy 156/2022/QĐ-SXD Vùng 1 | AD54: A24.0025~Đá dăm 2x4 lót móng~m3~1.2~1.2~320000~340000~0~1~1~0~374000~DaCapPhoi~~0žA24.1042~Cát~m3~0.3~0.3~140000~155000~0~1~1~0~170500~Cat~~0 | AE54: N2.40~Nhân công 4,0/7 - Nhóm 2~công~1.48~1.48~284408~284408~0~1~1~0~0~N2.40~~0 | AL54: HaiPhong
F55: 3,29 = 3,29 | O55: 3.29
A56: 5 | C56: AF.81122 | E56: AF.81122 | F56: Ván khuôn gỗ. Ván khuôn móng ga | G56: 100m2 | P56: =ROUND(SUM(O56:O57),4) -> 0.1776 | Q56: 4958871 | S56: 7781400 | U56: =ROUND(IF(P43=0,ROUND(P56,4)*Q56,P43*ROUND(P56,4)*Q56),1) -> 880695.5 | V56: =ROUND(IF(P43=0,ROUND(P56,4)*R56,P43*ROUND(P56,4)*R56),1) -> 0 | W56: =ROUND(IF(P43=0,ROUND(P56,4)*S56,P43*ROUND(P56,4)*S56),1) -> 1381976.6 | X56: =ROUND(IF(P43=0,ROUND(P56,4)*T56,P43*ROUND(P56,4)*T56),1) -> 0 | AB56: DG2595_2022HP_XD | AC56: Giá máy 156/2022/QĐ-SXD Vùng 1 | AD56: A24.0418~Gỗ ván~m3~0.794~0.794~3409091~4318182~0~1~1~0~4750000.2~GoVan~~0žA24.0404~Gỗ đà nẹp~m3~0.21~0.21~3409091~4318182~0~1~1~0~4750000.2~GoDaNep~~0žA24.0406~Gỗ chống~m3~0.335~0.335~3409091~4318182~0~1~1~0~4750000.2~GoChong~~0žA24.0054~Đinh~kg~15~15~23000~23000~0~1~1~0~25300~Dinh~~0žZ999~Vât liệu khác~%~1~1~49097.72849~61270.45698~0~1~1~0~0~VatLieuKhac~~0 | AE56: N2.35~Nhân công 3,5/7 - Nhóm 2~công~29.7~29.7~262000~262000~0~1~1~0~0~N2.35~~0 | AL56: HaiPhong
F57: 17,76/100 = 0,1776 | O57: 0.1776
A58: 6 | C58: AF.11210 | D58: C2223 | E58: AF.11213A | F58: Đổ bê tông móng ga, đá 1x2, mác 200 | G58: m3 | P58: =ROUND(SUM(O58:O59),4) -> 6.57 | Q58: 972841 | S58: 294698 | T58: 55110 | U58: =ROUND(IF(P43=0,ROUND(P58,4)*Q58,P43*ROUND(P58,4)*Q58),1) -> 6391565.4 | V58: =ROUND(IF(P43=0,ROUND(P58,4)*R58,P43*ROUND(P58,4)*R58),1) -> 0 | W58: =ROUND(IF(P43=0,ROUND(P58,4)*S58,P43*ROUND(P58,4)*S58),1) -> 1936165.9 | X58: =ROUND(IF(P43=0,ROUND(P58,4)*T58,P43*ROUND(P58,4)*T58),1) -> 362072.7 | AB58: DG2595_2022HP_XD | AC58: Giá máy 156/2022/QĐ-SXD Vùng 1 | AD58: A24.0797A~Xi măng PCB30~kg~321.85~321.85~1380~1481~0~1~1~0~1629.1~XiMangPCB30~(Áp theo Thông báo giá VL số : 08/2022/CBG-SXD của Sở XD TP Hải Phòng ngày 09/08/2022. Vùng : 16)~0žA24.0180~Cát vàng~m3~0.5289~0.5289~450000~500000~0~1~1~0~550000~CatVang~~0žA24.0008~Đá 1x2~m3~0.87125~0.87125~320000~340000~0~1~1~0~374000~Da1x2~~0žA24.0524~Nước~lít~187.575~187.575~12~20~0~1~1~0~22~Nuoc(Lit)~~0žZ999~Vât liệu khác~%~1~1~9632.089~10410.8635~0~1~1~0~0~VatLieuKhac~~0 | AE58: N2.30~Nhân công 3,0/7 - Nhóm 2~công~1.23~1.23~239592~239592~0~1~1~0~0~N2.30~~0 | AF58: M104.0102~Máy trộn bê tông - dung tích : 250,0 lít~ca~0.095~0.095~320806~318734~246908~1~1~0~0~M270~(Theo Giá máy 156/2022/QĐ-SXD Vùng 1)~0žM112.1301~Máy đầm bê tông, dầm dùi - công suất : 1,5 kW~ca~0.089~0.089~276782~275463~246908~1~1~0~0~M310~(Theo Giá máy 156/2022/QĐ-SXD Vùng 1)~0 | AL58: HaiPhong
F59: 6,57 = 6,57 | O59: 6.57
A60: 7 | C60: AE.26210 | D60: B1223 | E60: AE.26213A | F60: Xây gạch không nung ga VXM M75, dày 22cm | G60: m3 | P60: =ROUND(SUM(O60:O61),4) -> 20.79 | Q60: 845762 | S60: 838400 | T60: 11500 | U60: =ROUND(IF(P43=0,ROUND(P60,4)*Q60,P43*ROUND(P60,4)*Q60),1) -> 17583392 | V60: =ROUND(IF(P43=0,ROUND(P60,4)*R60,P43*ROUND(P60,4)*R60),1) -> 0 | W60: =ROUND(IF(P43=0,ROUND(P60,4)*S60,P43*ROUND(P60,4)*S60),1) -> 17430336 | X60: =ROUND(IF(P43=0,ROUND(P60,4)*T60,P43*ROUND(P60,4)*T60),1) -> 239085 | AB60: DG2595_2022HP_XD | AC60: Giá máy 156/2022/QĐ-SXD Vùng 1 | AD60: A24.0383A~Gạch không nung 6,5x10,5x22~viên~550~550~900~1250~0~1~1~0~1375~GachDatSetNung6,5x10,5x22~~0žA24.0797A~Xi măng PCB30~kg~111.54~111.54~1380~1481~0~1~1~0~1629.1~XiMangPCB30~(Áp theo Thông báo giá VL số : 08/2022/CBG-SXD của Sở XD TP Hải Phòng ngày 09/08/2022. Vùng : 16)~0žA24.0176~Cát mịn ML=1,5-2,0~m3~0.37917~0.37917~400000~450000~0~1~1~0~495000~CatMin~~0žA24.0524~Nước~lít~89.76~89.76~12~20~0~1~1~0~22~Nuoc(Lit)~~0žZ999~Vât liệu khác~%~5.5~5.5~8016.7032~10251.1244~0~1~1~0~0~VatLieuKhac~~0 | AE60: N2.35~Nhân công 3,5/7 - Nhóm 2~công~3.2~3.2~262000~262000~0~1~1~0~0~N2.35~~0 | AF60: M104.0202~Máy trộn vữa 150 lít~ca~0.039~0.039~294869~293362~246908~1~1~0~0~M278~(Theo Giá máy 156/2022/QĐ-SXD Vùng 1)~0 | AL60: HaiPhong
F61: 20,79 = 20,79 | O61: 20.79
A62: 8 | C62: AK.21530 | D62: B2223 | E62: AK.21533 | F62: Trát tường xây gạch không nung bằng vữa thông thường, trát tường ga, chiều dày trát 2cm, vữa XM mác 75 | G62: m2 | P62: =ROUND(SUM(O62:O63),4) -> 64.26 | Q62: 19610 | S62: 91700 | T62: 885 | U62: =ROUND(IF(P43=0,ROUND(P62,4)*Q62,P43*ROUND(P62,4)*Q62),1) -> 1260138.6 | V62: =ROUND(IF(P43=0,ROUND(P62,4)*R62,P43*ROUND(P62,4)*R62),1) -> 0 | W62: =ROUND(IF(P43=0,ROUND(P62,4)*S62,P43*ROUND(P62,4)*S62),1) -> 5892642 | X62: =ROUND(IF(P43=0,ROUND(P62,4)*T62,P43*ROUND(P62,4)*T62),1) -> 56870.1 | AB62: DG2595_2022HP_XD | AC62: Giá máy 156/2022/QĐ-SXD Vùng 1 | AD62: A24.0796A~Xi măng PCB40~kg~6.072~6.072~1398~1500~0~1~1~0~1650~XiMangPCB40~(Áp theo Thông báo giá VL số : 08/2022/CBG-SXD của Sở XD TP Hải Phòng ngày 09/08/2022. Vùng : 16)~0žA24.0176~Cát mịn ML=1,5-2,0~m3~0.02737~0.02737~400000~450000~0~1~1~0~495000~CatMin~~0žA24.0524~Nước~lít~6.325~6.325~12~20~0~1~1~0~22~Nuoc(Lit)~~0žZ999~Vât liệu khác~%~0.5~0.5~195.12556~215.51~0~1~1~0~0~VatLieuKhac~~0 | AE62: N2.35~Nhân công 3,5/7 - Nhóm 2~công~0.35~0.35~262000~262000~0~1~1~0~0~N2.35~~0 | AF62: M104.0202~Máy trộn vữa 150 lít~ca~0.003~0.003~294869~293362~246908~1~1~0~0~M278~(Theo Giá máy 156/2022/QĐ-SXD Vùng 1)~0 | AL62: HaiPhong
F63: 64,26 = 64,26 | O63: 64.26
A64: 9 | C64: AK.41110 | D64: B2223 | E64: AK.41113 | F64: Láng đáy ga, dày 2cm, vữa XM mác 75 | G64: m2 | P64: =ROUND(SUM(O64:O65),4) -> 9.6 | Q64: 21209 | S64: 19340 | T64: 1179 | U64: =ROUND(IF(P43=0,ROUND(P64,4)*Q64,P43*ROUND(P64,4)*Q64),1) -> 203606.4 | V64: =ROUND(IF(P43=0,ROUND(P64,4)*R64,P43*ROUND(P64,4)*R64),1) -> 0 | W64: =ROUND(IF(P43=0,ROUND(P64,4)*S64,P43*ROUND(P64,4)*S64),1) -> 185664 | X64: =ROUND(IF(P43=0,ROUND(P64,4)*T64,P43*ROUND(P64,4)*T64),1) -> 11318.4 | AB64: DG2595_2022HP_XD | AC64: Giá máy 156/2022/QĐ-SXD Vùng 1 | AD64: A24.0796A~Xi măng PCB40~kg~6.6~6.6~1398~1500~0~1~1~0~1650~XiMangPCB40~(Áp theo Thông báo giá VL số : 08/2022/CBG-SXD của Sở XD TP Hải Phòng ngày 09/08/2022. Vùng : 16)~0žA24.0176~Cát mịn ML=1,5-2,0~m3~0.02975~0.02975~400000~450000~0~1~1~0~495000~CatMin~~0žA24.0524~Nước~lít~6.875~6.875~12~20~0~1~1~0~22~Nuoc(Lit)~~0 | AE64: N2.40~Nhân công 4,0/7 - Nhóm 2~công~0.068~0.068~284408~284408~0~1~1~0~0~N2.40~~0 | AF64: M104.0202~Máy trộn vữa 150 lít~ca~0.004~0.004~294869~293362~246908~1~1~0~0~M278~(Theo Giá máy 156/2022/QĐ-SXD Vùng 1)~0 | AL64: HaiPhong
F65: 9,6 = 9,6 | O65: 9.6
A66: 10 | C66: AF.81141 | E66: AF.81141 | F66: Ván khuôn gỗ. Ván khuôn cổ ga | G66: 100m2 | P66: =ROUND(SUM(O66:O67),4) -> 0.2628 | Q66: 7011730 | S66: 7205000 | U66: =ROUND(IF(P43=0,ROUND(P66,4)*Q66,P43*ROUND(P66,4)*Q66),1) -> 1842682.6 | V66: =ROUND(IF(P43=0,ROUND(P66,4)*R66,P43*ROUND(P66,4)*R66),1) -> 0 | W66: =ROUND(IF(P43=0,ROUND(P66,4)*S66,P43*ROUND(P66,4)*S66),1) -> 1893474 | X66: =ROUND(IF(P43=0,ROUND(P66,4)*T66,P43*ROUND(P66,4)*T66),1) -> 0 | AB66: DG2595_2022HP_XD | AC66: Giá máy 156/2022/QĐ-SXD Vùng 1 | AD66: A24.0418~Gỗ ván~m3~0.794~0.794~3409091~4318182~0~1~1~0~4750000.2~GoVan~~0žA24.0404~Gỗ đà nẹp~m3~0.189~0.189~3409091~4318182~0~1~1~0~4750000.2~GoDaNep~~0žA24.0406~Gỗ chống~m3~0.957~0.957~3409091~4318182~0~1~1~0~4750000.2~GoChong~~0žA24.0054~Đinh~kg~14.29~14.29~23000~23000~0~1~1~0~25300~Dinh~~0žZ999~Vât liệu khác~%~1~1~69423.0654~87059.4308~0~1~1~0~0~VatLieuKhac~~0 | AE66: N2.35~Nhân công 3,5/7 - Nhóm 2~công~27.5~27.5~262000~262000~0~1~1~0~0~N2.35~~0 | AL66: HaiPhong
F67: 26,28/100 = 0,2628 | O67: 0.2628
A68: 11 | C68: AF.12310 | D68: C2223 | E68: AF.12313A | F68: Đổ bê tông cổ ga, đá 1x2, mác 200 | G68: m3 | P68: =ROUND(SUM(O68:O69),4) -> 2.39 | Q68: 972841 | S68: 639711 | T68: 80297 | U68: =ROUND(IF(P43=0,ROUND(P68,4)*Q68,P43*ROUND(P68,4)*Q68),1) -> 2325090 | V68: =ROUND(IF(P43=0,ROUND(P68,4)*R68,P43*ROUND(P68,4)*R68),1) -> 0 | W68: =ROUND(IF(P43=0,ROUND(P68,4)*S68,P43*ROUND(P68,4)*S68),1) -> 1528909.3 | X68: =ROUND(IF(P43=0,ROUND(P68,4)*T68,P43*ROUND(P68,4)*T68),1) -> 191909.8 | AB68: DG2595_2022HP_XD | AC68: Giá máy 156/2022/QĐ-SXD Vùng 1 | AD68: A24.0797A~Xi măng PCB30~kg~321.85~321.85~1380~1481~0~1~1~0~1629.1~XiMangPCB30~(Áp theo Thông báo giá VL số : 08/2022/CBG-SXD của Sở XD TP Hải Phòng ngày 09/08/2022. Vùng : 16)~0žA24.0180~Cát vàng~m3~0.5289~0.5289~450000~500000~0~1~1~0~550000~CatVang~~0žA24.0008~Đá 1x2~m3~0.87125~0.87125~320000~340000~0~1~1~0~374000~Da1x2~~0žA24.0524~Nước~lít~187.575~187.575~12~20~0~1~1~0~22~Nuoc(Lit)~~0žZ999~Vât liệu khác~%~1~1~9632.089~10410.8635~0~1~1~0~0~VatLieuKhac~~0 | AE68: N2.30~Nhân công 3,0/7 - Nhóm 2~công~2.67~2.67~239592~239592~0~1~1~0~0~N2.30~~0 | AF68: M104.0102~Máy trộn bê tông - dung tích : 250,0 lít~ca~0.095~0.095~320806~318734~246908~1~1~0~0~M270~(Theo Giá máy 156/2022/QĐ-SXD Vùng 1)~0žM112.1301~Máy đầm bê tông, dầm dùi - công suất : 1,5 kW~ca~0.18~0.18~276782~275463~246908~1~1~0~0~M310~(Theo Giá máy 156/2022/QĐ-SXD Vùng 1)~0 | AL68: HaiPhong
F69: 2,39 = 2,39 | O69: 2.39
A70: 12 | C70: AF.61521 | E70: AF.61521 | F70: Thép cổ ga | G70: tấn | P70: =ROUND(SUM(O70:O71),4) -> 0.024 | Q70: 19887100 | S70: 2420880 | T70: 556468 | U70: =ROUND(IF(P43=0,ROUND(P70,4)*Q70,P43*ROUND(P70,4)*Q70),1) -> 477290.4 | V70: =ROUND(IF(P43=0,ROUND(P70,4)*R70,P43*ROUND(P70,4)*R70),1) -> 0 | W70: =ROUND(IF(P43=0,ROUND(P70,4)*S70,P43*ROUND(P70,4)*S70),1) -> 58101.1 | X70: =ROUND(IF(P43=0,ROUND(P70,4)*T70,P43*ROUND(P70,4)*T70),1) -> 13355.2 | AB70: DG2595_2022HP_XD | AC70: Giá máy 156/2022/QĐ-SXD Vùng 1 | AD70: A24.0739~Thép tròn D<=18mm~kg~1020~1020~19200~16500~0~1~1~0~18150~ThepTron<=18~(Áp theo Thông báo giá VL số : 08/2022/CBG-SXD của Sở XD TP Hải Phòng ngày 09/08/2022. Vùng : 16)~0žA24.0293~Dây thép~kg~9.28~9.28~20000~24000~0~1~1~0~26400~DayThep~~0žA24.0543~Que hàn~kg~4.7~4.7~25000~25000~0~1~1~0~27500~QueHan~~0 | AE70: N2.35~Nhân công 3,5/7 - Nhóm 2~công~9.24~9.24~262000~262000~0~1~1~0~0~N2.35~~0 | AF70: M112.4003~Máy hàn xoay chiều - công suất : 23,0 kW~ca~1.133~1.133~411700~402656~293092~1~1~0~0~M423~(Theo Giá máy 156/2022/QĐ-SXD Vùng 1)~0žM112.2601~Máy cắt uốn cốt thép - công suất : 5,0 kW~ca~0.32~0.32~281286~279591~246908~1~1~0~0~M454~(Theo Giá máy 156/2022/QĐ-SXD Vùng 1)~0 | AL70: HaiPhong
F71: 24/1000 = 0,024 | O71: 0.024
A72: 13 | C72: AI.13131 | E72: AI.13131 | F72: Thép góc viền cổ ga | G72: tấn | P72: =ROUND(SUM(O72:O74),4) -> 0.4698 | Q72: 20837581 | S72: 5557332 | T72: 1176087 | U72: =ROUND(IF(P43=0,ROUND(P72,4)*Q72,P43*ROUND(P72,4)*Q72),1) -> 9789495.6 | V72: =ROUND(IF(P43=0,ROUND(P72,4)*R72,P43*ROUND(P72,4)*R72),1) -> 0 | W72: =ROUND(IF(P43=0,ROUND(P72,4)*S72,P43*ROUND(P72,4)*S72),1) -> 2610834.6 | X72: =ROUND(IF(P43=0,ROUND(P72,4)*T72,P43*ROUND(P72,4)*T72),1) -> 552525.7 | AB72: DG2595_2022HP_XD | AC72: Giá máy 156/2022/QĐ-SXD Vùng 1 | AD72: A24.0726~Thép tấm~kg~787~787~19250~19500~0~1~1~0~21450~ThepTam~~0žA24.0735~Thép tròn~kg~263~263~19200~16500~0~1~1~0~18150~ThepTron~~0žA24.0001~Ô xy~chai~2.69~2.69~53333~83000~0~1~1~0~91300~Oxy~~0žA24.0931~Khí gas~kg~5.38~5.38~20278~35000~0~1~1~0~38500~KhiGa~~0žA24.0032~Đá mài~viên~0.6~0.6~11667~35000~0~1~1~0~38500~DaMai~~0žA24.0543~Que hàn~kg~11~11~25000~25000~0~1~1~0~27500~QueHan~~0žZ999~Vât liệu khác~%~0.5~0.5~207339.1161~203935.7~0~1~1~0~0~VatLieuKhac~~0 | AE72: N2.40~Nhân công 4,0/7 - Nhóm 2~công~19.54~19.54~284408~284408~0~1~1~0~0~N2.40~~0 | AF72: M112.4003~Máy hàn xoay chiều - công suất : 23,0 kW~ca~2.62~2.62~411700~402656~293092~1~1~0~0~M423~(Theo Giá máy 156/2022/QĐ-SXD Vùng 1)~0žM112.3703~Máy mài - công suất : 2,7 kW~ca~1.29~1.29~18982~18228~0~1~1~0~0~M458~(Theo Giá máy 156/2022/QĐ-SXD Vùng 1)~0žM112.1501~Máy khoan đứng - công suất : 2,5 kW~ca~1.29~1.29~47521~46579~0~1~1~0~0~M596~(Theo Giá máy 156/2022/QĐ-SXD Vùng 1)~0žM999~Máy khác~%~1~1~11644.4287~11385.5975~0~1~1~0~0~~~0 | AL72: HaiPhong
F73: 469,8/1000 = 0,4698 | O73: 0.4698
F74: TẤM ĐAN NẮP GA THU NƯỚC:
A75: 14 | C75: AG.13231 | E75: AG.13231 | F75: Công tác gia công, lắp đặt cốt thép bê tông đúc sẵn. Cốt thép tấm đan | G75: tấn | P75: =ROUND(SUM(O75:O77),4) -> 0.8808 | Q75: 19905400 | S75: 4257500 | T75: 112514 | U75: =ROUND(IF(P43=0,ROUND(P75,4)*Q75,P43*ROUND(P75,4)*Q75),1) -> 17532676 | V75: =ROUND(IF(P43=0,ROUND(P75,4)*R75,P43*ROUND(P75,4)*R75),1) -> 0 | W75: =ROUND(IF(P43=0,ROUND(P75,4)*S75,P43*ROUND(P75,4)*S75),1) -> 3750006 | X75: =ROUND(IF(P43=0,ROUND(P75,4)*T75,P43*ROUND(P75,4)*T75),1) -> 99102.3 | AB75: DG2595_2022HP_XD | AC75: Giá máy 156/2022/QĐ-SXD Vùng 1 | AD75: A24.0735~Thép tròn~kg~1020~1020~19200~16500~0~1~1~0~18150~ThepTron~~0žA24.0293~Dây thép~kg~16.07~16.07~20000~24000~0~1~1~0~26400~DayThep~~0 | AE75: N2.35~Nhân công 3,5/7 - Nhóm 2~công~16.25~16.25~262000~262000~0~1~1~0~0~N2.35~~0 | AF75: M112.2601~Máy cắt uốn cốt thép - công suất : 5,0 kW~ca~0.4~0.4~281286~279591~246908~1~1~0~0~M454~(Theo Giá máy 156/2022/QĐ-SXD Vùng 1)~0 | AL75: HaiPhong
F76: (75,3+127,8)/1000 = 0,2031 | O76: 0.2031
F77: Thép góc: 677,7/1000 = 0,6777 | O77: 0.6777
A78: 15 | C78: AG.11410 | D78: C2224 | E78: AG.11414A | F78: Bê tông tấm đan, đá 1x2 mác 250 | G78: m3 | P78: =ROUND(SUM(O78:O79),4) -> 1.5 | Q78: 1012410 | S78: 462413 | T78: 30477 | U78: =ROUND(IF(P43=0,ROUND(P78,4)*Q78,P43*ROUND(P78,4)*Q78),1) -> 1518615 | V78: =ROUND(IF(P43=0,ROUND(P78,4)*R78,P43*ROUND(P78,4)*R78),1) -> 0 | W78: =ROUND(IF(P43=0,ROUND(P78,4)*S78,P43*ROUND(P78,4)*S78),1) -> 693619.5 | X78: =ROUND(IF(P43=0,ROUND(P78,4)*T78,P43*ROUND(P78,4)*T78),1) -> 45715.5 | AB78: DG2595_2022HP_XD | AC78: Giá máy 156/2022/QĐ-SXD Vùng 1 | AD78: A24.0797A~Xi măng PCB30~kg~365.4~365.4~1380~1481~0~1~1~0~1629.1~XiMangPCB30~(Áp theo Thông báo giá VL số : 08/2022/CBG-SXD của Sở XD TP Hải Phòng ngày 09/08/2022. Vùng : 16)~0žA24.0180~Cát vàng~m3~0.512575~0.512575~450000~500000~0~1~1~0~550000~CatVang~~0žA24.0008~Đá 1x2~m3~0.84448~0.84448~320000~340000~0~1~1~0~374000~Da1x2~~0žA24.0524~Nước~lít~185.745~185.745~12~20~0~1~1~0~22~Nuoc(Lit)~~0žZ999~Vât liệu khác~%~0.5~0.5~10073.7329~10882.83~0~1~1~0~0~VatLieuKhac~~0 | AE78: N2.30~Nhân công 3,0/7 - Nhóm 2~công~1.93~1.93~239592~239592~0~1~1~0~0~N2.30~~0 | AF78: M104.0102~Máy trộn bê tông - dung tích : 250,0 lít~ca~0.095~0.095~320806~318734~246908~1~1~0~0~M270~(Theo Giá máy 156/2022/QĐ-SXD Vùng 1)~0 | AL78: HaiPhong
F79: 1,5 = 1,5 | O79: 1.5
A80: 16 | C80: AG.41610 | E80: AG.41610 | F80: Lăp đặt tấm đan 110kg/tấm | G80: 1 cấu kiện | P80: =ROUND(SUM(O80:O83),4) -> 30 | S80: 7188 | T80: 26350 | U80: =ROUND(IF(P43=0,ROUND(P80,4)*Q80,P43*ROUND(P80,4)*Q80),1) -> 0 | V80: =ROUND(IF(P43=0,ROUND(P80,4)*R80,P43*ROUND(P80,4)*R80),1) -> 0 | W80: =ROUND(IF(P43=0,ROUND(P80,4)*S80,P43*ROUND(P80,4)*S80),1) -> 215640 | X80: =ROUND(IF(P43=0,ROUND(P80,4)*T80,P43*ROUND(P80,4)*T80),1) -> 790500 | AB80: DG2595_2022HP_XD | AC80: Giá máy 156/2022/QĐ-SXD Vùng 1 | AE80: N2.30~Nhân công 3,0/7 - Nhóm 2~công~0.03~0.03~239592~239592~0~1~1~0~0~N2.30~~0 | AF80: M102.0201~Cần cẩu bánh hơi 6 T~ca~0.015~0.015~1756646~1764371~701645~1~1~0~0~M935~(Theo Giá máy 156/2022/QĐ-SXD Vùng 1)~0 | AL80: HaiPhong
F81: 30 = 30 | O81: 30
F82: * HỐ TỤ NƯỚC BTXM:
F83: Tấm đan M1* hố tụ nước:
A84: 17 | C84: AG.31311 | E84: AG.31311 | F84: Công tác gia công, lắp dựng, tháo dỡ ván khuôn. Ván khuôn gỗ, ván khuôn tấm đan hố tụ | G84: 100m2 | P84: =ROUND(SUM(O84:O85),4) -> 0.0585 | Q84: 795191 | S84: 6200040 | U84: =ROUND(IF(P43=0,ROUND(P84,4)*Q84,P43*ROUND(P84,4)*Q84),1) -> 46518.7 | V84: =ROUND(IF(P43=0,ROUND(P84,4)*R84,P43*ROUND(P84,4)*R84),1) -> 0 | W84: =ROUND(IF(P43=0,ROUND(P84,4)*S84,P43*ROUND(P84,4)*S84),1) -> 362702.3 | X84: =ROUND(IF(P43=0,ROUND(P84,4)*T84,P43*ROUND(P84,4)*T84),1) -> 0 | AB84: DG2595_2022HP_XD | AC84: Giá máy 156/2022/QĐ-SXD Vùng 1 | AD84: A24.0420~Gỗ ván ( cả nẹp)~m3~0.123~0.123~3409091~4318182~0~1~1~0~4750000.2~GoVan~~0žA24.0054~Đinh~kg~16~16~23000~23000~0~1~1~0~25300~Dinh~~0žZ999~Vât liệu khác~%~1~1~7873.18193~8991.36386~0~1~1~0~0~VatLieuKhac~~0 | AE84: N1.35~Nhân công 3,5/7 - Nhóm 1~công~25.62~25.62~242000~242000~0~1~1~0~0~N1.35~~0 | AL84: HaiPhong
F85: 5,85/100 = 0,0585 | O85: 0.0585
A86: 18 | C86: AG.13231 | E86: AG.13231 | F86: Công tác gia công, lắp đặt cốt thép bê tông đúc sẵn. Cốt thép tấm đan | G86: tấn | P86: =ROUND(SUM(O86:O87),4) -> 0.1652 | Q86: 19905400 | S86: 4257500 | T86: 112514 | U86: =ROUND(IF(P43=0,ROUND(P86,4)*Q86,P43*ROUND(P86,4)*Q86),1) -> 3288372.1 | V86: =ROUND(IF(P43=0,ROUND(P86,4)*R86,P43*ROUND(P86,4)*R86),1) -> 0 | W86: =ROUND(IF(P43=0,ROUND(P86,4)*S86,P43*ROUND(P86,4)*S86),1) -> 703339 | X86: =ROUND(IF(P43=0,ROUND(P86,4)*T86,P43*ROUND(P86,4)*T86),1) -> 18587.3 | AB86: DG2595_2022HP_XD | AC86: Giá máy 156/2022/QĐ-SXD Vùng 1 | AD86: A24.0735~Thép tròn~kg~1020~1020~19200~16500~0~1~1~0~18150~ThepTron~~0žA24.0293~Dây thép~kg~16.07~16.07~20000~24000~0~1~1~0~26400~DayThep~~0 | AE86: N2.35~Nhân công 3,5/7 - Nhóm 2~công~16.25~16.25~262000~262000~0~1~1~0~0~N2.35~~0 | AF86: M112.2601~Máy cắt uốn cốt thép - công suất : 5,0 kW~ca~0.4~0.4~281286~279591~246908~1~1~0~0~M454~(Theo Giá máy 156/2022/QĐ-SXD Vùng 1)~0 | AL86: HaiPhong
F87: (66,0+99,15)/1000 = 0,1652 | O87: 0.1652
A88: 19 | C88: AG.11410 | D88: C2224 | E88: AG.11414A | F88: Bê tông tấm đan hố tụ, đá 1x2 mác 250 | G88: m3 | P88: =ROUND(SUM(O88:O89),4) -> 1.29 | Q88: 1012410 | S88: 462413 | T88: 30477 | U88: =ROUND(IF(P43=0,ROUND(P88,4)*Q88,P43*ROUND(P88,4)*Q88),1) -> 1306008.9 | V88: =ROUND(IF(P43=0,ROUND(P88,4)*R88,P43*ROUND(P88,4)*R88),1) -> 0 | W88: =ROUND(IF(P43=0,ROUND(P88,4)*S88,P43*ROUND(P88,4)*S88),1) -> 596512.8 | X88: =ROUND(IF(P43=0,ROUND(P88,4)*T88,P43*ROUND(P88,4)*T88),1) -> 39315.3 | AB88: DG2595_2022HP_XD | AC88: Giá máy 156/2022/QĐ-SXD Vùng 1 | AD88: A24.0797A~Xi măng PCB30~kg~365.4~365.4~1380~1481~0~1~1~0~1629.1~XiMangPCB30~(Áp theo Thông báo giá VL số : 08/2022/CBG-SXD của Sở XD TP Hải Phòng ngày 09/08/2022. Vùng : 16)~0žA24.0180~Cát vàng~m3~0.512575~0.512575~450000~500000~0~1~1~0~550000~CatVang~~0žA24.0008~Đá 1x2~m3~0.84448~0.84448~320000~340000~0~1~1~0~374000~Da1x2~~0žA24.0524~Nước~lít~185.745~185.745~12~20~0~1~1~0~22~Nuoc(Lit)~~0žZ999~Vât liệu khác~%~0.5~0.5~10073.7329~10882.83~0~1~1~0~0~VatLieuKhac~~0 | AE88: N2.30~Nhân công 3,0/7 - Nhóm 2~công~1.93~1.93~239592~239592~0~1~1~0~0~N2.30~~0 | AF88: M104.0102~Máy trộn bê tông - dung tích : 250,0 lít~ca~0.095~0.095~320806~318734~246908~1~1~0~0~M270~(Theo Giá máy 156/2022/QĐ-SXD Vùng 1)~0 | AL88: HaiPhong
F89: 1,29 = 1,29 | O89: 1.29
A90: 20 | C90: AG.41610 | E90: AG.41610 | F90: Lăp đặt tấm đan 200kg/tấm | G90: 1 cấu kiện | P90: =ROUND(SUM(O90:O92),4) -> 15 | S90: 7188 | T90: 26350 | U90: =ROUND(IF(P43=0,ROUND(P90,4)*Q90,P43*ROUND(P90,4)*Q90),1) -> 0 | V90: =ROUND(IF(P43=0,ROUND(P90,4)*R90,P43*ROUND(P90,4)*R90),1) -> 0 | W90: =ROUND(IF(P43=0,ROUND(P90,4)*S90,P43*ROUND(P90,4)*S90),1) -> 107820 | X90: =ROUND(IF(P43=0,ROUND(P90,4)*T90,P43*ROUND(P90,4)*T90),1) -> 395250 | AB90: DG2595_2022HP_XD | AC90: Giá máy 156/2022/QĐ-SXD Vùng 1 | AE90: N2.30~Nhân công 3,0/7 - Nhóm 2~công~0.03~0.03~239592~239592~0~1~1~0~0~N2.30~~0 | AF90: M102.0201~Cần cẩu bánh hơi 6 T~ca~0.015~0.015~1756646~1764371~701645~1~1~0~0~M935~(Theo Giá máy 156/2022/QĐ-SXD Vùng 1)~0 | AL90: HaiPhong
F91: 15 = 15 | O91: 15
F92: *) Xây hố tụ:
A93: 21 | C93: AE.26210 | D93: B1223 | E93: AE.26213A | F93: Xây gạch không nung 6,5x10,5x22, xây hố tụ nước, vữa XM mác 75 | G93: m3 | P93: =ROUND(SUM(O93:O94),4) -> 0.77 | Q93: 845762 | S93: 838400 | T93: 11500 | U93: =ROUND(IF(P43=0,ROUND(P93,4)*Q93,P43*ROUND(P93,4)*Q93),1) -> 651236.7 | V93: =ROUND(IF(P43=0,ROUND(P93,4)*R93,P43*ROUND(P93,4)*R93),1) -> 0 | W93: =ROUND(IF(P43=0,ROUND(P93,4)*S93,P43*ROUND(P93,4)*S93),1) -> 645568 | X93: =ROUND(IF(P43=0,ROUND(P93,4)*T93,P43*ROUND(P93,4)*T93),1) -> 8855 | AB93: DG2595_2022HP_XD | AC93: Giá máy 156/2022/QĐ-SXD Vùng 1 | AD93: A24.0383A~Gạch không nung 6,5x10,5x22~viên~550~550~900~1250~0~1~1~0~1375~GachDatSetNung6,5x10,5x22~~0žA24.0797A~Xi măng PCB30~kg~111.54~111.54~1380~1481~0~1~1~0~1629.1~XiMangPCB30~(Áp theo Thông báo giá VL số : 08/2022/CBG-SXD của Sở XD TP Hải Phòng ngày 09/08/2022. Vùng : 16)~0žA24.0176~Cát mịn ML=1,5-2,0~m3~0.37917~0.37917~400000~450000~0~1~1~0~495000~CatMin~~0žA24.0524~Nước~lít~89.76~89.76~12~20~0~1~1~0~22~Nuoc(Lit)~~0žZ999~Vât liệu khác~%~5.5~5.5~8016.7032~10251.1244~0~1~1~0~0~VatLieuKhac~~0 | AE93: N2.35~Nhân công 3,5/7 - Nhóm 2~công~3.2~3.2~262000~262000~0~1~1~0~0~N2.35~~0 | AF93: M104.0202~Máy trộn vữa 150 lít~ca~0.039~0.039~294869~293362~246908~1~1~0~0~M278~(Theo Giá máy 156/2022/QĐ-SXD Vùng 1)~0 | AL93: HaiPhong
F94: 0,77 = 0,77 | O94: 0.77
A95: 22 | C95: AK.21530 | D95: B1223 | E95: AK.21533A | F95: Trát tường hố tụ, chiều dày trát 2cm, vữa XM mác 75, PCB30 | G95: m2 | P95: =ROUND(SUM(O95:O96),4) -> 6.49 | Q95: 21481 | S95: 91700 | T95: 885 | U95: =ROUND(IF(P43=0,ROUND(P95,4)*Q95,P43*ROUND(P95,4)*Q95),1) -> 139411.7 | V95: =ROUND(IF(P43=0,ROUND(P95,4)*R95,P43*ROUND(P95,4)*R95),1) -> 0 | W95: =ROUND(IF(P43=0,ROUND(P95,4)*S95,P43*ROUND(P95,4)*S95),1) -> 595133 | X95: =ROUND(IF(P43=0,ROUND(P95,4)*T95,P43*ROUND(P95,4)*T95),1) -> 5743.7 | AB95: DG2595_2022HP_XD | AC95: Giá máy 156/2022/QĐ-SXD Vùng 1 | AD95: A24.0797A~Xi măng PCB30~kg~7.774~7.774~1380~1481~0~1~1~0~1629.1~XiMangPCB30~(Áp theo Thông báo giá VL số : 08/2022/CBG-SXD của Sở XD TP Hải Phòng ngày 09/08/2022. Vùng : 16)~0žA24.0176~Cát mịn ML=1,5-2,0~m3~0.026427~0.026427~400000~450000~0~1~1~0~495000~CatMin~~0žA24.0524~Nước~lít~6.256~6.256~12~20~0~1~1~0~22~Nuoc(Lit)~~0žZ999~Vât liệu khác~%~0.5~0.5~213.73992~235.30564~0~1~1~0~0~VatLieuKhac~~0 | AE95: N2.35~Nhân công 3,5/7 - Nhóm 2~công~0.35~0.35~262000~262000~0~1~1~0~0~N2.35~~0 | AF95: M104.0202~Máy trộn vữa 150 lít~ca~0.003~0.003~294869~293362~246908~1~1~0~0~M278~(Theo Giá máy 156/2022/QĐ-SXD Vùng 1)~0 | AL95: HaiPhong
F96: 6,49 = 6,49 | O96: 6.49
A97: 23 | C97: AF.81141 | E97: AF.81141 | F97: Ván khuôn gỗ. Ván khuôn cổ hố tụ | G97: 100m2 | P97: =ROUND(SUM(O97:O98),4) -> 0.0806 | Q97: 7011730 | S97: 7205000 | U97: =ROUND(IF(P43=0,ROUND(P97,4)*Q97,P43*ROUND(P97,4)*Q97),1) -> 565145.4 | V97: =ROUND(IF(P43=0,ROUND(P97,4)*R97,P43*ROUND(P97,4)*R97),1) -> 0 | W97: =ROUND(IF(P43=0,ROUND(P97,4)*S97,P43*ROUND(P97,4)*S97),1) -> 580723 | X97: =ROUND(IF(P43=0,ROUND(P97,4)*T97,P43*ROUND(P97,4)*T97),1) -> 0 | AB97: DG2595_2022HP_XD | AC97: Giá máy 156/2022/QĐ-SXD Vùng 1 | AD97: A24.0418~Gỗ ván~m3~0.794~0.794~3409091~4318182~0~1~1~0~4750000.2~GoVan~~0žA24.0404~Gỗ đà nẹp~m3~0.189~0.189~3409091~4318182~0~1~1~0~4750000.2~GoDaNep~~0žA24.0406~Gỗ chống~m3~0.957~0.957~3409091~4318182~0~1~1~0~4750000.2~GoChong~~0žA24.0054~Đinh~kg~14.29~14.29~23000~23000~0~1~1~0~25300~Dinh~~0žZ999~Vât liệu khác~%~1~1~69423.0654~87059.4308~0~1~1~0~0~VatLieuKhac~~0 | AE97: N2.35~Nhân công 3,5/7 - Nhóm 2~công~27.5~27.5~262000~262000~0~1~1~0~0~N2.35~~0 | AL97: HaiPhong
F98: 8,06/100 = 0,0806 | O98: 0.0806
A99: 24 | C99: AF.12310 | D99: C2224 | E99: AF.12314A | F99: Đổ bê tông cổ hố tụ, đá 1x2, mác 250 | G99: m3 | P99: =ROUND(SUM(O99:O100),4) -> 4.03 | Q99: 1027471 | S99: 639711 | T99: 80297 | U99: =ROUND(IF(P43=0,ROUND(P99,4)*Q99,P43*ROUND(P99,4)*Q99),1) -> 4140708.1 | V99: =ROUND(IF(P43=0,ROUND(P99,4)*R99,P43*ROUND(P99,4)*R99),1) -> 0 | W99: =ROUND(IF(P43=0,ROUND(P99,4)*S99,P43*ROUND(P99,4)*S99),1) -> 2578035.3 | X99: =ROUND(IF(P43=0,ROUND(P99,4)*T99,P43*ROUND(P99,4)*T99),1) -> 323596.9 | AB99: DG2595_2022HP_XD | AC99: Giá máy 156/2022/QĐ-SXD Vùng 1 | AD99: A24.0797A~Xi măng PCB30~kg~369~369~1380~1481~0~1~1~0~1629.1~XiMangPCB30~(Áp theo Thông báo giá VL số : 08/2022/CBG-SXD của Sở XD TP Hải Phòng ngày 09/08/2022. Vùng : 16)~0žA24.0180~Cát vàng~m3~0.517625~0.517625~450000~500000~0~1~1~0~550000~CatVang~~0žA24.0008~Đá 1x2~m3~0.8528~0.8528~320000~340000~0~1~1~0~374000~Da1x2~~0žA24.0524~Nước~lít~187.575~187.575~12~20~0~1~1~0~22~Nuoc(Lit)~~0žZ999~Vât liệu khác~%~1~1~10172.9815~10990.05~0~1~1~0~0~VatLieuKhac~~0 | AE99: N2.30~Nhân công 3,0/7 - Nhóm 2~công~2.67~2.67~239592~239592~0~1~1~0~0~N2.30~~0 | AF99: M104.0102~Máy trộn bê tông - dung tích : 250,0 lít~ca~0.095~0.095~320806~318734~246908~1~1~0~0~M270~(Theo Giá máy 156/2022/QĐ-SXD Vùng 1)~0žM112.1301~Máy đầm bê tông, dầm dùi - công suất : 1,5 kW~ca~0.18~0.18~276782~275463~246908~1~1~0~0~M310~(Theo Giá máy 156/2022/QĐ-SXD Vùng 1)~0 | AL99: HaiPhong
F100: 4,03 = 4,03 | O100: 4.03
...

Sheet Giá tháng
A1: BẢNG GIÁ THÔNG BÁO CÔNG TRÌNH
A2: ='Công trình'!A2 -> CÔNG TRÌNH : SỬA CHỮA TUYẾN ĐƯỜNG TỪ NHÀ BÀ TRƯỜNG, TỔ 5 PHƯỜNG VẠN HƯƠNG ĐẾN NHÀ BÀ KIM, TỔ DÂN PHỐ BẮC HẢI PHƯỜNG BÀNG LA
A4: STT | B4: Mã số | C4: Tên vật tư | D4: Đơn vị | E4: ="Giá gốc_x000D_ "&'Công trình'!AL1 -> Giá gốc_x000D_ (đ) | F4: ="Giá tháng_x000D_ "&'Công trình'!AL1 -> Giá tháng_x000D_ (đ) | G4: Hệ số | H4: Chính | I4: ="Giá sau VAT_x000D_ "&'Công trình'!AL1 -> Giá sau VAT_x000D_ (đ) | J4: Mã chuẩn | K4: Ghi chú, Nguồn gốc xuất xứ
A5: I | C5: VẬT LIỆU
A6: 1 | B6: A24.0233 | C6: Cao su đệm | D6: m | E6: 5000 | F6: 12000 | G6: 1 | H6: TRUE | I6: 13200 | J6: CaoSuDem
A7: 2 | B7: A24.1042 | C7: Cát | D7: m3 | E7: 140000 | F7: 150000 | G7: 1 | H7: TRUE | I7: 170500 | J7: Cat
A8: 3 | B8: A24.0175 | C8: Cát mịn ML=0,7-1,4 | D8: m3 | E8: 400000 | F8: 445000 | G8: 1 | H8: TRUE | I8: 495000 | J8: CatMin
A9: 4 | B9: A24.0176 | C9: Cát mịn ML=1,5-2,0 | D9: m3 | E9: 400000 | F9: 445000 | G9: 1 | H9: TRUE | I9: 495000 | J9: CatMin
A10: 5 | B10: A24.0180 | C10: Cát vàng | D10: m3 | E10: 450000 | F10: 480000 | G10: 1 | H10: TRUE | I10: 550000 | J10: CatVang
A11: 6 | B11: A24.0251 | C11: Cấp phối đá dăm loại I | D11: m3 | E11: 184843 | F11: 270000 | G11: 1 | H11: TRUE | I11: 313500 | J11: CapPhoiDaDam
A12: 7 | B12: A24.0183 | C12: Cây chống | D12: cây | E12: 19000 | F12: 22000 | G12: 1 | H12: TRUE | I12: 24200 | J12: CayChong
A13: 8 | B13: A24.0227 | C13: Cọc tre >2,5m | D13: m | E13: 3200 | F13: 5200 | G13: 1 | H13: TRUE | I13: 5720 | J13: CocTre
A14: 9 | B14: A24.0293 | C14: Dây thép | D14: kg | E14: 20000 | F14: 24000 | G14: 1 | H14: TRUE | I14: 26400 | J14: DayThep
A15: 10 | B15: A24.0008 | C15: Đá 1x2 | D15: m3 | E15: 320000 | F15: 340000 | G15: 1 | H15: TRUE | I15: 374000 | J15: Da1x2
A16: 11 | B16: A24.0009 | C16: Đá 2x4 | D16: m3 | E16: 320000 | F16: 340000 | G16: 1 | H16: TRUE | I16: 374000 | J16: Da2x4
A17: 12 | B17: A24.0025 | C17: Đá dăm 2x4 lót móng | D17: m3 | E17: 320000 | F17: 340000 | G17: 1 | H17: TRUE | I17: 374000 | J17: DaCapPhoi
... A41: 36 | B41: A24.0735 | C41: Thép tròn | D41: kg | E41: 19200 | F41: 16500 | G41: 1 | H41: TRUE | I41: 18150 | J41: ThepTron
A42: 37 | B42: A24.0738 | C42: Thép tròn D<=10mm | D42: kg | E42: 19200 | F42: 16500 | G42: 1 | H42: TRUE | I42: 18150 | J42: ThepTron<=10 | K42: (Áp theo Thông báo giá VL số : 08/2022/CBG-SXD của Sở XD TP Hải Phòng ngày 09/08/2022. Vùng : 16)
A43: 38 | B43: A24.0739 | C43: Thép tròn D<=18mm | D43: kg | E43: 19200 | F43: 16500 | G43: 1 | H43: TRUE | I43: 18150 | J43: ThepTron<=18 | K43: (Áp theo Thông báo giá VL số : 08/2022/CBG-SXD của Sở XD TP Hải Phòng ngày 09/08/2022. Vùng : 16)
A44: 39 | B44: A24.0797A | C44: Xi măng PCB30 | D44: kg | E44: 1380 | F44: 1481 | G44: 0.7 | H44: TRUE | I44: 1629.1 | J44: XiMangPCB30 | K44: (Áp theo Thông báo giá VL số : 08/2022/CBG-SXD của Sở XD TP Hải Phòng ngày 09/08/2022. Vùng : 16)
A45: 40 | B45: A24.0797A | C45: Xi măng PCB30 | D45: kg | E45: 1380 | F45: 1481 | G45: 1 | H45: TRUE | I45: 1629.1 | J45: XiMangPCB30 | K45: (Áp theo Thông báo giá VL số : 08/2022/CBG-SXD của Sở XD TP Hải Phòng ngày 09/08/2022. Vùng : 16)
A46: 41 | B46: A24.0796A | C46: Xi măng PCB40 | D46: kg | E46: 1398 | F46: 1500 | G46: 1 | H46: TRUE | I46: 1650 | J46: XiMangPCB40 | K46: (Áp theo Thông báo giá VL số : 08/2022/CBG-SXD của Sở XD TP Hải Phòng ngày 09/08/2022. Vùng : 16)
A47: II | C47: NHÂN CÔNG
A48: 1 | B48: N1.30 | C48: Nhân công 3,0/7 - Nhóm 1 | D48: công | E48: 221303 | F48: ='Nhân công'!T8 -> 221303 | G48: 1 | H48: TRUE | J48: N1.30
A49: 2 | B49: N2.30 | C49: Nhân công 3,0/7 - Nhóm 2 | D49: công | E49: 239592 | F49: ='Nhân công'!T9 -> 239592 | G49: 1 | H49: TRUE | J49: N2.30
A50: 3 | B50: N1.35 | C50: Nhân công 3,5/7 - Nhóm 1 | D50: công | E50: 242000 | F50: ='Nhân công'!T10 -> 242000 | G50: 1 | H50: TRUE | J50: N1.35
A51: 4 | B51: N2.35 | C51: Nhân công 3,5/7 - Nhóm 2 | D51: công | E51: 262000 | F51: ='Nhân công'!T11 -> 262000 | G51: 1 | H51: TRUE | J51: N2.35
A52: 5 | B52: N2.40 | C52: Nhân công 4,0/7 - Nhóm 2 | D52: công | E52: 284408 | F52: ='Nhân công'!T12 -> 284408 | G52: 0.5 | H52: TRUE | J52: N2.40
A53: 6 | B53: N2.40 | C53: Nhân công 4,0/7 - Nhóm 2 | D53: công | E53: 284408 | F53: ='Nhân công'!T12 -> 284408 | G53: 1 | H53: TRUE | J53: N2.40
A54: III | C54: MÁY THI CÔNG
A55: 1 | B55: M102.0201 | C55: Cần cẩu bánh hơi 6 T | D55: ca | E55: 1756646 | F55: =Máy!K6 -> 1764371 | G55: 1 | H55: TRUE | J55: M935 | K55: (Theo Giá máy 156/2022/QĐ-SXD Vùng 1)
A56: 2 | B56: M112.2601 | C56: Máy cắt uốn cốt thép - công suất : 5,0 kW | D56: ca | E56: 281286 | F56: =Máy!K18 -> 279591 | G56: 1 | H56: TRUE | J56: M454 | K56: (Theo Giá máy 156/2022/QĐ-SXD Vùng 1)
A57: 3 | B57: M101.0115 | C57: Máy đào 1,25 m3 gắn đầu búa thủy lực / hàm kẹp | D57: ca | E57: 4267355 | F57: =Máy!K28 -> 4293002 | G57: 1 | H57: TRUE | J57: M15A | K57: (Theo Giá máy 156/2022/QĐ-SXD Vùng 1)
A58: 4 | B58: M101.0101 | C58: Máy đào một gầu, bánh xích - dung tích gầu : 0,40 m3 | D58: ca | E58: 2068759 | F58: =Máy!K38 -> 2082046 | G58: 1 | H58: TRUE | J58: M3 | K58: (Theo Giá máy 156/2022/QĐ-SXD Vùng 1)
A59: 5 | B59: M101.0102 | C59: Máy đào một gầu, bánh xích - dung tích gầu : 0,50 m3 | D59: ca | E59: 2391243 | F59: =Máy!K48 -> 2407002 | G59: 1 | H59: TRUE | J59: M4 | K59: (Theo Giá máy 156/2022/QĐ-SXD Vùng 1)
A60: 6 | B60: M101.0104 | C60: Máy đào một gầu, bánh xích - dung tích gầu : 0,80 m3 | D60: ca | E60: 2938899 | F60: =Máy!K58 -> 2958984 | G60: 1 | H60: TRUE | J60: M6 | K60: (Theo Giá máy 156/2022/QĐ-SXD Vùng 1)
A61: 7 | B61: M101.0105 | C61: Máy đào một gầu, bánh xích - dung tích gầu : 1,25 m3 | D61: ca | E61: 4000423 | F61: =Máy!K68 -> 4026070 | G61: 1 | H61: TRUE | J61: M9 | K61: (Theo Giá máy 156/2022/QĐ-SXD Vùng 1)
A62: 8 | B62: M112.1301 | C62: Máy đầm bê tông, dầm dùi - công suất : 1,5 kW | D62: ca | E62: 276782 | F62: =Máy!K78 -> 275463 | G62: 1 | H62: TRUE | J62: M310 | K62: (Theo Giá máy 156/2022/QĐ-SXD Vùng 1)
A63: 9 | B63: M112.1101 | C63: Máy đầm bê tông, đầm bàn - công suất : 1,0 kW | D63: ca | E63: 272875 | F63: =Máy!K88 -> 271933 | G63: 1 | H63: TRUE | J63: M305 | K63: (Theo Giá máy 156/2022/QĐ-SXD Vùng 1)
A64: 10 | B64: M112.4003 | C64: Máy hàn xoay chiều - công suất : 23,0 kW | D64: ca | E64: 411700 | F64: =Máy!K98 -> 402656 | G64: 1 | H64: TRUE | J64: M423 | K64: (Theo Giá máy 156/2022/QĐ-SXD Vùng 1)
A65: 11 | B65: M112.1501 | C65: Máy khoan đứng - công suất : 2,5 kW | D65: ca | E65: 47521 | F65: =Máy!K108 -> 46579 | G65: 1 | H65: TRUE | J65: M596 | K65: (Theo Giá máy 156/2022/QĐ-SXD Vùng 1)
A66: 12 | B66: M101.0902 | C66: Máy lu bánh hơi tự hành - trọng lượng tĩnh : 16,0 T | D66: ca | E66: 1781990 | F66: =Máy!K115 -> 1793732 | G66: 1 | H66: TRUE | J66: M78 | K66: (Theo Giá máy 156/2022/QĐ-SXD Vùng 1)
A67: 13 | B67: M101.1103 | C67: Máy lu bánh thép tự hành - trọng lượng tĩnh : 10,0 T | D67: ca | E67: 1287637 | F67: =Máy!K125 -> 1295671 | G67: 1 | H67: TRUE | J67: M88 | K67: (Theo Giá máy 156/2022/QĐ-SXD Vùng 1)
A68: 14 | B68: M101.1105 | C68: Máy lu bánh thép tự hành - trọng lượng tĩnh : 16 T | D68: ca | E68: 1595255 | F68: =Máy!K135 -> 1606688 | G68: 1 | H68: TRUE | J68: M92A | K68: (Theo Giá máy 156/2022/QĐ-SXD Vùng 1)
A69: 15 | B69: M101.1102 | C69: Máy lu bánh thép tự hành - trọng lượng tĩnh : 8,5 T - 9 T | D69: ca | E69: 1152746 | F69: =Máy!K145 -> 1160162 | G69: 1 | H69: TRUE | J69: M87 | K69: (Theo Giá máy 156/2022/QĐ-SXD Vùng 1)
A70: 16 | B70: M101.1006 | C70: Máy lu rung tự hành - trọng lượng tĩnh : 25T | D70: ca | E70: 3200091 | F70: =Máy!K155 -> 3220793 | G70: 1 | H70: TRUE | J70: M84 | K70: (Theo Giá máy 156/2022/QĐ-SXD Vùng 1)
A71: 17 | B71: M112.3703 | C71: Máy mài - công suất : 2,7 kW | D71: ca | E71: 18982 | F71: =Máy!K165 -> 18228 | G71: 1 | H71: TRUE | J71: M458 | K71: (Theo Giá máy 156/2022/QĐ-SXD Vùng 1)
A72: 18 | B72: M108.0306 | C72: Máy nén khí, động cơ diezel - năng suất : 600,00 m3/h | D72: ca | E72: 1842337 | F72: =Máy!K172 -> 1856860 | G72: 1 | H72: TRUE | J72: M404 | K72: (Theo Giá máy 156/2022/QĐ-SXD Vùng 1)
A73: 19 | B73: M105.0401 | C73: Máy rải cấp phối đá dăm - năng suất : 50 m3/h - 60 m3/h | D73: ca | E73: 3778425 | F73: =Máy!K182 -> 3787695 | G73: 1 | H73: TRUE | J73: M594 | K73: (Theo Giá máy 156/2022/QĐ-SXD Vùng 1)
A74: 20 | B74: M104.0102 | C74: Máy trộn bê tông - dung tích : 250,0 lít | D74: ca | E74: 320806 | F74: =Máy!K194 -> 318734 | G74: 1 | H74: TRUE | J74: M270 | K74: (Theo Giá máy 156/2022/QĐ-SXD Vùng 1)
A75: 21 | B75: M104.0202 | C75: Máy trộn vữa 150 lít | D75: ca | E75: 294869 | F75: =Máy!K204 -> 293362 | G75: 1 | H75: TRUE | J75: M278 | K75: (Theo Giá máy 156/2022/QĐ-SXD Vùng 1)
A76: 22 | B76: M101.0503 | C76: Máy ủi - công suất : 110,0 CV | D76: ca | E76: 2096893 | F76: =Máy!K214 -> 2111107 | G76: 1 | H76: TRUE | J76: M45 | K76: (Theo Giá máy 156/2022/QĐ-SXD Vùng 1)
A77: 23 | B77: TT* | C77: Máy xoa | D77: Ca | E77: 200000 | F77: 200000 | G77: 1 | H77: FALSE | J77: =""
A78: 24 | B78: M106.0202 | C78: Ô tô tự đổ - trọng tải : 5,0 T | D78: ca | E78: 1727890 | F78: =Máy!K225 -> 1740559 | G78: 1 | H78: TRUE | J78: M107 | K78: (Theo Giá máy 156/2022/QĐ-SXD Vùng 1)
A79: 25 | B79: M106.0202 | C79: Ô tô tự đổ - trọng tải : 5,0 T | D79: ca | E79: 1727890 | F79: =Máy!K225 -> 1740559 | G79: 4 | H79: TRUE | J79: M107 | K79: (Theo Giá máy 156/2022/QĐ-SXD Vùng 1)
A80: 26 | B80: M106.0502 | C80: Ô tô tưới nước - dung tích : 5,0 m3 | D80: ca | E80: 1271914 | F80: =Máy!K235 -> 1279021 | G80: 1 | H80: TRUE | J80: M135 | K80: (Theo Giá máy 156/2022/QĐ-SXD Vùng 1)

Sheet Đầu vào
A1: DỮ LIỆU ĐẦU VÀO TÍNH NHÂN CÔNG, CA MÁY
A2: ='Công trình'!A2 -> CÔNG TRÌNH : SỬA CHỮA TUYẾN ĐƯỜNG TỪ NHÀ BÀ TRƯỜNG, TỔ 5 PHƯỜNG VẠN HƯƠNG ĐẾN NHÀ BÀ KIM, TỔ DÂN PHỐ BẮC HẢI PHƯỜNG BÀNG LA
A3: BẢNG 1. MỨC LƯƠNG, SỐ NGÀY LÀM VIỆC
A4: STT | B4: Tên, loại dữ liệu | D4: Giá trị
B5: Mức lương tối thiểu chung (đồng/tháng) | D5: 0
A6: 1 | B6: Mức lương đầu vào LNC (đồng/tháng) | D6: 0
A7: 2 | B7: Số ngày làm việc (ngày/tháng) | D7: 26
A8: 3 | B8: Hệ số điều chỉnh nhân công | D8: 1
A9: BẢNG 2. TỶ LỆ CÁC KHOẢN PHỤ CẤP
A10: STT | B10: Loại phụ cấp | D10: Tỷ lệ
A11: 1 | B11: Phụ cấp lưu động | D11: 0
A12: 2 | B12: Không ổn định sản xuất | D12: 0
A13: 3 | B13: Lương phụ nghỉ lễ, tết hoặc nghỉ phép ... | D13: 0
A14: 4 | B14: Chi phí có thể khoán trực tiếp cho người lao động | D14: 0
A15: 5 | B15: Phụ cấp khu vực | D15: 0
A16: 6 | B16: Phụ cấp độc hại | D16: 0
A17: 7 | B17: Phụ cấp thu hút | D17: 0
A18: 8 | B18: Phụ cấp trách nhiệm | D18: 0
A19: 9 | B19: Phụ cấp bảo hiểm | D19: 0
A20: 10 | B20: Phụ cấp vùng sâu, vùng xa, khó khăn, đắt đỏ | D20: 0
A21: BẢNG 3. ĐƠN GIÁ NHIÊN LIỆU, ĐIỆN (TRƯỚC THUẾ VAT)
A22: STT | B22: Loại nhiên liệu, năng lượng | C22: Đơn vị | D22: ="Đơn giá "&'Công trình'!AL1 -> Đơn giá (đ)
A23: 1 | B23: Diezel | C23: Lít | D23: 23345.45
A24: 2 | B24: Mazut | C24: Lít | D24: 12963
A25: 3 | B25: Điện | C25: kwh | D25: 1685
A26: 4 | B26: Xăng A92 | C26: Lít | D26: 21645.45
A27: BẢNG 4. HỆ SỐ NHIÊN LIỆU PHỤ
A28: STT | B28: Loại động cơ | D28: Hệ số
A29: 1 | B29: Động cơ Diezel | D29: 1.03
A30: 2 | B30: Động cơ Mazut | D30: 1
A31: 3 | B31: Động cơ Điện | D31: 1.05
A32: 4 | B32: Động cơ Xăng | D32: 1.02
A33: BẢNG 5. THU HỒI KHI THANH LÝ
A34: STT | B34: Loại nhiên liệu, năng lượng | D34: Giá trị
A35: 1 | B35: Thu hồi thanh lý khi nguyên giá từ (triệu đồng) | D35: 30
A36: 2 | B36: Tỷ lệ thu hồi khi thanh lý | D36: 0.1
A37: BẢNG 6. LÀM TRÒN SỐ HỌC
A38: STT | B38: Đối tượng làm tròn | D38: Làm tròn
A39: 1 | B39: Giá | D39: 1 | E39: =D39 -> 1
A40: 2 | B40: Đơn giá Nhân công, Lương thợ lái máy | D40: 0 | E40: =D40 -> 0
A41: 3 | B41: Tổng đơn giá | D41: 0
A42: 4 | B42: Hệ số lương | D42: 3
A43: BẢNG 7. CÁC KÝ HIỆU VIẾT TẮT
A44: STT | B44: Ý nghĩa ký hiệu viết tắt | D44: Ký hiệu
A45: 1 | B45: Mức lương đầu vào | D45: LNC
A46: 2 | B46: Lương cơ bản (lương cấp bậc) | D46: LCB
A47: 3 | B47: Hệ số lương theo cấp bậc | D47: HCB

Sheet Nhân công
A1: BẢNG TÍNH ĐƠN GIÁ NHÂN CÔNG
A2: (Theo QĐ 117/2022 Hải Phòng.)
A3: ='Công trình'!A2 -> CÔNG TRÌNH : SỬA CHỮA TUYẾN ĐƯỜNG TỪ NHÀ BÀ TRƯỜNG, TỔ 5 PHƯỜNG VẠN HƯƠNG ĐẾN NHÀ BÀ KIM, TỔ DÂN PHỐ BẮC HẢI PHƯỜNG BÀNG LA
A4: ="Đơn vị tính: "&'Công trình'!AL1 -> Đơn vị tính: (đ)
A5: STT | B5: Mã số | C5: Tên nhân công | D5: Đơn vị | E5: Hệ số lương (HCB) | F5: Đơn giá NC bình quân (đ/công) | G5: Hệ số lương bình quân | H5: Lương CB (đ/công) | I5: ="Phụ cấp "&'Công trình'!AL1 -> Phụ cấp (đ) | S5: Hệ số điều chỉnh nhân công | T5: Đơn giá nhân công (đ/công) | U5: Hệ số lương (chưa làm tròn)
I6: ="Lưu động _x000D_ ("&'Đầu vào'!D11*100&"% LTC)" -> Lưu động _x000D_ (0% LTC) | J6: ="Không ổn định S.X _x000D_ ("&'Đầu vào'!D12*100&"% LCB)" -> Không ổn định S.X _x000D_ (0% LCB) | K6: ="Lương phụ nghỉ lễ, tết _x000D_ ("&'Đầu vào'!D13*100&"% LCB)" -> Lương phụ nghỉ lễ, tết _x000D_ (0% LCB) | L6: ="Khoán trực tiếp _x000D_ ("&'Đầu vào'!D14*100&"% LCB)" -> Khoán trực tiếp _x000D_ (0% LCB) | M6: ="Khu vực _x000D_ ("&'Đầu vào'!D15*100&"% LTC)" -> Khu vực _x000D_ (0% LTC) | N6: ="Độc hại _x000D_ ("&'Đầu vào'!D16*100&"% LTC)" -> Độc hại _x000D_ (0% LTC) | O6: ="Thu hút _x000D_ ("&'Đầu vào'!D17*100&"% LCB)" -> Thu hút _x000D_ (0% LCB) | P6: ="Trách nhiệm _x000D_ ("&'Đầu vào'!D18*100&"% LTC)" -> Trách nhiệm _x000D_ (0% LTC) | Q6: ="Bảo hiểm _x000D_ ("&'Đầu vào'!D19*100&"% LCB)" -> Bảo hiểm _x000D_ (0% LCB) | R6: ="Vùng sâu, vùng xa _x000D_ ("&'Đầu vào'!D20*100&"% LCB)" -> Vùng sâu, vùng xa _x000D_ (0% LCB)
I7: ='Đầu vào'!D11 -> 0 | J7: ='Đầu vào'!D12 -> 0 | K7: ='Đầu vào'!D13 -> 0 | L7: ='Đầu vào'!D14 -> 0 | M7: ='Đầu vào'!D15 -> 0 | N7: ='Đầu vào'!D16 -> 0 | O7: ='Đầu vào'!D17 -> 0 | P7: ='Đầu vào'!D18 -> 0 | Q7: ='Đầu vào'!D19 -> 0 | R7: ='Đầu vào'!D20 -> 0
A8: 1 | B8: ='Giá tháng'!B48 -> N1.30 | C8: ='Giá tháng'!C48 -> Nhân công 3,0/7 - Nhóm 1 | D8: ='Giá tháng'!D48 -> công | E8: =ROUND(U8,'Đầu vào'!D42) -> 1.39 | F8: 242000 | G8: 1.52 | H8: =ROUND(E8*F8/G8,'Đầu vào'!D39) -> 221302.6 | J8: =ROUND(J7*H8,'Đầu vào'!D39) -> 0 | K8: =ROUND(K7*H8,'Đầu vào'!D39) -> 0 | L8: =ROUND(L7*H8,'Đầu vào'!D39) -> 0 | O8: =ROUND(O7*H8,'Đầu vào'!D39) -> 0 | Q8: =ROUND(Q7*H8,'Đầu vào'!D39) -> 0 | R8: =ROUND(R7*H8,'Đầu vào'!D39) -> 0 | T8: =ROUND(SUM(H8:R8),'Đầu vào'!D40) -> 221303 | U8: 1.39
A9: 2 | B9: ='Giá tháng'!B49 -> N2.30 | C9: ='Giá tháng'!C49 -> Nhân công 3,0/7 - Nhóm 2 | D9: ='Giá tháng'!D49 -> công | E9: =ROUND(U9,'Đầu vào'!D42) -> 1.39 | F9: 262000 | G9: 1.52 | H9: =ROUND(E9*F9/G9,'Đầu vào'!D39) -> 239592.1 | J9: =ROUND(J7*H9,'Đầu vào'!D39) -> 0 | K9: =ROUND(K7*H9,'Đầu vào'!D39) -> 0 | L9: =ROUND(L7*H9,'Đầu vào'!D39) -> 0 | O9: =ROUND(O7*H9,'Đầu vào'!D39) -> 0 | Q9: =ROUND(Q7*H9,'Đầu vào'!D39) -> 0 | R9: =ROUND(R7*H9,'Đầu vào'!D39) -> 0 | T9: =ROUND(SUM(H9:R9),'Đầu vào'!D40) -> 239592 | U9: 1.39
A10: 3 | B10: ='Giá tháng'!B50 -> N1.35 | C10: ='Giá tháng'!C50 -> Nhân công 3,5/7 - Nhóm 1 | D10: ='Giá tháng'!D50 -> công | E10: =ROUND(U10,'Đầu vào'!D42) -> 1.52 | F10: 242000 | G10: 1.52 | H10: =ROUND(E10*F10/G10,'Đầu vào'!D39) -> 242000 | J10: =ROUND(J7*H10,'Đầu vào'!D39) -> 0 | K10: =ROUND(K7*H10,'Đầu vào'!D39) -> 0 | L10: =ROUND(L7*H10,'Đầu vào'!D39) -> 0 | O10: =ROUND(O7*H10,'Đầu vào'!D39) -> 0 | Q10: =ROUND(Q7*H10,'Đầu vào'!D39) -> 0 | R10: =ROUND(R7*H10,'Đầu vào'!D39) -> 0 | T10: =ROUND(SUM(H10:R10),'Đầu vào'!D40) -> 242000 | U10: 1.52
A11: 4 | B11: ='Giá tháng'!B51 -> N2.35 | C11: ='Giá tháng'!C51 -> Nhân công 3,5/7 - Nhóm 2 | D11: ='Giá tháng'!D51 -> công | E11: =ROUND(U11,'Đầu vào'!D42) -> 1.52 | F11: 262000 | G11: 1.52 | H11: =ROUND(E11*F11/G11,'Đầu vào'!D39) -> 262000 | J11: =ROUND(J7*H11,'Đầu vào'!D39) -> 0 | K11: =ROUND(K7*H11,'Đầu vào'!D39) -> 0 | L11: =ROUND(L7*H11,'Đầu vào'!D39) -> 0 | O11: =ROUND(O7*H11,'Đầu vào'!D39) -> 0 | Q11: =ROUND(Q7*H11,'Đầu vào'!D39) -> 0 | R11: =ROUND(R7*H11,'Đầu vào'!D39) -> 0 | T11: =ROUND(SUM(H11:R11),'Đầu vào'!D40) -> 262000 | U11: 1.52
A12: 5 | B12: ='Giá tháng'!B52 -> N2.40 | C12: ='Giá tháng'!C52 -> Nhân công 4,0/7 - Nhóm 2 | D12: ='Giá tháng'!D52 -> công | E12: =ROUND(U12,'Đầu vào'!D42) -> 1.65 | F12: 262000 | G12: 1.52 | H12: =ROUND(E12*F12/G12,'Đầu vào'!D39) -> 284407.9 | J12: =ROUND(J7*H12,'Đầu vào'!D39) -> 0 | K12: =ROUND(K7*H12,'Đầu vào'!D39) -> 0 | L12: =ROUND(L7*H12,'Đầu vào'!D39) -> 0 | O12: =ROUND(O7*H12,'Đầu vào'!D39) -> 0 | Q12: =ROUND(Q7*H12,'Đầu vào'!D39) -> 0 | R12: =ROUND(R7*H12,'Đầu vào'!D39) -> 0 | T12: =ROUND(SUM(H12:R12),'Đầu vào'!D40) -> 284408 | U12: 1.65

Sheet Máy
A1: BẢNG TÍNH ĐƠN GIÁ CA MÁY
A2: (Theo Thông tư 13/2021/TT-BXD, QĐ 117/2022 Hải Phòng.)
A3: ='Công trình'!A2 -> CÔNG TRÌNH : SỬA CHỮA TUYẾN ĐƯỜNG TỪ NHÀ BÀ TRƯỜNG, TỔ 5 PHƯỜNG VẠN HƯƠNG ĐẾN NHÀ BÀ KIM, TỔ DÂN PHỐ BẮC HẢI PHƯỜNG BÀNG LA
A4: ="Đơn vị tính: "&'Công trình'!AL1 -> Đơn vị tính: (đ)
A5: STT | B5: Mã số | C5: Tên máy và thiết bị thi công / Diễn giải | D5: Đơn vị | E5: ="Nguyên giá_x000D_ "&'Công trình'!AL1 -> Nguyên giá_x000D_ (đ) | F5: Số ca / 1 năm | G5: Định mức | H5: ="Đơn giá_x000D_ "&'Công trình'!AL1 -> Đơn giá_x000D_ (đ) | I5: Hệ số | J5: Số ngày / tháng | K5: ="Chi phí_x000D_ "&'Công trình'!AL1 -> Chi phí_x000D_ (đ)
A6: 1 | B6: ='Giá tháng'!B55 -> M102.0201 | C6: ='Giá tháng'!C55 -> Cần cẩu bánh hơi 6 T | D6: ='Giá tháng'!D55 -> ca | E6: 629428000 | F6: 240 | K6: =ROUND(K7+K9+K14,'Đầu vào'!D41) -> 1764371
C7: * Nhiên liệu, năng lượng : | K7: =ROUND(SUM(K8:K8),'Đầu vào'!D39) -> 601145.3
C8: =" - "&'Đầu vào'!B23 -> - Diezel | D8: ='Đầu vào'!C23 -> Lít | G8: 25 | H8: ='Đầu vào'!D23 -> 23345.45 | I8: ='Đầu vào'!D29 -> 1.03 | K8: =ROUND(G8*H8*I8,'Đầu vào'!D39) -> 601145.3
C9: * Nhân công vận hành máy : | K9: =ROUND(G10*K10+G12*K12,'Đầu vào'!D39) -> 701645
C10: - Nhân công bậc 4,0/7 - Nhóm 4 | G10: 1 | K10: =ROUND(SUM(K11:K11),'Đầu vào'!E40) -> 293092
C11: Lương cơ bản | G11: 1.65 | H11: 270000 | I11: 1.52 | K11: =ROUND(IF(G11<>0,G11*H11/I11,H11),'Đầu vào'!E40) -> 293092
C12: - Nhân công bậc 6,0/7 - Nhóm 4 | G12: 1 | K12: =ROUND(SUM(K13:K13),'Đầu vào'!E40) -> 408553
C13: Lương cơ bản | G13: 2.3 | H13: 270000 | I13: 1.52 | K13: =ROUND(IF(G13<>0,G13*H13/I13,H13),'Đầu vào'!E40) -> 408553
C14: * Khấu hao, Sửa chữa và Chi phí khác | K14: =SUM(K15:K17) -> 461580.6
C15: - Khấu hao | G15: 0.09 | H15: =E6 -> 629428000 | I15: =IF(E6>='Đầu vào'!D35*10^6,1-'Đầu vào'!D36,1) -> 0.9 | K15: =ROUND(G15*H15*I15/F6,'Đầu vào'!E39) -> 212432
C16: - Sửa chữa | G16: 0.045 | H16: =E6 -> 629428000 | K16: =ROUND(G16*H16/F6,'Đầu vào'!E39) -> 118017.8
C17: - Chi phí khác | G17: 0.05 | H17: =E6 -> 629428000 | K17: =ROUND(G17*H17/F6,'Đầu vào'!E39) -> 131130.8
A18: 2 | B18: ='Giá tháng'!B56 -> M112.2601 | C18: ='Giá tháng'!C56 -> Máy cắt uốn cốt thép - công suất : 5,0 kW | D18: ='Giá tháng'!D56 -> ca | E18: 18200000 | F18: 240 | K18: =ROUND(K19+K21+K24,'Đầu vào'!D41) -> 279591
C19: * Nhiên liệu, năng lượng : | K19: =ROUND(SUM(K20:K20),'Đầu vào'!D39) -> 15923.3
C20: =" - "&'Đầu vào'!B25 -> - Điện | D20: ='Đầu vào'!C25 -> kwh | G20: 9 | H20: ='Đầu vào'!D25 -> 1685 | I20: ='Đầu vào'!D31 -> 1.05 | K20: =ROUND(G20*H20*I20,'Đầu vào'!D39) -> 15923.3
C21: * Nhân công vận hành máy : | K21: =ROUND(G22*K22,'Đầu vào'!D39) -> 246908
C22: - Nhân công bậc 3,0/7 - Nhóm 4 | G22: 1 | K22: =ROUND(SUM(K23:K23),'Đầu vào'!E40) -> 246908
C23: Lương cơ bản | G23: 1.39 | H23: 270000 | I23: 1.52 | K23: =ROUND(IF(G23<>0,G23*H23/I23,H23),'Đầu vào'!E40) -> 246908
C24: * Khấu hao, Sửa chữa và Chi phí khác | K24: =SUM(K25:K27) -> 16759.2
C25: - Khấu hao | G25: 0.14 | H25: =E18 -> 18200000 | I25: =IF(E18>='Đầu vào'!D35*10^6,1-'Đầu vào'!D36,1) -> 1 | K25: =ROUND(G25*H25*I25/F18,'Đầu vào'!E39) -> 10616.7
C26: - Sửa chữa | G26: 0.041 | H26: =E18 -> 18200000 | K26: =ROUND(G26*H26/F18,'Đầu vào'!E39) -> 3109.2
C27: - Chi phí khác | G27: 0.04 | H27: =E18 -> 18200000 | K27: =ROUND(G27*H27/F18,'Đầu vào'!E39) -> 3033.3
A28: 3 | B28: ='Giá tháng'!B57 -> M101.0115 | C28: ='Giá tháng'!C57 -> Máy đào 1,25 m3 gắn đầu búa thủy lực / hàm kẹp | D28: ='Giá tháng'!D57 -> ca | E28: 2150000000 | F28: 280 | K28: =ROUND(K29+K31+K34,'Đầu vào'!D41) -> 4293002
C29: * Nhiên liệu, năng lượng : | K29: =ROUND(SUM(K30:K30),'Đầu vào'!D39) -> 1995802.5
C30: =" - "&'Đầu vào'!B23 -> - Diezel | D30: ='Đầu vào'!C23 -> Lít | G30: 83 | H30: ='Đầu vào'!D23 -> 23345.45 | I30: ='Đầu vào'!D29 -> 1.03 | K30: =ROUND(G30*H30*I30,'Đầu vào'!D39) -> 1995802.5
C31: * Nhân công vận hành máy : | K31: =ROUND(G32*K32,'Đầu vào'!D39) -> 293092
C32: - Nhân công bậc 4,0/7 - Nhóm 4 | G32: 1 | K32: =ROUND(SUM(K33:K33),'Đầu vào'!E40) -> 293092
C33: Lương cơ bản | G33: 1.65 | H33: 270000 | I33: 1.52 | K33: =ROUND(IF(G33<>0,G33*H33/I33,H33),'Đầu vào'!E40) -> 293092
C34: * Khấu hao, Sửa chữa và Chi phí khác | K34: =SUM(K35:K37) -> 2004107.1
C35: - Khấu hao | G35: 0.17 | H35: =E28 -> 2150000000 | I35: =IF(E28>='Đầu vào'!D35*10^6,1-'Đầu vào'!D36,1) -> 0.9 | K35: =ROUND(G35*H35*I35/F28,'Đầu vào'!E39) -> 1174821.4
C36: - Sửa chữa | G36: 0.058 | H36: =E28 -> 2150000000 | K36: =ROUND(G36*H36/F28,'Đầu vào'!E39) -> 445357.1
C37: - Chi phí khác | G37: 0.05 | H37: =E28 -> 2150000000 | K37: =ROUND(G37*H37/F28,'Đầu vào'!E39) -> 383928.6
A38: 4 | B38: ='Giá tháng'!B58 -> M101.0101 | C38: ='Giá tháng'!C58 -> Máy đào một gầu, bánh xích - dung tích gầu : 0,40 m3 | D38: ='Giá tháng'!D58 -> ca | E38: 809944000 | F38: 280 | K38: =ROUND(K39+K41+K44,'Đầu vào'!D41) -> 2082046
C39: * Nhiên liệu, năng lượng : | K39: =ROUND(SUM(K40:K40),'Đầu vào'!D39) -> 1033970
C40: =" - "&'Đầu vào'!B23 -> - Diezel | D40: ='Đầu vào'!C23 -> Lít | G40: 43 | H40: ='Đầu vào'!D23 -> 23345.45 | I40: ='Đầu vào'!D29 -> 1.03 | K40: =ROUND(G40*H40*I40,'Đầu vào'!D39) -> 1033970
C41: * Nhân công vận hành máy : | K41: =ROUND(G42*K42,'Đầu vào'!D39) -> 293092
C42: - Nhân công bậc 4,0/7 - Nhóm 4 | G42: 1 | K42: =ROUND(SUM(K43:K43),'Đầu vào'!E40) -> 293092
C43: Lương cơ bản | G43: 1.65 | H43: 270000 | I43: 1.52 | K43: =ROUND(IF(G43<>0,G43*H43/I43,H43),'Đầu vào'!E40) -> 293092
C44: * Khấu hao, Sửa chữa và Chi phí khác | K44: =SUM(K45:K47) -> 754983.5
C45: - Khấu hao | G45: 0.17 | H45: =E38 -> 809944000 | I45: =IF(E38>='Đầu vào'!D35*10^6,1-'Đầu vào'!D36,1) -> 0.9 | K45: =ROUND(G45*H45*I45/F38,'Đầu vào'!E39) -> 442576.5
C46: - Sửa chữa | G46: 0.058 | H46: =E38 -> 809944000 | K46: =ROUND(G46*H46/F38,'Đầu vào'!E39) -> 167774.1
C47: - Chi phí khác | G47: 0.05 | H47: =E38 -> 809944000 | K47: =ROUND(G47*H47/F38,'Đầu vào'!E39) -> 144632.9
A48: 5 | B48: ='Giá tháng'!B59 -> M101.0102 | C48: ='Giá tháng'!C59 -> Máy đào một gầu, bánh xích - dung tích gầu : 0,50 m3 | D48: ='Giá tháng'!D59 -> ca | E48: 952186000 | F48: 280 | K48: =ROUND(K49+K51+K54,'Đầu vào'!D41) -> 2407002
C49: * Nhiên liệu, năng lượng : | K49: =ROUND(SUM(K50:K50),'Đầu vào'!D39) -> 1226336.5
C50: =" - "&'Đầu vào'!B23 -> - Diezel | D50: ='Đầu vào'!C23 -> Lít | G50: 51 | H50: ='Đầu vào'!D23 -> 23345.45 | I50: ='Đầu vào'!D29 -> 1.03 | K50: =ROUND(G50*H50*I50,'Đầu vào'!D39) -> 1226336.5
C51: * Nhân công vận hành máy : | K51: =ROUND(G52*K52,'Đầu vào'!D39) -> 293092
C52: - Nhân công bậc 4,0/7 - Nhóm 4 | G52: 1 | K52: =ROUND(SUM(K53:K53),'Đầu vào'!E40) -> 293092
C53: Lương cơ bản | G53: 1.65 | H53: 270000 | I53: 1.52 | K53: =ROUND(IF(G53<>0,G53*H53/I53,H53),'Đầu vào'!E40) -> 293092
C54: * Khấu hao, Sửa chữa và Chi phí khác | K54: =SUM(K55:K57) -> 887573.3
C55: - Khấu hao | G55: 0.17 | H55: =E48 -> 952186000 | I55: =IF(E48>='Đầu vào'!D35*10^6,1-'Đầu vào'!D36,1) -> 0.9 | K55: =ROUND(G55*H55*I55/F48,'Đầu vào'!E39) -> 520301.6
C56: - Sửa chữa | G56: 0.058 | H56: =E48 -> 952186000 | K56: =ROUND(G56*H56/F48,'Đầu vào'!E39) -> 197238.5
C57: - Chi phí khác | G57: 0.05 | H57: =E48 -> 952186000 | K57: =ROUND(G57*H57/F48,'Đầu vào'!E39) -> 170033.2
A58: 6 | B58: ='Giá tháng'!B60 -> M101.0104 | C58: ='Giá tháng'!C60 -> Máy đào một gầu, bánh xích - dung tích gầu : 0,80 m3 | D58: ='Giá tháng'!D60 -> ca | E58: 1183203000 | F58: 280 | K58: =ROUND(K59+K61+K64,'Đầu vào'!D41) -> 2958984
C59: * Nhiên liệu, năng lượng : | K59: =ROUND(SUM(K60:K60),'Đầu vào'!D39) -> 1562977.9
C60: =" - "&'Đầu vào'!B23 -> - Diezel | D60: ='Đầu vào'!C23 -> Lít | G60: 65 | H60: ='Đầu vào'!D23 -> 23345.45 | I60: ='Đầu vào'!D29 -> 1.03 | K60: =ROUND(G60*H60*I60,'Đầu vào'!D39) -> 1562977.9
C61: * Nhân công vận hành máy : | K61: =ROUND(G62*K62,'Đầu vào'!D39) -> 293092
C62: - Nhân công bậc 4,0/7 - Nhóm 4 | G62: 1 | K62: =ROUND(SUM(K63:K63),'Đầu vào'!E40) -> 293092
C63: Lương cơ bản | G63: 1.65 | H63: 270000 | I63: 1.52 | K63: =ROUND(IF(G63<>0,G63*H63/I63,H63),'Đầu vào'!E40) -> 293092
C64: * Khấu hao, Sửa chữa và Chi phí khác | K64: =SUM(K65:K67) -> 1102914.3
C65: - Khấu hao | G65: 0.17 | H65: =E58 -> 1183203000 | I65: =IF(E58>='Đầu vào'!D35*10^6,1-'Đầu vào'!D36,1) -> 0.9 | K65: =ROUND(G65*H65*I65/F58,'Đầu vào'!E39) -> 646535.9
C66: - Sửa chữa | G66: 0.058 | H66: =E58 -> 1183203000 | K66: =ROUND(G66*H66/F58,'Đầu vào'!E39) -> 245092.1
C67: - Chi phí khác | G67: 0.05 | H67: =E58 -> 1183203000 | K67: =ROUND(G67*H67/F58,'Đầu vào'!E39) -> 211286.3
A68: 7 | B68: ='Giá tháng'!B61 -> M101.0105 | C68: ='Giá tháng'!C61 -> Máy đào một gầu, bánh xích - dung tích gầu : 1,25 m3 | D68: ='Giá tháng'!D61 -> ca | E68: 1863636000 | F68: 280 | K68: =ROUND(K69+K71+K74,'Đầu vào'!D41) -> 4026070
C69: * Nhiên liệu, năng lượng : | K69: =ROUND(SUM(K70:K70),'Đầu vào'!D39) -> 1995802.5
C70: =" - "&'Đầu vào'!B23 -> - Diezel | D70: ='Đầu vào'!C23 -> Lít | G70: 83 | H70: ='Đầu vào'!D23 -> 23345.45 | I70: ='Đầu vào'!D29 -> 1.03 | K70: =ROUND(G70*H70*I70,'Đầu vào'!D39) -> 1995802.5
C71: * Nhân công vận hành máy : | K71: =ROUND(G72*K72,'Đầu vào'!D39) -> 293092
C72: - Nhân công bậc 4,0/7 - Nhóm 4 | G72: 1 | K72: =ROUND(SUM(K73:K73),'Đầu vào'!E40) -> 293092
C73: Lương cơ bản | G73: 1.65 | H73: 270000 | I73: 1.52 | K73: =ROUND(IF(G73<>0,G73*H73/I73,H73),'Đầu vào'!E40) -> 293092
C74: * Khấu hao, Sửa chữa và Chi phí khác | K74: =SUM(K75:K77) -> 1737175
C75: - Khấu hao | G75: 0.17 | H75: =E68 -> 1863636000 | I75: =IF(E68>='Đầu vào'!D35*10^6,1-'Đầu vào'!D36,1) -> 0.9 | K75: =ROUND(G75*H75*I75/F68,'Đầu vào'!E39) -> 1018344
C76: - Sửa chữa | G76: 0.058 | H76: =E68 -> 1863636000 | K76: =ROUND(G76*H76/F68,'Đầu vào'!E39) -> 386038.9
C77: - Chi phí khác | G77: 0.05 | H77: =E68 -> 1863636000 | K77: =ROUND(G77*H77/F68,'Đầu vào'!E39) -> 332792.1
A78: 8 | B78: ='Giá tháng'!B62 -> M112.1301 | C78: ='Giá tháng'!C62 -> Máy đầm bê tông, dầm dùi - công suất : 1,5 kW | D78: ='Giá tháng'!D62 -> ca | E78: 7395000 | F78: 150 | K78: =ROUND(K79+K81+K84,'Đầu vào'!D41) -> 275463
C79: * Nhiên liệu, năng lượng : | K79: =ROUND(SUM(K80:K80),'Đầu vào'!D39) -> 12384.8
C80: =" - "&'Đầu vào'!B25 -> - Điện | D80: ='Đầu vào'!C25 -> kwh | G80: 7 | H80: ='Đầu vào'!D25 -> 1685 | I80: ='Đầu vào'!D31 -> 1.05 | K80: =ROUND(G80*H80*I80,'Đầu vào'!D39) -> 12384.8
C81: * Nhân công vận hành máy : | K81: =ROUND(G82*K82,'Đầu vào'!D39) -> 246908
C82: - Nhân công bậc 3,0/7 - Nhóm 4 | G82: 1 | K82: =ROUND(SUM(K83:K83),'Đầu vào'!E40) -> 246908
C83: Lương cơ bản | G83: 1.39 | H83: 270000 | I83: 1.52 | K83: =ROUND(IF(G83<>0,G83*H83/I83,H83),'Đầu vào'!E40) -> 246908
C84: * Khấu hao, Sửa chữa và Chi phí khác | K84: =SUM(K85:K87) -> 16170.4
C85: - Khấu hao | G85: 0.2 | H85: =E78 -> 7395000 | I85: =IF(E78>='Đầu vào'!D35*10^6,1-'Đầu vào'!D36,1) -> 1 | K85: =ROUND(G85*H85*I85/F78,'Đầu vào'!E39) -> 9860
C86: - Sửa chữa | G86: 0.088 | H86: =E78 -> 7395000 | K86: =ROUND(G86*H86/F78,'Đầu vào'!E39) -> 4338.4
C87: - Chi phí khác | G87: 0.04 | H87: =E78 -> 7395000 | K87: =ROUND(G87*H87/F78,'Đầu vào'!E39) -> 1972
A88: 9 | B88: ='Giá tháng'!B63 -> M112.1101 | C88: ='Giá tháng'!C63 -> Máy đầm bê tông, đầm bàn - công suất : 1,0 kW | D88: ='Giá tháng'!D63 -> ca | E88: 6420000 | F88: 150 | K88: =ROUND(K89+K91+K94,'Đầu vào'!D41) -> 271933
C89: * Nhiên liệu, năng lượng : | K89: =ROUND(SUM(K90:K90),'Đầu vào'!D39) -> 8846.3
C90: =" - "&'Đầu vào'!B25 -> - Điện | D90: ='Đầu vào'!C25 -> kwh | G90: 5 | H90: ='Đầu vào'!D25 -> 1685 | I90: ='Đầu vào'!D31 -> 1.05 | K90: =ROUND(G90*H90*I90,'Đầu vào'!D39) -> 8846.3
C91: * Nhân công vận hành máy : | K91: =ROUND(G92*K92,'Đầu vào'!D39) -> 246908
C92: - Nhân công bậc 3,0/7 - Nhóm 4 | G92: 1 | K92: =ROUND(SUM(K93:K93),'Đầu vào'!E40) -> 246908
C93: Lương cơ bản | G93: 1.39 | H93: 270000 | I93: 1.52 | K93: =ROUND(IF(G93<>0,G93*H93/I93,H93),'Đầu vào'!E40) -> 246908
C94: * Khấu hao, Sửa chữa và Chi phí khác | K94: =SUM(K95:K97) -> 16178.4
C95: - Khấu hao | G95: 0.25 | H95: =E88 -> 6420000 | I95: =IF(E88>='Đầu vào'!D35*10^6,1-'Đầu vào'!D36,1) -> 1 | K95: =ROUND(G95*H95*I95/F88,'Đầu vào'!E39) -> 10700
C96: - Sửa chữa | G96: 0.088 | H96: =E88 -> 6420000 | K96: =ROUND(G96*H96/F88,'Đầu vào'!E39) -> 3766.4
C97: - Chi phí khác | G97: 0.04 | H97: =E88 -> 6420000 | K97: =ROUND(G97*H97/F88,'Đầu vào'!E39) -> 1712
A98: 10 | B98: ='Giá tháng'!B64 -> M112.4003 | C98: ='Giá tháng'!C64 -> Máy hàn xoay chiều - công suất : 23,0 kW | D98: ='Giá tháng'!D64 -> ca | E98: 16000000 | F98: 200 | K98: =ROUND(K99+K101+K104,'Đầu vào'!D41) -> 402656
C99: * Nhiên liệu, năng lượng : | K99: =ROUND(SUM(K100:K100),'Đầu vào'!D39) -> 84924
C100: =" - "&'Đầu vào'!B25 -> - Điện | D100: ='Đầu vào'!C25 -> kwh | G100: 48 | H100: ='Đầu vào'!D25 -> 1685 | I100: ='Đầu vào'!D31 -> 1.05 | K100: =ROUND(G100*H100*I100,'Đầu vào'!D39) -> 84924
...

Sheet HaoPhiVatTu
A1: HAO PHÍ VẬT LIỆU, NHÂN CÔNG, MÁY CHO CÁC CÔNG TÁC XÂY DỰNG
A2: ='Công trình'!A2 -> CÔNG TRÌNH : SỬA CHỮA TUYẾN ĐƯỜNG TỪ NHÀ BÀ TRƯỜNG, TỔ 5 PHƯỜNG VẠN HƯƠNG ĐẾN NHÀ BÀ KIM, TỔ DÂN PHỐ BẮC HẢI PHƯỜNG BÀNG LA | M2: VL khác, Máy khác
A3: ='Công trình'!F6 -> SỬA CHỮA NỀN MẶT ĐƯỜNG, HỆ THỐNG THOÁT NƯỚC | M3: VLK gốc | N3: MK gốc | O3: VLK HT | P3: MK HT | Q3: Cước VC | R3: Cước bộ | S3: So sánh
A4: STT | B4: Mã hiệu | C4: Tên công tác / vật tư | D4: Đơn vị | E4: Khối lượng | F4: Định mức hao phí | I4: Hệ số | J4: Khối lượng hao phí | M4: =SUM(M6:M521) -> 8603009.4 | N4: =SUM(N6:N521) -> 1878723 | O4: =SUM(O6:O521) -> 9383025 | P4: =SUM(P6:P521) -> 1881547.1
F5: Vật liệu | G5: N. công | H5: Máy | J5: Vật liệu | K5: Nhân công | L5: Máy
B6: ='Công trình'!E7 -> * | C6: ='Công trình'!F7 -> SỬA CHỮA NỀN MẶT ĐƯỜNG: | D6: ='Công trình'!G7 -> 0 | E6: ='Công trình'!P7 -> 0
A7: ='Công trình'!A9 -> 1 | B7: ='Công trình'!E9 -> AA.22310 | C7: ='Công trình'!F9 -> Phá dỡ kết cấu bê tông bằng máy đào 1,25m3 gắn đầu búa thủy lực | D7: ='Công trình'!G9 -> m3 | E7: =ROUND('Công trình'!P9,4) -> 90.89
C8: b) Nhân công
B9: ='Giá tháng'!B48 -> N1.30 | C9: ='Giá tháng'!C48 -> Nhân công 3,0/7 - Nhóm 1 | D9: ='Giá tháng'!D48 -> công | G9: 0.013 | I9: ='Giá tháng'!G48 -> 1 | K9: =ROUND(IF(E$6=0,E7*G9*I9,E$6*E7*G9*I9),4) -> 1.1816 | S9: 202
C10: c) Máy thi công
B11: ='Giá tháng'!B57 -> M101.0115 | C11: ='Giá tháng'!C57 -> Máy đào 1,25 m3 gắn đầu búa thủy lực / hàm kẹp | D11: ='Giá tháng'!D57 -> ca | H11: 0.022 | I11: ='Giá tháng'!G57 -> 1 | L11: =ROUND(IF(E$6=0,E7*H11*I11,E$6*E7*H11*I11),4) -> 1.9996 | S11: 303
A12: ='Công trình'!A11 -> 2 | B12: ='Công trình'!E11 -> AB.31122 | C12: ='Công trình'!F11 -> Đào nền đường, đất cấp II | D12: ='Công trình'!G11 -> 100m3 | E12: =ROUND('Công trình'!P11,4) -> 7.7825
C13: b) Nhân công
B14: ='Giá tháng'!B48 -> N1.30 | C14: ='Giá tháng'!C48 -> Nhân công 3,0/7 - Nhóm 1 | D14: ='Giá tháng'!D48 -> công | G14: 3.43 | I14: ='Giá tháng'!G48 -> 1 | K14: =ROUND(IF(E$6=0,E12*G14*I14,E$6*E12*G14*I14),4) -> 26.694 | S14: 202
C15: c) Máy thi công
B16: ='Giá tháng'!B60 -> M101.0104 | C16: ='Giá tháng'!C60 -> Máy đào một gầu, bánh xích - dung tích gầu : 0,80 m3 | D16: ='Giá tháng'!D60 -> ca | H16: 0.355 | I16: ='Giá tháng'!G60 -> 1 | L16: =ROUND(IF(E$6=0,E12*H16*I16,E$6*E12*H16*I16),4) -> 2.7628 | S16: 306
B17: ='Giá tháng'!B76 -> M101.0503 | C17: ='Giá tháng'!C76 -> Máy ủi - công suất : 110,0 CV | D17: ='Giá tháng'!D76 -> ca | H17: 0.047 | I17: ='Giá tháng'!G76 -> 1 | L17: =ROUND(IF(E$6=0,E12*H17*I17,E$6*E12*H17*I17),4) -> 0.3658 | S17: 3022
A18: ='Công trình'!A13 -> 3 | B18: ='Công trình'!E13 -> AB.64113 | C18: ='Công trình'!F13 -> Lớp đất núi đầm chặt K95, dày 30cm | D18: ='Công trình'!G13 -> 100m3 | E18: =ROUND('Công trình'!P13,4) -> 5.2056
C19: b) Nhân công
B20: ='Giá tháng'!B48 -> N1.30 | C20: ='Giá tháng'!C48 -> Nhân công 3,0/7 - Nhóm 1 | D20: ='Giá tháng'!D48 -> công | G20: 1.65 | I20: ='Giá tháng'!G48 -> 1 | K20: =ROUND(IF(E$6=0,E18*G20*I20,E$6*E18*G20*I20),4) -> 8.5892 | S20: 202
C21: c) Máy thi công
B22: ='Giá tháng'!B69 -> M101.1102 | C22: ='Giá tháng'!C69 -> Máy lu bánh thép tự hành - trọng lượng tĩnh : 8,5 T - 9 T | D22: ='Giá tháng'!D69 -> ca | H22: 0.42 | I22: ='Giá tháng'!G69 -> 1 | L22: =ROUND(IF(E$6=0,E18*H22*I22,E$6*E18*H22*I22),4) -> 2.1864 | S22: 3015
B23: ='Giá tháng'!B76 -> M101.0503 | C23: ='Giá tháng'!C76 -> Máy ủi - công suất : 110,0 CV | D23: ='Giá tháng'!D76 -> ca | H23: 0.21 | I23: ='Giá tháng'!G76 -> 1 | L23: =ROUND(IF(E$6=0,E18*H23*I23,E$6*E18*H23*I23),4) -> 1.0932 | S23: 3022
B24: M999 | C24: Máy khác | D24: % | H24: 1.5 | N24: =ROUND(IF(E$6=0,E18*H24*(H22*'Giá tháng'!E69*'Giá tháng'!G69+H23*'Giá tháng'!E76*'Giá tháng'!G76)/100,E$6*E18*H24*(H22*'Giá tháng'!E69*'Giá tháng'!G69+H23*'Giá tháng'!E76*'Giá tháng'!G76)/100),1) -> 72188.7 | P24: =ROUND(IF(E$6=0,E18*H24*(H22*'Giá tháng'!F69*'Giá tháng'!G69+H23*'Giá tháng'!F76*'Giá tháng'!G76)/100,E$6*E18*H24*(H22*'Giá tháng'!F69*'Giá tháng'!G69+H23*'Giá tháng'!F76*'Giá tháng'!G76)/100),1) -> 72665
A25: ='Công trình'!A17 -> 5 | B25: ='Công trình'!E17 -> AD.11222 | C25: ='Công trình'!F17 -> Cấp phối đá dăm loại I, lớp trên dày 18 cm | D25: ='Công trình'!G17 -> 100m3 | E25: =ROUND('Công trình'!P17,4) -> 3.1234
C26: a) Vật liệu
B27: ='Giá tháng'!B11 -> A24.0251 | C27: ='Giá tháng'!C11 -> Cấp phối đá dăm loại I | D27: ='Giá tháng'!D11 -> m3 | F27: 134 | I27: ='Giá tháng'!G11 -> 1 | J27: =ROUND(IF(E$6=0,E25*F27*I27,E$6*E25*F27*I27),4) -> 418.5356 | S27: 1010
C28: b) Nhân công
B29: ='Giá tháng'!B49 -> N2.30 | C29: ='Giá tháng'!C49 -> Nhân công 3,0/7 - Nhóm 2 | D29: ='Giá tháng'!D49 -> công | G29: 3.52 | I29: ='Giá tháng'!G49 -> 1 | K29: =ROUND(IF(E$6=0,E25*G29*I29,E$6*E25*G29*I29),4) -> 10.9944 | S29: 203
C30: c) Máy thi công
B31: ='Giá tháng'!B73 -> M105.0401 | C31: ='Giá tháng'!C73 -> Máy rải cấp phối đá dăm - năng suất : 50 m3/h - 60 m3/h | D31: ='Giá tháng'!D73 -> ca | H31: 0.21 | I31: ='Giá tháng'!G73 -> 1 | L31: =ROUND(IF(E$6=0,E25*H31*I31,E$6*E25*H31*I31),4) -> 0.6559 | S31: 3019
B32: ='Giá tháng'!B70 -> M101.1006 | C32: ='Giá tháng'!C70 -> Máy lu rung tự hành - trọng lượng tĩnh : 25T | D32: ='Giá tháng'!D70 -> ca | H32: 0.32 | I32: ='Giá tháng'!G70 -> 1 | L32: =ROUND(IF(E$6=0,E25*H32*I32,E$6*E25*H32*I32),4) -> 0.9995 | S32: 3016
B33: ='Giá tháng'!B66 -> M101.0902 | C33: ='Giá tháng'!C66 -> Máy lu bánh hơi tự hành - trọng lượng tĩnh : 16,0 T | D33: ='Giá tháng'!D66 -> ca | H33: 0.15 | I33: ='Giá tháng'!G66 -> 1 | L33: =ROUND(IF(E$6=0,E25*H33*I33,E$6*E25*H33*I33),4) -> 0.4685 | S33: 3012
B34: ='Giá tháng'!B67 -> M101.1103 | C34: ='Giá tháng'!C67 -> Máy lu bánh thép tự hành - trọng lượng tĩnh : 10,0 T | D34: ='Giá tháng'!D67 -> ca | H34: 0.26 | I34: ='Giá tháng'!G67 -> 1 | L34: =ROUND(IF(E$6=0,E25*H34*I34,E$6*E25*H34*I34),4) -> 0.8121 | S34: 3013
B35: ='Giá tháng'!B80 -> M106.0502 | C35: ='Giá tháng'!C80 -> Ô tô tưới nước - dung tích : 5,0 m3 | D35: ='Giá tháng'!D80 -> ca | H35: 0.21 | I35: ='Giá tháng'!G80 -> 1 | L35: =ROUND(IF(E$6=0,E25*H35*I35,E$6*E25*H35*I35),4) -> 0.6559 | S35: 3025
B36: M999 | C36: Máy khác | D36: % | H36: 0.5 | N36: =ROUND(IF(E$6=0,E25*H36*(H31*'Giá tháng'!E73*'Giá tháng'!G73+H32*'Giá tháng'!E70*'Giá tháng'!G70+H33*'Giá tháng'!E66*'Giá tháng'!G66+H34*'Giá tháng'!E67*'Giá tháng'!G67+H35*'Giá tháng'!E80*'Giá tháng'!G80)/100,E$6*E25*H36*(H31*'Giá tháng'!E73*'Giá tháng'!G73+H32*'Giá tháng'!E70*'Giá tháng'!G70+H33*'Giá tháng'!E66*'Giá tháng'!G66+H34*'Giá tháng'!E67*'Giá tháng'!G67+H35*'Giá tháng'!E80*'Giá tháng'!G80)/100),1) -> 41958 | P36: =ROUND(IF(E$6=0,E25*H36*(H31*'Giá tháng'!F73*'Giá tháng'!G73+H32*'Giá tháng'!F70*'Giá tháng'!G70+H33*'Giá tháng'!F66*'Giá tháng'!G66+H34*'Giá tháng'!F67*'Giá tháng'!G67+H35*'Giá tháng'!F80*'Giá tháng'!G80)/100,E$6*E25*H36*(H31*'Giá tháng'!F73*'Giá tháng'!G73+H32*'Giá tháng'!F70*'Giá tháng'!G70+H33*'Giá tháng'!F66*'Giá tháng'!G66+H34*'Giá tháng'!F67*'Giá tháng'!G67+H35*'Giá tháng'!F80*'Giá tháng'!G80)/100),1) -> 42175.2
A37: ='Công trình'!A19 -> 6 | B37: ='Công trình'!E19 -> AB.41413 | C37: ='Công trình'!F19 -> Vận chuyển đất bằng ôtô tự đổ 5 tấn | D37: ='Công trình'!G19 -> 100m3 | E37: =ROUND('Công trình'!P19,4) -> 0.9089
C38: c) Máy thi công
B39: ='Giá tháng'!B78 -> M106.0202 | C39: ='Giá tháng'!C78 -> Ô tô tự đổ - trọng tải : 5,0 T | D39: ='Giá tháng'!D78 -> ca | H39: 1.711 | I39: ='Giá tháng'!G78 -> 1 | L39: =ROUND(IF(E$6=0,E37*H39*I39,E$6*E37*H39*I39),4) -> 1.5551 | S39: 3024
A40: ='Công trình'!A22 -> 7 | B40: ='Công trình'!E22 -> AB.42213 | C40: ='Công trình'!F22 -> Vận chuyển đất bằng ô tô tự đổ 5T 1km tiếp theo ngoài phạm vi 5km, đất cấp III | D40: ='Công trình'!G22 -> 100m3 | E40: =ROUND('Công trình'!P22,4) -> 0.9089
C41: c) Máy thi công
B42: ='Giá tháng'!B79 -> M106.0202 | C42: ='Giá tháng'!C79 -> Ô tô tự đổ - trọng tải : 5,0 T | D42: ='Giá tháng'!D79 -> ca | H42: 0.571 | I42: ='Giá tháng'!G79 -> 4 | L42: =ROUND(IF(E$6=0,E40*H42*I42,E$6*E40*H42*I42),4) -> 2.0759 | S42: 3024
A43: ='Công trình'!A24 -> 7 | B43: ='Công trình'!E24 -> AB.41412 | C43: ='Công trình'!F24 -> Vận chuyển đất bằng ôtô tự đổ 5 tấn trong phạm vi <= 1000m, đất cấp II | D43: ='Công trình'!G24 -> 100m3 | E43: =ROUND('Công trình'!P24,4) -> 7.7825
C44: c) Máy thi công
B45: ='Giá tháng'!B78 -> M106.0202 | C45: ='Giá tháng'!C78 -> Ô tô tự đổ - trọng tải : 5,0 T | D45: ='Giá tháng'!D78 -> ca | H45: 1.329 | I45: ='Giá tháng'!G78 -> 1 | L45: =ROUND(IF(E$6=0,E43*H45*I45,E$6*E43*H45*I45),4) -> 10.3429 | S45: 3024
A46: ='Công trình'!A27 -> 9 | B46: ='Công trình'!E27 -> AB.42212 | C46: ='Công trình'!F27 -> Vận chuyển đất bằng ô tô tự đổ 5T 1km tiếp theo ngoài phạm vi 5km, đất cấp II | D46: ='Công trình'!G27 -> 100m3 | E46: =ROUND('Công trình'!P27,4) -> 7.7825
C47: c) Máy thi công
B48: ='Giá tháng'!B79 -> M106.0202 | C48: ='Giá tháng'!C79 -> Ô tô tự đổ - trọng tải : 5,0 T | D48: ='Giá tháng'!D79 -> ca | H48: 0.51 | I48: ='Giá tháng'!G79 -> 4 | L48: =ROUND(IF(E$6=0,E46*H48*I48,E$6*E46*H48*I48),4) -> 15.8763 | S48: 3024
A49: ='Công trình'!A30 -> 8 | B49: ='Công trình'!E30 -> AL.16122 | C49: ='Công trình'!F30 -> Nilon chống mất nước xi măng | D49: ='Công trình'!G30 -> 100m2 | E49: =ROUND('Công trình'!P30,4) -> 17.352
C50: a) Vật liệu
B51: ='Giá tháng'!B30 -> A24.0782 | C51: ='Giá tháng'!C30 -> Nilon chống mất nước XM | D51: ='Giá tháng'!D30 -> m2 | F51: 105 | I51: ='Giá tháng'!G30 -> 1 | J51: =ROUND(IF(E$6=0,E49*F51*I51,E$6*E49*F51*I51),4) -> 1821.96 | Q51: ='Cước VC'!AU30 -> 0 | R51: ='Cước bộ'!W30 -> 0 | S51: 1029
B52: Z999 | C52: Vât liệu khác | D52: % | F52: 0.2 | M52: =ROUND(IF(E$6=0,E49*F52*(F51*'Giá tháng'!E30*'Giá tháng'!G30)/100,E$6*E49*F52*(F51*'Giá tháng'!E30*'Giá tháng'!G30)/100),1) -> 40447.5 | O52: =ROUND(IF(E$6=0,E49*F52*(F51*('Giá tháng'!F30+Q51+R51)*'Giá tháng'!G30)/100,E$6*E49*F52*(F51*('Giá tháng'!F30+Q51+R51)*'Giá tháng'!G30)/100),1) -> 38261.2
C53: b) Nhân công
B54: ='Giá tháng'!B51 -> N2.35 | C54: ='Giá tháng'!C51 -> Nhân công 3,5/7 - Nhóm 2 | D54: ='Giá tháng'!D51 -> công | G54: 1.08 | I54: ='Giá tháng'!G51 -> 1 | K54: =ROUND(IF(E$6=0,E49*G54*I54,E$6*E49*G54*I54),4) -> 18.7402 | S54: 205
A55: ='Công trình'!A32 -> 9 | B55: ='Công trình'!E32 -> AF.82411 | C55: ='Công trình'!F32 -> Ván khuôn thép. Ván khuôn mặt đường | D55: ='Công trình'!G32 -> 100m2 | E55: =ROUND('Công trình'!P32,4) -> 1.8123
C56: a) Vật liệu
B57: ='Giá tháng'!B39 -> A24.0921 | C57: ='Giá tháng'!C39 -> Thép hình, thép tấm | D57: ='Giá tháng'!D39 -> kg | F57: 31.5 | I57: ='Giá tháng'!G39 -> 1 | J57: =ROUND(IF(E$6=0,E55*F57*I57,E$6*E55*F57*I57),4) -> 57.0875 | Q57: ='Cước VC'!AU38 -> 0 | R57: ='Cước bộ'!W38 -> 0 | S57: 1038
B58: ='Giá tháng'!B37 -> A24.0543 | C58: ='Giá tháng'!C37 -> Que hàn | D58: ='Giá tháng'!D37 -> kg | F58: 1.58 | I58: ='Giá tháng'!G37 -> 1 | J58: =ROUND(IF(E$6=0,E55*F58*I58,E$6*E55*F58*I58),4) -> 2.8634 | Q58: ='Cước VC'!AU36 -> 0 | R58: ='Cước bộ'!W36 -> 0 | S58: 1036
B59: Z999 | C59: Vât liệu khác | D59: % | F59: 5 | M59: =ROUND(IF(E$6=0,E55*F59*(F57*'Giá tháng'!E39*'Giá tháng'!G39+F58*'Giá tháng'!E37*'Giá tháng'!G37)/100,E$6*E55*F59*(F57*'Giá tháng'!E39*'Giá tháng'!G39+F58*'Giá tháng'!E37*'Giá tháng'!G37)/100),1) -> 58526 | O59: =ROUND(IF(E$6=0,E55*F59*(F57*('Giá tháng'!F39+Q57+R57)*'Giá tháng'!G39+F58*('Giá tháng'!F37+Q58+R58)*'Giá tháng'!G37)/100,E$6*E55*F59*(F57*('Giá tháng'!F39+Q57+R57)*'Giá tháng'!G39+F58*('Giá tháng'!F37+Q58+R58)*'Giá tháng'!G37)/100),1) -> 59239.6
C60: b) Nhân công
B61: ='Giá tháng'!B53 -> N2.40 | C61: ='Giá tháng'!C53 -> Nhân công 4,0/7 - Nhóm 2 | D61: ='Giá tháng'!D53 -> công | G61: 11.5 | I61: ='Giá tháng'!G53 -> 1 | K61: =ROUND(IF(E$6=0,E55*G61*I61,E$6*E55*G61*I61),4) -> 20.8415 | S61: 206
C62: c) Máy thi công
B63: ='Giá tháng'!B64 -> M112.4003 | C63: ='Giá tháng'!C64 -> Máy hàn xoay chiều - công suất : 23,0 kW | D63: ='Giá tháng'!D64 -> ca | H63: 0.42 | I63: ='Giá tháng'!G64 -> 1 | L63: =ROUND(IF(E$6=0,E55*H63*I63,E$6*E55*H63*I63),4) -> 0.7612 | S63: 3010
B64: M999 | C64: Máy khác | D64: % | H64: 2 | N64: =ROUND(IF(E$6=0,E55*H64*(H63*'Giá tháng'!E64*'Giá tháng'!G64)/100,E$6*E55*H64*(H63*'Giá tháng'!E64*'Giá tháng'!G64)/100),1) -> 6267.4 | P64: =ROUND(IF(E$6=0,E55*H64*(H63*'Giá tháng'!F64*'Giá tháng'!G64)/100,E$6*E55*H64*(H63*'Giá tháng'!F64*'Giá tháng'!G64)/100),1) -> 6129.8
A65: ='Công trình'!A34 -> 10 | B65: ='Công trình'!E34 -> AF.15434A | C65: ='Công trình'!F34 -> Đổ bê tông thủ công bằng máy trộn, bê tông mặt đường, chiều dày mặt đường <=25 cm, đá 2x4, mác 250, PCB30 | D65: ='Công trình'!G34 -> m3 | E65: =ROUND('Công trình'!P34,4) -> 354.86
C66: a) Vật liệu
B67: ='Giá tháng'!B45 -> A24.0797A | C67: ='Giá tháng'!C45 -> Xi măng PCB30 | D67: ='Giá tháng'!D45 -> kg | F67: 348.5 | I67: ='Giá tháng'!G45 -> 1 | J67: =ROUND(IF(E$6=0,E65*F67*I67,E$6*E65*F67*I67),4) -> 123668.71 | Q67: ='Cước VC'!AU43 -> 0 | R67: ='Cước bộ'!W43 -> 0 | S67: 1043
B68: ='Giá tháng'!B10 -> A24.0180 | C68: ='Giá tháng'!C10 -> Cát vàng | D68: ='Giá tháng'!D10 -> m3 | F68: 0.529925 | I68: ='Giá tháng'!G10 -> 1 | J68: =ROUND(IF(E$6=0,E65*F68*I68,E$6*E65*F68*I68),4) -> 188.0492 | Q68: ='Cước VC'!AU10 -> 0 | R68: ='Cước bộ'!W10 -> 0 | S68: 109
B69: ='Giá tháng'!B16 -> A24.0009 | C69: ='Giá tháng'!C16 -> Đá 2x4 | D69: ='Giá tháng'!D16 -> m3 | F69: 0.859975 | I69: ='Giá tháng'!G16 -> 1 | J69: =ROUND(IF(E$6=0,E65*F69*I69,E$6*E65*F69*I69),4) -> 305.1707 | Q69: ='Cước VC'!AU16 -> 0 | R69: ='Cước bộ'!W16 -> 0 | S69: 1015
B70: ='Giá tháng'!B32 -> A24.0524 | C70: ='Giá tháng'!C32 -> Nước | D70: ='Giá tháng'!D32 -> lít | F70: 177.325 | I70: ='Giá tháng'!G32 -> 1 | J70: =ROUND(IF(E$6=0,E65*F70*I70,E$6*E65*F70*I70),4) -> 62925.55 | Q70: ='Cước VC'!AU31 -> 0 | R70: ='Cước bộ'!W31 -> 0 | S70: 1031
B71: Z999 | C71: Vât liệu khác | D71: % | F71: 1.5 | M71: =ROUND(IF(E$6=0,E65*F71*(F67*'Giá tháng'!E45*'Giá tháng'!G45+F68*'Giá tháng'!E10*'Giá tháng'!G10+F69*'Giá tháng'!E16*'Giá tháng'!G16+F70*'Giá tháng'!E32*'Giá tháng'!G32)/100,E$6*E65*F71*(F67*'Giá tháng'!E45*'Giá tháng'!G45+F68*'Giá tháng'!E10*'Giá tháng'!G10+F69*'Giá tháng'!E16*'Giá tháng'!G16+F70*'Giá tháng'!E32*'Giá tháng'!G32)/100),1) -> 5305420.4 | O71: =ROUND(IF(E$6=0,E65*F71*(F67*('Giá tháng'!F45+Q67+R67)*'Giá tháng'!G45+F68*('Giá tháng'!F10+Q68+R68)*'Giá tháng'!G10+F69*('Giá tháng'!F16+Q69+R69)*'Giá tháng'!G16+F70*('Giá tháng'!F32+Q70+R70)*'Giá tháng'!G32)/100,E$6*E65*F71*(F67*('Giá tháng'!F45+Q67+R67)*'Giá tháng'!G45+F68*('Giá tháng'!F10+Q68+R68)*'Giá tháng'!G10+F69*('Giá tháng'!F16+Q69+R69)*'Giá tháng'!G16+F70*('Giá tháng'!F32+Q70+R70)*'Giá tháng'!G32)/100),1) -> 5676502.9
C72: b) Nhân công
B73: ='Giá tháng'!B51 -> N2.35 | C73: ='Giá tháng'!C51 -> Nhân công 3,5/7 - Nhóm 2 | D73: ='Giá tháng'!D51 -> công | G73: 1.37 | I73: ='Giá tháng'!G51 -> 1 | K73: =ROUND(IF(E$6=0,E65*G73*I73,E$6*E65*G73*I73),4) -> 486.1582 | S73: 205
C74: c) Máy thi công
B75: ='Giá tháng'!B74 -> M104.0102 | C75: ='Giá tháng'!C74 -> Máy trộn bê tông - dung tích : 250,0 lít | D75: ='Giá tháng'!D74 -> ca | H75: 0.095 | I75: ='Giá tháng'!G74 -> 1 | L75: =ROUND(IF(E$6=0,E65*H75*I75,E$6*E65*H75*I75),4) -> 33.7117 | S75: 3020
B76: ='Giá tháng'!B63 -> M112.1101 | C76: ='Giá tháng'!C63 -> Máy đầm bê tông, đầm bàn - công suất : 1,0 kW | D76: ='Giá tháng'!D63 -> ca | H76: 0.089 | I76: ='Giá tháng'!G63 -> 1 | L76: =ROUND(IF(E$6=0,E65*H76*I76,E$6*E65*H76*I76),4) -> 31.5825 | S76: 309
B77: ='Giá tháng'!B62 -> M112.1301 | C77: ='Giá tháng'!C62 -> Máy đầm bê tông, dầm dùi - công suất : 1,5 kW | D77: ='Giá tháng'!D62 -> ca | H77: 0.089 | I77: ='Giá tháng'!G62 -> 1 | L77: =ROUND(IF(E$6=0,E65*H77*I77,E$6*E65*H77*I77),4) -> 31.5825 | S77: 308
B78: M999 | C78: Máy khác | D78: % | H78: 2 | N78: =ROUND(IF(E$6=0,E65*H78*(H75*'Giá tháng'!E74*'Giá tháng'!G74+H76*'Giá tháng'!E63*'Giá tháng'!G63+H77*'Giá tháng'!E62*'Giá tháng'!G62)/100,E$6*E65*H78*(H75*'Giá tháng'!E74*'Giá tháng'!G74+H76*'Giá tháng'!E63*'Giá tháng'!G63+H77*'Giá tháng'!E62*'Giá tháng'!G62)/100),1) -> 563489.6 | P78: =ROUND(IF(E$6=0,E65*H78*(H75*'Giá tháng'!F74*'Giá tháng'!G74+H76*'Giá tháng'!F63*'Giá tháng'!G63+H77*'Giá tháng'!F62*'Giá tháng'!G62)/100,E$6*E65*H78*(H75*'Giá tháng'!F74*'Giá tháng'!G74+H76*'Giá tháng'!F63*'Giá tháng'!G63+H77*'Giá tháng'!F62*'Giá tháng'!G62)/100),1) -> 560664.4
A79: ='Công trình'!A37 -> 11 | B79: ='Công trình'!E37 -> AK.41114A (VD) | C79: ='Công trình'!F37 -> Đánh bóng bề mặt đường BTXM bằng máy xoa, kết hợp bổ sung xi măng | D79: ='Công trình'!G37 -> m2 | E79: =ROUND('Công trình'!P37,4) -> 1735.2
C80: a) Vật liệu
B81: ='Giá tháng'!B44 -> A24.0797A | C81: ='Giá tháng'!C44 -> Xi măng PCB30 | D81: ='Giá tháng'!D44 -> kg | F81: 10.75 | I81: ='Giá tháng'!G44 -> 0.7 | J81: =ROUND(IF(E$6=0,E79*F81*I81,E$6*E79*F81*I81),4) -> 13057.38 | S81: 1043
B82: ='Giá tháng'!B9 -> A24.0176 | C82: ='Giá tháng'!C9 -> Cát mịn ML=1,5-2,0 | D82: ='Giá tháng'!D9 -> m3 | F82: 0 | I82: ='Giá tháng'!G9 -> 1 | J82: =ROUND(IF(E$6=0,E79*F82*I82,E$6*E79*F82*I82),4) -> 0 | S82: 108
B83: ='Giá tháng'!B32 -> A24.0524 | C83: ='Giá tháng'!C32 -> Nước | D83: ='Giá tháng'!D32 -> lít | F83: 0 | I83: ='Giá tháng'!G32 -> 1 | J83: =ROUND(IF(E$6=0,E79*F83*I83,E$6*E79*F83*I83),4) -> 0 | S83: 1031
C84: b) Nhân công
B85: ='Giá tháng'!B52 -> N2.40 | C85: ='Giá tháng'!C52 -> Nhân công 4,0/7 - Nhóm 2 | D85: ='Giá tháng'!D52 -> công | G85: 0.068 | I85: ='Giá tháng'!G52 -> 0.5 | K85: =ROUND(IF(E$6=0,E79*G85*I85,E$6*E79*G85*I85),4) -> 58.9968 | S85: 206
C86: c) Máy thi công
B87: ='Giá tháng'!B77 -> TT* | C87: ='Giá tháng'!C77 -> Máy xoa | D87: ='Giá tháng'!D77 -> Ca | H87: 0.02 | I87: ='Giá tháng'!G77 -> 1 | L87: =ROUND(IF(E$6=0,E79*H87*I87,E$6*E79*H87*I87),4) -> 34.704 | S87: 3023
A88: ='Công trình'!A39 -> 12 | B88: ='Công trình'!E39 -> AL.24111 | C88: ='Công trình'!F39 -> Thi công khe co sân, bãi, mặt đường bê tông | D88: ='Công trình'!G39 -> m | E88: =ROUND('Công trình'!P39,4) -> 268
C89: a) Vật liệu
B90: ='Giá tháng'!B27 -> A24.0480 | C90: ='Giá tháng'!C27 -> Ma tít chèn khe | D90: ='Giá tháng'!D27 -> kg | F90: 1.36 | I90: ='Giá tháng'!G27 -> 1 | J90: =ROUND(IF(E$6=0,E88*F90*I90,E$6*E88*F90*I90),4) -> 364.48 | Q90: ='Cước VC'!AU27 -> 0 | R90: ='Cước bộ'!W27 -> 0 | S90: 1026
B91: ='Giá tháng'!B33 -> A24.0520 | C91: ='Giá tháng'!C33 -> Nhựa đường | D91: ='Giá tháng'!D33 -> kg | F91: 0.13 | I91: ='Giá tháng'!G33 -> 1 | J91: =ROUND(IF(E$6=0,E88*F91*I91,E$6*E88*F91*I91),4) -> 34.84 | Q91: ='Cước VC'!AU32 -> 0 | R91: ='Cước bộ'!W32 -> 0 | S91: 1032
B92: ='Giá tháng'!B38 -> A24.1074 | C92: ='Giá tháng'!C38 -> Thép F25 | D92: ='Giá tháng'!D38 -> kg | F92: 3.8 | I92: ='Giá tháng'!G38 -> 1 | J92: =ROUND(IF(E$6=0,E88*F92*I92,E$6*E88*F92*I92),4) -> 1018.4 | Q92: ='Cước VC'!AU37 -> 0 | R92: ='Cước bộ'!W37 -> 0 | S92: 1037
B93: Z999 | C93: Vât liệu khác | D93: % | F93: 5 | M93: =ROUND(IF(E$6=0,E88*F93*(F90*'Giá tháng'!E27*'Giá tháng'!G27+F91*'Giá tháng'!E33*'Giá tháng'!G33+F92*'Giá tháng'!E38*'Giá tháng'!G38)/100,E$6*E88*F93*(F90*'Giá tháng'!E27*'Giá tháng'!G27+F91*'Giá tháng'!E33*'Giá tháng'!G33+F92*'Giá tháng'!E38*'Giá tháng'!G38)/100),1) -> 1089969.4 | O93: =ROUND(IF(E$6=0,E88*F93*(F90*('Giá tháng'!F27+Q90+R90)*'Giá tháng'!G27+F91*('Giá tháng'!F33+Q91+R91)*'Giá tháng'!G33+F92*('Giá tháng'!F38+Q92+R92)*'Giá tháng'!G38)/100,E$6*E88*F93*(F90*('Giá tháng'!F27+Q90+R90)*'Giá tháng'!G27+F91*('Giá tháng'!F33+Q91+R91)*'Giá tháng'!G33+F92*('Giá tháng'!F38+Q92+R92)*'Giá tháng'!G38)/100),1) -> 1108381
C94: b) Nhân công
B95: ='Giá tháng'!B51 -> N2.35 | C95: ='Giá tháng'!C51 -> Nhân công 3,5/7 - Nhóm 2 | D95: ='Giá tháng'!D51 -> công | G95: 0.09 | I95: ='Giá tháng'!G51 -> 1 | K95: =ROUND(IF(E$6=0,E88*G95*I95,E$6*E88*G95*I95),4) -> 24.12 | S95: 205
C96: c) Máy thi công
B97: ='Giá tháng'!B56 -> M112.2601 | C97: ='Giá tháng'!C56 -> Máy cắt uốn cốt thép - công suất : 5,0 kW | D97: ='Giá tháng'!D56 -> ca | H97: 0.013 | I97: ='Giá tháng'!G56 -> 1 | L97: =ROUND(IF(E$6=0,E88*H97*I97,E$6*E88*H97*I97),4) -> 3.484 | S97: 302
B98: ='Giá tháng'!B72 -> M108.0306 | C98: ='Giá tháng'!C72 -> Máy nén khí, động cơ diezel - năng suất : 600,00 m3/h | D98: ='Giá tháng'!D72 -> ca | H98: 0.005 | I98: ='Giá tháng'!G72 -> 1 | L98: =ROUND(IF(E$6=0,E88*H98*I98,E$6*E88*H98*I98),4) -> 1.34 | S98: 3018
B99: M999 | C99: Máy khác | D99: % | H99: 2 | N99: =ROUND(IF(E$6=0,E88*H99*(H97*'Giá tháng'!E56*'Giá tháng'!G56+H98*'Giá tháng'!E72*'Giá tháng'!G72)/100,E$6*E88*H99*(H97*'Giá tháng'!E56*'Giá tháng'!G56+H98*'Giá tháng'!E72*'Giá tháng'!G72)/100),1) -> 68974.6 | P99: =ROUND(IF(E$6=0,E88*H99*(H97*'Giá tháng'!F56*'Giá tháng'!G56+H98*'Giá tháng'!F72*'Giá tháng'!G72)/100,E$6*E88*H99*(H97*'Giá tháng'!F56*'Giá tháng'!G56+H98*'Giá tháng'!F72*'Giá tháng'!G72)/100),1) -> 69245.7
A100: ='Công trình'!A41 -> 13 | B100: ='Công trình'!E41 -> AL.24112 | C100: ='Công trình'!F41 -> Làm khe giãn, bố trí 20m/Khe giãn sâu 20cm | D100: ='Công trình'!G41 -> m | E100: =ROUND('Công trình'!P41,4) -> 89
...

Sheet Tổng hợp VT
A1: BẢNG TỔNG HỢP VẬT TƯ VÀ CHÊNH LỆCH GIÁ
A2: ='Công trình'!A2 -> CÔNG TRÌNH : SỬA CHỮA TUYẾN ĐƯỜNG TỪ NHÀ BÀ TRƯỜNG, TỔ 5 PHƯỜNG VẠN HƯƠNG ĐẾN NHÀ BÀ KIM, TỔ DÂN PHỐ BẮC HẢI PHƯỜNG BÀNG LA
A3: ='Công trình'!F6 -> SỬA CHỮA NỀN MẶT ĐƯỜNG, HỆ THỐNG THOÁT NƯỚC
A4: STT | B4: Mã số | C4: Tên vật tư | D4: Đơn vị | E4: Khối lượng | F4: ="Giá gốc_x000D_ "&'Công trình'!AL1 -> Giá gốc_x000D_ (đ) | G4: ="Thành tiền_x000D_ "&'Công trình'!AL1 -> Thành tiền_x000D_ (đ) | H4: ="Giá T.B_x000D_ "&'Công trình'!AL1 -> Giá T.B_x000D_ (đ) | I4: ="Thành tiền_x000D_ "&'Công trình'!AL1 -> Thành tiền_x000D_ (đ) | J4: Hệ số | K4: ="Giá T.B x H.S_x000D_ "&'Công trình'!AL1 -> Giá T.B x H.S_x000D_ (đ) | L4: ="Thành tiền_x000D_ "&'Công trình'!AL1 -> Thành tiền_x000D_ (đ) | M4: ="Cước V.C_x000D_ Bù NL, lương_x000D_ "&'Công trình'!AL1 -> Cước V.C_x000D_ Bù NL, lương_x000D_ (đ) | N4: ="Thành tiền_x000D_ "&'Công trình'!AL1 -> Thành tiền_x000D_ (đ) | O4: ="Giá H.T_x000D_ "&'Công trình'!AL1 -> Giá H.T_x000D_ (đ) | P4: ="Thành tiền_x000D_ "&'Công trình'!AL1 -> Thành tiền_x000D_ (đ) | Q4: ="Chênh lệch_x000D_ "&'Công trình'!AL1 -> Chênh lệch_x000D_ (đ) | R4: ="Tổng chênh_x000D_ "&'Công trình'!AL1 -> Tổng chênh_x000D_ (đ) | S4: Cước ôtô Cước sông | T4: Cước bộ
A5: I | C5: VẬT LIỆU
A6: 1 | B6: ='Công trình'!E15 -> TT | C6: ='Công trình'!F15 -> Tiền đất núi | D6: ='Công trình'!G15 -> m3 | E6: =ROUND(IF('Công trình'!P7=0,'Công trình'!P15,'Công trình'!P7*'Công trình'!P15),4) -> 588.2328 | F6: =ROUND('Công trình'!Q15+'Công trình'!R15,1) -> 190000 | G6: =ROUND(E6*F6,1) -> 111764232 | H6: =ROUND('Công trình'!Q15+'Công trình'!R15,1) -> 190000 | I6: =ROUND(E6*H6,1) -> 111764232 | J6: 1 | K6: =ROUND(H6*J6,1) -> 190000 | L6: =ROUND(E6*K6,1) -> 111764232 | M6: =S6+T6 -> 0 | N6: =ROUND(E6*M6,1) -> 0 | O6: =ROUND(H6+M6,1) -> 190000 | P6: =ROUND(E6*O6,1) -> 111764232 | Q6: =ROUND(O6-F6,1) -> 0 | R6: =ROUND(P6-G6,1) -> 0
A7: 2 | B7: ='Công trình'!E101 -> TT | C7: ='Công trình'!F101 -> Ghi chắn rác Composite, tải trọng 250KN, KT 880x380 | D7: ='Công trình'!G101 -> Cái | E7: =ROUND(IF('Công trình'!P43=0,'Công trình'!P101,'Công trình'!P43*'Công trình'!P101),4) -> 15 | F7: =ROUND('Công trình'!Q101+'Công trình'!R101,1) -> 1850000 | G7: =ROUND(E7*F7,1) -> 27750000 | H7: =ROUND('Công trình'!Q101+'Công trình'!R101,1) -> 1850000 | I7: =ROUND(E7*H7,1) -> 27750000 | J7: 1 | K7: =ROUND(H7*J7,1) -> 1850000 | L7: =ROUND(E7*K7,1) -> 27750000 | M7: =S7+T7 -> 0 | N7: =ROUND(E7*M7,1) -> 0 | O7: =ROUND(H7+M7,1) -> 1850000 | P7: =ROUND(E7*O7,1) -> 27750000 | Q7: =ROUND(O7-F7,1) -> 0 | R7: =ROUND(P7-G7,1) -> 0
A8: 3 | B8: ='Công trình'!E116 -> TT | C8: ='Công trình'!F116 -> Lắp đặt đế cống D400 | D8: ='Công trình'!G116 -> Cái | E8: =ROUND(IF('Công trình'!P43=0,'Công trình'!P116,'Công trình'!P43*'Công trình'!P116),4) -> 639 | F8: =ROUND('Công trình'!Q116+'Công trình'!R116,1) -> 110000 | G8: =ROUND(E8*F8,1) -> 70290000 | H8: =ROUND('Công trình'!Q116+'Công trình'!R116,1) -> 110000 | I8: =ROUND(E8*H8,1) -> 70290000 | J8: 1 | K8: =ROUND(H8*J8,1) -> 110000 | L8: =ROUND(E8*K8,1) -> 70290000 | M8: =S8+T8 -> 0 | N8: =ROUND(E8*M8,1) -> 0 | O8: =ROUND(H8+M8,1) -> 110000 | P8: =ROUND(E8*O8,1) -> 70290000 | Q8: =ROUND(O8-F8,1) -> 0 | R8: =ROUND(P8-G8,1) -> 0
A9: 4 | B9: ='Công trình'!E125 -> TT | C9: ='Công trình'!F125 -> Tiền đất núi đắp bờ quây | D9: ='Công trình'!G125 -> m3 | E9: =ROUND(IF('Công trình'!P43=0,'Công trình'!P125,'Công trình'!P43*'Công trình'!P125),4) -> 6.6 | F9: =ROUND('Công trình'!Q125+'Công trình'!R125,1) -> 190000 | G9: =ROUND(E9*F9,1) -> 1254000 | H9: =ROUND('Công trình'!Q125+'Công trình'!R125,1) -> 190000 | I9: =ROUND(E9*H9,1) -> 1254000 | J9: 1 | K9: =ROUND(H9*J9,1) -> 190000 | L9: =ROUND(E9*K9,1) -> 1254000 | M9: =S9+T9 -> 0 | N9: =ROUND(E9*M9,1) -> 0 | O9: =ROUND(H9+M9,1) -> 190000 | P9: =ROUND(E9*O9,1) -> 1254000 | Q9: =ROUND(O9-F9,1) -> 0 | R9: =ROUND(P9-G9,1) -> 0
A10: 5 | B10: ='Công trình'!E129 -> TT | C10: ='Công trình'!F129 -> Phên nứa 2 lớp B=1,0m | D10: ='Công trình'!G129 -> m2 | E10: =ROUND(IF('Công trình'!P43=0,'Công trình'!P129,'Công trình'!P43*'Công trình'!P129),4) -> 12 | F10: =ROUND('Công trình'!Q129+'Công trình'!R129,1) -> 15000 | G10: =ROUND(E10*F10,1) -> 180000 | H10: =ROUND('Công trình'!Q129+'Công trình'!R129,1) -> 15000 | I10: =ROUND(E10*H10,1) -> 180000 | J10: 1 | K10: =ROUND(H10*J10,1) -> 15000 | L10: =ROUND(E10*K10,1) -> 180000 | M10: =S10+T10 -> 0 | N10: =ROUND(E10*M10,1) -> 0 | O10: =ROUND(H10+M10,1) -> 15000 | P10: =ROUND(E10*O10,1) -> 180000 | Q10: =ROUND(O10-F10,1) -> 0 | R10: =ROUND(P10-G10,1) -> 0
A11: 6 | B11: ='Giá tháng'!B6 -> A24.0233 | C11: ='Giá tháng'!C6 -> Cao su đệm | D11: ='Giá tháng'!D6 -> m | E11: =ROUND(SUMIF(HaoPhiVatTu!S6:S521,105,HaoPhiVatTu!J6:J521),4) -> 106.8 | F11: =ROUND('Giá tháng'!E6,1) -> 5000 | G11: =ROUND(E11*F11,1) -> 534000 | H11: =ROUND('Giá tháng'!F6,1) -> 12000 | I11: =ROUND(E11*H11,1) -> 1281600 | J11: 1 | K11: =ROUND(H11*J11,1) -> 12000 | L11: =ROUND(E11*K11,1) -> 1281600 | M11: =S11+T11 -> 0 | N11: =ROUND(E11*M11,1) -> 0 | O11: =ROUND(H11+M11,1) -> 12000 | P11: =ROUND(E11*O11,1) -> 1281600 | Q11: =ROUND(O11-F11,1) -> 7000 | R11: =ROUND(P11-G11,1) -> 747600 | S11: ='Cước VC'!AU6 -> 0 | T11: ='Cước bộ'!W6 -> 0
A12: 7 | B12: ='Giá tháng'!B7 -> A24.1042 | C12: ='Giá tháng'!C7 -> Cát | D12: ='Giá tháng'!D7 -> m3 | E12: =ROUND(SUMIF(HaoPhiVatTu!S6:S521,106,HaoPhiVatTu!J6:J521),4) -> 18.1818 | F12: =ROUND('Giá tháng'!E7,1) -> 140000 | G12: =ROUND(E12*F12,1) -> 2545452 | H12: =ROUND('Giá tháng'!F7,1) -> 150000 | I12: =ROUND(E12*H12,1) -> 2727270 | J12: 1 | K12: =ROUND(H12*J12,1) -> 150000 | L12: =ROUND(E12*K12,1) -> 2727270 | M12: =S12+T12 -> 0 | N12: =ROUND(E12*M12,1) -> 0 | O12: =ROUND(H12+M12,1) -> 150000 | P12: =ROUND(E12*O12,1) -> 2727270 | Q12: =ROUND(O12-F12,1) -> 10000 | R12: =ROUND(P12-G12,1) -> 181818 | S12: ='Cước VC'!AU7 -> 0 | T12: ='Cước bộ'!W7 -> 0
A13: 8 | B13: ='Giá tháng'!B8 -> A24.0175 | C13: ='Giá tháng'!C8 -> Cát mịn ML=0,7-1,4 | D13: ='Giá tháng'!D8 -> m3 | E13: =ROUND(SUMIF(HaoPhiVatTu!S6:S521,107,HaoPhiVatTu!J6:J521),4) -> 0.2731 | F13: =ROUND('Giá tháng'!E8,1) -> 400000 | G13: =ROUND(E13*F13,1) -> 109240 | H13: =ROUND('Giá tháng'!F8,1) -> 445000 | I13: =ROUND(E13*H13,1) -> 121529.5 | J13: 1 | K13: =ROUND(H13*J13,1) -> 445000 | L13: =ROUND(E13*K13,1) -> 121529.5 | M13: =S13+T13 -> 0 | N13: =ROUND(E13*M13,1) -> 0 | O13: =ROUND(H13+M13,1) -> 445000 | P13: =ROUND(E13*O13,1) -> 121529.5 | Q13: =ROUND(O13-F13,1) -> 45000 | R13: =ROUND(P13-G13,1) -> 12289.5 | S13: ='Cước VC'!AU8 -> 0 | T13: ='Cước bộ'!W8 -> 0
A14: 9 | B14: ='Giá tháng'!B9 -> A24.0176 | C14: ='Giá tháng'!C9 -> Cát mịn ML=1,5-2,0 | D14: ='Giá tháng'!D9 -> m3 | E14: =ROUND(SUMIF(HaoPhiVatTu!S6:S521,108,HaoPhiVatTu!J6:J521),4) -> 10.3908 | F14: =ROUND('Giá tháng'!E9,1) -> 400000 | G14: =ROUND(E14*F14,1) -> 4156320 | H14: =ROUND('Giá tháng'!F9,1) -> 445000 | I14: =ROUND(E14*H14,1) -> 4623906 | J14: 1 | K14: =ROUND(H14*J14,1) -> 445000 | L14: =ROUND(E14*K14,1) -> 4623906 | M14: =S14+T14 -> 0 | N14: =ROUND(E14*M14,1) -> 0 | O14: =ROUND(H14+M14,1) -> 445000 | P14: =ROUND(E14*O14,1) -> 4623906 | Q14: =ROUND(O14-F14,1) -> 45000 | R14: =ROUND(P14-G14,1) -> 467586 | S14: ='Cước VC'!AU9 -> 0 | T14: ='Cước bộ'!W9 -> 0
A15: 10 | B15: ='Giá tháng'!B10 -> A24.0180 | C15: ='Giá tháng'!C10 -> Cát vàng | D15: ='Giá tháng'!D10 -> m3 | E15: =ROUND(SUMIF(HaoPhiVatTu!S6:S521,109,HaoPhiVatTu!J6:J521),4) -> 198.0514 | F15: =ROUND('Giá tháng'!E10,1) -> 450000 | G15: =ROUND(E15*F15,1) -> 89123130 | H15: =ROUND('Giá tháng'!F10,1) -> 480000 | I15: =ROUND(E15*H15,1) -> 95064672 | J15: 1 | K15: =ROUND(H15*J15,1) -> 480000 | L15: =ROUND(E15*K15,1) -> 95064672 | M15: =S15+T15 -> 0 | N15: =ROUND(E15*M15,1) -> 0 | O15: =ROUND(H15+M15,1) -> 480000 | P15: =ROUND(E15*O15,1) -> 95064672 | Q15: =ROUND(O15-F15,1) -> 30000 | R15: =ROUND(P15-G15,1) -> 5941542 | S15: ='Cước VC'!AU10 -> 0 | T15: ='Cước bộ'!W10 -> 0
A16: 11 | B16: ='Giá tháng'!B11 -> A24.0251 | C16: ='Giá tháng'!C11 -> Cấp phối đá dăm loại I | D16: ='Giá tháng'!D11 -> m3 | E16: =ROUND(SUMIF(HaoPhiVatTu!S6:S521,1010,HaoPhiVatTu!J6:J521),4) -> 418.5356 | F16: =ROUND('Giá tháng'!E11,1) -> 184843 | G16: =ROUND(E16*F16,1) -> 77363376 | H16: =ROUND('Giá tháng'!F11,1) -> 270000 | I16: =ROUND(E16*H16,1) -> 113004612 | J16: 1 | K16: =ROUND(H16*J16,1) -> 270000 | L16: =ROUND(E16*K16,1) -> 113004612 | M16: =S16+T16 -> 0 | N16: =ROUND(E16*M16,1) -> 0 | O16: =ROUND(H16+M16,1) -> 270000 | P16: =ROUND(E16*O16,1) -> 113004612 | Q16: =ROUND(O16-F16,1) -> 85157 | R16: =ROUND(P16-G16,1) -> 35641236 | S16: ='Cước VC'!AU11 -> 0 | T16: ='Cước bộ'!W11 -> 0
A17: 12 | B17: ='Giá tháng'!B12 -> A24.0183 | C17: ='Giá tháng'!C12 -> Cây chống | D17: ='Giá tháng'!D12 -> cây | E17: =ROUND(SUMIF(HaoPhiVatTu!S6:S521,1011,HaoPhiVatTu!J6:J521),4) -> 2.475 | F17: =ROUND('Giá tháng'!E12,1) -> 19000 | G17: =ROUND(E17*F17,1) -> 47025 | H17: =ROUND('Giá tháng'!F12,1) -> 22000 | I17: =ROUND(E17*H17,1) -> 54450 | J17: 1 | K17: =ROUND(H17*J17,1) -> 22000 | L17: =ROUND(E17*K17,1) -> 54450 | M17: =S17+T17 -> 0 | N17: =ROUND(E17*M17,1) -> 0 | O17: =ROUND(H17+M17,1) -> 22000 | P17: =ROUND(E17*O17,1) -> 54450 | Q17: =ROUND(O17-F17,1) -> 3000 | R17: =ROUND(P17-G17,1) -> 7425 | S17: ='Cước VC'!AU12 -> 0 | T17: ='Cước bộ'!W12 -> 0
A18: 13 | B18: ='Giá tháng'!B13 -> A24.0227 | C18: ='Giá tháng'!C13 -> Cọc tre >2,5m | D18: ='Giá tháng'!D13 -> m | E18: =ROUND(SUMIF(HaoPhiVatTu!S6:S521,1012,HaoPhiVatTu!J6:J521),4) -> 627.9 | F18: =ROUND('Giá tháng'!E13,1) -> 3200 | G18: =ROUND(E18*F18,1) -> 2009280 | H18: =ROUND('Giá tháng'!F13,1) -> 5200 | I18: =ROUND(E18*H18,1) -> 3265080 | J18: 1 | K18: =ROUND(H18*J18,1) -> 5200 | L18: =ROUND(E18*K18,1) -> 3265080 | M18: =S18+T18 -> 0 | N18: =ROUND(E18*M18,1) -> 0 | O18: =ROUND(H18+M18,1) -> 5200 | P18: =ROUND(E18*O18,1) -> 3265080 | Q18: =ROUND(O18-F18,1) -> 2000 | R18: =ROUND(P18-G18,1) -> 1255800 | S18: ='Cước VC'!AU13 -> 0 | T18: ='Cước bộ'!W13 -> 0
A19: 14 | B19: ='Giá tháng'!B14 -> A24.0293 | C19: ='Giá tháng'!C14 -> Dây thép | D19: ='Giá tháng'!D14 -> kg | E19: =ROUND(SUMIF(HaoPhiVatTu!S6:S521,1013,HaoPhiVatTu!J6:J521),4) -> 17.1987 | F19: =ROUND('Giá tháng'!E14,1) -> 20000 | G19: =ROUND(E19*F19,1) -> 343974 | H19: =ROUND('Giá tháng'!F14,1) -> 24000 | I19: =ROUND(E19*H19,1) -> 412768.8 | J19: 1 | K19: =ROUND(H19*J19,1) -> 24000 | L19: =ROUND(E19*K19,1) -> 412768.8 | M19: =S19+T19 -> 0 | N19: =ROUND(E19*M19,1) -> 0 | O19: =ROUND(H19+M19,1) -> 24000 | P19: =ROUND(E19*O19,1) -> 412768.8 | Q19: =ROUND(O19-F19,1) -> 4000 | R19: =ROUND(P19-G19,1) -> 68794.8 | S19: ='Cước VC'!AU14 -> 0 | T19: ='Cước bộ'!W14 -> 0
A20: 15 | B20: ='Giá tháng'!B15 -> A24.0008 | C20: ='Giá tháng'!C15 -> Đá 1x2 | D20: ='Giá tháng'!D15 -> m3 | E20: =ROUND(SUMIF(HaoPhiVatTu!S6:S521,1014,HaoPhiVatTu!J6:J521),4) -> 14.1284 | F20: =ROUND('Giá tháng'!E15,1) -> 320000 | G20: =ROUND(E20*F20,1) -> 4521088 | H20: =ROUND('Giá tháng'!F15,1) -> 340000 | I20: =ROUND(E20*H20,1) -> 4803656 | J20: 1 | K20: =ROUND(H20*J20,1) -> 340000 | L20: =ROUND(E20*K20,1) -> 4803656 | M20: =S20+T20 -> 0 | N20: =ROUND(E20*M20,1) -> 0 | O20: =ROUND(H20+M20,1) -> 340000 | P20: =ROUND(E20*O20,1) -> 4803656 | Q20: =ROUND(O20-F20,1) -> 20000 | R20: =ROUND(P20-G20,1) -> 282568 | S20: ='Cước VC'!AU15 -> 0 | T20: ='Cước bộ'!W15 -> 0
A21: 16 | B21: ='Giá tháng'!B16 -> A24.0009 | C21: ='Giá tháng'!C16 -> Đá 2x4 | D21: ='Giá tháng'!D16 -> m3 | E21: =ROUND(SUMIF(HaoPhiVatTu!S6:S521,1015,HaoPhiVatTu!J6:J521),4) -> 305.1707 | F21: =ROUND('Giá tháng'!E16,1) -> 320000 | G21: =ROUND(E21*F21,1) -> 97654624 | H21: =ROUND('Giá tháng'!F16,1) -> 340000 | I21: =ROUND(E21*H21,1) -> 103758038 | J21: 1 | K21: =ROUND(H21*J21,1) -> 340000 | L21: =ROUND(E21*K21,1) -> 103758038 | M21: =S21+T21 -> 0 | N21: =ROUND(E21*M21,1) -> 0 | O21: =ROUND(H21+M21,1) -> 340000 | P21: =ROUND(E21*O21,1) -> 103758038 | Q21: =ROUND(O21-F21,1) -> 20000 | R21: =ROUND(P21-G21,1) -> 6103414 | S21: ='Cước VC'!AU16 -> 0 | T21: ='Cước bộ'!W16 -> 0
A22: 17 | B22: ='Giá tháng'!B17 -> A24.0025 | C22: ='Giá tháng'!C17 -> Đá dăm 2x4 lót móng | D22: ='Giá tháng'!D17 -> m3 | E22: =ROUND(SUMIF(HaoPhiVatTu!S6:S521,1016,HaoPhiVatTu!J6:J521),4) -> 71.556 | F22: =ROUND('Giá tháng'!E17,1) -> 320000 | G22: =ROUND(E22*F22,1) -> 22897920 | H22: =ROUND('Giá tháng'!F17,1) -> 340000 | I22: =ROUND(E22*H22,1) -> 24329040 | J22: 1 | K22: =ROUND(H22*J22,1) -> 340000 | L22: =ROUND(E22*K22,1) -> 24329040 | M22: =S22+T22 -> 0 | N22: =ROUND(E22*M22,1) -> 0 | O22: =ROUND(H22+M22,1) -> 340000 | P22: =ROUND(E22*O22,1) -> 24329040 | Q22: =ROUND(O22-F22,1) -> 20000 | R22: =ROUND(P22-G22,1) -> 1431120 | S22: ='Cước VC'!AU17 -> 0 | T22: ='Cước bộ'!W17 -> 0
A23: 18 | B23: ='Giá tháng'!B18 -> A24.0032 | C23: ='Giá tháng'!C18 -> Đá mài | D23: ='Giá tháng'!D18 -> viên | E23: =ROUND(SUMIF(HaoPhiVatTu!S6:S521,1017,HaoPhiVatTu!J6:J521),4) -> 0.2819 | F23: =ROUND('Giá tháng'!E18,1) -> 11667 | G23: =ROUND(E23*F23,1) -> 3288.9 | H23: =ROUND('Giá tháng'!F18,1) -> 35000 | I23: =ROUND(E23*H23,1) -> 9866.5 | J23: 1 | K23: =ROUND(H23*J23,1) -> 35000 | L23: =ROUND(E23*K23,1) -> 9866.5 | M23: =S23+T23 -> 0 | N23: =ROUND(E23*M23,1) -> 0 | O23: =ROUND(H23+M23,1) -> 35000 | P23: =ROUND(E23*O23,1) -> 9866.5 | Q23: =ROUND(O23-F23,1) -> 23333 | R23: =ROUND(P23-G23,1) -> 6577.6 | S23: ='Cước VC'!AU18 -> 0 | T23: ='Cước bộ'!W18 -> 0
A24: 19 | B24: ='Giá tháng'!B19 -> A24.0054 | C24: ='Giá tháng'!C19 -> Đinh | D24: ='Giá tháng'!D19 -> kg | E24: =ROUND(SUMIF(HaoPhiVatTu!S6:S521,1018,HaoPhiVatTu!J6:J521),4) -> 8.8441 | F24: =ROUND('Giá tháng'!E19,1) -> 23000 | G24: =ROUND(E24*F24,1) -> 203414.3 | H24: =ROUND('Giá tháng'!F19,1) -> 23000 | I24: =ROUND(E24*H24,1) -> 203414.3 | J24: 1 | K24: =ROUND(H24*J24,1) -> 23000 | L24: =ROUND(E24*K24,1) -> 203414.3 | M24: =S24+T24 -> 0 | N24: =ROUND(E24*M24,1) -> 0 | O24: =ROUND(H24+M24,1) -> 23000 | P24: =ROUND(E24*O24,1) -> 203414.3 | Q24: =ROUND(O24-F24,1) -> 0 | R24: =ROUND(P24-G24,1) -> 0 | S24: ='Cước VC'!AU19 -> 0 | T24: ='Cước bộ'!W19 -> 0
A25: 20 | B25: ='Giá tháng'!B20 -> A24.0383A | C25: ='Giá tháng'!C20 -> Gạch không nung 6,5x10,5x22 | D25: ='Giá tháng'!D20 -> viên | E25: =ROUND(SUMIF(HaoPhiVatTu!S6:S521,1019,HaoPhiVatTu!J6:J521),4) -> 11858 | F25: =ROUND('Giá tháng'!E20,1) -> 900 | G25: =ROUND(E25*F25,1) -> 10672200 | H25: =ROUND('Giá tháng'!F20,1) -> 1250 | I25: =ROUND(E25*H25,1) -> 14822500 | J25: 1 | K25: =ROUND(H25*J25,1) -> 1250 | L25: =ROUND(E25*K25,1) -> 14822500 | M25: =S25+T25 -> 0 | N25: =ROUND(E25*M25,1) -> 0 | O25: =ROUND(H25+M25,1) -> 1250 | P25: =ROUND(E25*O25,1) -> 14822500 | Q25: =ROUND(O25-F25,1) -> 350 | R25: =ROUND(P25-G25,1) -> 4150300 | S25: ='Cước VC'!AU20 -> 0 | T25: ='Cước bộ'!W20 -> 0
A26: 21 | B26: ='Giá tháng'!B21 -> A24.0406 | C26: ='Giá tháng'!C21 -> Gỗ chống | D26: ='Giá tháng'!D21 -> m3 | E26: =ROUND(SUMIF(HaoPhiVatTu!S6:S521,1020,HaoPhiVatTu!J6:J521),4) -> 0.4016 | F26: =ROUND('Giá tháng'!E21,1) -> 3409091 | G26: =ROUND(E26*F26,1) -> 1369090.9 | H26: =ROUND('Giá tháng'!F21,1) -> 4318182 | I26: =ROUND(E26*H26,1) -> 1734181.9 | J26: 1 | K26: =ROUND(H26*J26,1) -> 4318182 | L26: =ROUND(E26*K26,1) -> 1734181.9 | M26: =S26+T26 -> 0 | N26: =ROUND(E26*M26,1) -> 0 | O26: =ROUND(H26+M26,1) -> 4318182 | P26: =ROUND(E26*O26,1) -> 1734181.9 | Q26: =ROUND(O26-F26,1) -> 909091 | R26: =ROUND(P26-G26,1) -> 365091 | S26: ='Cước VC'!AU21 -> 0 | T26: ='Cước bộ'!W21 -> 0
A27: 22 | B27: ='Giá tháng'!B22 -> A24.0404 | C27: ='Giá tháng'!C22 -> Gỗ đà nẹp | D27: ='Giá tháng'!D22 -> m3 | E27: =ROUND(SUMIF(HaoPhiVatTu!S6:S521,1021,HaoPhiVatTu!J6:J521),4) -> 0.1069 | F27: =ROUND('Giá tháng'!E22,1) -> 3409091 | G27: =ROUND(E27*F27,1) -> 364431.8 | H27: =ROUND('Giá tháng'!F22,1) -> 4318182 | I27: =ROUND(E27*H27,1) -> 461613.7 | J27: 1 | K27: =ROUND(H27*J27,1) -> 4318182 | L27: =ROUND(E27*K27,1) -> 461613.7 | M27: =S27+T27 -> 0 | N27: =ROUND(E27*M27,1) -> 0 | O27: =ROUND(H27+M27,1) -> 4318182 | P27: =ROUND(E27*O27,1) -> 461613.7 | Q27: =ROUND(O27-F27,1) -> 909091 | R27: =ROUND(P27-G27,1) -> 97181.9 | S27: ='Cước VC'!AU22 -> 0 | T27: ='Cước bộ'!W22 -> 0
A28: 23 | B28: ='Giá tháng'!B23 -> A24.0418 | C28: ='Giá tháng'!C23 -> Gỗ ván | D28: ='Giá tháng'!D23 -> m3 | E28: =ROUND(SUMIF(HaoPhiVatTu!S6:S521,1022,HaoPhiVatTu!J6:J521),4) -> 0.4469 | F28: =ROUND('Giá tháng'!E23,1) -> 3409091 | G28: =ROUND(E28*F28,1) -> 1523522.8 | H28: =ROUND('Giá tháng'!F23,1) -> 4318182 | I28: =ROUND(E28*H28,1) -> 1929795.5 | J28: 1 | K28: =ROUND(H28*J28,1) -> 4318182 | L28: =ROUND(E28*K28,1) -> 1929795.5 | M28: =S28+T28 -> 0 | N28: =ROUND(E28*M28,1) -> 0 | O28: =ROUND(H28+M28,1) -> 4318182 | P28: =ROUND(E28*O28,1) -> 1929795.5 | Q28: =ROUND(O28-F28,1) -> 909091 | R28: =ROUND(P28-G28,1) -> 406272.7 | S28: ='Cước VC'!AU23 -> 0 | T28: ='Cước bộ'!W23 -> 0
A29: 24 | B29: ='Giá tháng'!B24 -> A24.0420 | C29: ='Giá tháng'!C24 -> Gỗ ván ( cả nẹp) | D29: ='Giá tháng'!D24 -> m3 | E29: =ROUND(SUMIF(HaoPhiVatTu!S6:S521,1023,HaoPhiVatTu!J6:J521),4) -> 0.0072 | F29: =ROUND('Giá tháng'!E24,1) -> 3409091 | G29: =ROUND(E29*F29,1) -> 24545.5 | H29: =ROUND('Giá tháng'!F24,1) -> 4318182 | I29: =ROUND(E29*H29,1) -> 31090.9 | J29: 1 | K29: =ROUND(H29*J29,1) -> 4318182 | L29: =ROUND(E29*K29,1) -> 31090.9 | M29: =S29+T29 -> 0 | N29: =ROUND(E29*M29,1) -> 0 | O29: =ROUND(H29+M29,1) -> 4318182 | P29: =ROUND(E29*O29,1) -> 31090.9 | Q29: =ROUND(O29-F29,1) -> 909091 | R29: =ROUND(P29-G29,1) -> 6545.4 | S29: ='Cước VC'!AU24 -> 0 | T29: ='Cước bộ'!W24 -> 0
A30: 25 | B30: ='Giá tháng'!B25 -> A33.0269 | C30: ='Giá tháng'!C25 -> Gioăng cao su D400mm | D30: ='Giá tháng'!D25 -> cái | E30: =ROUND(SUMIF(HaoPhiVatTu!S6:S521,1024,HaoPhiVatTu!J6:J521),4) -> 210 | F30: =ROUND('Giá tháng'!E25,1) -> 60000 | G30: =ROUND(E30*F30,1) -> 12600000 | H30: =ROUND('Giá tháng'!F25,1) -> 120000 | I30: =ROUND(E30*H30,1) -> 25200000 | J30: 1 | K30: =ROUND(H30*J30,1) -> 120000 | L30: =ROUND(E30*K30,1) -> 25200000 | M30: =S30+T30 -> 0 | N30: =ROUND(E30*M30,1) -> 0 | O30: =ROUND(H30+M30,1) -> 120000 | P30: =ROUND(E30*O30,1) -> 25200000 | Q30: =ROUND(O30-F30,1) -> 60000 | R30: =ROUND(P30-G30,1) -> 12600000 | S30: ='Cước VC'!AU25 -> 0 | T30: ='Cước bộ'!W25 -> 0
A31: 26 | B31: ='Giá tháng'!B26 -> A24.0931 | C31: ='Giá tháng'!C26 -> Khí gas | D31: ='Giá tháng'!D26 -> kg | E31: =ROUND(SUMIF(HaoPhiVatTu!S6:S521,1025,HaoPhiVatTu!J6:J521),4) -> 2.5275 | F31: =ROUND('Giá tháng'!E26,1) -> 20278 | G31: =ROUND(E31*F31,1) -> 51252.6 | H31: =ROUND('Giá tháng'!F26,1) -> 35000 | I31: =ROUND(E31*H31,1) -> 88462.5 | J31: 1 | K31: =ROUND(H31*J31,1) -> 35000 | L31: =ROUND(E31*K31,1) -> 88462.5 | M31: =S31+T31 -> 0 | N31: =ROUND(E31*M31,1) -> 0 | O31: =ROUND(H31+M31,1) -> 35000 | P31: =ROUND(E31*O31,1) -> 88462.5 | Q31: =ROUND(O31-F31,1) -> 14722 | R31: =ROUND(P31-G31,1) -> 37209.9 | S31: ='Cước VC'!AU26 -> 0 | T31: ='Cước bộ'!W26 -> 0
A32: 27 | B32: ='Giá tháng'!B27 -> A24.0480 | C32: ='Giá tháng'!C27 -> Ma tít chèn khe | D32: ='Giá tháng'!D27 -> kg | E32: =ROUND(SUMIF(HaoPhiVatTu!S6:S521,1026,HaoPhiVatTu!J6:J521),4) -> 482.85 | F32: =ROUND('Giá tháng'!E27,1) -> 4700 | G32: =ROUND(E32*F32,1) -> 2269395 | H32: =ROUND('Giá tháng'!F27,1) -> 4700 | I32: =ROUND(E32*H32,1) -> 2269395 | J32: 1 | K32: =ROUND(H32*J32,1) -> 4700 | L32: =ROUND(E32*K32,1) -> 2269395 | M32: =S32+T32 -> 0 | N32: =ROUND(E32*M32,1) -> 0 | O32: =ROUND(H32+M32,1) -> 4700 | P32: =ROUND(E32*O32,1) -> 2269395 | Q32: =ROUND(O32-F32,1) -> 0 | R32: =ROUND(P32-G32,1) -> 0 | S32: ='Cước VC'!AU27 -> 0 | T32: ='Cước bộ'!W27 -> 0
A33: 28 | B33: ='Giá tháng'!B28 -> A33.0240 | C33: ='Giá tháng'!C28 -> Mỡ bôi trơn | D33: ='Giá tháng'!D28 -> kg | E33: =ROUND(SUMIF(HaoPhiVatTu!S6:S521,1027,HaoPhiVatTu!J6:J521),4) -> 13.86 | F33: =ROUND('Giá tháng'!E28,1) -> 20000 | G33: =ROUND(E33*F33,1) -> 277200 | H33: =ROUND('Giá tháng'!F28,1) -> 20000 | I33: =ROUND(E33*H33,1) -> 277200 | J33: 1 | K33: =ROUND(H33*J33,1) -> 20000 | L33: =ROUND(E33*K33,1) -> 277200 | M33: =S33+T33 -> 0 | N33: =ROUND(E33*M33,1) -> 0 | O33: =ROUND(H33+M33,1) -> 20000 | P33: =ROUND(E33*O33,1) -> 277200 | Q33: =ROUND(O33-F33,1) -> 0 | R33: =ROUND(P33-G33,1) -> 0 | S33: ='Cước VC'!AU28 -> 0 | T33: ='Cước bộ'!W28 -> 0
A34: 29 | B34: ='Giá tháng'!B29 -> A24.0489 | C34: ='Giá tháng'!C29 -> Mùn cưa | D34: ='Giá tháng'!D29 -> kg | E34: =ROUND(SUMIF(HaoPhiVatTu!S6:S521,1028,HaoPhiVatTu!J6:J521),4) -> 38.27 | F34: =ROUND('Giá tháng'!E29,1) -> 233 | G34: =ROUND(E34*F34,1) -> 8916.9 | H34: =ROUND('Giá tháng'!F29,1) -> 233 | I34: =ROUND(E34*H34,1) -> 8916.9 | J34: 1 | K34: =ROUND(H34*J34,1) -> 233 | L34: =ROUND(E34*K34,1) -> 8916.9 | M34: =S34+T34 -> 0 | N34: =ROUND(E34*M34,1) -> 0 | O34: =ROUND(H34+M34,1) -> 233 | P34: =ROUND(E34*O34,1) -> 8916.9 | Q34: =ROUND(O34-F34,1) -> 0 | R34: =ROUND(P34-G34,1) -> 0 | S34: ='Cước VC'!AU29 -> 0 | T34: ='Cước bộ'!W29 -> 0
A35: 30 | B35: ='Giá tháng'!B30 -> A24.0782 | C35: ='Giá tháng'!C30 -> Nilon chống mất nước XM | D35: ='Giá tháng'!D30 -> m2 | E35: =ROUND(SUMIF(HaoPhiVatTu!S6:S521,1029,HaoPhiVatTu!J6:J521),4) -> 1821.96 | F35: =ROUND('Giá tháng'!E30,1) -> 11100 | G35: =ROUND(E35*F35,1) -> 20223756 | H35: =ROUND('Giá tháng'!F30,1) -> 10500 | I35: =ROUND(E35*H35,1) -> 19130580 | J35: 1 | K35: =ROUND(H35*J35,1) -> 10500 | L35: =ROUND(E35*K35,1) -> 19130580 | M35: =S35+T35 -> 0 | N35: =ROUND(E35*M35,1) -> 0 | O35: =ROUND(H35+M35,1) -> 10500 | P35: =ROUND(E35*O35,1) -> 19130580 | Q35: =ROUND(O35-F35,1) -> -600 | R35: =ROUND(P35-G35,1) -> -1093176 | S35: ='Cước VC'!AU30 -> 0 | T35: ='Cước bộ'!W30 -> 0
A36: 31 | B36: ='Giá tháng'!B31 -> A24.0524 | C36: ='Giá tháng'!C31 -> Nước | D36: ='Giá tháng'!D31 -> lít | E36: =ROUND(SUMIF(HaoPhiVatTu!S6:S521,1030,HaoPhiVatTu!J6:J521),4) -> 357.504 | F36: =ROUND('Giá tháng'!E31,1) -> 12 | G36: =ROUND(E36*F36,1) -> 4290 | H36: =ROUND('Giá tháng'!F31,1) -> 20 | I36: =ROUND(E36*H36,1) -> 7150.1 | J36: 1 | K36: =ROUND(H36*J36,1) -> 20 | L36: =ROUND(E36*K36,1) -> 7150.1 | M36: =S36+T36 -> 0 | N36: =ROUND(E36*M36,1) -> 0 | O36: =ROUND(H36+M36,1) -> 20 | P36: =ROUND(E36*O36,1) -> 7150.1 | Q36: =ROUND(O36-F36,1) -> 8 | R36: =ROUND(P36-G36,1) -> 2860.1 | S36: ='Cước VC'!AU31 -> 0 | T36: ='Cước bộ'!W31 -> 0
A37: 32 | B37: ='Giá tháng'!B32 -> A24.0524 | C37: ='Giá tháng'!C32 -> Nước | D37: ='Giá tháng'!D32 -> lít | E37: =ROUND(SUMIF(HaoPhiVatTu!S6:S521,1031,HaoPhiVatTu!J6:J521),4) -> 68510.241 | F37: =ROUND('Giá tháng'!E32,1) -> 12 | G37: =ROUND(E37*F37,1) -> 822122.9 | H37: =ROUND('Giá tháng'!F32,1) -> 20 | I37: =ROUND(E37*H37,1) -> 1370204.8 | J37: 1 | K37: =ROUND(H37*J37,1) -> 20 | L37: =ROUND(E37*K37,1) -> 1370204.8 | M37: =S37+T37 -> 0 | N37: =ROUND(E37*M37,1) -> 0 | O37: =ROUND(H37+M37,1) -> 20 | P37: =ROUND(E37*O37,1) -> 1370204.8 | Q37: =ROUND(O37-F37,1) -> 8 | R37: =ROUND(P37-G37,1) -> 548081.9 | S37: ='Cước VC'!AU31 -> 0 | T37: ='Cước bộ'!W31 -> 0
A38: 33 | B38: ='Giá tháng'!B33 -> A24.0520 | C38: ='Giá tháng'!C33 -> Nhựa đường | D38: ='Giá tháng'!D33 -> kg | E38: =ROUND(SUMIF(HaoPhiVatTu!S6:S521,1032,HaoPhiVatTu!J6:J521),4) -> 57.09 | F38: =ROUND('Giá tháng'!E33,1) -> 15300 | G38: =ROUND(E38*F38,1) -> 873477 | H38: =ROUND('Giá tháng'!F33,1) -> 17100 | I38: =ROUND(E38*H38,1) -> 976239 | J38: 1 | K38: =ROUND(H38*J38,1) -> 17100 | L38: =ROUND(E38*K38,1) -> 976239 | M38: =S38+T38 -> 0 | N38: =ROUND(E38*M38,1) -> 0 | O38: =ROUND(H38+M38,1) -> 17100 | P38: =ROUND(E38*O38,1) -> 976239 | Q38: =ROUND(O38-F38,1) -> 1800 | R38: =ROUND(P38-G38,1) -> 102762 | S38: ='Cước VC'!AU32 -> 0 | T38: ='Cước bộ'!W32 -> 0
A39: 34 | B39: ='Giá tháng'!B34 -> A24.0001 | C39: ='Giá tháng'!C34 -> Ô xy | D39: ='Giá tháng'!D34 -> chai | E39: =ROUND(SUMIF(HaoPhiVatTu!S6:S521,1033,HaoPhiVatTu!J6:J521),4) -> 1.2638 | F39: =ROUND('Giá tháng'!E34,1) -> 53333 | G39: =ROUND(E39*F39,1) -> 67402.2 | H39: =ROUND('Giá tháng'!F34,1) -> 83000 | I39: =ROUND(E39*H39,1) -> 104895.4 | J39: 1 | K39: =ROUND(H39*J39,1) -> 83000 | L39: =ROUND(E39*K39,1) -> 104895.4 | M39: =S39+T39 -> 0 | N39: =ROUND(E39*M39,1) -> 0 | O39: =ROUND(H39+M39,1) -> 83000 | P39: =ROUND(E39*O39,1) -> 104895.4 | Q39: =ROUND(O39-F39,1) -> 29667 | R39: =ROUND(P39-G39,1) -> 37493.2 | S39: ='Cước VC'!AU33 -> 0 | T39: ='Cước bộ'!W33 -> 0
A40: 35 | B40: ='Giá tháng'!B35 -> A33.0170 | C40: ='Giá tháng'!C35 -> Ống bê tông dài 2m D400mm | D40: ='Giá tháng'!D35 -> đoạn | E40: =ROUND(SUMIF(HaoPhiVatTu!S6:S521,1034,HaoPhiVatTu!J6:J521),4) -> 213 | F40: =ROUND('Giá tháng'!E35,1) -> 792000 | G40: =ROUND(E40*F40,1) -> 168696000 | H40: =ROUND('Giá tháng'!F35,1) -> 890000 | I40: =ROUND(E40*H40,1) -> 189570000 | J40: 1 | K40: =ROUND(H40*J40,1) -> 890000 | L40: =ROUND(E40*K40,1) -> 189570000 | M40: =S40+T40 -> 0 | N40: =ROUND(E40*M40,1) -> 0 | O40: =ROUND(H40+M40,1) -> 890000 | P40: =ROUND(E40*O40,1) -> 189570000 | Q40: =ROUND(O40-F40,1) -> 98000 | R40: =ROUND(P40-G40,1) -> 20874000 | S40: ='Cước VC'!AU34 -> 0 | T40: ='Cước bộ'!W34 -> 0
A41: 36 | B41: ='Giá tháng'!B36 -> A24.0334 | C41: ='Giá tháng'!C36 -> ống nhựa F42 | D41: ='Giá tháng'!D36 -> m | E41: =ROUND(SUMIF(HaoPhiVatTu!S6:S521,1035,HaoPhiVatTu!J6:J521),4) -> 141.51 | F41: =ROUND('Giá tháng'!E36,1) -> 12818 | G41: =ROUND(E41*F41,1) -> 1813875.2 | H41: =ROUND('Giá tháng'!F36,1) -> 18500 | I41: =ROUND(E41*H41,1) -> 2617935 | J41: 1 | K41: =ROUND(H41*J41,1) -> 18500 | L41: =ROUND(E41*K41,1) -> 2617935 | M41: =S41+T41 -> 0 | N41: =ROUND(E41*M41,1) -> 0 | O41: =ROUND(H41+M41,1) -> 18500 | P41: =ROUND(E41*O41,1) -> 2617935 | Q41: =ROUND(O41-F41,1) -> 5682 | R41: =ROUND(P41-G41,1) -> 804059.8 | S41: ='Cước VC'!AU35 -> 0 | T41: ='Cước bộ'!W35 -> 0
A42: 37 | B42: ='Giá tháng'!B37 -> A24.0543 | C42: ='Giá tháng'!C37 -> Que hàn | D42: ='Giá tháng'!D37 -> kg | E42: =ROUND(SUMIF(HaoPhiVatTu!S6:S521,1036,HaoPhiVatTu!J6:J521),4) -> 8.2032 | F42: =ROUND('Giá tháng'!E37,1) -> 25000 | G42: =ROUND(E42*F42,1) -> 205080 | H42: =ROUND('Giá tháng'!F37,1) -> 25000 | I42: =ROUND(E42*H42,1) -> 205080 | J42: 1 | K42: =ROUND(H42*J42,1) -> 25000 | L42: =ROUND(E42*K42,1) -> 205080 | M42: =S42+T42 -> 0 | N42: =ROUND(E42*M42,1) -> 0 | O42: =ROUND(H42+M42,1) -> 25000 | P42: =ROUND(E42*O42,1) -> 205080 | Q42: =ROUND(O42-F42,1) -> 0 | R42: =ROUND(P42-G42,1) -> 0 | S42: ='Cước VC'!AU36 -> 0 | T42: ='Cước bộ'!W36 -> 0
A43: 38 | B43: ='Giá tháng'!B38 -> A24.1074 | C43: ='Giá tháng'!C38 -> Thép F25 | D43: ='Giá tháng'!D38 -> kg | E43: =ROUND(SUMIF(HaoPhiVatTu!S6:S521,1037,HaoPhiVatTu!J6:J521),4) -> 1699.25 | F43: =ROUND('Giá tháng'!E38,1) -> 19200 | G43: =ROUND(E43*F43,1) -> 32625600 | H43: =ROUND('Giá tháng'!F38,1) -> 19500 | I43: =ROUND(E43*H43,1) -> 33135375 | J43: 1 | K43: =ROUND(H43*J43,1) -> 19500 | L43: =ROUND(E43*K43,1) -> 33135375 | M43: =S43+T43 -> 0 | N43: =ROUND(E43*M43,1) -> 0 | O43: =ROUND(H43+M43,1) -> 19500 | P43: =ROUND(E43*O43,1) -> 33135375 | Q43: =ROUND(O43-F43,1) -> 300 | R43: =ROUND(P43-G43,1) -> 509775 | S43: ='Cước VC'!AU37 -> 0 | T43: ='Cước bộ'!W37 -> 0
A44: 39 | B44: ='Giá tháng'!B39 -> A24.0921 | C44: ='Giá tháng'!C39 -> Thép hình, thép tấm | D44: ='Giá tháng'!D39 -> kg | E44: =ROUND(SUMIF(HaoPhiVatTu!S6:S521,1038,HaoPhiVatTu!J6:J521),4) -> 57.0875 | F44: =ROUND('Giá tháng'!E39,1) -> 19250 | G44: =ROUND(E44*F44,1) -> 1098934.4 | H44: =ROUND('Giá tháng'!F39,1) -> 19500 | I44: =ROUND(E44*H44,1) -> 1113206.3 | J44: 1 | K44: =ROUND(H44*J44,1) -> 19500 | L44: =ROUND(E44*K44,1) -> 1113206.3 | M44: =S44+T44 -> 0 | N44: =ROUND(E44*M44,1) -> 0 | O44: =ROUND(H44+M44,1) -> 19500 | P44: =ROUND(E44*O44,1) -> 1113206.3 | Q44: =ROUND(O44-F44,1) -> 250 | R44: =ROUND(P44-G44,1) -> 14271.9 | S44: ='Cước VC'!AU38 -> 0 | T44: ='Cước bộ'!W38 -> 0
A45: 40 | B45: ='Giá tháng'!B40 -> A24.0726 | C45: ='Giá tháng'!C40 -> Thép tấm | D45: ='Giá tháng'!D40 -> kg | E45: =ROUND(SUMIF(HaoPhiVatTu!S6:S521,1039,HaoPhiVatTu!J6:J521),4) -> 369.7326 | F45: =ROUND('Giá tháng'!E40,1) -> 19250 | G45: =ROUND(E45*F45,1) -> 7117352.6 | H45: =ROUND('Giá tháng'!F40,1) -> 19500 | I45: =ROUND(E45*H45,1) -> 7209785.7 | J45: 1 | K45: =ROUND(H45*J45,1) -> 19500 | L45: =ROUND(E45*K45,1) -> 7209785.7 | M45: =S45+T45 -> 0 | N45: =ROUND(E45*M45,1) -> 0 | O45: =ROUND(H45+M45,1) -> 19500 | P45: =ROUND(E45*O45,1) -> 7209785.7 | Q45: =ROUND(O45-F45,1) -> 250 | R45: =ROUND(P45-G45,1) -> 92433.1 | S45: ='Cước VC'!AU39 -> 0 | T45: ='Cước bộ'!W39 -> 0
A46: 41 | B46: ='Giá tháng'!B41 -> A24.0735 | C46: ='Giá tháng'!C41 -> Thép tròn | D46: ='Giá tháng'!D41 -> kg | E46: =ROUND(SUMIF(HaoPhiVatTu!S6:S521,1040,HaoPhiVatTu!J6:J521),4) -> 1190.4774 | F46: =ROUND('Giá tháng'!E41,1) -> 19200 | G46: =ROUND(E46*F46,1) -> 22857166 | H46: =ROUND('Giá tháng'!F41,1) -> 16500 | I46: =ROUND(E46*H46,1) -> 19642877 | J46: 1 | K46: =ROUND(H46*J46,1) -> 16500 | L46: =ROUND(E46*K46,1) -> 19642877 | M46: =S46+T46 -> 0 | N46: =ROUND(E46*M46,1) -> 0 | O46: =ROUND(H46+M46,1) -> 16500 | P46: =ROUND(E46*O46,1) -> 19642877 | Q46: =ROUND(O46-F46,1) -> -2700 | R46: =ROUND(P46-G46,1) -> -3214289 | S46: ='Cước VC'!AU40 -> 0 | T46: ='Cước bộ'!W40 -> 0
A47: 42 | B47: ='Giá tháng'!B42 -> A24.0738 | C47: ='Giá tháng'!C42 -> Thép tròn D<=10mm | D47: ='Giá tháng'!D42 -> kg | E47: =ROUND(SUMIF(HaoPhiVatTu!S6:S521,1041,HaoPhiVatTu!J6:J521),4) -> 3.1155 | F47: =ROUND('Giá tháng'!E42,1) -> 19200 | G47: =ROUND(E47*F47,1) -> 59817.6 | H47: =ROUND('Giá tháng'!F42,1) -> 16500 | I47: =ROUND(E47*H47,1) -> 51405.8 | J47: 1 | K47: =ROUND(H47*J47,1) -> 16500 | L47: =ROUND(E47*K47,1) -> 51405.8 | M47: =S47+T47 -> 0 | N47: =ROUND(E47*M47,1) -> 0 | O47: =ROUND(H47+M47,1) -> 16500 | P47: =ROUND(E47*O47,1) -> 51405.8 | Q47: =ROUND(O47-F47,1) -> -2700 | R47: =ROUND(P47-G47,1) -> -8411.8 | S47: ='Cước VC'!AU41 -> 0 | T47: ='Cước bộ'!W41 -> 0
A48: 43 | B48: ='Giá tháng'!B43 -> A24.0739 | C48: ='Giá tháng'!C43 -> Thép tròn D<=18mm | D48: ='Giá tháng'!D43 -> kg | E48: =ROUND(SUMIF(HaoPhiVatTu!S6:S521,1042,HaoPhiVatTu!J6:J521),4) -> 37.332 | F48: =ROUND('Giá tháng'!E43,1) -> 19200 | G48: =ROUND(E48*F48,1) -> 716774.4 | H48: =ROUND('Giá tháng'!F43,1) -> 16500 | I48: =ROUND(E48*H48,1) -> 615978 | J48: 1 | K48: =ROUND(H48*J48,1) -> 16500 | L48: =ROUND(E48*K48,1) -> 615978 | M48: =S48+T48 -> 0 | N48: =ROUND(E48*M48,1) -> 0 | O48: =ROUND(H48+M48,1) -> 16500 | P48: =ROUND(E48*O48,1) -> 615978 | Q48: =ROUND(O48-F48,1) -> -2700 | R48: =ROUND(P48-G48,1) -> -100796.4 | S48: ='Cước VC'!AU42 -> 0 | T48: ='Cước bộ'!W42 -> 0
A49: 44 | B49: ='Giá tháng'!B45 -> A24.0797A | C49: ='Giá tháng'!C45 -> Xi măng PCB30 | D49: ='Giá tháng'!D45 -> kg | E49: =ROUND(SUMIF(HaoPhiVatTu!S6:S521,1043,HaoPhiVatTu!J6:J521),4) -> 145509.24 | F49: =ROUND('Giá tháng'!E45,1) -> 1380 | G49: =ROUND(E49*F49,1) -> 2.0080276e+08 | H49: =ROUND('Giá tháng'!F45,1) -> 1481 | I49: =ROUND(E49*H49,1) -> 2.1549919e+08 | J49: 1 | K49: =ROUND(H49*J49,1) -> 1481 | L49: =ROUND(E49*K49,1) -> 2.1549919e+08 | M49: =S49+T49 -> 0 | N49: =ROUND(E49*M49,1) -> 0 | O49: =ROUND(H49+M49,1) -> 1481 | P49: =ROUND(E49*O49,1) -> 2.1549919e+08 | Q49: =ROUND(O49-F49,1) -> 101 | R49: =ROUND(P49-G49,1) -> 14696434 | S49: ='Cước VC'!AU43 -> 0 | T49: ='Cước bộ'!W43 -> 0
A50: 45 | B50: ='Giá tháng'!B46 -> A24.0796A | C50: ='Giá tháng'!C46 -> Xi măng PCB40 | D50: ='Giá tháng'!D46 -> kg | E50: =ROUND(SUMIF(HaoPhiVatTu!S6:S521,1044,HaoPhiVatTu!J6:J521),4) -> 453.5467 | F50: =ROUND('Giá tháng'!E46,1) -> 1398 | G50: =ROUND(E50*F50,1) -> 634058.3 | H50: =ROUND('Giá tháng'!F46,1) -> 1500 | I50: =ROUND(E50*H50,1) -> 680320.1 | J50: 1 | K50: =ROUND(H50*J50,1) -> 1500 | L50: =ROUND(E50*K50,1) -> 680320.1 | M50: =S50+T50 -> 0 | N50: =ROUND(E50*M50,1) -> 0 | O50: =ROUND(H50+M50,1) -> 1500 | P50: =ROUND(E50*O50,1) -> 680320.1 | Q50: =ROUND(O50-F50,1) -> 102 | R50: =ROUND(P50-G50,1) -> 46261.8 | S50: ='Cước VC'!AU44 -> 0 | T50: ='Cước bộ'!W44 -> 0
A51: 46 | B51: Z999 | C51: Vât liệu khác | D51: % | G51: =ROUND(HaoPhiVatTu!M4,1) -> 8603009.4 | P51: =ROUND(HaoPhiVatTu!O4,1) -> 9383025 | R51: =ROUND(P51-G51,1) -> 780015.6
C52: TỔNG VẬT LIỆU | G52: =ROUND(SUM(G6:G51),0) -> 1009132392 | I52: =ROUND(SUM(I6:I51),0) -> 1103651514 | L52: =ROUND(SUM(L6:L51),0) -> 1103651514 | N52: =ROUND(SUM(N6:N51),0) -> 0 | P52: =ROUND(SUM(P6:P51),0) -> 1113034539 | R52: =ROUND(SUM(R6:R51),0) -> 103902147
A53: II | C53: NHÂN CÔNG
A54: 1 | B54: ='Công trình'!E116 -> TT | C54: ='Công trình'!F116 -> Lắp đặt đế cống D400 | D54: ='Công trình'!G116 -> Cái | E54: =ROUND(IF('Công trình'!P43=0,'Công trình'!P116,'Công trình'!P43*'Công trình'!P116),4) -> 639 | F54: =ROUND('Công trình'!S116,1) -> 25000 | G54: =ROUND(E54*F54,1) -> 15975000 | H54: =ROUND('Công trình'!S116,1) -> 25000 | I54: =ROUND(E54*H54,1) -> 15975000 | J54: 1 | K54: =ROUND(H54*J54,1) -> 25000 | L54: =ROUND(E54*K54,1) -> 15975000 | O54: =H54 -> 25000 | P54: =ROUND(E54*O54,1) -> 15975000 | Q54: =ROUND(O54-F54,1) -> 0 | R54: =ROUND(P54-G54,1) -> 0
A55: 2 | B55: ='Công trình'!E137 -> TT | C55: ='Công trình'!F137 -> Bơm nước phục vụ thi công | D55: ='Công trình'!G137 -> ca | E55: =ROUND(IF('Công trình'!P43=0,'Công trình'!P137,'Công trình'!P43*'Công trình'!P137),4) -> 1 | F55: =ROUND('Công trình'!S137,1) -> 200000 | G55: =ROUND(E55*F55,1) -> 200000 | H55: =ROUND('Công trình'!S137,1) -> 200000 | I55: =ROUND(E55*H55,1) -> 200000 | J55: 1 | K55: =ROUND(H55*J55,1) -> 200000 | L55: =ROUND(E55*K55,1) -> 200000 | O55: =H55 -> 200000 | P55: =ROUND(E55*O55,1) -> 200000 | Q55: =ROUND(O55-F55,1) -> 0 | R55: =ROUND(P55-G55,1) -> 0
A56: 3 | B56: ='Giá tháng'!B48 -> N1.30 | C56: ='Giá tháng'!C48 -> Nhân công 3,0/7 - Nhóm 1 | D56: ='Giá tháng'!D48 -> công | E56: =ROUND(SUMIF(HaoPhiVatTu!S6:S521,202,HaoPhiVatTu!K6:K521),4) -> #REF! | F56: =ROUND('Giá tháng'!E48,1) -> 221303 | G56: =ROUND(E56*F56,1) -> #REF! | H56: =ROUND('Giá tháng'!F48,1) -> 221303 | I56: =ROUND(E56*H56,1) -> #REF! | J56: 1 | K56: =ROUND(H56*J56,1) -> 221303 | L56: =ROUND(E56*K56,1) -> #REF! | O56: =H56 -> 221303 | P56: =ROUND(E56*O56,1) -> #REF! | Q56: =ROUND(O56-F56,1) -> 0 | R56: =ROUND(P56-G56,1) -> #REF!
A57: 4 | B57: ='Giá tháng'!B49 -> N2.30 | C57: ='Giá tháng'!C49 -> Nhân công 3,0/7 - Nhóm 2 | D57: ='Giá tháng'!D49 -> công | E57: =ROUND(SUMIF(HaoPhiVatTu!S6:S521,203,HaoPhiVatTu!K6:K521),4) -> 48.3975 | F57: =ROUND('Giá tháng'!E49,1) -> 239592 | G57: =ROUND(E57*F57,1) -> 11595654 | H57: =ROUND('Giá tháng'!F49,1) -> 239592 | I57: =ROUND(E57*H57,1) -> 11595654 | J57: 1 | K57: =ROUND(H57*J57,1) -> 239592 | L57: =ROUND(E57*K57,1) -> 11595654 | O57: =H57 -> 239592 | P57: =ROUND(E57*O57,1) -> 11595654 | Q57: =ROUND(O57-F57,1) -> 0 | R57: =ROUND(P57-G57,1) -> 0
A58: 5 | B58: ='Giá tháng'!B50 -> N1.35 | C58: ='Giá tháng'!C50 -> Nhân công 3,5/7 - Nhóm 1 | D58: ='Giá tháng'!D50 -> công | E58: =ROUND(SUMIF(HaoPhiVatTu!S6:S521,204,HaoPhiVatTu!K6:K521),4) -> 1.4988 | F58: =ROUND('Giá tháng'!E50,1) -> 242000 | G58: =ROUND(E58*F58,1) -> 362709.6 | H58: =ROUND('Giá tháng'!F50,1) -> 242000 | I58: =ROUND(E58*H58,1) -> 362709.6 | J58: 1 | K58: =ROUND(H58*J58,1) -> 242000 | L58: =ROUND(E58*K58,1) -> 362709.6 | O58: =H58 -> 242000 | P58: =ROUND(E58*O58,1) -> 362709.6 | Q58: =ROUND(O58-F58,1) -> 0 | R58: =ROUND(P58-G58,1) -> 0
A59: 6 | B59: ='Giá tháng'!B51 -> N2.35 | C59: ='Giá tháng'!C51 -> Nhân công 3,5/7 - Nhóm 2 | D59: ='Giá tháng'!D51 -> công | E59: =ROUND(SUMIF(HaoPhiVatTu!S6:S521,205,HaoPhiVatTu!K6:K521),4) -> 790.8626 | F59: =ROUND('Giá tháng'!E51,1) -> 262000 | G59: =ROUND(E59*F59,1) -> 2.07206e+08 | H59: =ROUND('Giá tháng'!F51,1) -> 262000 | I59: =ROUND(E59*H59,1) -> 2.07206e+08 | J59: 1 | K59: =ROUND(H59*J59,1) -> 262000 | L59: =ROUND(E59*K59,1) -> 2.07206e+08 | O59: =H59 -> 262000 | P59: =ROUND(E59*O59,1) -> 2.07206e+08 | Q59: =ROUND(O59-F59,1) -> 0 | R59: =ROUND(P59-G59,1) -> 0
A60: 7 | B60: ='Giá tháng'!B53 -> N2.40 | C60: ='Giá tháng'!C53 -> Nhân công 4,0/7 - Nhóm 2 | D60: ='Giá tháng'!D53 -> công | E60: =ROUND(SUMIF(HaoPhiVatTu!S6:S521,206,HaoPhiVatTu!K6:K521),4) -> 177.9234 | F60: =ROUND('Giá tháng'!E53,1) -> 284408 | G60: =ROUND(E60*F60,1) -> 50602838 | H60: =ROUND('Giá tháng'!F53,1) -> 284408 | I60: =ROUND(E60*H60,1) -> 50602838 | J60: 1 | K60: =ROUND(H60*J60,1) -> 284408 | L60: =ROUND(E60*K60,1) -> 50602838 | O60: =H60 -> 284408 | P60: =ROUND(E60*O60,1) -> 50602838 | Q60: =ROUND(O60-F60,1) -> 0 | R60: =ROUND(P60-G60,1) -> 0
C61: TỔNG NHÂN CÔNG | G61: =ROUND(SUM(G54:G60),0) -> #REF! | I61: =ROUND(SUM(I54:I60),0) -> #REF! | L61: =ROUND(SUM(L54:L60),0) -> #REF! | N61: =ROUND(SUM(N54:N60),0) -> 0 | P61: =ROUND(SUM(P54:P60),0) -> #REF! | R61: =ROUND(SUM(R54:R60),0) -> #REF!
A62: III | C62: MÁY THI CÔNG
A63: 1 | B63: ='Công trình'!E137 -> TT | C63: ='Công trình'!F137 -> Bơm nước phục vụ thi công | D63: ='Công trình'!G137 -> ca | E63: =ROUND(IF('Công trình'!P43=0,'Công trình'!P137,'Công trình'!P43*'Công trình'!P137),4) -> 1 | F63: =ROUND('Công trình'!T137,1) -> 300000 | G63: =ROUND(E63*F63,1) -> 300000 | H63: =ROUND('Công trình'!T137,1) -> 300000 | I63: =ROUND(E63*H63,1) -> 300000 | J63: 1 | K63: =ROUND(H63*J63,1) -> 300000 | L63: =ROUND(E63*K63,1) -> 300000 | N63: =ROUND(E63*J63*M63,1) -> 0 | O63: =H63 -> 300000 | P63: =ROUND(E63*O63,1) -> 300000 | Q63: =ROUND(O63-F63,1) -> 0 | R63: =ROUND(P63-G63,1) -> 0
A64: 2 | B64: ='Giá tháng'!B55 -> M102.0201 | C64: ='Giá tháng'!C55 -> Cần cẩu bánh hơi 6 T | D64: ='Giá tháng'!D55 -> ca | E64: =ROUND(SUMIF(HaoPhiVatTu!S6:S521,301,HaoPhiVatTu!L6:L521),4) -> 12.603 | F64: =ROUND('Giá tháng'!E55,1) -> 1756646 | G64: =ROUND(E64*F64,1) -> 22139010 | H64: =ROUND('Giá tháng'!F55,1) -> 1764371 | I64: =ROUND(E64*H64,1) -> 22236368 | J64: 1 | K64: =ROUND(H64*J64,1) -> 1764371 | L64: =ROUND(E64*K64,1) -> 22236368 | N64: =ROUND(E64*J64*M64,1) -> 0 | O64: =H64 -> 1764371 | P64: =ROUND(E64*O64,1) -> 22236368 | Q64: =ROUND(O64-F64,1) -> 7725 | R64: =ROUND(P64-G64,1) -> 97358.2
A65: 3 | B65: ='Giá tháng'!B56 -> M112.2601 | C65: ='Giá tháng'!C56 -> Máy cắt uốn cốt thép - công suất : 5,0 kW | D65: ='Giá tháng'!D56 -> ca | E65: =ROUND(SUMIF(HaoPhiVatTu!S6:S521,302,HaoPhiVatTu!L6:L521),4) -> 6.2293 | F65: =ROUND('Giá tháng'!E56,1) -> 281286 | G65: =ROUND(E65*F65,1) -> 1752214.9 | H65: =ROUND('Giá tháng'!F56,1) -> 279591 | I65: =ROUND(E65*H65,1) -> 1741656.2 | J65: 1 | K65: =ROUND(H65*J65,1) -> 279591 | L65: =ROUND(E65*K65,1) -> 1741656.2 | N65: =ROUND(E65*J65*M65,1) -> 0 | O65: =H65 -> 279591 | P65: =ROUND(E65*O65,1) -> 1741656.2 | Q65: =ROUND(O65-F65,1) -> -1695 | R65: =ROUND(P65-G65,1) -> -10558.7
A66: 4 | B66: ='Giá tháng'!B57 -> M101.0115 | C66: ='Giá tháng'!C57 -> Máy đào 1,25 m3 gắn đầu búa thủy lực / hàm kẹp | D66: ='Giá tháng'!D57 -> ca | E66: =ROUND(SUMIF(HaoPhiVatTu!S6:S521,303,HaoPhiVatTu!L6:L521),4) -> 1.9996 | F66: =ROUND('Giá tháng'!E57,1) -> 4267355 | G66: =ROUND(E66*F66,1) -> 8533003.1 | H66: =ROUND('Giá tháng'!F57,1) -> 4293002 | I66: =ROUND(E66*H66,1) -> 8584286.8 | J66: 1 | K66: =ROUND(H66*J66,1) -> 4293002 | L66: =ROUND(E66*K66,1) -> 8584286.8 | N66: =ROUND(E66*J66*M66,1) -> 0 | O66: =H66 -> 4293002 | P66: =ROUND(E66*O66,1) -> 8584286.8 | Q66: =ROUND(O66-F66,1) -> 25647 | R66: =ROUND(P66-G66,1) -> 51283.7
A67: 5 | B67: ='Giá tháng'!B58 -> M101.0101 | C67: ='Giá tháng'!C58 -> Máy đào một gầu, bánh xích - dung tích gầu : 0,40 m3 | D67: ='Giá tháng'!D58 -> ca | E67: =ROUND(SUMIF(HaoPhiVatTu!S6:S521,304,HaoPhiVatTu!L6:L521),4) -> 3.9625 | F67: =ROUND('Giá tháng'!E58,1) -> 2068759 | G67: =ROUND(E67*F67,1) -> 8197457.5 | H67: =ROUND('Giá tháng'!F58,1) -> 2082046 | I67: =ROUND(E67*H67,1) -> 8250107.3 | J67: 1 | K67: =ROUND(H67*J67,1) -> 2082046 | L67: =ROUND(E67*K67,1) -> 8250107.3 | N67: =ROUND(E67*J67*M67,1) -> 0 | O67: =H67 -> 2082046 | P67: =ROUND(E67*O67,1) -> 8250107.3 | Q67: =ROUND(O67-F67,1) -> 13287 | R67: =ROUND(P67-G67,1) -> 52649.8
A68: 6 | B68: ='Giá tháng'!B59 -> M101.0102 | C68: ='Giá tháng'!C59 -> Máy đào một gầu, bánh xích - dung tích gầu : 0,50 m3 | D68: ='Giá tháng'!D59 -> ca | E68: =ROUND(SUMIF(HaoPhiVatTu!S6:S521,305,HaoPhiVatTu!L6:L521),4) -> 0.439 | F68: =ROUND('Giá tháng'!E59,1) -> 2391243 | G68: =ROUND(E68*F68,1) -> 1049755.7 | H68: =ROUND('Giá tháng'!F59,1) -> 2407002 | I68: =ROUND(E68*H68,1) -> 1056673.9 | J68: 1 | K68: =ROUND(H68*J68,1) -> 2407002 | L68: =ROUND(E68*K68,1) -> 1056673.9 | N68: =ROUND(E68*J68*M68,1) -> 0 | O68: =H68 -> 2407002 | P68: =ROUND(E68*O68,1) -> 1056673.9 | Q68: =ROUND(O68-F68,1) -> 15759 | R68: =ROUND(P68-G68,1) -> 6918.2
A69: 7 | B69: ='Giá tháng'!B60 -> M101.0104 | C69: ='Giá tháng'!C60 -> Máy đào một gầu, bánh xích - dung tích gầu : 0,80 m3 | D69: ='Giá tháng'!D60 -> ca | E69: =ROUND(SUMIF(HaoPhiVatTu!S6:S521,306,HaoPhiVatTu!L6:L521),4) -> 3.2393 | F69: =ROUND('Giá tháng'!E60,1) -> 2938899 | G69: =ROUND(E69*F69,1) -> 9519975.5 | H69: =ROUND('Giá tháng'!F60,1) -> 2958984 | I69: =ROUND(E69*H69,1) -> 9585036.9 | J69: 1 | K69: =ROUND(H69*J69,1) -> 2958984 | L69: =ROUND(E69*K69,1) -> 9585036.9 | N69: =ROUND(E69*J69*M69,1) -> 0 | O69: =H69 -> 2958984 | P69: =ROUND(E69*O69,1) -> 9585036.9 | Q69: =ROUND(O69-F69,1) -> 20085 | R69: =ROUND(P69-G69,1) -> 65061.4
A70: 8 | B70: ='Giá tháng'!B61 -> M101.0105 | C70: ='Giá tháng'!C61 -> Máy đào một gầu, bánh xích - dung tích gầu : 1,25 m3 | D70: ='Giá tháng'!D61 -> ca | E70: =ROUND(SUMIF(HaoPhiVatTu!S6:S521,307,HaoPhiVatTu!L6:L521),4) -> 0.0119 | F70: =ROUND('Giá tháng'!E61,1) -> 4000423 | G70: =ROUND(E70*F70,1) -> 47605 | H70: =ROUND('Giá tháng'!F61,1) -> 4026070 | I70: =ROUND(E70*H70,1) -> 47910.2 | J70: 1 | K70: =ROUND(H70*J70,1) -> 4026070 | L70: =ROUND(E70*K70,1) -> 47910.2 | N70: =ROUND(E70*J70*M70,1) -> 0 | O70: =H70 -> 4026070 | P70: =ROUND(E70*O70,1) -> 47910.2 | Q70: =ROUND(O70-F70,1) -> 25647 | R70: =ROUND(P70-G70,1) -> 305.2
A71: 9 | B71: ='Giá tháng'!B62 -> M112.1301 | C71: ='Giá tháng'!C62 -> Máy đầm bê tông, dầm dùi - công suất : 1,5 kW | D71: ='Giá tháng'!D62 -> ca | E71: =ROUND(SUMIF(HaoPhiVatTu!S6:S521,308,HaoPhiVatTu!L6:L521),4) -> 33.3889 | F71: =ROUND('Giá tháng'!E62,1) -> 276782 | G71: =ROUND(E71*F71,1) -> 9241446.5 | H71: =ROUND('Giá tháng'!F62,1) -> 275463 | I71: =ROUND(E71*H71,1) -> 9197406.6 | J71: 1 | K71: =ROUND(H71*J71,1) -> 275463 | L71: =ROUND(E71*K71,1) -> 9197406.6 | N71: =ROUND(E71*J71*M71,1) -> 0 | O71: =H71 -> 275463 | P71: =ROUND(E71*O71,1) -> 9197406.6 | Q71: =ROUND(O71-F71,1) -> -1319 | R71: =ROUND(P71-G71,1) -> -44039.9
A72: 10 | B72: ='Giá tháng'!B63 -> M112.1101 | C72: ='Giá tháng'!C63 -> Máy đầm bê tông, đầm bàn - công suất : 1,0 kW | D72: ='Giá tháng'!D63 -> ca | E72: =ROUND(SUMIF(HaoPhiVatTu!S6:S521,309,HaoPhiVatTu!L6:L521),4) -> 31.5825 | F72: =ROUND('Giá tháng'!E63,1) -> 272875 | G72: =ROUND(E72*F72,1) -> 8618074.7 | H72: =ROUND('Giá tháng'!F63,1) -> 271933 | I72: =ROUND(E72*H72,1) -> 8588324 | J72: 1 | K72: =ROUND(H72*J72,1) -> 271933 | L72: =ROUND(E72*K72,1) -> 8588324 | N72: =ROUND(E72*J72*M72,1) -> 0 | O72: =H72 -> 271933 | P72: =ROUND(E72*O72,1) -> 8588324 | Q72: =ROUND(O72-F72,1) -> -942 | R72: =ROUND(P72-G72,1) -> -29750.7
