Workbook

Sheet SGV

Sheet THQY
A1: BẢNG TỔNG HỢP QUYẾT TOÁN CÔNG TRÌNH
A2: Công trình: Sửa chữa tuyến đường từ nhà Bà Trường, tổ 5 phường Vạn Hương đến nhà bà Kim, tổ dân phố Bắc Hải phường Bàng La
A3: Gói thầu số 04: Thi công xây dựng
A4: Hợp đồng số: 29.11/2022/HĐ-XD ngày 29 tháng 11 năm 2022
A5: Chủ đầu tư: Ủy ban nhân dân phường Vạn Hương
A6: Nhà thầu: Công ty Cổ phần dịch vụ thương mại Thành Dương
A7: STT | B7: Hạng mục | C7: Cách tính | D7: Chi phí
D8: Trước thuế | E8: Thuế(10%) | F8: Sau thuế
A9: I | B9: Chi phí xây dựng | D9: =D10 -> 1.8622791e+09 | E9: =E10 -> 1.8622791e+08 | F9: =E9+D9 -> 2.048507e+09 | G9: 2061950000 | H9: 2048507000
A10: 1 | B10: Sửa chữa tuyến đường từ nhà Bà Trường, tổ 5 phường Vạn Hương đến nhà bà Kim, tổ dân phố Bắc Hải phường Bàng La | C10: Bảng chi tiết giá trị quyết toán | D10: =F10/1.1 -> 1.8622791e+09 | E10: =D10*0.1 -> 1.8622791e+08 | F10: =H9 -> 2048507000 | H10: =G9-H9 -> 13443000
A11: II | B11: Chi phí quản lý dự án | C11: Dự toán được duyệt | D11: =F11/1.1 -> 56684545 | E11: =D11*0.1 -> 5668454.5 | F11: 62353000 | G11: 62353000
A12: III | B12: Chi phí tư vấn đầu tư xây dựng | C12: Dự toán được duyệt | D12: =SUM(D13:D21) -> 2.031957e+08 | E12: =SUM(E13:E21) -> 20319570 | F12: 223515000 | G12: 223515000
A13: 1 | B13: Chi phí khảo sát địa hình | D13: =F13/1.1 -> 39691779 | E13: =D13*0.1 -> 3969177.9 | F13: 43660957 | G13: 43660957
A14: 2 | B14: Chi phí lập báo cáo kinh tế - kỹ thuật | D14: =F14/1.1 -> 86469745 | E14: =D14*0.1 -> 8646974.5 | F14: 95116720 | G14: 95116720
A15: 3 | B15: Chi phí thẩm tra Báo cáo kinh tế - kỹ thuật, phần thiết kế | D15: =F15/1.1 -> 3186650 | E15: =D15*0.1 -> 318665 | F15: 3505315 | G15: 3505315
A16: 4 | B16: Chi phí thẩm tra Báo cáo kinh tế - kỹ thuật, phần dự toán | D16: =F16/1.1 -> 3111670 | E16: =D16*0.1 -> 311167 | F16: 3422837 | G16: 3422837
A17: 5 | B17: Chi phí Lập hồ sơ mời thầu, đánh giá hồ sơ dự thầu thi công xây dựng | D17: =F17/1.1 -> 6485773.6 | E17: =D17*0.1 -> 648577.36 | F17: 7134351 | G17: 7134351
A18: 6 | B18: Chi phí thẩm định hồ sơ mời thầu, hồ sơ yêu cầu (Nghị định 63/2014/NĐ-CP) | D18: =F18/1.1 -> 1052462.7 | E18: =D18*0.1 -> 105246.27 | F18: 1157709 | G18: 1157709
A19: 7 | B19: Chi phí đánh giá hồ sơ dự thầu, hồ sơ đề xuất (Nghị định 63/2014/NĐ-CP) | D19: =F19/1.1 -> 2104926.4 | E19: =D19*0.1 -> 210492.64 | F19: 2315419 | G19: 2315419
A20: 8 | B20: Chi phí thẩm định kết quả lựa chọn nhà thầu (Nghị định 63/2014/NĐ-CP) | D20: =F20/1.1 -> 1052462.7 | E20: =D20*0.1 -> 105246.27 | F20: 1157709 | G20: 1157709
A21: 9 | B21: Chi phí giám sát thi công xây dựng | D21: =F21/1.1 -> 60040233 | E21: =D21*0.1 -> 6004023.3 | F21: 66044256 | G21: 66044256
A22: IV | B22: Chi phí khác | C22: Dự toán được duyệt | D22: =ROUND(+D23+D25+D24,-3) -> 21052000 | F22: =ROUND(+F23+F25+F24,-3) -> 21052000 | G22: 21052000
A23: 1 | B23: Phí thẩm định báo cáo KTKT | D23: 944748 | F23: =D23 -> 944748 | G23: 944748
A24: 2 | B24: Chi phí thẩm tra, phê duyệt quyết toán | D24: 13502559 | F24: =D24 -> 13502559 | G24: 13502559
A25: 3 | B25: Chi phí kiểm tra công tác nghiệm thu công trình xây dựng (Thông tư 10/2021/TT-BXD) | D25: 6604425.6 | F25: =D25 -> 6604425.6 | G25: 6604425.6
B26: CỘNG I+II+III+IV | F26: =F9+F11+F12+F22 -> 2355427000 | G26: =+G9+G11+G12+G22 -> 2368870000 | H26: =G26-F26 -> 13443000
A27: (Bằng chữ: Hai tỷ, ba trăm năm mươi lăm triệu, bốn trăm hai mươi bảy nghìn đồng./.)
D28: Vạn Hương, ngày tháng năm 2023
B29: ĐẠI DIỆN CHỦ ĐẦU TƯ | D29: ĐẠI DIỆN NHÀ THẦU

Sheet CTQT
B2: BẢNG CHI TIẾT GIÁ TRỊ QUYẾT TOÁN
B4: Công trình: Sửa
B5: Gói thầu số 3: Thi công xây dựng
B6: Hợp đồng số:
B7: Chủ đầu tư:
B8: Nhà thầu:
K9: Đơn vị: Đồng
B10: Stt | C10: Tên công việc | D10: Đơn vị tính | E10: Khối lượng | H10: Đơn giá theo hợp đồng | I10: Thành tiền | L10: Ghi chú
E11: Theo hợp đồng | F11: Quyết toán | G11: Tăng(+), giảm(-) | I11: Theo hợp đồng | J11: Quyết toán | K11: Tăng(+), giảm(-)
B12: 1 | C12: =B12+1 -> 2 | D12: =C12+1 -> 3 | E12: =D12+1 -> 4 | F12: =E12+1 -> 5 | G12: =F12+1 -> 6 | H12: =G12+1 -> 7 | I12: =H12+1 -> 8 | J12: =I12+1 -> 9 | ... L12: =K12+1 -> 11
B13: HM | C13: SỬA CHỮA NHÀ LÀM VIỆC SỐ 1
B14: 1 | C14: Nhân công tháo dỡ, vận chuyển nhà kho trên tầng 2 | D14: công | E14: 2 | H14: 311452.67 | I14: =H14*E14 -> 622905.34
B15: 2 | C15: Tháo dỡ cửa bằng thủ công | D15: m2 | E15: 60.29 | H15: 12458.107 | I15: =H15*E15 -> 751099.26
B16: 3 | C16: Tháo dỡ khuôn cửa gỗ | D16: m | E16: 101.9 | H16: 31145.267 | I16: =H16*E16 -> 3173702.7
B17: 4 | C17: Tháo dỡ hoa sắt cửa sổ | D17: m2 | E17: 15.12 | H17: 25633.417 | I17: =H17*E17 -> 387577.26
B18: 5 | C18: Phá dỡ tường xây gạch chiều dày tường <=22cm | D18: m3 | E18: 2.453 | H18: 361715.99 | I18: =H18*E18 -> 887289.33
B19: 6 | C19: Xây chèn cửa, bịt cửa | D19: m3 | E19: 1.373 | H19: 1831340.4 | I19: =H19*E19 -> 2514430.4
B20: 7 | C20: Phá dỡ lớp vữa trát má cửa sổ | D20: m2 | E20: 6.864 | H20: 34177.889 | I20: =H20*E20 -> 234597.03
B21: 8 | C21: Trát tường | D21: m2 | E21: 31.633 | H21: 110138.91 | I21: =H21*E21 -> 3484024.1
B22: 9 | C22: Bả bột bả vào tường | D22: m2 | E22: 31.633 | H22: 41396.33 | I22: =H22*E22 -> 1309490.1
B23: 10 | C23: Sơn dầm, trần, cột, tường trong nhà đã bả - 1 nước lót, 2 nước phủ | D23: m2 | E23: 31.633 | H23: 65082.843 | I23: =H23*E23 -> 2058765.6
B24: 11 | C24: Phá dỡ gạch nát nền | D24: m2 | E24: 11.25 | H24: 25633.417 | I24: =H24*E24 -> 288375.94
B25: 12 | C25: Tháo dỡ gạch ốp chân tường | D25: m2 | E25: 1.125 | H25: 40488.847 | I25: =H25*E25 -> 45549.953
... B42: 29 | C42: Vận chuyển phế thải tiếp 1000m bằng ô tô - 5,0T | D42: m3 | E42: 4.633 | H42: 14859.046 | I42: =H42*E42 -> 68841.962
B43: HM | C43: SỬA CHỮA NHÀ LÀM VIỆC SỐ 2 | I43: =H43*E43 -> 0
B44: 30 | C44: Tháo dỡ cửa bằng thủ công | D44: m2 | E44: 72.141 | H44: 12458.107 | I44: =H44*E44 -> 898740.28
B45: 31 | C45: Tháo dỡ khuôn cửa gỗ | D45: m | E45: 135.69 | H45: 31145.267 | I45: =H45*E45 -> 4226101.3
B46: 32 | C46: Tháo dỡ hoa sắt cửa sổ | D46: m2 | E46: 30.24 | H46: 25633.417 | I46: =H46*E46 -> 775154.53
B47: 33 | C47: Phá dỡ lớp vữa trát má cửa | D47: m2 | E47: 14.652 | H47: 34177.889 | I47: =H47*E47 -> 500774.43
B48: 34 | C48: Sơn sắt thép bằng sơn các loại, 1 nước lót, 2 nước phủ | D48: m2 | E48: 30.24 | H48: 57560.803 | I48: =H48*E48 -> 1740638.7
B49: 35 | C49: Lắp dựng hoa sắt cửa | D49: m2 | E49: 30.24 | H49: 81183.751 | I49: =H49*E49 -> 2454996.6
B50: 36 | C50: Gia công, lắp dựng cửa sổ nhôm kính hệ 55, kinh dán an toàn 6,38mm(bao gồm cả khóa và phụ kiện) | D50: m2 | E50: 31.32 | H50: 2380939.8 | I50: =H50*E50 -> 74571035
B51: 37 | C51: Gia công, lắp dựng cửa đi nhôm kính hệ 55, kinh dán an toàn 6,38mm(bao gồm cả khóa và phụ kiện) | D51: m2 | E51: 40.821 | H51: 2638338.7 | I51: =H51*E51 -> 1.0769963e+08
B52: 38 | C52: Lát nền, sàn, kích thước gạch 500x500mm, vữa XM mác 75, PCB30 | D52: m2 | E52: 29.792 | H52: 247091.6 | I52: =H52*E52 -> 7361353.1
B53: 39 | C53: Công tác ốp gạch vào chân tường, kích thước gạch 500x120mm | D53: m2 | E53: 1.732 | H53: 258673.75 | I53: =H53*E53 -> 448022.94
B54: 40 | C54: Lắp đặt chậu rửa 1 vòi-chậu đứng | D54: bộ | E54: 1 | H54: 1481461.9 | I54: =H54*E54 -> 1481461.9
B55: 41 | C55: Lắp đặt hộp đựng xà bông | D55: cái | E55: 1 | H55: 56305.006 | I55: =H55*E55 -> 56305.006
... B77: 63 | C77: Vận chuyển phế thải tiếp 1000m bằng ô tô - 5,0T | D77: m3 | E77: 2.604 | H77: 14859.046 | I77: =H77*E77 -> 38692.957
B78: III | C78: SỬA CHỮA ĐIỆN | I78: =H78*E78 -> 0
B79: 64 | C79: Lắp đặt dây dẫn 3x16mm2+1x10mm2 | D79: m | E79: 50 | H79: 488256.98 | I79: =H79*E79 -> 24412849
...

Sheet KL QLDA
A1: BẢNG TỔNG HỢP KHỐI LƯỢNG HOÀN THÀNH CÔNG TRÌNH (Kèm theo biên bản nghiệm thu hoàn thành lần 1)
A2: (Kèm theo Biên bản nghiệm thu hoàn thành công trình ngày 14/12/2023)
A3: Công trình:
A4: Gói thầu số 03: Thi công xây dựng
A5: Hợp đồng số:
A6: Chủ đầu tư:
A7: Nhà thầu: Công ty
A9: Stt | B9: Tên công việc | C9: Đơn vị tính | D9: Khối lượng | G9: Ghi chú
D10: Theo hợp đồng | E10: Thực hiện | F10: Tăng(+), giảm(-)
A11: 1 | B11: 2 | C11: 3 | D11: 4 | E11: 5 | F11: 6=5-4 | G11: 7
A12: HM | B12: SỬA CHỮA NHÀ LÀM VIỆC SỐ 1
A13: 1 | B13: Nhân công tháo dỡ, vận chuyển nhà kho trên tầng 2 | C13: công | D13: 2 | E13: 2 | F13: =E13-D13 -> 0
A14: 2 | B14: Tháo dỡ cửa bằng thủ công | C14: m2 | D14: 60.29 | E14: 60.29 | F14: =E14-D14 -> 0
A15: 3 | B15: Tháo dỡ khuôn cửa gỗ | C15: m | D15: 101.9 | E15: 94.8 | F15: =E15-D15 -> -7.1
A16: 4 | B16: Tháo dỡ hoa sắt cửa sổ | C16: m2 | D16: 15.12 | E16: 15.12 | F16: =E16-D16 -> 0
A17: 5 | B17: Phá dỡ tường xây gạch chiều dày tường <=22cm | C17: m3 | D17: 2.453 | E17: 1.624 | F17: =E17-D17 -> -0.829
A18: 6 | B18: Xây chèn cửa, bịt cửa | C18: m3 | D18: 1.373 | E18: 1.144 | F18: =E18-D18 -> -0.229
A19: 7 | B19: Phá dỡ lớp vữa trát má cửa sổ | C19: m2 | D19: 6.864 | E19: 6.864 | F19: =E19-D19 -> 0
A20: 8 | B20: Trát tường | C20: m2 | D20: 31.633 | E20: 27.89 | F20: =E20-D20 -> -3.743
A21: 9 | B21: Bả bột bả vào tường | C21: m2 | D21: 31.633 | E21: 27.89 | F21: =E21-D21 -> -3.743
A22: 10 | B22: Sơn dầm, trần, cột, tường trong nhà đã bả - 1 nước lót, 2 nước phủ | C22: m2 | D22: 31.633 | E22: 27.89 | F22: =E22-D22 -> -3.743
A23: 11 | B23: Phá dỡ gạch nát nền | C23: m2 | D23: 11.25 | E23: 11.25 | F23: =E23-D23 -> 0
A24: 12 | B24: Tháo dỡ gạch ốp chân tường | C24: m2 | D24: 1.125 | E24: 1.125 | F24: =E24-D24 -> 0
... A34: 22 | B34: Lắp đặt aptomat loại 2 pha, 16A | C34: cái | D34: 1 | E34: 1 | F34: =E34-D34 -> 0
A35: 23 | B35: Máy điều hòa không khí >=9000BTU | C35: cái | D35: 1 | E35: =D35 -> 1 | F35: =E35-D35 -> 0
A36: 24 | B36: Ống đồng, bảo ôn và các vật liệu phụ | C36: m | D36: 8 | E36: =D36 -> 8 | F36: =E36-D36 -> 0
A37: 25 | B37: bảo dưỡng, vệ sinh, bơm ga điều hòa hiệ có | C37: bộ | D37: 7 | E37: =D37 -> 7 | F37: =E37-D37 -> 0
A38: 26 | B38: Lắp đặt máy điều hoà không khí (điều hoà cục bộ), máy điều hòa 2 cục, loại treo tường (Định mức vật liệu chưa bao gồm ống các loại và dây điện) | C38: máy | D38: 7 | E38: =D38 -> 7 | F38: =E38-D38 -> 0
A39: 27 | B39: Vận chuyển bằng thủ công 10m khởi điểm - vận chuyển phế thải các loại | C39: m3 | D39: 4.633 | E39: 4.633 | F39: =E39-D39 -> 0
A40: 28 | B40: Vận chuyển phế thải trong phạm vi 1000m bằng ô tô - 5,0T | C40: m3 | D40: 4.633 | E40: 4.633 | F40: =E40-D40 -> 0
A41: 29 | B41: Vận chuyển phế thải tiếp 1000m bằng ô tô - 5,0T | C41: m3 | D41: 4.633 | E41: 4.633 | F41: =E41-D41 -> 0
A42: HM | B42: SỬA CHỮA NHÀ LÀM VIỆC SỐ 2 | F42: =E42-D42 -> 0
A43: 30 | B43: Tháo dỡ cửa bằng thủ công | C43: m2 | D43: 72.141 | E43: 72.141 | F43: =E43-D43 -> 0
A44: 31 | B44: Tháo dỡ khuôn cửa gỗ | C44: m | D44: 135.69 | E44: 135.69 | F44: =E44-D44 -> 0
A45: 32 | B45: Tháo dỡ hoa sắt cửa sổ | C45: m2 | D45: 30.24 | E45: 30.24 | F45: =E45-D45 -> 0
A46: 33 | B46: Phá dỡ lớp vữa trát má cửa | C46: m2 | D46: 14.652 | E46: 14.652 | F46: =E46-D46 -> 0
A47: 34 | B47: Sơn sắt thép bằng sơn các loại, 1 nước lót, 2 nước phủ | C47: m2 | D47: 30.24 | E47: 30.24 | F47: =E47-D47 -> 0
A48: 35 | B48: Lắp dựng hoa sắt cửa | C48: m2 | D48: 30.24 | E48: 30.24 | F48: =E48-D48 -> 0
A49: 36 | B49: Gia công, lắp dựng cửa sổ nhôm kính hệ 55, kinh dán an toàn 6,38mm(bao gồm cả khóa và phụ kiện) | C49: m2 | D49: 31.32 | E49: 31.32 | F49: =E49-D49 -> 0
A50: 37 | B50: Gia công, lắp dựng cửa đi nhôm kính hệ 55, kinh dán an toàn 6,38mm(bao gồm cả khóa và phụ kiện) | C50: m2 | D50: 40.821 | E50: 40.821 | F50: =E50-D50 -> 0
...

Sheet 2a
A1: UBND XÃ KIẾN MINH | E1: Mẫu số 02.a/TT
A2: PHÒNG KINH TẾ
A3: BẢNG TỔNG HỢP THÔNG TIN HỢP ĐỒNG
A4: Căn cứ Căn cứ Hợp đồng số 1303/2026/HĐTV ngày 13 tháng 03 năm 2026 Về việc thực hiện gói thầu số 02: Quản lý dự án: Nạo vét tuyến kênh từ gốc đa Miếu Bà đến cống Bà Xoàng, thôn Phong Cầu 2, xã Kiến Minh.
E5: Đơn vị: Đồng
A6: STT | B6: Chỉ tiêu | C6: Thông tin hợp đồng Lần đầu | D6: Thông tin hợp đồng điều chỉnh lần 1 | E6: Thông tin hợp đồng điều chỉnh lần 2 | F6: Thông tin hợp đồng điều chỉnh lần | G6: Ghi chú
A7: 1 | B7: 2 | C7: 3 | D7: 4 | E7: 5 | F7: 6 | G7: 7
A8: I | B8: Thông tin chung
A9: 1 | B9: Hợp đồng
A10: 1.1 | B10: Số Hợp đồng | C10: 1303/2026/HĐTV | D10: Không điều chỉnh
A11: 1.2 | B11: Ngày, tháng, năm ký hợp đồng | C11: Ngày 13 tháng 03 năm 2026 | D11: Không điều chỉnh
A12: 1.3 | B12: Loại hợp đồng | C12: Trọn gói | D12: Không điều chỉnh
A13: 1.4 | B13: Ngày hiệu lực của hợp đồng | C13: Ngày 13 tháng 03 năm 2026 | D13: Không điều chỉnh
A14: 1.5 | B14: Thời gian thực hiện hợp đồng | C14: 90 ngày kể từ ngày khởi công | D14: Không điều chỉnh
A15: 2 | B15: Tên Dự án/gói thầu
A16: 2.1 | B16: Tên dự án | C16: Nạo vét tuyến kênh từ gốc đa Miếu Bà đến cống Bà Xoàng, thôn Phong Cầu 2, xã Kiến Minh. | D16: Không điều chỉnh
A17: 2.2 | B17: Tên gói thầu (Nếu có) | C17: Gói thầu số 02: Quản lý dự án | D17: Không điều chỉnh
A18: 2.3 | B18: Mã dự án đầu tư
A19: 3 | B19: Chủ đầu tư:
A20: 3.1 | B20: Tên giao dịch | C20: Phòng Kinh tế xã Kiến Minh | D20: Không điều chỉnh
A21: 3.2 | B21: Đại diện | C21: Ông: Vũ Văn Hiệp - Chức vụ: Trưởng phòng | D21: Không điều chỉnh
A22: 3.3 | B22: Địa chỉ: | C22: Thôn Vũ Vị, xã Kiến Minh, thành phố Hải Phòng. | D22: Không điều chỉnh
A23: 3.4 | B23: Tài khoản tại NHTM | C23: Số 9527.4.1144513 Mở tại Kho bạc Nhà nước khu vực III - Phòng giao dịch số 3 | D23: Không điều chỉnh
A24: 3.5 | B24: Mã số thuế: | C24: 0202304184 | D24: Không điều chỉnh
A25: 3.6 | B25: Cơ quan quản lý thuế | C25: Thuế cơ sở 6 thành phố Hải Phòng
A26: 4 | B26: Nhà thầu (liên danh, thầu phụ, liên doanh)
A27: 4.1 | B27: Nhà thầu chính (tên giao dịch) | C27: Công ty cổ phần tư vấn xây dựng và thương mại Cường Đạt | D27: Không điều chỉnh
A28: 4.1.1 | B28: Đại diện | C28: Ông: Phạm Văn Dự - Chức vụ: Tổng Giám đốc | D28: Không điều chỉnh
A29: 4.1.2 | B29: Địa chỉ: | C29: Thôn Hồi Xuân, xã Kiến Hải, TP Hải Phòng. | D29: Không điều chỉnh
A30: 4.1.3 | B30: Tài khoản tại KBNN/NH | C30: Số 20239666Tại Ngân hàng VietinBank – PGD Kiến Thụy | D30: Không điều chỉnh
A31: 4.1.4 | B31: Mã số thuế | C31: 0201774099 | D31: Không điều chỉnh
A32: 4.1.5 | B32: Cơ quan quản lý thuế | C32: Thuế cơ sở 6 thành phố Hải Phòng
A33: 4.2 | B33: Nhà thầu phụ (tên giao dịch)
A34: 4.2.1 | B34: Đại diện
A35: 4.2.2 | B35: Địa chỉ:
A36: 4.2.3 | B36: Tài khoản tại KBNN/NH
A37: 4.2.4 | B37: Mã số thuế
A38: 4.2.5 | B38: Cơ quan quản lý thuế
A39: 4.3 | B39: Nhà thầu liên danh liên doanh...
A40: 4.3.1 | B40: Đại diện
...

Sheet 3a XL
A1: PHÒNG KINH TẾ XÃ KIẾN MINH | I1: Mẫu số 03.a/TT
A3: BẢNG XÁC ĐỊNH GIÁ TRỊ KHỐI LƯỢNG CÔNG VIỆC HOÀN THÀNH
A5: Tên dự án: Nạo vét tuyến kênh từ gốc đa Miếu Bà đến cống Bà Xoàng, thôn Phong Cầu 2, xã Kiến Minh;
A6: Mã dự án:
A7: Căn cứ Bảng thông tin của Hợp đồng: Hợp đồng số 1303/2026/HĐTV ngày 13tháng 03 năm 2026
A8: Căn cứ Bảng thông tin Dự toán số:
A9: Chủ đầu tư: Phòng Kinh tế xã Kiến Minh
A10: Nhà thầu: Công ty cổ phần tư vấn xây dựng và thương mại Cường Đạt
A11: Thanh toán lần thứ: Quyết toán
A12: Căn cứ Biên bản nghiệm thu khối lượng hoàn thành công trình ngày 16/05/2026
I13: Đơn vị: Đồng
A14: Số TT | B14: Chỉ tiêu | C14: Giá trị hợp đồng/dự toán | D14: Giá trị KLHT chưa thanh toán đến hết kỳ trước | E14: Giá trị KLHT nghiệm thu trong kỳ này | F14: Giá trị KLHT đề nghị thanh toán kỳ này | G14: Giá trị KLHT chưa thanh toán đến hết kỳ này | H14: Lũy kế giá trị KLHT đã thanh toán đến hết kỳ trước | I14: Lũy kế giá trị KLHT đã thanh toán đến hết kỳ này | J14: Ghi chú
A15: 1 | B15: 2 | C15: 3 | D15: 4 | E15: 5 | F15: 6 | G15: 7=4+5-6 | H15: 8 | I15: 9=8+6 | J15: 10
A16: I | B16: Công việc thực hiện thông qua hợp đồng thi công xây dựng công trình | C16: =C17 -> 9606000 | D16: =D17 -> 0 | E16: =E17 -> 9606000 | F16: =F17 -> 9606000 | G16: =G17 -> 0 | H16: =H17 -> 0 | I16: =I17 -> 9606000
A17: 1 | B17: Quản lý dự án công trình: Nạo vét tuyến kênh từ gốc đa Miếu Bà đến cống Bà Xoàng, thôn Phong Cầu 2, xã Kiến Minh; | C17: ='2a'!C47 -> 9606000 | D17: 0 | E17: =C17 -> 9606000 | F17: =E17 -> 9606000 | G17: 0 | H17: 0 | I17: =H17+F17 -> 9606000
A19: 1. Giá trị tạm ứng còn lại chưa thu hồi đến hết kỳ trước: | G19: 0 | H19: đồng
A20: 2. Số tiền đã thanh toán khối lượng hoàn thành đến hết kỳ trước: | G20: =G21+G22+G23 -> 0 | H20: đồng
A21: 2.1. Thanh toán cho nhà thầu: | G21: =H16 -> 0 | H21: đồng
A22: 2.2. Tiền bảo hành công trình (trong trường hợp không bảo lãnh bảo hành công trình): | G22: 0 | H22: đồng
A23: 2.3. Chuyển vào tài khoản tạm giữ chờ quyết toán: | G23: 0 | H23: đồng
A24: 3. Lũy kế giá trị khối lượng thực hiện đến hết kỳ này: | G24: =E16 -> 9606000 | H24: đồng
A25: 4. Thanh toán để thu hồi tạm ứng: | G25: 0 | H25: đồng
A26: 5. Giá trị đề nghị giải ngân kỳ này: | G26: =G28+G29 -> 9606000 | H26: đồng
A27: Số tiền bằng chữ: (Bằng chữ: Chín triệu sáu trăm lẻ sáu nghìn đồng./.), trong đó:
A28: 5.1 Tạm ứng: | G28: 0 | H28: đồng
A29: 5.2 Thanh toán khối lượng hoàn thành: | G29: =G30+G31+G32 -> 9606000 | H29: đồng
A30: + Thanh toán cho nhà thầu: | G30: =I16 -> 9606000 | H30: đồng
A31: + Tiền bảo hành công trình (trong trường hợp không bảo lãnh bảo hành công trình): | G31: 0 | H31: đồng
A32: + Chuyển vào tài khoản tạm giữ chờ quyết toán: | G32: 0 | H32: đồng
A33: 6. Lũy kế giá trị giải ngân: | G33: =G35+G36 -> 9606000 | H33: đồng
A34: Trong đó:
A35: 6.1. Tạm ứng: | G35: =G19-G25 -> 0 | H35: đồng
A36: 6.2. Thanh toán khối lượng hoàn thành: | G36: =G37+G38+G39 -> 9606000 | H36: đồng
A37: - Thanh toán cho nhà thầu | G37: =G20+G25+G26 -> 9606000 | H37: đồng
A38: - Tiền bảo hành công trình (trong trường hợp không bảo lãnh bảo hành công trình): | G38: 0 | H38: đồng | L38: z
A39: - Chuyển vào tài khoản tạm giữ chờ quyết toán: | G39: 0 | H39: đồng
G40: Ngày tháng 6 năm 2026
A41: ĐẠI DIỆN NHÀ THẦU | G41: ĐẠI DIỆN CHỦ ĐẦU TƯ
A42: (Ký, ghi rõ họ tên chức vụ, đóng dấu) | G42: (Ký, ghi rõ họ tên chức vụ, đóng dấu)

Sheet ĐNTT
A1: CÔNG TY CỔ PHẦN TƯ VẤN XÂY DỰNG & THƯƠNG MẠI CƯỜNG ĐẠT | F1: CỘNG HÒA XÃ HỘI CHỦ NGHĨA VIỆT NAM
F2: Độc lập - Tự do - Hạnh phúc
A4: Số: 05/CV-CĐ | F4: Hải Phòng, ngày 16 tháng 6 năm 2026
A6: V/v: thanh toán lần 01 - Gói thầu số 02: Gói thầu tư vấn Quản lý dự án: Cải tạo, sửa chữa tuyến đường từ nhà ông Động đến nhà bà Khía, thôn Đức Phong, xã Kiến Minh
A8: - Căn cứ Hợp đồng số 0903/2026/HĐTV ngày 09 tháng 03 năm 2026 ký kết giữa Phòng Kinh tế xã Kiến Minh với Công ty cổ phần tư vấn xây dựng và thương mại Cường Đạt về việc thực hiện gói thầu số 02: Quản lý dự án: Cải tạo, sửa chữa tuyến đường từ nhà ông Động đến nhà bà Khía, thôn Đức Phong, xã Kiến Minh.
A9: - Căn cứ hồ sơ thanh toán đợt 01;
A10: - Căn cứ quy định Hợp đồng, Chúng tôi đã hoàn thành công việc tuân thủ đúng theo các điều kiện và quy định của Hợp đồng. Vì vậy, chúng tôi xin trình giá trị của đợt này là:
B11: Giá trị hợp đồng : | G11: ='3a XL'!C16 -> 9606000
B12: Luỹ kế giá trị thanh toán cuối kỳ trước: | G12: ='3a XL'!G20 -> 0
B13: Lũy kế giá trị thực hiện kỳ này: | G13: ='3a XL'!E16 -> 9606000
B14: Giá trị thu hồi tạm ứng kỳ này: | G14: ='3a XL'!G25 -> 0
B15: Giá trị đề nghị thanh toán kỳ này: | G15: ='3a XL'!G26 -> 9606000
A16: Bằng chữ: | C16: Bốn mươi chín triệu sáu trăm hai mươi tám triệu đồng
A18: Đơn vị thụ hưởng: | D18: Công ty cổ phần tư vấn xây dựng và thương mại Cường Đạt
A19: Tài khoản: | C19: Số 20239666 Tại Ngân hàng VietinBank – PGD Kiến Thụy
A21: Nơi nhận | E21: ĐẠI DIỆN NHÀ THẦU
A22: - Như kính gửi,
A23: - Lưu: VT.

Sheet GTQT
B2: BẢNG CHI TIẾT GIÁ TRỊ QUYẾT TOÁN
B3: Dự án: Xây dựng hệ thống chiếu sáng tuyến đường của thôn Tân Linh (đoạn từ gốc đa đến cống chùa Hưng Khánh), xã Kiến Minh
B4: Gói thầu số 04: Gói thầu xây lắp
B5: Căn cứ Hợp đồng số: 28.01/2026/HĐ-XL ngày 28/01/2026
B6: Chủ đầu tư: Phòng Kinh tế xã Kiến Minh
B7: Nhà thầu: Công ty cổ phần phát triển xây dựng Tân Hòa
K8: Đơn vị: Đồng
B9: Stt | C9: Tên công việc | D9: Đơn vị tính | E9: Khối lượng | H9: Đơn giá quyết toán theo Hợp đồng | I9: Thành tiền | L9: Ghi chú
E10: Theo Hợp đồng | F10: Quyết toán | G10: Tăng(+), giảm(-) | I10: Theo Hợp đồng | J10: Quyết toán | K10: Tăng(+), giảm(-)
B11: 1 | C11: =B11+1 -> 2 | D11: =C11+1 -> 3 | E11: =D11+1 -> 4 | F11: =E11+1 -> 5 | G11: =F11+1 -> 6 | H11: =G11+1 -> 7 | I11: =H11+1 -> 8 | J11: =I11+1 -> 9 | ... L11: =K11+1 -> 11
C12: Rãnh xây B800
B13: 1 | C13: Đào hữu cơ, bằng máy đào 0,8m3, đất cấp I (Đào bằng máy 90% khối lượng) | D13: 100m3 | E13: 4.2194 | F13: =#REF! -> #REF! | G13: =F13-E13 -> #REF! | H13: 1877945.7 | I13: =H13*E13 -> 7923803.9 | J13: =F13*H13 -> #REF! | K13: =J13-I13 -> #REF! | M13: =J13-I13 -> #REF!
B14: 2 | C14: Đào hữu cơ, đường cáp bằng thủ công, đất cấp I (Đào bằng thủ công 10% khối lượng) | D14: m3 | E14: 46.882 | F14: =#REF! -> #REF! | G14: =F14-E14 -> #REF! | H14: 183951.73 | I14: =H14*E14 -> 8624025.1 | J14: =F14*H14 -> #REF! | K14: =J14-I14 -> #REF! | M14: =J14-I14 -> #REF!
B15: 3 | C15: Vận chuyển đất bằng ôtô tự đổ 7 tấn trong phạm vi <= 1000m, đất cấp I | D15: 100m3 | E15: 4.6882 | F15: =#REF! -> #REF! | G15: =F15-E15 -> #REF! | H15: 1933761 | I15: =H15*E15 -> 9065858.5 | J15: =F15*H15 -> #REF! | K15: =J15-I15 -> #REF! | M15: =J15-I15 -> #REF!
B16: 4 | C16: Vận chuyển đất bằng ô tô tự đổ 7T 1km tiếp theo trong phạm vi <= 5km, đất cấp I | D16: 100m3 | E16: 4.6882 | F16: =#REF! -> #REF! | G16: =F16-E16 -> #REF! | H16: 4121848.9 | I16: =H16*E16 -> 19324052 | J16: =F16*H16 -> #REF! | K16: =J16-I16 -> #REF! | M16: =J16-I16 -> #REF!
B17: 5 | C17: Đào móng công trình, chiều rộng móng <= 6m, bằng máy đào 0,8m3, đất cấp II (Đào bằng máy 90% khối lượng) | D17: 100m3 | E17: 4.2516 | F17: =#REF! -> #REF! | G17: =F17-E17 -> #REF! | H17: 2320071.3 | I17: =H17*E17 -> 9864015 | J17: =F17*H17 -> #REF! | K17: =J17-I17 -> #REF! | M17: =J17-I17 -> #REF!
B18: 6 | C18: Đào rãnh, đường cáp bằng thủ công, đất cấp II | D18: m3 | E18: 47.24 | F18: =#REF! -> #REF! | G18: =F18-E18 -> #REF! | H18: 283466.6 | I18: =H18*E18 -> 13390962 | J18: =F18*H18 -> #REF! | K18: =J18-I18 -> #REF! | M18: =J18-I18 -> #REF!
B19: 7 | C19: Vận chuyển đất bằng ôtô tự đổ 7 tấn trong phạm vi <= 1000m, đất cấp II | D19: 100m3 | E19: 4.724 | F19: =#REF! -> #REF! | G19: =F19-E19 -> #REF! | H19: 2190280.4 | I19: =H19*E19 -> 10346884 | J19: =F19*H19 -> #REF! | K19: =J19-I19 -> #REF! | M19: =J19-I19 -> #REF!
B20: 8 | C20: Vận chuyển đất bằng ô tô tự đổ 7T 1km tiếp theo trong phạm vi <= 5km, đất cấp II | D20: 100m3 | E20: 4.724 | F20: =#REF! -> #REF! | G20: =F20-E20 -> #REF! | H20: 4669967.1 | I20: =H20*E20 -> 22060925 | J20: =F20*H20 -> #REF! | K20: =J20-I20 -> #REF! | M20: =J20-I20 -> #REF!
B21: 9 | C21: Đổ bê tông thủ công bằng máy trộn, bê tông lót móng, chiều rộng <= 250 cm, đá 4x6, vữa mác 100, PCB30 | D21: m3 | E21: 85.26 | F21: =#REF! -> #REF! | G21: =F21-E21 -> #REF! | H21: 1828495.1 | I21: =H21*E21 -> 1.5589749e+08 | J21: =F21*H21 -> #REF! | K21: =J21-I21 -> #REF! | M21: =J21-I21 -> #REF!
B22: 10 | C22: Đổ bê tông thủ công bằng máy trộn, bê tông móng, chiều rộng <= 250 cm, đá 2x4, mác 200, PCB40 | D22: m3 | E22: 134.24 | F22: =#REF! -> #REF! | G22: =F22-E22 -> #REF! | H22: 2011809.6 | I22: =H22*E22 -> 2.7006532e+08 | J22: =F22*H22 -> #REF! | K22: =J22-I22 -> #REF! | M22: =J22-I22 -> #REF!
B23: 11 | C23: Ván khuôn gỗ. Ván khuôn móng băng, móng bè, bệ máy | D23: 100m2 | E23: 1.81 | F23: =#REF! -> #REF! | G23: =F23-E23 -> #REF! | H23: 10744967 | I23: =H23*E23 -> 19448391 | J23: =F23*H23 -> #REF! | K23: =J23-I23 -> #REF! | M23: =J23-I23 -> #REF!
B24: 12 | C24: Xây gạch không nung 6,5x10,5x22, xây tường rãnh, vữa XM mác 75, PCB40 | D24: m3 | E24: 184.35 | F24: =#REF! -> #REF! | G24: =F24-E24 -> #REF! | H24: 2056422.6 | I24: =H24*E24 -> 3.7910151e+08 | J24: =F24*H24 -> #REF! | K24: =J24-I24 -> #REF! | M24: =J24-I24 -> #REF!
B25: 13 | C25: Trát tường xây gạch không nung bằng vữa thông thường, trát tường rãnh, chiều dày trát 2cm, vữa XM mác 75, PCB40 | D25: m2 | E25: 837.95 | F25: =#REF! -> #REF! | G25: =F25-E25 -> #REF! | H25: 117463.37 | I25: =H25*E25 -> 98428429 | J25: =F25*H25 -> #REF! | K25: =J25-I25 -> #REF! | M25: =J25-I25 -> #REF!
B26: 14 | C26: Đổ bê tông thủ công bằng máy trộn, bê tông giằng rãnh, đá 1x2, mác 200, PCB40 | D26: m3 | E26: 33.74 | F26: 33.74 | G26: =F26-E26 -> 0 | H26: 2531548.6 | I26: =H26*E26 -> 85414449 | J26: =F26*H26 -> 85414449 | K26: =J26-I26 -> 0 | M26: =J26-I26 -> 0
B27: 15 | C27: Công tác gia công lắp dựng cốt thép. Cốt thép giằng, đường kính cốt thép <= 10mm | D27: tấn | E27: 1.41 | F27: 1.41 | G27: =F27-E27 -> 0 | H27: 25480894 | I27: =H27*E27 -> 35928061 | J27: =F27*H27 -> 35928061 | K27: =J27-I27 -> 0 | M27: =J27-I27 -> 0
B28: 16 | C28: Ván khuôn gỗ. Ván khuôn xà dầm, giằng | D28: 100m2 | E28: 3.63 | F28: 3.63 | G28: =F28-E28 -> 0 | H28: 18246727 | I28: =H28*E28 -> 66235618 | J28: =F28*H28 -> 66235618 | K28: =J28-I28 -> 0 | M28: =J28-I28 -> 0
C29: Tấm đan | M29: =J29-I29 -> 0
B30: 17 | C30: Đổ bê tông đúc sẵn bằng thủ công - sản xuất bằng máy trộn. Bê tông tấm đan, đá 1x2, mác 250, PCB40 | D30: m3 | E30: 57.14 | F30: =#REF! -> #REF! | G30: =F30-E30 -> #REF! | H30: 2264296 | I30: =H30*E30 -> 1.2938187e+08 | J30: =F30*H30 -> #REF! | K30: =J30-I30 -> #REF! | M30: =J30-I30 -> #REF!
B31: 18 | C31: Ván khuôn bê tông đúc sẵn, ván khuôn gỗ tấm đan ga | D31: 100m2 | E31: 3.37 | F31: =#REF! -> #REF! | G31: =F31-E31 -> #REF! | H31: 9435741.1 | I31: =H31*E31 -> 31798448 | J31: =F31*H31 -> #REF! | K31: =J31-I31 -> #REF! | M31: =J31-I31 -> #REF!
B32: 19 | C32: Công tác gia công, lắp đặt cốt thép bê tông đúc sẵn. Cốt thép tấm đan | D32: tấn | E32: 6.29 | F32: =#REF! -> #REF! | G32: =F32-E32 -> #REF! | H32: 26076523 | I32: =H32*E32 -> 1.6402133e+08 | J32: =F32*H32 -> #REF! | K32: =J32-I32 -> #REF! | M32: =J32-I32 -> #REF!
B33: 20 | C33: Lắp dựng cấu kiện bê tông tấm đan | D33: 1 cấu kiện | E33: 907 | F33: 907 | G33: =F33-E33 -> 0 | H33: 40732.939 | I33: =H33*E33 -> 36944776 | J33: =F33*H33 -> 36944776 | K33: =J33-I33 -> 0 | M33: =J33-I33 -> 0
C34: Thanh chống | M34: =J34-I34 -> 0
B35: 21 | C35: Đổ bê tông đúc sẵn bằng thủ công - sản xuất bằng máy trộn. Bê tông thanh chống, đá 1x2, mác 250, PCB40 | D35: m3 | E35: 2.11 | F35: =#REF! -> #REF! | G35: =F35-E35 -> #REF! | H35: 2264296 | I35: =H35*E35 -> 4777664.5 | J35: =F35*H35 -> #REF! | K35: =J35-I35 -> #REF! | M35: =J35-I35 -> #REF!
B36: 22 | C36: Ván khuôn bê tông đúc sẵn, ván khuôn gỗ thanh chống | D36: 100m2 | E36: 0.45 | F36: =#REF! -> #REF! | G36: =F36-E36 -> #REF! | H36: 9435741.1 | I36: =H36*E36 -> 4246083.5 | J36: =F36*H36 -> #REF! | K36: =J36-I36 -> #REF! | M36: =J36-I36 -> #REF!
B37: 23 | C37: Công tác gia công, lắp đặt cốt thép bê tông đúc sẵn. Cốt thép thanh chống | D37: tấn | E37: 0.29 | F37: =#REF! -> #REF! | G37: =F37-E37 -> #REF! | H37: 26076523 | I37: =H37*E37 -> 7562191.8 | J37: =F37*H37 -> #REF! | K37: =J37-I37 -> #REF! | M37: =J37-I37 -> #REF!
B38: 24 | C38: Lắp dựng cấu kiện bê tông thanh chống | D38: 1 cấu kiện | E38: 151 | F38: =#REF! -> #REF! | G38: =F38-E38 -> #REF! | H38: 40732.939 | I38: =H38*E38 -> 6150673.8 | J38: =F38*H38 -> #REF! | K38: =J38-I38 -> #REF! | M38: =J38-I38 -> #REF!
B39: 25 | C39: Đắp đất công trình bằng đầm đất cầm tay 70kg, độ chặt yêu cầu K=0,90 | D39: 100m3 | E39: 8.5954 | F39: 8.5954 | G39: =F39-E39 -> 0 | H39: 3745791.5 | I39: =H39*E39 -> 32196576 | J39: =F39*H39 -> 32196576 | K39: =J39-I39 -> 0 | M39: =J39-I39 -> 0
B40: 26 | C40: Mua đất đắp nền | D40: m3 | E40: 945.494 | F40: 945.494 | G40: =F40-E40 -> 0 | H40: 272225.45 | I40: =H40*E40 -> 2.5738753e+08 | J40: =F40*H40 -> 2.5738753e+08 | K40: =J40-I40 -> 0 | M40: =J40-I40 -> 0
B41: 27 | C41: Thuê bãi đúc cấu kiện | D41: tháng | E41: 2 | F41: 2 | G41: =F41-E41 -> 0 | H41: 12373884 | I41: =H41*E41 -> 24747768 | J41: =F41*H41 -> 24747768 | K41: =J41-I41 -> 0 | M41: =J41-I41 -> 0
...

Sheet dght
A1: BẢNG DIỄN GIẢI KHỐI LƯỢNG HOÀN THÀNH CÔNG TRÌNH Dự án: Xây dựng hệ thống thoát nước tuyến đường(từ nhà ông Cường đến nhà ông Hưng thôn Đại Trà Đức)
A2: TT | B2: Hạng mục công việc | C2: Đơn vị | D2: Ký hiệu | E2: Diễn giải | F2: Khối lượng
B3: Rãnh xây B800 | C3: m | D3: Lr | E3: Thống kê bình đồ thoát nước | F3: 453.5
B4: Chiều cao rãnh trung bình | C4: m | D4: Hrx | E4: Bảng THKL chi tiết | F4: =AVERAGE('[1]Bang KL chi tiet'!C4:C24,'[1]Bang KL chi tiet'!C30:C68) -> 1.443871
B5: Chiều cao xây rãnh trung bình | C5: m | D5: Hx | E5: Hr-0,52 | F5: =+F4-0.52 -> 0.92387097
A6: 1 | B6: Đào bóc hữu cơ | C6: m3 | D6: Vhc | E6: Bảng THKL chi tiết*90%/100 | F6: 4.2194
A7: 2 | B7: Đào rãnh B800 | C7: m3 | D7: Vđr | E7: Bảng THKL chi tiết*90%/100 | F7: 4.2516
A8: 3 | B8: Bê tông lót móng M100, đá 4x6, dày 10cm | C8: m3 | D8: Vđl | E8: Lr*1,88*0,1 | F8: 85.26
A9: 4 | B9: Bê tông móng M200 đá 2x4 | C9: m3 | D9: Vbtm | E9: Lr*1,48*0,2 | F9: 134.24
A10: 5 | B10: Ván khuôn móng | C10: 100m2 | D10: Svkm | E10: Lr*0,2*2/100 | F10: 1.81
A11: 6 | B11: Xây tường bằng gạch không nung, VXM mác 75 | C11: m3 | D11: Vxm | E11: Lr*Hx*0,22*2 | F11: 184.35
A12: 7 | B12: Trát tường VXM mác 75 | C12: m2 | D12: Stt | E12: Lr*Hx*2 | F12: =837.95-151*0.1*0.1*2 -> 834.93
A13: 8 | B13: Bê tông giằng tường M200, đá 1x2 | C13: m3 | D13: Vbtg | E13: Lr*(0,12*0,11+0,1*0,24)*2 | F13: 33.74
A14: 9 | B14: Cốt thép giằng tường | C14: tấn | D14: Tg | E14: Lr*2*1,55/1000 | F14: 1.41
A15: 10 | B15: Ván khuôn giằng tường | C15: 100m2 | D15: Svkg | E15: (Lr*0,2)*2*2/100 | F15: 3.63
A16: 11 | B16: Lắp đặt tấm đan | C16: cái | D16: Ntđ | E16: Lr/0,5 | F16: 907
A17: 12 | B17: Bê tông tấm đan M250, đá 1x2 | C17: m3 | D17: Vbttđ | E17: Ntđ*1,05*0,5*0,12 | F17: 57.14
A18: 13 | B18: Ván khuôn tấm đan | C18: 100m2 | D18: Scktđ | E18: Ntđ*(1,05+0,5)*2*0,12/100 | F18: 3.37
A19: 14 | B19: Cốt thép tấm đan | C19: tấn | D19: Ttđ | E19: Ntđ*(4,48+1,99+0,47)/1000 | F19: 6.29
A20: 15 | B20: Lắp đặt thanh chống | C20: cái | D20: T | E20: Lr/3 | F20: =ROUND(F3/3,0) -> 151
A21: 16 | B21: Bê tông thanh chống | C21: m3 | D21: Vbttc | E21: T*0,014 | F21: 2.11
A22: 17 | B22: Ván khuôn thanh chống | C22: 100m2 | D22: Svktc | E22: T*(1+0,3+0,1*2)*2*0,1/100 | F22: 0.45
A23: 18 | B23: Cốt thép thanh chống | C23: tấn | D23: Ttc | E23: T*(1,42+0,47)/1000 | F23: 0.29
A24: 19 | B24: Đắp đất K0,90 | C24: m3 | D24: Vđp | E24: Bảng THKL chi tiết | F24: 859.54
A25: 20 | B25: Mua đất đắp | C25: m3 | E25: 859,54*1,10 | F25: =859.54*1.1 -> 945.494
A26: 21 | B26: Thuê bãi đúc cấu kiện | C26: tháng | F26: 2
B27: Cán bộ tư vấn giám sát | E27: Cán bộ thi công
B33: Nguyễn Văn Lực | E33: Phạm Văn Huynh

Sheet dgctht
A1: BẢNG TỔNG HỢP KHỐI LƯỢNG CHI TIẾT HOÀN THÀNH CÔNG TRÌNH (Kèm theo Biên bản nghiệm thu hoàn thành công trình ngày 25/04/2026)
A2: Tên cọc | B2: KC lẻ (m) | C2: Diện tích
C3: H rãnh (m) | D3: S Đào HC-VB (m2) | E3: S Đắp đất K90 (m2) | F3: S Đào rãnh (m2) | G3: V Đào HC-VB (m3) | H3: V Đắp đất K90 (m3) | I3: V Đào rãnh (m3)
A4: D0 | C4: 1.58 | D4: 1 | E4: 1.86 | F4: 1.2
B5: 3.03 | G5: =(D4+D6)/2*$B5 -> 3.1815 | H5: =(E4+E6)/2*$B5 -> 5.56005 | I5: =(F4+F6)/2*$B5 -> 3.2724
A6: 1 | C6: 1.52 | D6: 1.1 | E6: 1.81 | F6: 0.96
B7: 14.47 | G7: =(D6+D8)/2*$B7 -> 16.71285 | H7: =(E6+E8)/2*$B7 -> 25.3225 | I7: =(F6+F8)/2*$B7 -> 12.1548
A8: 2 | C8: 1.36 | D8: 1.21 | E8: 1.69 | F8: 0.72
B9: 17.5 | G9: =(D8+D10)/2*$B9 -> 20.475 | H9: =(E8+E10)/2*$B9 -> 29.75 | I9: =(F8+F10)/2*$B9 -> 11.2875
A10: 3 | C10: 1.39 | D10: 1.13 | E10: 1.71 | F10: 0.57
B11: 17.5 | G11: =(D10+D12)/2*$B11 -> 22.4875 | H11: =(E10+E12)/2*$B11 -> 38.4125 | I11: =(F10+F12)/2*$B11 -> 13.2125
A12: 4 | C12: 1.39 | D12: 1.44 | E12: 2.68 | F12: 0.94
B13: 13.5 | G13: =(D12+D14)/2*$B13 -> 19.7775 | H13: =(E12+E14)/2*$B13 -> 39.4875 | I13: =(F12+F14)/2*$B13 -> 13.5
A14: D1 | C14: 1.41 | D14: 1.49 | E14: 3.17 | F14: 1.06
B15: 20.22 | G15: =(D14+D16)/2*$B15 -> 26.4882 | H15: =(E14+E16)/2*$B15 -> 53.3808 | I15: =(F14+F16)/2*$B15 -> 23.4552
A16: 5 | C16: 1.42 | D16: 1.13 | E16: 2.11 | F16: 1.26
B17: 18.79 | G17: =(D16+D18)/2*$B17 -> 20.4811 | H17: =(E16+E18)/2*$B17 -> 36.35865 | I17: =(F16+F18)/2*$B17 -> 19.44765
A18: 6 | C18: 1.46 | D18: 1.05 | E18: 1.76 | F18: 0.81
B19: 24 | G19: =(D18+D20)/2*$B19 -> 26.16 | H19: =(E18+E20)/2*$B19 -> 45.24 | I19: =(F18+F20)/2*$B19 -> 17.4
A20: 7 | C20: 1.49 | D20: 1.13 | E20: 2.01 | F20: 0.64
B21: 15.29 | G21: =(D20+D22)/2*$B21 -> 17.2777 | H21: =(E20+E22)/2*$B21 -> 28.8981 | I21: =(F20+F22)/2*$B21 -> 12.0791
A22: D2 | C22: 1.49 | D22: 1.13 | E22: 1.77 | F22: 0.94
B23: 7.41 | G23: =(D22+D24)/2*$B23 -> 8.11395 | H23: =(E22+E24)/2*$B23 -> 13.07865 | I23: =(F22+F24)/2*$B23 -> 7.7805
A24: 8 | C24: 1.49 | D24: 1.06 | E24: 1.76 | F24: 1.16
B25: 3.27 | G25: =(D24+D26)/2*$B25 -> 1.7331 | H25: =(E24+E26)/2*$B25 -> 2.8776 | I25: =(F24+F26)/2*$B25 -> 1.8966
A26: 9 | C26: 0 | D26: 0 | E26: 0 | F26: 0
B27: 4.11 | G27: =(D26+D28)/2*$B27 -> 0 | H27: =(E26+E28)/2*$B27 -> 0 | I27: =(F26+F28)/2*$B27 -> 0
A28: 10 | C28: 0 | D28: 0 | E28: 0 | F28: 0
B29: 5.17 | G29: =(D28+D30)/2*$B29 -> 2.068 | H29: =(E28+E30)/2*$B29 -> 4.26525 | I29: =(F28+F30)/2*$B29 -> 4.4979
A30: D3 | C30: 1.47 | D30: 0.8 | E30: 1.65 | F30: 1.74
B31: 10.75 | G31: =(D30+D32)/2*$B31 -> 8.97625 | H31: =(E30+E32)/2*$B31 -> 17.3075 | I31: =(F30+F32)/2*$B31 -> 15.42625
A32: 11 | C32: 1.46 | D32: 0.87 | E32: 1.57 | F32: 1.13
B33: 17.5 | G33: =(D32+D34)/2*$B33 -> 14.9625 | H33: =(E32+E34)/2*$B33 -> 26.6875 | I33: =(F32+F34)/2*$B33 -> 20.475
A34: 12 | C34: 1.4 | D34: 0.84 | E34: 1.48 | F34: 1.21
B35: 17.5 | G35: =(D34+D36)/2*$B35 -> 14.7875 | H35: =(E34+E36)/2*$B35 -> 25.9 | I35: =(F34+F36)/2*$B35 -> 22.05
A36: 13 | C36: 1.38 | D36: 0.85 | E36: 1.48 | F36: 1.31
B37: 17.5 | G37: =(D36+D38)/2*$B37 -> 14.525 | H37: =(E36+E38)/2*$B37 -> 25.8125 | I37: =(F36+F38)/2*$B37 -> 23.1
A38: 14 | C38: 1.39 | D38: 0.81 | E38: 1.47 | F38: 1.33
B39: 17.5 | G39: =(D38+D40)/2*$B39 -> 15.225 | H39: =(E38+E40)/2*$B39 -> 27.475 | I39: =(F38+F40)/2*$B39 -> 19.95
A40: 15 | C40: 1.4 | D40: 0.93 | E40: 1.67 | F40: 0.95
...

Sheet dien giai
A1: BẢNG DIỄN GIẢI KHỐI LƯỢNG
A2: Dự án: Xây dựng hệ thống thoát nước tuyến đường(từ nhà ông Cường đến nhà ông Hưng thôn Đại Trà Đức)
A3: Địa chỉ: Xã Kiến Minh, thành phố Hải Phòng
A4: STT | B4: Tên công việc | C4: Đơn vị tính | D4: Số lượng cấu kiện | E4: diễn giải khối lượng | I4: Khối lượng | J4: Tổng khối lượng | K4: Ghi chú
E5: Dài | F5: Rộng | G5: Cao | H5: Hệ số
B6: Rãnh xây B800
A7: 1 | B7: Đào hữu cơ, bằng máy đào 0,8m3, đất cấp I (Đào bằng máy 90% khối lượng) | C7: 100m3
L9: 41.16
L13: 284.328
L14: 1.623
L15: 96.898
A19: 2 | B19: Đào hữu cơ, đường cáp bằng thủ công, đất cấp I (Đào bằng thủ công 10% khối lượng) | C19: m3
L24: 53.842
A28: 3 | B28: Vận chuyển đất bằng ôtô tự đổ 7 tấn trong phạm vi <= 1000m, đất cấp I | C28: 100m3
L35: 234.234
A36: 4 | B36: Vận chuyển đất bằng ô tô tự đổ 7T 1km tiếp theo trong phạm vi <= 5km, đất cấp I | C36: 100m3
L38: 178.345
L42: 427.811
L43: 427.811
A44: 5 | B44: Đào móng công trình, chiều rộng móng <= 6m, bằng máy đào 0,8m3, đất cấp II (Đào bằng máy 90% khối lượng) | C44: 100m3
L45: 54.733
A51: 6 | B51: Đào rãnh, đường cáp bằng thủ công, đất cấp II | C51: m3
L56: 148.628
A58: 7 | B58: Vận chuyển đất bằng ôtô tự đổ 7 tấn trong phạm vi <= 1000m, đất cấp II | C58: 100m3
L59: 0.751
L62: 70.544
A67: 8 | B67: Vận chuyển đất bằng ô tô tự đổ 7T 1km tiếp theo trong phạm vi <= 5km, đất cấp II | C67: 100m3
A77: 9 | B77: Đổ bê tông thủ công bằng máy trộn, bê tông lót móng, chiều rộng <= 250 cm, đá 4x6, vữa mác 100, PCB30 | C77: m3
L81: 34.851
A85: 10 | B85: Đổ bê tông thủ công bằng máy trộn, bê tông móng, chiều rộng <= 250 cm, đá 2x4, mác 200, PCB40 | C85: m3
A93: 11 | B93: Ván khuôn gỗ. Ván khuôn móng băng, móng bè, bệ máy | C93: 100m2
L94: 113.07
L97: 84.225
A99: 12 | B99: Xây gạch không nung 6,5x10,5x22, xây tường rãnh, vữa XM mác 75, PCB40 | C99: m3
L101: 246.506
L102: 246.506
L104: 64.125
A108: 13 | B108: Trát tường xây gạch không nung bằng vữa thông thường, trát tường rãnh, chiều dày trát 2cm, vữa XM mác 75, PCB40 | C108: m2
L111: 242.88
L112: 1.144
...

Sheet dg2
A1: BẢNG TỔNG HỢP KHỐI LƯỢNG CHI TIẾT HOÀN THÀNH LẦN 1
A2: Stt | B2: Tên cọc | C2: Lý trình | D2: KC lẻ (m) | E2: Diện tích | I2: Khối lượng | M2: =0.22+0.1+0.2 -> 0.52
E3: H rãnh (m) | F3: S Đào HC-VB (m2) | G3: S Đắp đất K90 (m2) | H3: S Đào rãnh (m2) | I3: H rãnh (m) | J3: V Đào HC-VB (m3) | K3: V Đắp đất K90 (m3) | L3: V Đào rãnh (m3)
A4: 1 | B4: D0 | C4: 0 | E4: 1.58 | F4: 1 | G4: 1.86 | H4: 1.2
D5: 3.03 | I5: =(E4+E6)/2 -> 1.55 | J5: =(F4+F6)/2*$D5 -> 3.1815 | K5: =(G4+G6)/2*$D5 -> 5.56005 | L5: =(H4+H6)/2*$D5 -> 3.2724 | M5: 3.1815 | N5: =M5-J5 -> 0
A6: 2 | B6: 1 | C6: 3.03 | E6: 1.52 | F6: 1.1 | G6: 1.81 | H6: 0.96 | N6: =M6-J6 -> 0
D7: =C8-C6 -> 14.47 | I7: =(E6+E8)/2 -> 1.44 | J7: =(F6+F8)/2*$D7 -> 16.71285 | K7: =(G6+G8)/2*$D7 -> 25.3225 | L7: =(H6+H8)/2*$D7 -> 12.1548 | M7: 16.71285 | N7: =M7-J7 -> 0
A8: 3 | B8: 2 | C8: 17.5 | E8: 1.36 | F8: 1.21 | G8: 1.69 | H8: 0.72 | N8: =M8-J8 -> 0
D9: =C10-C8 -> 17.5 | I9: =(E8+E10)/2 -> 1.375 | J9: =(F8+F10)/2*$D9 -> 20.475 | K9: =(G8+G10)/2*$D9 -> 29.75 | L9: =(H8+H10)/2*$D9 -> 11.2875 | M9: 20.475 | N9: =M9-J9 -> 0
A10: 4 | B10: 3 | C10: 35 | E10: 1.39 | F10: 1.13 | G10: 1.71 | H10: 0.57 | N10: =M10-J10 -> 0
D11: =C12-C10 -> 17.5 | I11: =(E10+E12)/2 -> 1.39 | J11: =(F10+F12)/2*$D11 -> 22.4875 | K11: =(G10+G12)/2*$D11 -> 38.4125 | L11: =(H10+H12)/2*$D11 -> 13.2125 | M11: 22.4875 | N11: =M11-J11 -> 0
A12: 5 | B12: 4 | C12: 52.5 | E12: 1.39 | F12: 1.44 | G12: 2.68 | H12: 0.94 | N12: =M12-J12 -> 0
D13: =C14-C12 -> 13.5 | I13: =(E12+E14)/2 -> 1.4 | J13: =(F12+F14)/2*$D13 -> 19.7775 | K13: =(G12+G14)/2*$D13 -> 39.4875 | L13: =(H12+H14)/2*$D13 -> 13.5 | M13: 19.7775 | N13: =M13-J13 -> 0
A14: 6 | B14: D1 | C14: 66 | E14: 1.41 | F14: 1.49 | G14: 3.17 | H14: 1.06 | N14: =M14-J14 -> 0
D15: =C16-C14 -> 20.21 | I15: =(E14+E16)/2 -> 1.415 | J15: =(F14+F16)/2*$D15 -> 26.4751 | K15: =(G14+G16)/2*$D15 -> 53.3544 | L15: =(H14+H16)/2*$D15 -> 23.4436 | M15: 26.4882 | N15: =M15-J15 -> 0.0131
A16: 7 | B16: 5 | C16: 86.21 | E16: 1.42 | F16: 1.13 | G16: 2.11 | H16: 1.26 | N16: =M16-J16 -> 0
D17: =C18-C16 -> 18.79 | I17: =(E16+E18)/2 -> 1.44 | J17: =(F16+F18)/2*$D17 -> 20.4811 | K17: =(G16+G18)/2*$D17 -> 36.35865 | L17: =(H16+H18)/2*$D17 -> 19.44765 | M17: 20.4811 | N17: =M17-J17 -> 0
A18: 8 | B18: 6 | C18: 105 | E18: 1.46 | F18: 1.05 | G18: 1.76 | H18: 0.81 | N18: =M18-J18 -> 0
D19: =C20-C18 -> 24 | I19: =(E18+E20)/2 -> 1.475 | J19: =(F18+F20)/2*$D19 -> 26.16 | K19: =(G18+G20)/2*$D19 -> 45.24 | L19: =(H18+H20)/2*$D19 -> 17.4 | M19: 26.16 | N19: =M19-J19 -> 0
A20: 9 | B20: 7 | C20: 129 | E20: 1.49 | F20: 1.13 | G20: 2.01 | H20: 0.64 | N20: =M20-J20 -> 0
D21: =C22-C20 -> 15.29 | I21: =(E20+E22)/2 -> 1.49 | J21: =(F20+F22)/2*$D21 -> 17.2777 | K21: =(G20+G22)/2*$D21 -> 28.8981 | L21: =(H20+H22)/2*$D21 -> 12.0791 | M21: 17.2777 | N21: =M21-J21 -> 0
A22: 10 | B22: D2 | C22: 144.29 | E22: 1.49 | F22: 1.13 | G22: 1.77 | H22: 0.94 | N22: =M22-J22 -> 0
D23: =C24-C22 -> 6.88 | I23: =(E22+E24)/2 -> 1.49 | J23: =(F22+F24)/2*$D23 -> 7.5336 | K23: =(G22+G24)/2*$D23 -> 12.1432 | L23: =(H22+H24)/2*$D23 -> 7.224 | M23: 8.11395 | N23: =M23-J23 -> 0.58035
A24: 11 | B24: 8 | C24: 151.17 | E24: 1.49 | F24: 1.06 | G24: 1.76 | H24: 1.16 | N24: =M24-J24 -> 0
D25: =C26-C24 -> 3.8 | I25: =(E24+E26)/2 -> 0.745 | J25: =(F24+F26)/2*$D25 -> 2.014 | K25: =(G24+G26)/2*$D25 -> 3.344 | L25: =(H24+H26)/2*$D25 -> 2.204 | M25: 1.7331 | N25: =M25-J25 -> -0.2809
A26: 12 | B26: 9 | C26: 154.97 | E26: 0 | F26: 0 | G26: 0 | H26: 0 | N26: =M26-J26 -> 0
D27: =C28-C26 -> 4.11 | I27: =(E26+E28)/2 -> 0 | J27: =(F26+F28)/2*$D27 -> 0 | K27: =(G26+G28)/2*$D27 -> 0 | L27: =(H26+H28)/2*$D27 -> 0 | M27: 0 | N27: =M27-J27 -> 0
A28: 13 | B28: 10 | C28: 159.08 | E28: 0 | F28: 0 | G28: 0 | H28: 0 | N28: =M28-J28 -> 0
D29: =C30-C28 -> 5.17 | I29: =(E28+E30)/2 -> 0.735 | J29: =(F28+F30)/2*$D29 -> 2.068 | K29: =(G28+G30)/2*$D29 -> 4.26525 | L29: =(H28+H30)/2*$D29 -> 4.4979 | M29: 2.068 | N29: =M29-J29 -> 4.8849813e-15
A30: 14 | B30: D3 | C30: 164.25 | E30: 1.47 | F30: 0.8 | G30: 1.65 | H30: 1.74 | N30: =M30-J30 -> 0
D31: =C32-C30 -> 10.75 | I31: =(E30+E32)/2 -> 1.465 | J31: =(F30+F32)/2*$D31 -> 8.97625 | K31: =(G30+G32)/2*$D31 -> 17.3075 | L31: =(H30+H32)/2*$D31 -> 15.42625 | M31: 8.97625 | N31: =M31-J31 -> 0
A32: 15 | B32: 11 | C32: 175 | E32: 1.46 | F32: 0.87 | G32: 1.57 | H32: 1.13 | N32: =M32-J32 -> 0
D33: =C34-C32 -> 17.5 | I33: =(E32+E34)/2 -> 1.43 | J33: =(F32+F34)/2*$D33 -> 14.9625 | K33: =(G32+G34)/2*$D33 -> 26.6875 | L33: =(H32+H34)/2*$D33 -> 20.475 | M33: 14.9625 | N33: =M33-J33 -> 0
A34: 16 | B34: 12 | C34: 192.5 | E34: 1.4 | F34: 0.84 | G34: 1.48 | H34: 1.21 | N34: =M34-J34 -> 0
D35: =C36-C34 -> 17.5 | I35: =(E34+E36)/2 -> 1.39 | J35: =(F34+F36)/2*$D35 -> 14.7875 | K35: =(G34+G36)/2*$D35 -> 25.9 | L35: =(H34+H36)/2*$D35 -> 22.05 | M35: 14.7875 | N35: =M35-J35 -> 0
A36: 17 | B36: 13 | C36: 210 | E36: 1.38 | F36: 0.85 | G36: 1.48 | H36: 1.31 | N36: =M36-J36 -> 0
D37: =C38-C36 -> 17.5 | I37: =(E36+E38)/2 -> 1.385 | J37: =(F36+F38)/2*$D37 -> 14.525 | K37: =(G36+G38)/2*$D37 -> 25.8125 | L37: =(H36+H38)/2*$D37 -> 23.1 | M37: 14.525 | N37: =M37-J37 -> 0
A38: 18 | B38: 14 | C38: 227.5 | E38: 1.39 | F38: 0.81 | G38: 1.47 | H38: 1.33 | N38: =M38-J38 -> 0
D39: =C40-C38 -> 17.5 | I39: =(E38+E40)/2 -> 1.395 | J39: =(F38+F40)/2*$D39 -> 15.225 | K39: =(G38+G40)/2*$D39 -> 27.475 | L39: =(H38+H40)/2*$D39 -> 19.95 | M39: 15.225 | N39: =M39-J39 -> 0
A40: 19 | B40: 15 | C40: 245 | E40: 1.4 | F40: 0.93 | G40: 1.67 | H40: 0.95 | N40: =M40-J40 -> 0
...

Sheet Diễn giai
A1: BẢNG DIỄN GIẢI KHỐI LƯỢNG HOÀN THÀNH LẦN 1
A2: Dự án: Xây dựng cầu Nghĩa Phương qua kênh Đồng Thổ 1, phường Minh Đức
A3: Stt | B3: Nội dung công việc | C3: Đơn vị tính | D3: Diễn giải | E3: Khối lượng | G3: Gốc
A4: A | B4: PHẦN ĐIỀU CHỈNH, PHÁT SINH TRONG PHẠM VI HỢP ĐỒNG
A5: I | B5: PHỤ TRỢ THI CÔNG
A6: 1 | B6: Phá dỡ cầu cũ
A7: 2 | B7: Phá dỡ cầu hiện trạng và vận chuyển phế thải đến bãi thải rắn Đình Vũ | C7: toàn bộ | E7: 1 | G7: 1
A8: 3 | B8: Măt bằng công trường và di dời hạ tầng kỹ thuật
A9: 4 | B9: Thuê mặt bằng bãi chứa dầm, bãi vật liệu | C9: tháng | E9: 0 | G9: 0
A10: 5 | B10: Đào san đât bãi chứa dầm, bãi vật liệu bằng máy đào , đất cấp II | C10: 100m3 | D10: 170*0,3/100 | E10: =170*0.3/100 -> 0.51 | G10: 0.51
A11: 6 | B11: Đào móng công trình, đất cấp II | C11: 100m3 | G11: 0.482
A12: 7 | B12: Đắp đất công trình, độ chặt yêu cầu K=0,95 | C12: 100m3 | G12: 1.124
A13: 8 | B13: Vật liệu đất núi K95 đắp bù | C13: m3 | G13: 14.916
A14: 9 | B14: Thi công móng cấp phối đá dăm | C14: 100m3 | G14: 0.34
A15: 10 | B15: Đổ bê tông lót móng, đá 4x6, vữa mác 100, PCB30 | C15: m3 | G15: 18.2
A16: 11 | B16: Đổ bê tông móng, đá 1x2, mác 150, PCB30 | C16: m3 | G16: 1.8
A17: 12 | B17: Ván khuôn gỗ. Ván khuôn móng | C17: 100m2 | G17: 0.169
A18: 13 | B18: Tháo dỡ côt điện hiện trạng | C18: cột | G18: 1
A19: 14 | B19: Lắp dựng cột điện bằng máy, cột bê tông chiều cao cột >10m | C19: cột | G19: 1
A20: 15 | B20: Xây đá hộc, xây mái dốc thẳng, vữa XM mác 100, PCB30 | C20: m3 | G20: 12
A21: 16 | B21: Lắp đặt khối móng bê tông đỡ đoạn ống, đường kính D800mm | C21: cái | G21: 40
A22: 17 | B22: Lắp đặt ống bê tông, đoạn ống dài 4m, đường kính <=1000mm | C22: đoạn ống | G22: 5
... A31: 26 | B31: Bơm nước hố móng | C31: ca | G31: 10
A32: 27 | B32: Hàng rào bảo vệ công trình
A33: 28 | B33: Đào móng cột, trụ, đất cấp II | C33: m3 | G33: 2.08
A34: 29 | B34: Đổ bê tông lót móng, đá 2x4, vữa mác 150, PCB30 | C34: m3 | G34: 2.08
A35: 30 | B35: Gia công cột bằng thép hình | C35: tấn | G35: 0.2156
A36: 31 | B36: Lắp dựng cột thép các loại | C36: tấn | G36: 0.2156
A37: 32 | B37: Gia công xà gồ thép | C37: tấn | G37: 0.3376
A38: 33 | B38: Lắp dựng xà gồ thép | C38: tấn | G38: 0.3376
A39: 34 | B39: Lợp bao che tường bằng tôn múi mạ kẽm dày 0.33 mm | C39: 100m2 | G39: 1.386
A40: 35 | B40: Cầu tạm đảm bảo giao thông
A41: 36 | B41: Đào móng công trình, đất cấp II | C41: 100m3 | G41: 0.123
A42: 37 | B42: Vận chuyển đất đi đổ, đất cấp II | C42: 100m3 | G42: 0
A43: 38 | B43: Thi công lớp đá đệm móng, loại đá có đường kính Dmax<= 6 | C43: m3 | G43: 3.68
A44: 39 | B44: Làm và thả rọ đá, loại rọ 1x1x1 m dưới nước | C44: rọ | G44: 2
A45: 40 | B45: Làm và thả rọ đá, loại rọ 2x1x1 m dưới nước | C45: rọ | G45: 8
A46: 41 | B46: Làm và thả rọ đá, loại rọ 2x1x0,5 m dưới nước | C46: rọ | G46: 6
A47: 42 | B47: Đắp đất, dung trọng <=1,65 T/m3 | C47: 100m3 | G47: 0.176
A48: 43 | B48: Vật liệu đất núi K95 | C48: m3 | G48: 19.888
...

Sheet Công trình
A1: BẢNG DIỄN GIẢI KHỐI LƯỢNG | AL1: (đ)
A2: CÔNG TRÌNH : SỬA CHỮA TUYẾN ĐƯỜNG TỪ NHÀ BÀ TRƯỜNG, TỔ 5 PHƯỜNG VẠN HƯƠNG ĐẾN NHÀ BÀ KIM, TỔ DÂN PHỐ BẮC HẢI PHƯỜNG BÀNG LA
A3: SỬA CHỮA NỀN MẶT ĐƯỜNG, HỆ THỐNG THOÁT NƯỚC
A4: STT | B4: Ký hiệu bản vẽ | C4: Mã hiệu định mức | D4: Mã hiệu vữa | E4: Mã hiệu công tác | F4: Danh mục công tác / Diễn giải KL | G4: Đơn vị tính | H4: Số C.K | I4: Kích thước | L4: Hệ số phụ | M4: Tổng dài | N4: D.tích (M2) | O4: K.L C.Kiện | P4: Khối lượng | Q4: ="Đơn giá "&'Công trình'!AL1 -> Đơn giá (đ) | U4: ="Thành tiền "&'Công trình'!AL1 -> Thành tiền (đ) | Y4: Hệ số điều chỉnh | AB4: Dữ liệu đã dùng | AD4: Hao phí định mức | AG4: Hệ số định mức | AJ4: Thời điểm thi công | AL4: Tỉnh TP / Chuyên ngành
I5: Dài | J5: Rộng | K5: Cao | Q5: Vật liệu | R5: V.L phụ | S5: Nhân công | T5: Máy T.C | U5: Vật liệu | V5: V.L phụ | W5: Nhân công | X5: Máy thi công | Y5: V.L | Z5: N.C | AA5: Máy | AB5: Đơn giá | AC5: Giá máy | AD5: V.L | AE5: N.C | AF5: Máy | AG5: V.L | AH5: N.C | AI5: Máy | AJ5: Bắt đầu | AK5: Kết thúc
E6: HM | F6: SỬA CHỮA NỀN MẶT ĐƯỜNG, HỆ THỐNG THOÁT NƯỚC | O6: 4
E7: * | F7: SỬA CHỮA NỀN MẶT ĐƯỜNG:
A8: I | F8: NỀN ĐƯỜNG:
A9: 1 | C9: AA.22310 | E9: AA.22310 | F9: Phá dỡ kết cấu bê tông bằng máy đào 1,25m3 gắn đầu búa thủy lực | G9: m3 | P9: =ROUND(SUM(O9:O10),4) -> 90.89 | S9: 2877 | T9: 93882 | U9: =ROUND(IF(P7=0,ROUND(P9,4)*Q9,P7*ROUND(P9,4)*Q9),1) -> 0 | V9: =ROUND(IF(P7=0,ROUND(P9,4)*R9,P7*ROUND(P9,4)*R9),1) -> 0 | W9: =ROUND(IF(P7=0,ROUND(P9,4)*S9,P7*ROUND(P9,4)*S9),1) -> 261490.5 | X9: =ROUND(IF(P7=0,ROUND(P9,4)*T9,P7*ROUND(P9,4)*T9),1) -> 8532935 | AB9: DG2595_2022HP_XD | AC9: Giá máy 156/2022/QĐ-SXD Vùng 1 | AE9: N1.30~Nhân công 3,0/7 - Nhóm 1~công~0.013~0.013~221303~221303~0~1~1~0~0~N1.30~~0 | AF9: M101.0115~Máy đào 1,25 m3 gắn đầu búa thủy lực / hàm kẹp~ca~0.022~0.022~4267355~4293002~293092~1~1~0~0~M15A~(Theo Giá máy 156/2022/QĐ-SXD Vùng 1)~0 | AL9: HaiPhong
F10: 90,89 = 90,89 | O10: 90.89
A11: 2 | C11: AB.31122 | E11: AB.31122 | F11: Đào nền đường, đất cấp II | G11: 100m3 | P11: =ROUND(SUM(O11:O12),4) -> 7.7825 | S11: 759069 | T11: 1141863 | U11: =ROUND(IF(P7=0,ROUND(P11,4)*Q11,P7*ROUND(P11,4)*Q11),1) -> 0 | V11: =ROUND(IF(P7=0,ROUND(P11,4)*R11,P7*ROUND(P11,4)*R11),1) -> 0 | W11: =ROUND(IF(P7=0,ROUND(P11,4)*S11,P7*ROUND(P11,4)*S11),1) -> 5907454.5 | X11: =ROUND(IF(P7=0,ROUND(P11,4)*T11,P7*ROUND(P11,4)*T11),1) -> 8886548.8 | AB11: DG2595_2022HP_XD | AC11: Giá máy 156/2022/QĐ-SXD Vùng 1 | AE11: N1.30~Nhân công 3,0/7 - Nhóm 1~công~3.43~3.43~221303~221303~0~1~1~0~0~N1.30~~0 | AF11: M101.0104~Máy đào một gầu, bánh xích - dung tích gầu : 0,80 m3~ca~0.355~0.355~2938899~2958984~293092~1~1~0~0~M6~(Theo Giá máy 156/2022/QĐ-SXD Vùng 1)~0žM101.0503~Máy ủi - công suất : 110,0 CV~ca~0.047~0.047~2096893~2111107~293092~1~1~0~0~M45~(Theo Giá máy 156/2022/QĐ-SXD Vùng 1)~0 | AL11: HaiPhong
F12: 778,25/100 = 7,7825 | O12: 7.7825
A13: 3 | C13: AB.64113 | E13: AB.64113 | F13: Lớp đất núi đầm chặt K95, dày 30cm | G13: 100m3 | P13: =ROUND(SUM(O13:O14),4) -> 5.2056 | S13: 365150 | T13: 938368 | U13: =ROUND(IF(P7=0,ROUND(P13,4)*Q13,P7*ROUND(P13,4)*Q13),1) -> 0 | V13: =ROUND(IF(P7=0,ROUND(P13,4)*R13,P7*ROUND(P13,4)*R13),1) -> 0 | W13: =ROUND(IF(P7=0,ROUND(P13,4)*S13,P7*ROUND(P13,4)*S13),1) -> 1900824.8 | X13: =ROUND(IF(P7=0,ROUND(P13,4)*T13,P7*ROUND(P13,4)*T13),1) -> 4884768.5 | AB13: DG2595_2022HP_XD | AC13: Giá máy 156/2022/QĐ-SXD Vùng 1 | AE13: N1.30~Nhân công 3,0/7 - Nhóm 1~công~1.65~1.65~221303~221303~0~1~1~0~0~N1.30~~0 | AF13: M101.1102~Máy lu bánh thép tự hành - trọng lượng tĩnh : 8,5 T - 9 T~ca~0.42~0.42~1152746~1160162~293092~1~1~0~0~M87~(Theo Giá máy 156/2022/QĐ-SXD Vùng 1)~0žM101.0503~Máy ủi - công suất : 110,0 CV~ca~0.21~0.21~2096893~2111107~293092~1~1~0~0~M45~(Theo Giá máy 156/2022/QĐ-SXD Vùng 1)~0žM999~Máy khác~%~1.5~1.5~9245.0085~9306.0051~0~1~1~0~0~~~0 | AL13: HaiPhong
F14: 520,56/100 = 5,2056 | O14: 5.2056
A15: 4 | E15: TT | F15: Tiền đất núi | G15: m3 | P15: =ROUND(SUM(O15:O16),4) -> 588.2328 | Q15: 190000 | U15: =ROUND(IF(P7=0,ROUND(P15,4)*Q15,P7*ROUND(P15,4)*Q15),1) -> 111764232 | V15: =ROUND(IF(P7=0,ROUND(P15,4)*R15,P7*ROUND(P15,4)*R15),1) -> 0 | W15: =ROUND(IF(P7=0,ROUND(P15,4)*S15,P7*ROUND(P15,4)*S15),1) -> 0 | X15: =ROUND(IF(P7=0,ROUND(P15,4)*T15,P7*ROUND(P15,4)*T15),1) -> 0
F16: 520,56*1,13 = 588,2328 | O16: 588.2328
A17: 5 | C17: AD.11222 | E17: AD.11222 | F17: Cấp phối đá dăm loại I, lớp trên dày 18 cm | G17: 100m3 | P17: =ROUND(SUM(O17:O18),4) -> 3.1234 | Q17: 24768962 | S17: 843364 | T17: 2700118 | U17: =ROUND(IF(P7=0,ROUND(P17,4)*Q17,P7*ROUND(P17,4)*Q17),1) -> 77363376 | V17: =ROUND(IF(P7=0,ROUND(P17,4)*R17,P7*ROUND(P17,4)*R17),1) -> 0 | W17: =ROUND(IF(P7=0,ROUND(P17,4)*S17,P7*ROUND(P17,4)*S17),1) -> 2634163.1 | X17: =ROUND(IF(P7=0,ROUND(P17,4)*T17,P7*ROUND(P17,4)*T17),1) -> 8433548.6 | AB17: DG2595_2022HP_XD | AC17: Giá máy 156/2022/QĐ-SXD Vùng 1 | AD17: A24.0251~Cấp phối đá dăm loại I~m3~134~134~184843~285000~0~1~1~0~313500~CapPhoiDaDam~~0 | AE17: N2.30~Nhân công 3,0/7 - Nhóm 2~công~3.52~3.52~239592~239592~0~1~1~0~0~N2.30~~0 | AF17: M105.0401~Máy rải cấp phối đá dăm - năng suất : 50 m3/h - 60 m3/h~ca~0.21~0.21~3778425~3787695~591513~1~1~0~0~M594~(Theo Giá máy 156/2022/QĐ-SXD Vùng 1)~0žM101.1006~Máy lu rung tự hành - trọng lượng tĩnh : 25T~ca~0.32~0.32~3200091~3220793~293092~1~1~0~0~M84~(Theo Giá máy 156/2022/QĐ-SXD Vùng 1)~0žM101.0902~Máy lu bánh hơi tự hành - trọng lượng tĩnh : 16,0 T~ca~0.15~0.15~1781990~1793732~293092~1~1~0~0~M78~(Theo Giá máy 156/2022/QĐ-SXD Vùng 1)~0žM101.1103~Máy lu bánh thép tự hành - trọng lượng tĩnh : 10,0 T~ca~0.26~0.26~1287637~1295671~293092~1~1~0~0~M88~(Theo Giá máy 156/2022/QĐ-SXD Vùng 1)~0žM106.0502~Ô tô tưới nước - dung tích : 5,0 m3~ca~0.21~0.21~1271914~1279021~320339~1~1~0~0~M135~(Theo Giá máy 156/2022/QĐ-SXD Vùng 1)~0žM999~Máy khác~%~0.5~0.5~26866.8443~27005.9838~0~1~1~0~0~~~0 | AL17: HaiPhong
F18: 312,34/100 = 3,1234 | O18: 3.1234
A19: 6 | C19: AB.41413 | E19: AB.41413 | F19: Vận chuyển đất bằng ôtô tự đổ 5 tấn | G19: 100m3 | P19: =ROUND(SUM(O19:O21),4) -> 0.9089 | T19: 2956420 | U19: =ROUND(IF(P7=0,ROUND(P19,4)*Q19,P7*ROUND(P19,4)*Q19),1) -> 0 | V19: =ROUND(IF(P7=0,ROUND(P19,4)*R19,P7*ROUND(P19,4)*R19),1) -> 0 | W19: =ROUND(IF(P7=0,ROUND(P19,4)*S19,P7*ROUND(P19,4)*S19),1) -> 0 | X19: =ROUND(IF(P7=0,ROUND(P19,4)*T19,P7*ROUND(P19,4)*T19),1) -> 2687090.1 | AB19: DG2595_2022HP_XD | AC19: Giá máy 156/2022/QĐ-SXD Vùng 1 | AF19: M106.0202~Ô tô tự đổ - trọng tải : 5,0 T~ca~1.711~1.711~1727890~1740559~270000~1~1~0~0~M107~(Theo Giá máy 156/2022/QĐ-SXD Vùng 1)~0 | AL19: HaiPhong
F20: Kl đào phá lớp BTXM hiện trạng:
F21: =P9/100 -> 0.9089 | O21: 0.9089
A22: 7 | C22: AB.42213 | E22: AB.42213 | F22: Vận chuyển đất bằng ô tô tự đổ 5T 1km tiếp theo ngoài phạm vi 5km, đất cấp III | G22: 100m3 | P22: =ROUND(SUM(O22:O23),4) -> 0.9089 | T22: =986625*AA22 -> 3946500 | U22: =ROUND(IF(P7=0,ROUND(P22,4)*Q22,P7*ROUND(P22,4)*Q22),1) -> 0 | V22: =ROUND(IF(P7=0,ROUND(P22,4)*R22,P7*ROUND(P22,4)*R22),1) -> 0 | W22: =ROUND(IF(P7=0,ROUND(P22,4)*S22,P7*ROUND(P22,4)*S22),1) -> 0 | X22: =ROUND(IF(P7=0,ROUND(P22,4)*T22,P7*ROUND(P22,4)*T22),1) -> 3586973.9 | AA22: 4 | AB22: DG2595_2022HP_XD | AC22: Giá máy 156/2022/QĐ-SXD Vùng 1 | AF22: M106.0202~Ô tô tự đổ - trọng tải : 5,0 T~ca~0.571~0.571~1727890~1740559~270000~1~1~0~0~M107~(Theo Giá máy 156/2022/QĐ-SXD Vùng 1)~0 | AL22: HaiPhong
F23: =P19 -> 0.9089 | O23: 0.9089
A24: 7 | C24: AB.41412 | E24: AB.41412 | F24: Vận chuyển đất bằng ôtô tự đổ 5 tấn trong phạm vi <= 1000m, đất cấp II | G24: 100m3 | P24: =ROUND(SUM(O24:O26),4) -> 7.7825 | T24: 2296366 | U24: =ROUND(IF(P7=0,ROUND(P24,4)*Q24,P7*ROUND(P24,4)*Q24),1) -> 0 | V24: =ROUND(IF(P7=0,ROUND(P24,4)*R24,P7*ROUND(P24,4)*R24),1) -> 0 | W24: =ROUND(IF(P7=0,ROUND(P24,4)*S24,P7*ROUND(P24,4)*S24),1) -> 0 | X24: =ROUND(IF(P7=0,ROUND(P24,4)*T24,P7*ROUND(P24,4)*T24),1) -> 17871468 | AB24: DG2595_2022HP_XD | AC24: Giá máy 156/2022/QĐ-SXD Vùng 1 | AF24: M106.0202~Ô tô tự đổ - trọng tải : 5,0 T~ca~1.329~1.329~1727890~1740559~270000~1~1~0~0~M107~(Theo Giá máy 156/2022/QĐ-SXD Vùng 1)~0 | AL24: HaiPhong
F25: KL đất đào nền đường:
F26: =P11 -> 7.7825 | O26: 7.7825
A27: 9 | C27: AB.42212 | E27: AB.42212 | F27: Vận chuyển đất bằng ô tô tự đổ 5T 1km tiếp theo ngoài phạm vi 5km, đất cấp II | G27: 100m3 | P27: =ROUND(SUM(O27:O29),4) -> 7.7825 | T27: =881224*AA27 -> 3524896 | U27: =ROUND(IF(P7=0,ROUND(P27,4)*Q27,P7*ROUND(P27,4)*Q27),1) -> 0 | V27: =ROUND(IF(P7=0,ROUND(P27,4)*R27,P7*ROUND(P27,4)*R27),1) -> 0 | W27: =ROUND(IF(P7=0,ROUND(P27,4)*S27,P7*ROUND(P27,4)*S27),1) -> 0 | X27: =ROUND(IF(P7=0,ROUND(P27,4)*T27,P7*ROUND(P27,4)*T27),1) -> 27432503 | AA27: 4 | AB27: DG2595_2022HP_XD | AC27: Giá máy 156/2022/QĐ-SXD Vùng 1 | AF27: M106.0202~Ô tô tự đổ - trọng tải : 5,0 T~ca~0.51~0.51~1727890~1740559~270000~1~1~0~0~M107~(Theo Giá máy 156/2022/QĐ-SXD Vùng 1)~0 | AL27: HaiPhong
F28: =P24 -> 7.7825 | O28: 7.7825
F29: I.B. MẶT ĐƯỜNG
A30: 8 | C30: AL.16122 | E30: AL.16122 | F30: Nilon chống mất nước xi măng | G30: 100m2 | P30: =ROUND(SUM(O30:O31),4) -> 17.352 | Q30: 1167831 | S30: 282960 | U30: =ROUND(IF(P7=0,ROUND(P30,4)*Q30,P7*ROUND(P30,4)*Q30),1) -> 20264204 | V30: =ROUND(IF(P7=0,ROUND(P30,4)*R30,P7*ROUND(P30,4)*R30),1) -> 0 | W30: =ROUND(IF(P7=0,ROUND(P30,4)*S30,P7*ROUND(P30,4)*S30),1) -> 4909921.9 | X30: =ROUND(IF(P7=0,ROUND(P30,4)*T30,P7*ROUND(P30,4)*T30),1) -> 0 | AB30: DG2595_2022HP_XD | AC30: Giá máy 156/2022/QĐ-SXD Vùng 1 | AD30: A24.0782~Nilon chống mất nước XM~m2~105~105~11100~10500~0~1~1~0~11550~VaiDiaKyThuat~~0žZ999~Vât liệu khác~%~0.2~0.2~11655~11025~0~1~1~0~0~VatLieuKhac~~0 | AE30: N2.35~Nhân công 3,5/7 - Nhóm 2~công~1.08~1.08~262000~262000~0~1~1~0~0~N2.35~~0 | AL30: HaiPhong
F31: 1735,2/100 = 17,352 | O31: 17.352
A32: 9 | C32: AF.82411 | E32: AF.82411 | F32: Ván khuôn thép. Ván khuôn mặt đường | G32: 100m2 | P32: =ROUND(SUM(O32:O33),4) -> 1.8123 | Q32: 678169 | S32: 3270692 | T32: 176372 | U32: =ROUND(IF(P7=0,ROUND(P32,4)*Q32,P7*ROUND(P32,4)*Q32),1) -> 1229045.7 | V32: =ROUND(IF(P7=0,ROUND(P32,4)*R32,P7*ROUND(P32,4)*R32),1) -> 0 | W32: =ROUND(IF(P7=0,ROUND(P32,4)*S32,P7*ROUND(P32,4)*S32),1) -> 5927475.1 | X32: =ROUND(IF(P7=0,ROUND(P32,4)*T32,P7*ROUND(P32,4)*T32),1) -> 319639 | AB32: DG2595_2022HP_XD | AC32: Giá máy 156/2022/QĐ-SXD Vùng 1 | AD32: A24.0921~Thép hình, thép tấm~kg~31.5~31.5~19250~19500~0~1~1~0~21450~ThepTam~~0žA24.0543~Que hàn~kg~1.58~1.58~25000~25000~0~1~1~0~27500~QueHan~~0žZ999~Vât liệu khác~%~5~5~6458.75~6537.5~0~1~1~0~0~VatLieuKhac~~0 | AE32: N2.40~Nhân công 4,0/7 - Nhóm 2~công~11.5~11.5~284408~284408~0~1~1~0~0~N2.40~~0 | AF32: M112.4003~Máy hàn xoay chiều - công suất : 23,0 kW~ca~0.42~0.42~411700~402656~293092~1~1~0~0~M423~(Theo Giá máy 156/2022/QĐ-SXD Vùng 1)~0žM999~Máy khác~%~2~2~1729.14~1691.1552~0~1~1~0~0~~~0 | AL32: HaiPhong
F33: 181,23/100 = 1,8123 | O33: 1.8123
A34: 10 | C34: AF.15410 | D34: C2234 | E34: AF.15434A | F34: Đổ bê tông thủ công bằng máy trộn, bê tông mặt đường, chiều dày mặt đường <=25 cm, đá 2x4, mác 250, PCB30 | G34: m3 | P34: =ROUND(SUM(O34:O36),4) -> 354.86 | Q34: 1011667 | S34: 358940 | T34: 80984 | U34: =ROUND(IF(P7=0,ROUND(P34,4)*Q34,P7*ROUND(P34,4)*Q34),1) -> 3.5900015e+08 | V34: =ROUND(IF(P7=0,ROUND(P34,4)*R34,P7*ROUND(P34,4)*R34),1) -> 0 | W34: =ROUND(IF(P7=0,ROUND(P34,4)*S34,P7*ROUND(P34,4)*S34),1) -> 1.2737345e+08 | X34: =ROUND(IF(P7=0,ROUND(P34,4)*T34,P7*ROUND(P34,4)*T34),1) -> 28737982 | AB34: DG2595_2022HP_XD | AC34: Giá máy 156/2022/QĐ-SXD Vùng 1 | AD34: A24.0797A~Xi măng PCB30~kg~348.5~348.5~1380~1481~0~1~1~0~1629.1~XiMangPCB30~(Áp theo Thông báo giá VL số : 08/2022/CBG-SXD của Sở XD TP Hải Phòng ngày 09/08/2022. Vùng : 16)~0žA24.0180~Cát vàng~m3~0.529925~0.529925~450000~500000~0~1~1~0~550000~CatVang~~0žA24.0009~Đá 2x4~m3~0.859975~0.859975~320000~340000~0~1~1~0~374000~Da2x4~~0žA24.0524~Nước~lít~177.325~177.325~12~20~0~1~1~0~22~Nuoc(Lit)~~0žZ999~Vât liệu khác~%~1.5~1.5~9967.1615~10770.29~0~1~1~0~0~VatLieuKhac~~0 | AE34: N2.35~Nhân công 3,5/7 - Nhóm 2~công~1.37~1.37~262000~262000~0~1~1~0~0~N2.35~~0 | AF34: M104.0102~Máy trộn bê tông - dung tích : 250,0 lít~ca~0.095~0.095~320806~318734~246908~1~1~0~0~M270~(Theo Giá máy 156/2022/QĐ-SXD Vùng 1)~0žM112.1101~Máy đầm bê tông, đầm bàn - công suất : 1,0 kW~ca~0.089~0.089~272875~271933~246908~1~1~0~0~M305~(Theo Giá máy 156/2022/QĐ-SXD Vùng 1)~0žM112.1301~Máy đầm bê tông, dầm dùi - công suất : 1,5 kW~ca~0.089~0.089~276782~275463~246908~1~1~0~0~M310~(Theo Giá máy 156/2022/QĐ-SXD Vùng 1)~0žM999~Máy khác~%~2~2~793.96043~789.97974~0~1~1~0~0~~~0 | AL34: HaiPhong
F35: Mặt đường mở rộng: 351,93 = 351,93 | O35: 351.93
F36: Vuốt nối: 2,93 = 2,93 | O36: 2.93
A37: 11 | C37: AK.41110 | D37: B1224 | E37: AK.41114A (VD) | F37: Đánh bóng bề mặt đường BTXM bằng máy xoa, kết hợp bổ sung xi măng | G37: m2 | P37: =ROUND(SUM(O37:O38),4) -> 1735.2 | Q37: 10384 | S37: 9670 | T37: 4000 | U37: =ROUND(IF(P7=0,ROUND(P37,4)*Q37,P7*ROUND(P37,4)*Q37),1) -> 18018317 | V37: =ROUND(IF(P7=0,ROUND(P37,4)*R37,P7*ROUND(P37,4)*R37),1) -> 0 | W37: =ROUND(IF(P7=0,ROUND(P37,4)*S37,P7*ROUND(P37,4)*S37),1) -> 16779384 | X37: =ROUND(IF(P7=0,ROUND(P37,4)*T37,P7*ROUND(P37,4)*T37),1) -> 6940800 | AB37: DG2595_2022HP_XD | AC37: Giá máy 156/2022/QĐ-SXD Vùng 1 | AD37: A24.0797A~Xi măng PCB30~kg~10.75~10.75~1380~1481~0~0.7~1~0~1629.1~XiMangPCB30~(Áp theo Thông báo giá VL số : 08/2022/CBG-SXD của Sở XD TP Hải Phòng ngày 09/08/2022. Vùng : 16)~0žA24.0176~Cát mịn ML=1,5-2,0~m3~0~0~400000~450000~0~1~1~0~495000~CatMin~~0žA24.0524~Nước~lít~0~0~12~20~0~1~1~0~22~Nuoc(Lit)~~0 | AE37: N2.40~Nhân công 4,0/7 - Nhóm 2~công~0.068~0.068~284408~284408~0~0.5~1~0~0~N2.40~~0 | AF37: TT*~Máy xoa~Ca~0.02~0.02~200000~200000~246908~1~0~0~0~~~0 | AL37: HaiPhong
F38: 1735,2 = 1735,2 | O38: 1735.2
A39: 12 | C39: AL.24111 | E39: AL.24111 | F39: Thi công khe co sân, bãi, mặt đường bê tông | G39: m | P39: =ROUND(SUM(O39:O40),4) -> 268 | Q39: 85408 | S39: 23580 | T39: 13126 | U39: =ROUND(IF(P7=0,ROUND(P39,4)*Q39,P7*ROUND(P39,4)*Q39),1) -> 22889344 | V39: =ROUND(IF(P7=0,ROUND(P39,4)*R39,P7*ROUND(P39,4)*R39),1) -> 0 | W39: =ROUND(IF(P7=0,ROUND(P39,4)*S39,P7*ROUND(P39,4)*S39),1) -> 6319440 | X39: =ROUND(IF(P7=0,ROUND(P39,4)*T39,P7*ROUND(P39,4)*T39),1) -> 3517768 | AB39: DG2595_2022HP_XD | AC39: Giá máy 156/2022/QĐ-SXD Vùng 1 | AD39: A24.0480~Ma tít chèn khe~kg~1.36~1.36~4700~4700~0~1~1~0~5170~MaTit~~0žA24.0520~Nhựa đường~kg~0.13~0.13~15300~17100~0~1~1~0~18810~NhuaDuong~~0žA24.1074~Thép F25~kg~3.8~3.8~19200~19500~0~1~1~0~21450~Thep~~0žZ999~Vât liệu khác~%~5~5~813.41~827.15~0~1~1~0~0~VatLieuKhac~~0 | AE39: N2.35~Nhân công 3,5/7 - Nhóm 2~công~0.09~0.09~262000~262000~0~1~1~0~0~N2.35~~0 | AF39: M112.2601~Máy cắt uốn cốt thép - công suất : 5,0 kW~ca~0.013~0.013~281286~279591~246908~1~1~0~0~M454~(Theo Giá máy 156/2022/QĐ-SXD Vùng 1)~0žM108.0306~Máy nén khí, động cơ diezel - năng suất : 600,00 m3/h~ca~0.005~0.005~1842337~1856860~293092~1~1~0~0~M404~(Theo Giá máy 156/2022/QĐ-SXD Vùng 1)~0žM999~Máy khác~%~2~2~128.68403~129.18983~0~1~1~0~0~~~0 | AL39: HaiPhong
F40: 268 = 268 | O40: 268
...

Sheet Giá tháng
A1: BẢNG GIÁ THÔNG BÁO CÔNG TRÌNH
A2: ='Công trình'!A2 -> CÔNG TRÌNH : SỬA CHỮA TUYẾN ĐƯỜNG TỪ NHÀ BÀ TRƯỜNG, TỔ 5 PHƯỜNG VẠN HƯƠNG ĐẾN NHÀ BÀ KIM, TỔ DÂN PHỐ BẮC HẢI PHƯỜNG BÀNG LA
A4: STT | B4: Mã số | C4: Tên vật tư | D4: Đơn vị | E4: ="Giá gốc_x000D_ "&'Công trình'!AL1 -> Giá gốc_x000D_ (đ) | F4: ="Giá tháng_x000D_ "&'Công trình'!AL1 -> Giá tháng_x000D_ (đ) | G4: Hệ số | H4: Chính | I4: ="Giá sau VAT_x000D_ "&'Công trình'!AL1 -> Giá sau VAT_x000D_ (đ) | J4: Mã chuẩn | K4: Ghi chú, Nguồn gốc xuất xứ
A5: I | C5: VẬT LIỆU
A6: 1 | B6: A24.0233 | C6: Cao su đệm | D6: m | E6: 5000 | F6: 12000 | G6: 1 | H6: TRUE | I6: 13200 | J6: CaoSuDem
A7: 2 | B7: A24.1042 | C7: Cát | D7: m3 | E7: 140000 | F7: 150000 | G7: 1 | H7: TRUE | I7: 170500 | J7: Cat
