Workbook

Sheet foxz

Sheet Bìa 
J1: :
B2: CỘNG HÒA XÃ HỘI CHỦ NGHĨA VIỆT NAM
B3: ĐỘC LẬP - TỰ DO - HẠNH PHÚC
A15: BÁO CÁO
A16: TỔNG HỢP QUYẾT TOÁN VỐN ĐẦU TƯ DỰ ÁN HOÀN THÀNH
B19: Công trình: | C19: Nạo vét tuyến kênh từ gốc đa Miếu Bà đến cống Bà Xoàng, thôn Phong Cầu 2, xã Kiến Minh
B20: Chủ đầu tư: | C20: Phòng Kinh tế xã Kiến Minh
B21: Địa điểm: | C21: Xã Kiến Minh, thành phố Hải Phòng
B40: Hải Phòng, năm 2026

Sheet Mẫu 01
A1: Mẫu số 01/QTDA
A2: (Ban hành kèm theo Thông tư số 91/2025/TT-BTC ngày 26/9/2025 của Bộ trưởng Bộ Tài chính)
E4: Hải Phòng, ngày tháng năm 2026
A6: BÁO CÁO Tổng hợp quyết toán vốn đầu tư dự án hoàn thành
A8: Tên dự án: Nạo vét tuyến kênh từ gốc đa Miếu Bà đến cống Bà Xoàng, thôn Phong Cầu 2, xã Kiến Minh | G8: =A8 -> Tên dự án: Nạo vét tuyến kênh từ gốc đa Miếu Bà đến cống Bà Xoàng, thôn Phong Cầu 2, xã Kiến Minh
A9: Giá trị tổng mức đầu tư được phê duyệt hoặc điều chỉnh lần cuối: | D9: 375970000 | E9: đồng
A10: Chủ đầu tư: Phòng Kinh tế xã Kiến Minh
A11: I. Vốn đầu tư:
D12: Đơn vị tính: đồng
A13: Số TT | B13: Nôị dung | C13: Tổng mức đầu tư (của dự án, dự án thành phần, tiểu dự án độc lập) hoặc dự toán (công trình, hạng mục công trình độc lập) được phê duyệt hoặc điều chỉnh lần cuối | D13: Vốn kế hoạch được giao | E13: Vốn đã giải ngân
B15: Tổng cộng | C15: =C17 -> 2580982000 | D15: =D17 -> 1891333000 | E15: =E17 -> 2375094000
A16: 1 | B16: Vốn đầu tư công
A17: 1 | B17: Ngân sách xã | C17: =C22 -> 2580982000 | D17: ='Mẫu 03'!C14 -> 1891333000 | E17: ='Mẫu 07'!E18 -> 2375094000
A18: II. Chi phí đầu tư:
D19: Đơn vị tính: đồng
A20: Số TT | B20: Nội dung chi phí | C20: Tổng mức đầu tư (của dự án, dự án thành phần, tiểu dự án độc lập) hoặc dự toán (công trình, hạng mục công trình độc lập) được phê duyệt hoặc điều chỉnh lần cuối | D20: Giá trị đề nghị quyết toán | E20: Giá trị đề nghị quyết toán tăng (+), giảm (-) so với tổng mức đầu tư (của dự án, dự án thành phần, tiểu dự án độc lập) hoặc dự toán (công trình, hạng mục công trình độc lập) được phê duyệt hoặc điều chỉnh lần cuối
A21: 1 | B21: 2 | C21: 3 | D21: 4 | E21: 5=4-3
B22: Tổng số | C22: =C23+C24+C25+C26+C27 -> 2580982000 | D22: =SUM(D23:D27) -> 2517793000 | E22: =SUM(E23:E27) -> -63189000
A23: 2 | B23: ='Mẫu 04'!B9 -> Xây dựng | C23: ='Mẫu 04'!C9 -> 1990945000 | D23: ='Mẫu 04'!E9 -> 1989754000 | E23: =D23-C23 -> -1191000
A24: 4 | B24: Quản lý dự án | C24: ='Mẫu 04'!C10 -> 65073000 | D24: ='Mẫu 04'!E10 -> 65073000 | E24: =D24-C24 -> 0
A25: 5 | B25: Tư vấn | C25: ='Mẫu 04'!C11 -> 425964000 | D25: ='Mẫu 04'!E11 -> 425964000 | E25: =D25-C25 -> 0
A26: 6 | B26: Chi phí khác | C26: ='Mẫu 04'!C15 -> 37004000 | D26: ='Mẫu 04'!E15 -> 37002000 | E26: =D26-C26 -> -2000
A27: 7 | B27: Dự phòng | C27: ='Mẫu 04'!C20 -> 61996000 | D27: ='Mẫu 04'!E20 -> 0 | E27: =D27-C27 -> -61996000
A28: III. Chi phí đầu tư được phép không tính vào giá trị tài sản: | D28: =D30+D31 -> 0 | E28: đồng
A29: Trong đó:
A30: 1. Chi phí thiệt hại do các nguyên nhân bất khả kháng: | D30: 0 | E30: đồng
A31: 2. Chi phí không tạo nên tài sản: | D31: 0 | E31: đồng
A32: IV. Giá trị tài sản hình thành là kết quả của quá trình thực hiện dự án: | D32: =C33 -> 2517793000 | E32: đồng
A33: 1. Giá trị thực tế: | C33: =D22 -> 2517793000 | D33: đồng
A34: 2. Giá trị quy đổi (nếu có) | C34: 0 | D34: đồng
A35: V. Thuyết minh báo cáo quyết toán:
A36: 1. Tình hình thực hiện dự án:
A37: - Thuận lợi, khó khăn: Không có
A38: - Những thay đổi nội dung của dự án so với quyết định đầu tư được phê duyệt:
A39: + Quy mô, kết cấu công trình, hình thức quản lý dự án, thay đổi chủ đầu tư, đấu thầu, vốn đầu tư, tổng mức đầu tư: Không có. + Thiết kế kỹ thuật, dự toán được phê duyệt: Không có + Các nội dung chi phí đã thực hiện: Không có̉ + Thay đổi khác (nếu có): Không có
A40: 2. Nhận xét, đánh giá thực hiện dự án:
A41: - Chấp hành trình tự thủ tục quản lý dự án theo quy định tại pháp luật ngân sách nhà nước, đầu tư công, xây dựng, đấu thầu và các văn bản quy phạm pháp luật khác có liên quan đến thực hiện dự án: Thực hiện đầy đủ, đúng quy định
A42: - Công tác quản lý vốn, tài sản trong quá trình đầu tư: Thực hiện theo quy định.
A43: 3. Kiến nghị để giải quyết các vướng mắc, tồn tại của dự án (nếu có): Không
A44: NGƯỜI LẬP BIỂU (Ký, ghi rõ họ tên) | D44: CHỦ ĐẦU TƯ (Ký, đóng dấu, ghi rõ họ tên)

Sheet Mẫu 02
A1: Mẫu số 02/QTDA
A2: ='Mẫu 01'!A2:E2 -> (Ban hành kèm theo Thông tư số 91/2025/TT-BTC ngày 26/9/2025 của Bộ trưởng Bộ Tài chính)
C3: CỘNG HÒA XÃ HỘI CHỦ NGHĨA VIỆT NAM Độc lập - Tự do - Hạnh phúc
A4: DANH MỤC VĂN BẢN
A5: STT | B5: Tên văn bản | C5: Số, ngày, tháng, năm ban hành | D5: Cơ quan ban hành | E5: Ghi chú
A6: I | B6: Các văn bản pháp lý
A7: 1 | B7: Quyết định về việc phê duyệt dự toán chi phí chuẩn bị đầu tư | C7: Số 90/QĐ-KT ngày 30/12/2025 | D7: Phòng Kinh tế xã Kiến Minh
A8: 2 | B8: Quyết định về việc phê duyệt kế hoạch lựa chọn nhà thầu giai đoạn chuẩn bị đầu tư | C8: Số 91/QĐ-KT ngày 30/12/2025 | D8: Phòng Kinh tế xã Kiến Minh
A9: 3 | B9: Quyết định phê duyệt BCKTKT | C9: Số 724/QĐ-UBND ngày 23/09/2025 | D9: UBND xã Kiến Minh
A10: 4 | B10: Quyết định phê duyệt Kế hoạch lựa chọn nhà thầu | C10: Số 01/QĐ-KT ngày 05/01/2026 | D10: Phòng Kinh tế xã Kiến Minh
A11: II | B11: Hợp đồng, phụ lục hợp đồng (nếu có), hợp đồng bổ sung (nếu có)
A12: II.1 | B12: Gói thầu: Thi công xây dựng
A13: 1 | B13: Quyết định về việc phê duyệt kết quả lựa chọn nhà thầu thi công xây dựng | C13: Số 05/QĐ-KT ngày 05/01/2026 | D13: =+D7 -> Phòng Kinh tế xã Kiến Minh
A14: 2 | B14: Hợp đồng thi công xây dựng công trình. | C14: Hợp đồng số 06.1.TLNĐ/2026/HĐTCXD ngày 06/01/2026 | D14: Phòng Kinh tế xã Kiến Minh và Công ty TNHH xây dựng Định Sơn
A15: II.2 | B15: Gói thầu: Tư vấn quản lý dự án
A16: 1 | B16: Quyết định về việc phê duyệt kết quả lựa chọn nhà thầu Tư vấn quản lý dự án | C16: Số 09/QĐ-TLĐ ngày 05/01/2026 | D16: =D13 -> Phòng Kinh tế xã Kiến Minh
A17: 2 | B17: Hợp đồng tư vấn quản lý dự án | C17: Hợp đồng số 05.1/2026/HĐTVQLDA ngày 05/01/2026 | D17: Phòng Kinh tế xã Kiến Minh và Công ty CP tư vấn kiến trúc xây dựng Hải Nguyên
A18: II.3 | B18: Gói thầu: Tư vấn khảo sát, lập báo cáo KTKT
A19: 1 | B19: Quyết định về việc chỉ định thầu tư vấn lập Khảo sát, lập Báo cáo kinh tế - kỹ thuật | C19: Số 92/QĐ-KT ngày 30/12/2025 | D19: =D13 -> Phòng Kinh tế xã Kiến Minh
A20: 2 | B20: Hợp đồng tư vấn khảo sát, lập báo cáo kinh tế - kỹ thuật công trình | C20: Hợp đồng số 30.12/2025/HĐ-TVTK ngày 30/12/2025 | D20: Phòng Kinh tế xã Kiến Minh và Công ty CP Kiến trúc xây dựng Viễn Đông
A21: II.4 | B21: Gói thầu: Tư vấn thẩm tra báo cáo KTKT
A22: 1 | B22: Quyết định về chỉ định thầu Tư vấn thẩm tra Báo cáo Kinh tế - Kỹ thuật công trình | C22: Số 93/QĐ-KT ngày 30/12/2025 | D22: =D13 -> Phòng Kinh tế xã Kiến Minh
A23: 2 | B23: Hợp đồng tư vấn thẩm tra thiết kế bản vẽ thi công và dự toán | C23: Hợp đồng số 30.12/2025/HĐ-TVTTr ngày 30/12/2025 | D23: Phòng Kinh tế xã Kiến Minh và Công ty CP tư vấn xây dựng và dịch vụ Hải Phòng
A24: II.5 | B24: Gói thầu: Tư vấn giám sát thi công xây dựng
A25: 1 | B25: Quyết định chỉ định thầu gói thầu Tư vấn giám sát thi công xây dựng | C25: Số 93/QĐ-KT ngày 30/12/2025 | D25: =D13 -> Phòng Kinh tế xã Kiến Minh
A26: 2 | B26: Hợp đồng tư vấn giám sát thi công. | C26: Hợp đồng số 05.1/2026/HĐTVGS ngày 05/01/2026 | D26: Phòng Kinh tế xã Kiến Minh và Công ty CP tư vấn xây dựng và dịch vụ Hải Phòng
A27: II.5 | B27: Gói thầu: Kiểm toán độc lập
A28: 1 | B28: Quyết định về việc phê duyệt kết quả lựa chọn nhà thầu gói Kiểm toán độc lập | C28: Số 11/QĐ-TLĐ ngày 05/01/2026 | D28: =D16 -> Phòng Kinh tế xã Kiến Minh
A29: 2 | B29: Hợp đồng kiểm toán độc lập | C29: Hợp đồng số | D29: Phòng Kinh tế xã Kiến Minh và Công ty TNHH Kiểm toán KDG Việt Nam
A30: III | B30: Kết luận của các cơ quan Thanh tra, Kiểm toán nhà nước, kiểm tra, kết quả điều tra của các cơ quan pháp luật (Trường hợp không có thì phải ghi cụ thể là “không có”) | C30: Không có
D32: Hải Phòng, ngày tháng năm 2026
A33: NGƯỜI LẬP BIỂU (Ký, ghi rõ họ tên) | D33: CHỦ ĐẦU TƯ (Ký, đóng dấu, ghi rõ họ tên)

Sheet Mẫu 03
A1: Mẫu số 03/QTDA
A2: ='Mẫu 02'!A2:E2 -> (Ban hành kèm theo Thông tư số 91/2025/TT-BTC ngày 26/9/2025 của Bộ trưởng Bộ Tài chính)
B3: UBND XÃ KIẾN MINH PHÒNG KINH TẾ | G3: CỘNG HÒA XÃ HỘI CHỦ NGHĨA VIỆT NAM Độc lập - Tự do - Hạnh phúc
A4: BẢNG ĐỐI CHIẾU SỐ LIỆU
A5: ='Mẫu 01'!A8:E8 -> Tên dự án: Nạo vét tuyến kênh từ gốc đa Miếu Bà đến cống Bà Xoàng, thôn Phong Cầu 2, xã Kiến Minh
A6: Mã dự án:
A7: ='Mẫu 01'!A10:E10 -> Chủ đầu tư: Phòng Kinh tế xã Kiến Minh
A8: Cơ quan thanh toán: Kho bạc Nhà nước khu vực III
A9: I. Tình hình giải ngân: | J9: Đơn vị tính: đồng
A10: Số TT | B10: Nội dung | C10: Số liệu của chủ đầu tư | G10: Số liệu của cơ quan thanh toán | K10: Chênh lệch | L10: Ghi chú
C11: Vốn kế hoạch | D11: Số vốn đã giải ngân | G11: Vốn kế hoạch | H11: Số vốn đã giải ngân
D12: Tổng số | E12: Thanh toán khối lượng hoàn thành | F12: Tạm ứng | H12: Tổng số | I12: Thanh toán khối lượng hoàn thành | J12: Tạm ứng
A13: 1 | B13: 2 | C13: 3 | D13: 4=5+6 | E13: 5 | F13: 6 | G13: 7 | H13: 8=9+10 | I13: 9 | J13: 10 | K13: 11=8-4 | L13: 12
A14: 1 | B14: Lũy kế từ khởi công | C14: =C15 -> 1891333000 | D14: =D16 -> 1891333000 | E14: =E16 -> 1891333000 | F14: =F16 -> 0
A15: 1 | B15: Ngân sách xã | C15: =+D15 -> 1891333000 | D15: =D16 -> 1891333000 | E15: =E16 -> 1891333000 | F15: =F16 -> 0
A16: 2 | B16: Chi tiết theo năm | C16: =SUM(C17:C17) -> 1891333000 | D16: =SUM(D17:D17) -> 1891333000 | E16: =SUM(E17:E17) -> 1891333000 | F16: =SUM(F17:F17) -> 0
A17: 2.1 | B17: Năm 2026 | C17: =+D17 -> 1891333000 | D17: =+E17+F17 -> 1891333000 | E17: =+'Mẫu 07'!E10 -> 1891333000 | F17: 0
A18: II. Nhận xét, giải thích nguyên nhân chênh lệch, kiến nghị của cơ quan thanh toán:
A19: 1. Nhận xét về việc chấp hành các quy định của nhà nước liên quan đến giải ngân, quyết toán: Đảm bảo theo quy định
A20: 2. Giải thích nguyên nhân chênh lệch (nếu có): Không có
A21: 3. Kiến nghị: Không có
A23: Ngày tháng năm 2026 | G23: Ngày tháng năm 2026
A24: CHỦ ĐẦU TƯ | G24: THỦ TRƯỞNG CƠ QUAN THANH TOÁN
A25: (Ký, đóng dấu, ghi rõ họ tên) | G25: (Ký, đóng dấu, ghi rõ họ tên)

Sheet Mẫu 04
A1: Mẫu số 04/QTDA
A2: ='Mẫu 01'!A2:E2 -> (Ban hành kèm theo Thông tư số 91/2025/TT-BTC ngày 26/9/2025 của Bộ trưởng Bộ Tài chính)
A4: CHI TIẾT CHI PHÍ ĐẦU TƯ ĐỀ NGHỊ QUYẾT TOÁN
E5: Đơn vị tính: đồng
A6: TT | B6: Nội dung chi phí | C6: Tổng mức đầu tư (của dự án, dự án thành phần, tiểu dự án độc lập) được phê duyệt hoặc điều chỉnh lần cuối | D6: Tổng dự toán (dự toán công trình, hạng mục công trình độc lập) được phê duyệt hoặc điều chỉnh lần cuối | E6: Giá trị đề nghị quyết toán | F6: Nguyên nhân tăng, giảm
A7: 1 | B7: =A7+1 -> 2 | C7: =B7+1 -> 3 | D7: =C7+1 -> 4 | E7: =D7+1 -> 5 | F7: =E7+1 -> 6
B8: Tổng số | C8: =ROUND((C9+C10+C11+C15+C20),0) -> 2580982000 | D8: =ROUND((D9+D10+D11+D15+D20),0) -> 2580982000 | E8: =ROUND((E9+E10+E11+E15+E20),0) -> 2517793000 | G8: =E8-D8 -> -63189000
A9: I | B9: Xây dựng | C9: 1990945000 | D9: =C9 -> 1990945000 | E9: 1989754000 | G9: =E8-#REF! -> #REF!
A10: II | B10: Quản lý dự án | C10: 65073000 | D10: =C10 -> 65073000 | E10: 65073000
A11: III | B11: Tư vấn | C11: =ROUND((SUM(C12:C14)),0) -> 425964000 | D11: =ROUND((SUM(D12:D14)),0) -> 425964000 | E11: =ROUND((SUM(E12:E14)),0) -> 425964000 | G11: =E9-D9 -> -1191000
A12: 1 | B12: Chi phí khảo sát, lập báo cáo KTKT | C12: 365130000 | D12: =C12 -> 365130000 | E12: 365130000 | J12: 348701000 | K12: =J12-E12 -> -16429000
A13: 2 | B13: Chi phí thẩm tra báo cáo KTKT | C13: 7631000 | D13: =C13 -> 7631000 | E13: 7631000 | G13: Chưa có PLHĐ giảm tiền so với hợp đồng ban đầu | J13: 37689000 | K13: =J13-E13 -> 30058000
A14: 3 | B14: Chi phí giám sát thi công xây dựng | C14: 53203000 | D14: =C14 -> 53203000 | E14: 53203000 | G14: Theo hợp đồng | H14: =#REF!-E14 -> #REF! | J14: 650228000 | K14: =J14-E14 -> 597025000
A15: VI | B15: Chi phí khác | C15: =ROUND((SUM(C16:C19)),0) -> 37004000 | D15: =ROUND((SUM(D16:D19)),0) -> 37004000 | E15: =ROUND((SUM(E16:E19)),-3) -> 37002000
A16: 1 | B16: Phí thẩm định thiết kế bản vẽ thi công | C16: 2294000 | D16: =+C16 -> 2294000 | E16: 2293000
A17: 2 | B17: Phí thẩm định tổng dự toán | C17: 2218000 | D17: =+C17 -> 2218000 | E17: 2217000
A18: 3 | B18: Chi phí thẩm tra phê duyệt quyết toán | C18: 7006000 | D18: =+C18 -> 7006000 | E18: =+D18 -> 7006000
A19: 4 | B19: Chi phí kiểm toán | C19: 25486000 | D19: =+C19 -> 25486000 | E19: =+D19 -> 25486000
A20: VII | B20: Dự phòng | C20: 61996000 | D20: =C20 -> 61996000 | E20: 0
C21: Hải Phòng, ngày tháng năm 2026
A22: NGƯỜI LẬP BIỂU (Ký, ghi rõ họ tên) | D22: CHỦ ĐẦU TƯ (Ký, đóng dấu, ghi rõ họ tên)

Sheet Mẫu 05
A1: Mẫu số 05/QTDA
A2: ='Mẫu 04'!A2:F2 -> (Ban hành kèm theo Thông tư số 91/2025/TT-BTC ngày 26/9/2025 của Bộ trưởng Bộ Tài chính)
A3: UBND XÃ KIẾN MINH PHÒNG KINH TẾ | E3: CỘNG HÒA XÃ HỘI CHỦ NGHĨA VIỆT NAM Độc lập - Tự do - Hạnh phúc
A5: CHI TIẾT TÀI SẢN HÌNH THÀNH LÀ KẾT QUẢ CỦA QUÁ TRÌNH THỰC HIỆN DỰ ÁN
A6: Số TT | B6: Tên và ký hiệu tài sản; quy mô, công suất (riêng đối với thiết bị ghi rõ thêm chủng loại, xuất xứ, năm sản xuất) | C6: Đơn vị tính | D6: Số lượng | E6: Giá đơn vị (đồng) | F6: Tổng nguyên giá (đồng) | G6: Ngày đưa tài sản vào sử dụng | H6: Loại vốn đầu tư hình thành tài sản | I6: Đơn vị tiếp nhận sử dụng (nếu có)
A7: 1 | B7: ='Mẫu 01'!G8 -> Tên dự án: Nạo vét tuyến kênh từ gốc đa Miếu Bà đến cống Bà Xoàng, thôn Phong Cầu 2, xã Kiến Minh | C7: Công trình | D7: 1 | E7: ='Mẫu 04'!E8 -> 2517793000 | F7: =E7*D7 -> 2517793000 | G7: 03/03/2026 | H7: Ngân sách xã | I7: Phòng Kinh tế xã Kiến Minh
G8: Hải Phòng, ngày tháng năm 2026
A9: NGƯỜI LẬP BIỂU (Ký, ghi rõ họ tên) | G9: CHỦ ĐẦU TƯ (Ký, đóng dấu, ghi rõ họ tên)

Sheet Mẫu 06
A1: Mẫu số 06/QTDA
A2: ='Mẫu 05'!A2:I2 -> (Ban hành kèm theo Thông tư số 91/2025/TT-BTC ngày 26/9/2025 của Bộ trưởng Bộ Tài chính)
A3: UBND XÃ KIẾN MINH PHÒNG KINH TẾ | D3: CỘNG HÒA XÃ HỘI CHỦ NGHĨA VIỆT NAM Độc lập - Tự do - Hạnh phúc
A5: CHI TIẾT VẬT TƯ, VẬT LIỆU, THIẾT BỊ TỒN ĐỌNG
A7: Số TT | B7: Danh mục | C7: Đơn vị tính | D7: Số lượng | E7: Giá đơn vị (đồng) | F7: Giá trị còn lại (đồng) | G7: Đơn vị tiếp nhận hoặc xử lý theo quy định (nếu có)
A8: I | B8: Vật tư, vật liệu, thiết bị tồn đọng giao cho đơn vị tiếp nhận
A9: 1 | B9: Không có
A10: 2 | B10: Không có
A11: II | B11: Vật tư, vật liệu, thiết bị tồn đọng xử lý theo quy định
A12: 1 | B12: Không có
A13: 2 | B13: Không có
D14: Hải Phòng, ngày tháng năm 2026
A15: NGƯỜI LẬP BIỂU (Ký, ghi rõ họ tên) | E15: CHỦ ĐẦU TƯ (Ký, đóng dấu, ghi rõ họ tên)

Sheet Mẫu 07
A1: Mẫu số 07/QTDA
A2: ='Mẫu 05'!A2:I2 -> (Ban hành kèm theo Thông tư số 91/2025/TT-BTC ngày 26/9/2025 của Bộ trưởng Bộ Tài chính)
A3: UBND XÃ KIẾN MINH PHÒNG KINH TẾ | D3: CỘNG HÒA XÃ HỘI CHỦ NGHĨA VIỆT NAM Độc lập - Tự do - Hạnh phúc
A5: TÌNH HÌNH CÔNG NỢ CỦA DỰ ÁN
F6: Đơn vị tính: đồng
A7: Số TT | B7: Tên cá nhân, đơn vị thực hiện | C7: Nội dung công việc, hợp đồng thực hiện | D7: Giá trị đề nghị quyết toán | E7: Vốn đã giải ngân | F7: Công nợ đến ngày khóa sổ lập báo cáo quyết toán | H7: Ghi chú
F8: Phải thu | G8: Phải trả
A9: 1 | B9: 2 | C9: 3 | D9: 4 | E9: 5 | F9: 6=5-4 | G9: 7= 4-5 | H9: 8
A10: 1 | B10: Công ty TNHH xây dựng Định Sơn | C10: Thi công xây dựng, Hợp đồng số 06.1.TLNĐ/2026/HĐTCXD ngày 06/01/2026 | D10: ='Mẫu 04'!E9 -> 1989754000 | E10: 1891333000 | G10: =IF((D10-E10)<0,0,(D10-E10)) -> 98421000 | J10: 597000000
A11: 2 | B11: Công ty CP tư vấn kiến trúc xây dựng Hải Nguyên | C11: =_xlfn.CONCAT("Tư vấn quản lý dự án.", 'Mẫu 02'!C17) -> Tư vấn quản lý dự án.Hợp đồng số 05.1/2026/HĐTVQLDA ngày 05/01/2026 | D11: ='Mẫu 04'!E10 -> 65073000 | E11: 61000000 | F11: =IF((E11-D11)<0,0,(E11-D11)) -> 0 | G11: =IF((D11-E11)<0,0,(D11-E11)) -> 4073000
A12: 3 | B12: Công ty CP Kiến trúc xây dựng Viễn Đông | C12: =_xlfn.CONCAT("Tư vấn khảo sát, lập báo cáo KTKT.",'Mẫu 02'!C20 ) -> Tư vấn khảo sát, lập báo cáo KTKT.Hợp đồng số 30.12/2025/HĐ-TVTK ngày 30/12/2025 | D12: ='Mẫu 04'!E12 -> 365130000 | E12: 365130000 | F12: =IF((E12-D12)<0,0,(E12-D12)) -> 0 | G12: =IF((D12-E12)<0,0,(D12-E12)) -> 0
A13: 4 | B13: Công ty CP tư vấn xây dựng và dịch vụ Hải Phòng | C13: =_xlfn.CONCAT("Tư vấn thẩm tra báo cáo KTKT.",'Mẫu 02'!C23) -> Tư vấn thẩm tra báo cáo KTKT.Hợp đồng số 30.12/2025/HĐ-TVTTr ngày 30/12/2025 | D13: ='Mẫu 04'!E13 -> 7631000 | E13: 7631000 | F13: =IF((E13-D13)<0,0,(E13-D13)) -> 0 | G13: =IF((D13-E13)<0,0,(D13-E13)) -> 0
A14: 5 | B14: Công ty CP tư vấn xây dựng và dịch vụ Hải Phòng | C14: =_xlfn.CONCAT("Giám sát thi công xây dựng công trình.",'Mẫu 02'!C26) -> Giám sát thi công xây dựng công trình.Hợp đồng số 05.1/2026/HĐTVGS ngày 05/01/2026 | D14: ='Mẫu 04'!E14 -> 53203000 | E14: 50000000 | F14: =IF((E14-D14)<0,0,(E14-D14)) -> 0 | G14: =IF((D14-E14)<0,0,(D14-E14)) -> 3203000 | J14: =E10+E11+#REF!+#REF!+E14+#REF!+#REF!+#REF! -> #REF!
A15: 7 | B15: Phòng Kinh tế xã | C15: Phí thẩm định thiết kế bản vẽ thi công | D15: =+'Mẫu 04'!E16 -> 2293000 | E15: 0 | F15: =IF((E15-D15)<0,0,(E15-D15)) -> 0 | G15: =IF((D15-E15)<0,0,(D15-E15)) -> 2293000
C16: Phí thẩm định tổng dự toán | D16: =+'Mẫu 04'!E17 -> 2217000 | E16: 0 | F16: =IF((E16-D16)<0,0,(E16-D16)) -> 0 | G16: =IF((D16-E16)<0,0,(D16-E16)) -> 2217000
C17: Chi phí thẩm tra phê duyệt quyết toán | D17: =+'Mẫu 04'!E18 -> 7006000 | E17: 0 | F17: =IF((E17-D17)<0,0,(E17-D17)) -> 0 | G17: =IF((D17-E17)<0,0,(D17-E17)) -> 7006000 | I17: =E18+F18 -> 2375094000
B18: Tổng cộng | D18: =ROUND(SUM(D10:D17),0) -> 2492307000 | E18: =SUM(E10:E17) -> 2375094000 | F18: =SUM(F10:F17) -> 0 | G18: =SUM(G10:G17) -> 117213000 | J18: =D18-E18 -> 117213000
E19: Hải Phòng, ngày tháng năm 2026
A20: NGƯỜI LẬP BIỂU (Ký, ghi rõ họ tên) | E20: CHỦ ĐẦU TƯ (Ký, đóng dấu, ghi rõ họ tên)
