Workbook

Sheet SGV

Sheet TH KL
A1: BẢNG TỔNG HỢP KHỐI LƯỢNG
A2: =KLCN!A2 -> CÔNG TRÌNH: SỬA CHỮA HỆ THỐNG KÊNH XÂY TRÊN ĐỊA BÀN XÃ KIẾN MINH
A3: =KLCN!A3 -> VỊ TRÍ XÂY DỰNG: XÃ KIẾN MINH - TP HẢI PHÒNG
A5: STT | B5: Danh mục | C5: Đơn vị | D5: Số bộ phân giống nhau | E5: Kích thước | H5: Khối lượng 1 bộ phận | I5: Khối lượn toàn bộ
E6: Dài (m) | F6: Rộng (m) | G6: Cao (m)
A7: (1) | B7: (2) | C7: (3) | D7: (4) | E7: (5) | F7: (6) | G7: (7) | H7: (8) | I7: (9)
A8: 1 | B8: Đực phá lớp vữa trát cũ | C8: m2 | I8: =SUM(H9:H9) -> 2754.6835
E9: Theo bảng KLCN | H9: =KLCN!H158 -> 2754.6835
B10: Vận chuyển vật liệu phá dỡ thủ công, cự ly trung bình 250 m, sau đó vận chuyển đi bằng oto 5T cự ly 5km
A11: 2 | B11: Nạo vét bùn đáy kênh bằng thủ công | C11: m3 | I11: =H12 -> 254.0525
E12: Theo bảng KLCN | H12: =KLCN!H159 -> 254.0525
A13: 3 | B13: Đổ bê tông đáy kênh | C13: m3 | I13: =SUM(H14:H14) -> 62.552
E14: Theo bảng KLCN | H14: =KLCN!H160 -> 62.552
A15: 4 | B15: Trát tường kênh xây dày 1,5mm | C15: m2 | I15: =H16 -> 2410.704
E16: Theo bảng KLCN | H16: =KLCN!H161 -> 2410.704
A17: 5 | B17: Láng VXM đáy kênh | C17: m2 | I17: =H18 -> 882.4925
E18: Theo bảng KLCN | H18: =KLCN!H162 -> 882.4925
A19: 6 | B19: Phá bỏ thanh giằng cũ, tường kênh nứt hỏng | C19: m3 | I19: =SUM(H20:H31) -> 97.140288
A20: * | B20: Thanh giằng cũ | H20: =I33 -> 3.420288
A21: * | B21: Tường kênh
B22: + Tuyến kênh sau TB Đại Đồng
B23: Bờ phải từ cọc 1 đến cọc 3 | E23: 50 | F23: 0.22 | G23: 0.8 | H23: =G23*F23*E23 -> 8.8
B24: + Tuyến kênh sau TB Đại Đồng 2 (đoạn 2)
B25: Bờ phải từ cọc A+12,5m đến cọc 4+12,5m | E25: 160 | F25: 0.22 | G25: 0.8 | H25: =G25*F25*E25 -> 28.16
B26: Bờ trái từ cọc 4+12,5m đến cọc 7 | E26: 60 | F26: 0.22 | G26: 0.8 | H26: =G26*F26*E26 -> 10.56
B27: Bờ trái từ cọc 14 đến cọc 17 | E27: 75 | F27: 0.22 | G27: 0.8 | H27: =G27*F27*E27 -> 13.2
B28: + Tuyến kênh sau TB Đại Đồng 2 (đoạn 1)
B29: Bờ phải từ cọc 1 đến cọc 3 | E29: 50 | F29: 0.22 | G29: 0.8 | H29: =G29*F29*E29 -> 8.8
B30: Bờ trái từ cọc 4 đến cọc 6+12,5m | E30: 62.5 | F30: 0.22 | G30: 0.8 | H30: =G30*F30*E30 -> 11
B31: Bờ trái từ cọc 10 đến cọc 13 | E31: 75 | F31: 0.22 | G31: 0.8 | H31: =G31*F31*E31 -> 13.2
A32: 7 | B32: Thay thế thanh giằng cũ
A33: * | B33: BT giằng M200# đá 1x2 đúc sẵn | C33: m3 | D33: =KLCN!H164 -> 296.9 | E33: 0.8 | F33: 0.12 | G33: 0.12 | H33: =G33*F33*E33 -> 0.01152 | I33: =H33*D33 -> 3.420288
A34: * | B34: Ván khuôn thép thanh giằng | C34: m2 | I34: =I35+I36 -> 86.7168
D35: =D33*2 -> 593.8 | E35: 0.12 | F35: 0.12 | H35: =F35*E35 -> 0.0144 | I35: 1.2096
D36: =D33*3 -> 890.7 | E36: 0.8 | F36: 0.12 | H36: =F36*E36 -> 0.096 | I36: =H36*D36 -> 85.5072
A37: * | B37: Thép tròn d<=10 | C37: kg | D37: =D33 -> 296.9 | G37: 4.93 | H37: kg | I37: =G37*D37 -> 1463.717
A38: * | B38: Lắp dựng giằng < 50kg | C38: cái | I38: =D33 -> 296.9
A39: 8 | B39: Đắp đất lưng tường, đắp đất mua tại địa phương, đắp đầm cóc, hệ số đầm nén K>=0,90 | C39: m3 | I39: =KLCN!H163 -> 379.6785
E40: Theo bảng KLCN
A41: 9 | B41: Xây lại đoạn kênh bị đổ dài 78m (sau TB Đai Đồng), xây mới đoạn kênh 53m (sau TB Đại Đồng 2 đoạn 1) và các đoạn kênh bị hư hỏng
A42: * | B42: Đào móng kênh bằng thủ công | C42: m3 | I42: 55
A43: * | B43: Đóng cọc tre dài 2,8m, D6-8cm, gia cố nền | C43: Cọc | D43: 1 | E43: =78+53 -> 131 | F43: 1.3 | G43: 25 | H43: =E43*F43*G43 -> 4257.5 | I43: =H43*D43 -> 4257.5
A44: * | B44: Cát đen lót móng | C44: m3 | D44: 1 | E44: =78+53 -> 131 | F44: 1.3 | G44: 0.05 | H44: =E44*F44*G44 -> 8.515 | I44: =H44*D44 -> 8.515
A45: * | B45: Bê tông M250 đá 1x2 dày 15cm đáy kênh | C45: m3 | D45: 1 | E45: =78+53 -> 131 | F45: 1.3 | G45: 0.15 | H45: =E45*F45*G45 -> 25.545 | I45: =H45*D45 -> 25.545
A46: * | B46: Ván khuôn đổ bê tông | C46: m2 | I46: =3.72*13.1 -> 48.732
A47: * | B47: Nilong lót | C47: m2 | I47: =13*13.1 -> 170.3
A48: * | B48: Gạch xây VXM M75, tường kênh dày 22cm | C48: m3 | I48: =SUM(H49:H51) -> 147.365
B49: Tuyến kênh sau TB Đại Đồng | H49: =3.45*(13.1+5) -> 62.445
B50: Tuyến kênh sau TB Đại Đồng 2 (đoạn 2) | H50: =H25+H26+H27 -> 51.92
B51: Tuyến kênh sau TB Đại Đồng 2 (đoạn 1) | H51: =H30++H31+H29 -> 33
A52: * | B52: Trát vữa xi măng M75 dày 1,5cm | C52: m2 | I52: =SUM(H53:H55) -> 1751.64
B53: Tuyến kênh sau TB Đại Đồng | H53: =26.4*(13.1+5) -> 477.84
B54: Tuyến kênh sau TB Đại Đồng 2 (đoạn 2) | H54: =26.4*29.5 -> 778.8
B55: Tuyến kênh sau TB Đại Đồng 2 (đoạn 1) | H55: =26.4*18.75 -> 495
A56: * | B56: Giấy dầu, nhựa đường làm khe lún | C56: m2 | I56: =SUM(H57:H59) -> 36.4925
B57: Tuyến kênh sau TB Đại Đồng | H57: =0.55*(13.1+5) -> 9.955
B58: Tuyến kênh sau TB Đại Đồng 2 (đoạn 2) | H58: =0.55*29.5 -> 16.225
B59: Tuyến kênh sau TB Đại Đồng 2 (đoạn 1) | H59: =0.55*18.75 -> 10.3125
A61: Chú ý | B61: Tất cả vật liệu thi công kênh xây, vận chuyển bộ, hoặc vận chuyển bằng phương tiện thô sơ cự ly 250m

Sheet KLCN
A1: BẢNG TÍNH KHỐI LƯỢNG CẮT NGANG
A2: CÔNG TRÌNH: SỬA CHỮA HỆ THỐNG KÊNH XÂY TRÊN ĐỊA BÀN XÃ KIẾN MINH
A3: VỊ TRÍ XÂY DỰNG: XÃ KIẾN MINH - TP HẢI PHÒNG
A5: Mặt cắt | B5: Khoảng cách | C5: Áp dụng | D5: Phá lớp vữa trát tường cũ | F5: Nạo vét đáy kênh | H5: Bê tông đáy kênh | J5: Trát tường kênh xây 1,5cm | L5: Láng VXM dày 3cm | N5: Đất đắp lưng tường
D6: (m) | E6: (m2) | F6: (m2) | G6: (m3) | H6: (m2) | I6: (m3) | J6: (m) | K6: (m2) | L6: (m) | M6: (m2) | N6: (m2) | O6: (m3)
A7: I. Tuyến kênh sau trạm bơm Đại đồng
A8: Akx | C8: =(B9)/2 -> 12.5 | D8: 0 | E8: =D8*C8 -> 0 | F8: 0.23 | G8: =F8*C8 -> 2.875 | H8: 0 | I8: =H8*C8 -> 0 | J8: 0 | K8: =J8*C8 -> 0 | L8: 0 | M8: =L8*C8 -> 0 | N8: 0 | O8: =N8*C8 -> 0
B9: 25
A10: 1 | C10: =(B11+B9)/2 -> 25 | D10: 1.2 | E10: =D10*C10 -> 30 | F10: 0.13 | G10: =F10*C10 -> 3.25 | H10: 0.04 | I10: =H10*C10 -> 1 | J10: 1.15 | K10: =J10*C10 -> 28.75 | L10: 0.77 | M10: =L10*C10 -> 19.25 | N10: 0.24 | O10: =N10*C10 -> 6
B11: 25
A12: 2 | C12: =(B13+B11)/2 -> 25 | D12: 1.32 | E12: =D12*C12 -> 33 | F12: 0.19 | G12: =F12*C12 -> 4.75 | H12: 0.09 | I12: =H12*C12 -> 2.25 | J12: 1.2 | K12: =J12*C12 -> 30 | L12: 0.75 | M12: =L12*C12 -> 18.75 | N12: 0.26 | O12: =N12*C12 -> 6.5
B13: 25
A14: 3 | C14: =(B15+B13)/2 -> 25 | D14: 1.34 | E14: =D14*C14 -> 33.5 | F14: 0.19 | G14: =F14*C14 -> 4.75 | H14: 0.09 | I14: =H14*C14 -> 2.25 | J14: 1.23 | K14: =J14*C14 -> 30.75 | L14: 0.8 | M14: =L14*C14 -> 20 | N14: 0.27 | O14: =N14*C14 -> 6.75
B15: 25
A16: 4 | C16: =(B17+B15)/2 -> 25 | D16: 2.19 | E16: =D16*C16 -> 54.75 | F16: 0.2 | G16: =F16*C16 -> 5 | H16: 0.09 | I16: =H16*C16 -> 2.25 | J16: 1.93 | K16: =J16*C16 -> 48.25 | L16: 0.7 | M16: =L16*C16 -> 17.5 | N16: 0 | O16: =N16*C16 -> 0
B17: 25
A18: 5 | C18: =(B19+B17)/2 -> 25 | D18: 2.68 | E18: =D18*C18 -> 67 | F18: 0.18 | G18: =F18*C18 -> 4.5 | H18: 0.07 | I18: =H18*C18 -> 1.75 | J18: 2.2 | K18: =J18*C18 -> 55 | L18: 0.73 | M18: =L18*C18 -> 18.25 | N18: 0.39 | O18: =N18*C18 -> 9.75
B19: 25
A20: 6 | C20: =(B21+B19)/2 -> 25 | D20: 2.65 | E20: =D20*C20 -> 66.25 | F20: 0.18 | G20: =F20*C20 -> 4.5 | H20: 0.06 | I20: =H20*C20 -> 1.5 | J20: 2.24 | K20: =J20*C20 -> 56 | L20: 0.7 | M20: =L20*C20 -> 17.5 | N20: 0 | O20: =N20*C20 -> 0
B21: 25
A22: 7 | C22: =(B23+B21)/2 -> 25 | D22: 2.48 | E22: =D22*C22 -> 62 | F22: 0.19 | G22: =F22*C22 -> 4.75 | H22: 0.06 | I22: =H22*C22 -> 1.5 | J22: 2.18 | K22: =J22*C22 -> 54.5 | L22: 0.73 | M22: =L22*C22 -> 18.25 | N22: 0.24 | O22: =N22*C22 -> 6
B23: 25
A24: 8 | C24: =(B25+B23)/2 -> 25 | D24: 2.46 | E24: =D24*C24 -> 61.5 | F24: 0.18 | G24: =F24*C24 -> 4.5 | H24: 0.04 | I24: =H24*C24 -> 1 | J24: 2.25 | K24: =J24*C24 -> 56.25 | L24: 0.7 | M24: =L24*C24 -> 17.5 | N24: 0 | O24: =N24*C24 -> 0
B25: 25
A26: 9 | C26: =(B27+B25)/2 -> 25 | D26: 2.26 | E26: =D26*C26 -> 56.5 | F26: 0.18 | G26: =F26*C26 -> 4.5 | H26: 0.04 | I26: =H26*C26 -> 1 | J26: 2.16 | K26: =J26*C26 -> 54 | L26: 0.7 | M26: =L26*C26 -> 17.5 | N26: 0 | O26: =N26*C26 -> 0
B27: 25
A28: 10 | C28: =(B29+B27)/2 -> 25 | D28: 2.34 | E28: =D28*C28 -> 58.5 | F28: 0.22 | G28: =F28*C28 -> 5.5 | H28: 0.06 | I28: =H28*C28 -> 1.5 | J28: 2.18 | K28: =J28*C28 -> 54.5 | L28: 0.7 | M28: =L28*C28 -> 17.5 | N28: 0 | O28: =N28*C28 -> 0
B29: 25
A30: 11 | C30: =(B31+B29)/2 -> 25 | D30: 2.29 | E30: =D30*C30 -> 57.25 | F30: 0.13 | G30: =F30*C30 -> 3.25 | H30: 0.04 | I30: =H30*C30 -> 1 | J30: 2.18 | K30: =J30*C30 -> 54.5 | L30: 0.7 | M30: =L30*C30 -> 17.5 | N30: 0 | O30: =N30*C30 -> 0
B31: 25
A32: 12 | C32: =(B33+B31)/2 -> 25 | D32: 2.27 | E32: =D32*C32 -> 56.75 | F32: 0.23 | G32: =F32*C32 -> 5.75 | H32: 0.05 | I32: =H32*C32 -> 1.25 | J32: 2.12 | K32: =J32*C32 -> 53 | L32: 0.7 | M32: =L32*C32 -> 17.5 | N32: 0 | O32: =N32*C32 -> 0
B33: 25
A34: 13 | C34: =(B35+B33)/2 -> 25 | D34: 2.36 | E34: =D34*C34 -> 59 | F34: 0.22 | G34: =F34*C34 -> 5.5 | H34: 0.04 | I34: =H34*C34 -> 1 | J34: 2.28 | K34: =J34*C34 -> 57 | L34: 0.7 | M34: =L34*C34 -> 17.5 | N34: 0 | O34: =N34*C34 -> 0
B35: 25
A36: 14 | C36: =(B37+B35)/2 -> 17.15 | D36: 2.41 | E36: =D36*C36 -> 41.3315 | F36: 0.23 | G36: =F36*C36 -> 3.9445 | H36: 0.04 | I36: =H36*C36 -> 0.686 | J36: 2.2 | K36: =J36*C36 -> 37.73 | L36: 0.7 | M36: =L36*C36 -> 12.005 | N36: 0 | O36: =N36*C36 -> 0
B37: 9.3
A38: an | C38: =(B39+B37)/2 -> 12.5 | D38: 0 | E38: =D38*C38 -> 0 | F38: 0 | G38: =F38*C38 -> 0 | H38: 0 | I38: =H38*C38 -> 0 | J38: 0 | K38: =J38*C38 -> 0 | L38: 0.6 | M38: =L38*C38 -> 7.5 | N38: 0 | O38: =N38*C38 -> 0
B39: 15.7
A40: 15 | C40: =(B41+B39)/2 -> 20.35 | D40: 2.22 | E40: =D40*C40 -> 45.177 | F40: 0.22 | G40: =F40*C40 -> 4.477 | H40: 0.04 | I40: =H40*C40 -> 0.814 | J40: 2 | K40: =J40*C40 -> 40.7 | L40: 0.61 | M40: =L40*C40 -> 12.4135 | N40: 0.2 | O40: =N40*C40 -> 4.07
B41: 25
A42: 16 | C42: =(B43+B41)/2 -> 25 | D42: 2.56 | E42: =D42*C42 -> 64 | F42: 0.24 | G42: =F42*C42 -> 6 | H42: 0.06 | I42: =H42*C42 -> 1.5 | J42: 2.07 | K42: =J42*C42 -> 51.75 | L42: 0.62 | M42: =L42*C42 -> 15.5 | N42: 0.23 | O42: =N42*C42 -> 5.75
B43: 25
A44: 17 | C44: =(B45+B43)/2 -> 25 | D44: 2.6 | E44: =D44*C44 -> 65 | F44: 0.23 | G44: =F44*C44 -> 5.75 | H44: 0.04 | I44: =H44*C44 -> 1 | J44: 2.18 | K44: =J44*C44 -> 54.5 | L44: 0.6 | M44: =L44*C44 -> 15 | N44: 0.41 | O44: =N44*C44 -> 10.25
B45: 25
A46: 18 | C46: =(B47+B45)/2 -> 25 | D46: 2.09 | E46: =D46*C46 -> 52.25 | F46: 0.17 | G46: =F46*C46 -> 4.25 | H46: 0.04 | I46: =H46*C46 -> 1 | J46: 1.95 | K46: =J46*C46 -> 48.75 | L46: 0.6 | M46: =L46*C46 -> 15 | N46: 0 | O46: =N46*C46 -> 0
B47: 25
A48: 19 | C48: =(B49+B47)/2 -> 25 | D48: 2.39 | E48: =D48*C48 -> 59.75 | F48: 0.17 | G48: =F48*C48 -> 4.25 | H48: 0.05 | I48: =H48*C48 -> 1.25 | J48: 2.06 | K48: =J48*C48 -> 51.5 | L48: 0.6 | M48: =L48*C48 -> 15 | N48: 0.08 | O48: =N48*C48 -> 2
B49: 25
A50: 20 | C50: =(B51+B49)/2 -> 25 | D50: 2.58 | E50: =D50*C50 -> 64.5 | F50: 0.19 | G50: =F50*C50 -> 4.75 | H50: 0.07 | I50: =H50*C50 -> 1.75 | J50: 2.07 | K50: =J50*C50 -> 51.75 | L50: 0.62 | M50: =L50*C50 -> 15.5 | N50: 0.12 | O50: =N50*C50 -> 3
B51: 25
A52: 21 | C52: =(B53+B51)/2 -> 15.95 | D52: 2.48 | E52: =D52*C52 -> 39.556 | F52: 0.14 | G52: =F52*C52 -> 2.233 | H52: 0.04 | I52: =H52*C52 -> 0.638 | J52: 2.04 | K52: =J52*C52 -> 32.538 | L52: 0.6 | M52: =L52*C52 -> 9.57 | N52: 0.23 | O52: =N52*C52 -> 3.6685
B53: 6.9
A54: bn | C54: =(B55+B53)/2 -> 12.5 | D54: 2.48 | E54: =D54*C54 -> 31 | F54: 0.16 | G54: =F54*C54 -> 2 | H54: 0.06 | I54: =H54*C54 -> 0.75 | J54: 2 | K54: =J54*C54 -> 25 | L54: 0.6 | M54: =L54*C54 -> 7.5 | N54: 0.48 | O54: =N54*C54 -> 6
B55: 18.1
A56: 22 | C56: =(B57+B55)/2 -> 21.55 | D56: 0 | E56: =D56*C56 -> 0 | F56: 0 | G56: =F56*C56 -> 0 | H56: 0 | I56: =H56*C56 -> 0 | J56: 0 | K56: =J56*C56 -> 0 | L56: 0 | M56: =L56*C56 -> 0 | N56: 1.57 | O56: =N56*C56 -> 33.8335
B57: 25
A58: 23 | C58: =(B59+B57)/2 -> 25 | D58: 0 | E58: =D58*C58 -> 0 | F58: 0 | G58: =F58*C58 -> 0 | H58: 0 | I58: =H58*C58 -> 0 | J58: 0 | K58: =J58*C58 -> 0 | L58: 0 | M58: =L58*C58 -> 0 | N58: 0.73 | O58: =N58*C58 -> 18.25
B59: 25
A60: 24 | C60: =(B61+B59)/2 -> 16.2 | D60: 0 | E60: =D60*C60 -> 0 | F60: 0 | G60: =F60*C60 -> 0 | H60: 0 | I60: =H60*C60 -> 0 | J60: 0 | K60: =J60*C60 -> 0 | L60: 0 | M60: =L60*C60 -> 0 | N60: 0.74 | O60: =N60*C60 -> 11.988
B61: 7.4
A62: cn | C62: =(B63+B61)/2 -> 4.65 | D62: 0 | E62: =D62*C62 -> 0 | F62: 0 | G62: =F62*C62 -> 0 | H62: 0 | I62: =H62*C62 -> 0 | J62: 0 | K62: =J62*C62 -> 0 | L62: 0 | M62: =L62*C62 -> 0 | N62: 0.73 | O62: =N62*C62 -> 3.3945
B63: 1.9
A64: Bkx | C64: =B63/2 -> 0.95 | D64: 0 | E64: =D64*C64 -> 0 | F64: 0 | G64: =F64*C64 -> 0 | H64: 0 | I64: =H64*C64 -> 0 | J64: 0 | K64: =J64*C64 -> 0 | L64: 0 | M64: =L64*C64 -> 0 | N64: 0 | O64: =N64*C64 -> 0
A65: Tổng | B65: =SUM(B8:B64) -> 609.3 | C65: =SUM(C8:C64) -> 609.3 | E65: =SUM(E8:E64) -> 1158.5645 | G65: =SUM(G8:G64) -> 101.0295 | I65: =SUM(I8:I64) -> 28.638 | K65: =SUM(K8:K64) -> 1026.718 | M65: =SUM(M8:M64) -> 359.4885 | O65: =SUM(O8:O64) -> 137.2045
A66: II. Tuyến kênh sau trạm bơm Đại Đồng 2 (đoạn 1)
A67: Akx1 | C67: =(B68)/2 -> 5 | D67: 2 | E67: =D67*C67 -> 10 | F67: 0.06 | G67: =F67*C67 -> 0.3 | H67: 0 | I67: =H67*C67 -> 0 | J67: 0 | K67: =J67*C67 -> 0 | L67: 0 | M67: =L67*C67 -> 0 | N67: 0 | O67: =N67*C67 -> 0
B68: 10
A69: an | C69: =(B70+B68)/2 -> 12.5 | D69: 2.6 | E69: =D69*C69 -> 32.5 | F69: 0.15 | G69: =F69*C69 -> 1.875 | H69: 0.08 | I69: =H69*C69 -> 1 | J69: 2.02 | K69: =J69*C69 -> 25.25 | L69: 0.6 | M69: =L69*C69 -> 7.5 | N69: 0.09 | O69: =N69*C69 -> 1.125
B70: 15
A71: 1 | C71: =(B72+B70)/2 -> 20 | D71: 1.29 | E71: =D71*C71 -> 25.8 | F71: 0.15 | G71: =F71*C71 -> 3 | H71: 0.07 | I71: =H71*C71 -> 1.4 | J71: 1.17 | K71: =J71*C71 -> 23.4 | L71: 0.62 | M71: =L71*C71 -> 12.4 | N71: 0.27 | O71: =N71*C71 -> 5.4
B72: 25
A73: 2 | C73: =(B74+B72)/2 -> 25 | D73: 1.17 | E73: =D73*C73 -> 29.25 | F73: 0.1 | G73: =F73*C73 -> 2.5 | H73: 0.03 | I73: =H73*C73 -> 0.75 | J73: 1.12 | K73: =J73*C73 -> 28 | L73: 0.58 | M73: =L73*C73 -> 14.5 | N73: 0.2 | O73: =N73*C73 -> 5
B74: 25
A75: 3 | C75: =(B76+B74)/2 -> 25 | D75: 1.2 | E75: =D75*C75 -> 30 | F75: 0.14 | G75: =F75*C75 -> 3.5 | H75: 0.05 | I75: =H75*C75 -> 1.25 | J75: 1.12 | K75: =J75*C75 -> 28 | L75: 0.6 | M75: =L75*C75 -> 15 | N75: 0.18 | O75: =N75*C75 -> 4.5
B76: 25
A77: 4 | C77: =(B78+B76)/2 -> 25 | D77: 1.17 | E77: =D77*C77 -> 29.25 | F77: 0.14 | G77: =F77*C77 -> 3.5 | H77: 0.04 | I77: =H77*C77 -> 1 | J77: 1.11 | K77: =J77*C77 -> 27.75 | L77: 0.63 | M77: =L77*C77 -> 15.75 | N77: 0.35 | O77: =N77*C77 -> 8.75
B78: 25
A79: 5 | C79: =(B80+B78)/2 -> 25 | D79: 1.17 | E79: =D79*C79 -> 29.25 | F79: 0.15 | G79: =F79*C79 -> 3.75 | H79: 0.04 | I79: =H79*C79 -> 1 | J79: 1.11 | K79: =J79*C79 -> 27.75 | L79: 0.61 | M79: =L79*C79 -> 15.25 | N79: 0.36 | O79: =N79*C79 -> 9
B80: 25
A81: 6 | C81: =(B82+B80)/2 -> 25 | D81: 1.2 | E81: =D81*C81 -> 30 | F81: 0.15 | G81: =F81*C81 -> 3.75 | H81: 0.03 | I81: =H81*C81 -> 0.75 | J81: 1.14 | K81: =J81*C81 -> 28.5 | L81: 0.63 | M81: =L81*C81 -> 15.75 | N81: 0.43 | O81: =N81*C81 -> 10.75
B82: 25
A83: 7 | C83: =(B84+B82)/2 -> 25 | D83: 2.42 | E83: =D83*C83 -> 60.5 | F83: 0.17 | G83: =F83*C83 -> 4.25 | H83: 0.03 | I83: =H83*C83 -> 0.75 | J83: 2.01 | K83: =J83*C83 -> 50.25 | L83: 0.65 | M83: =L83*C83 -> 16.25 | N83: 0.26 | O83: =N83*C83 -> 6.5
B84: 25
A85: 8 | C85: =(B86+B84)/2 -> 25 | D85: 2.44 | E85: =D85*C85 -> 61 | F85: 0.16 | G85: =F85*C85 -> 4 | H85: 0.03 | I85: =H85*C85 -> 0.75 | J85: 2.04 | K85: =J85*C85 -> 51 | L85: 0.62 | M85: =L85*C85 -> 15.5 | N85: 0.29 | O85: =N85*C85 -> 7.25
B86: 25
A87: 9 | C87: =(B88+B86)/2 -> 25 | D87: 2.42 | E87: =D87*C87 -> 60.5 | F87: 0.19 | G87: =F87*C87 -> 4.75 | H87: 0.04 | I87: =H87*C87 -> 1 | J87: 2.07 | K87: =J87*C87 -> 51.75 | L87: 0.66 | M87: =L87*C87 -> 16.5 | N87: 0.48 | O87: =N87*C87 -> 12
B88: 25
A89: 10 | C89: =(B90+B88)/2 -> 25 | D89: 1.2 | E89: =D89*C89 -> 30 | F89: 0.19 | G89: =F89*C89 -> 4.75 | H89: 0.06 | I89: =H89*C89 -> 1.5 | J89: 1.08 | K89: =J89*C89 -> 27 | L89: 0.55 | M89: =L89*C89 -> 13.75 | N89: 0.15 | O89: =N89*C89 -> 3.75
B90: 25
A91: 11 | C91: =(B92+B90)/2 -> 25 | D91: 1.23 | E91: =D91*C91 -> 30.75 | F91: 0.18 | G91: =F91*C91 -> 4.5 | H91: 0.03 | I91: =H91*C91 -> 0.75 | J91: 1.19 | K91: =J91*C91 -> 29.75 | L91: 0.6 | M91: =L91*C91 -> 15 | N91: 0.16 | O91: =N91*C91 -> 4
B92: 25
A93: 12 | C93: =(B94+B92)/2 -> 25 | D93: 1.25 | E93: =D93*C93 -> 31.25 | F93: 0.17 | G93: =F93*C93 -> 4.25 | H93: 0.03 | I93: =H93*C93 -> 0.75 | J93: 1.2 | K93: =J93*C93 -> 30 | L93: 0.55 | M93: =L93*C93 -> 13.75 | N93: 0.18 | O93: =N93*C93 -> 4.5
B94: 25
A95: 13 | C95: =(B96+B94)/2 -> 25 | D95: 1.12 | E95: =D95*C95 -> 28 | F95: 0.21 | G95: =F95*C95 -> 5.25 | H95: 0.04 | I95: =H95*C95 -> 1 | J95: 1.05 | K95: =J95*C95 -> 26.25 | L95: 0.6 | M95: =L95*C95 -> 15 | N95: 0.16 | O95: =N95*C95 -> 4
B96: 25
A97: 14 | C97: =(B98+B96)/2 -> 25 | D97: 2.39 | E97: =D97*C97 -> 59.75 | F97: 0.2 | G97: =F97*C97 -> 5 | H97: 0.03 | I97: =H97*C97 -> 0.75 | J97: 2.03 | K97: =J97*C97 -> 50.75 | L97: 0.6 | M97: =L97*C97 -> 15 | N97: 0.12 | O97: =N97*C97 -> 3
B98: 25
A99: 15 | C99: =(B100+B98)/2 -> 21.3 | D99: 2.38 | E99: =D99*C99 -> 50.694 | F99: 0.21 | G99: =F99*C99 -> 4.473 | H99: 0.03 | I99: =H99*C99 -> 0.639 | J99: 1.97 | K99: =J99*C99 -> 41.961 | L99: 0.58 | M99: =L99*C99 -> 12.354 | N99: 0.22 | O99: =N99*C99 -> 4.686
B100: 17.6
A101: bn | C101: =(B102+B100)/2 -> 12.5 | D101: 2.44 | E101: =D101*C101 -> 30.5 | F101: 0.24 | G101: =F101*C101 -> 3 | H101: 0.06 | I101: =H101*C101 -> 0.75 | J101: 1.93 | K101: =J101*C101 -> 24.125 | L101: 0.58 | M101: =L101*C101 -> 7.25 | N101: 0.22 | O101: =N101*C101 -> 2.75
...

Sheet KL  KSDH
A1: BẢNG TỔNG HỢ KHỐI LƯỢNG KHẢO SÁT ĐỊA HÌNH
A2: =KLCN!A2 -> CÔNG TRÌNH: SỬA CHỮA HỆ THỐNG KÊNH XÂY TRÊN ĐỊA BÀN XÃ KIẾN MINH
A3: =KLCN!A3 -> VỊ TRÍ XÂY DỰNG: XÃ KIẾN MINH - TP HẢI PHÒNG
A6: TT | B6: Hạng mục | C6: Cắt | D6: Cắt ngang | K6: BĐ tỷ lệ1:200 | M6: Khống chế | N6: T. chuẩn
C7: dọc | D7: Số | F7: Ch.dài | H7: Tổng | I7: T. cạn | J7: D. nước | K7: T. cạn | L7: D. nước | M7: đ/c cấp 2 | N7: kỹ thuật
C8: (m) | D8: m/c | F8: T.bình | H8: (m) | I8: (m) | J8: (m) | K8: (ha) | L8: (ha) | M8: (điểm) | N8: (km)
A9: 1 | B9: Bình đồ công trình | K9: =+C10*F10/10000*0.3 -> 0.699975 | L9: =K9/0.3*0.7 -> 1.633275 | M9: 0 | N9: =+C11/1000 -> 1.5555
B10: * CD + CN: | C10: =KLCN!B152 -> 1555.5 | D10: =29+21+21 -> 71 | E10: x | F10: 15 | G10: = | H10: =D10*F10 -> 1065 | I10: =H10*0.3 -> 319.5 | J10: =+H10*0.7 -> 745.5
B11: Cộng: | C11: =SUM(C9:C10) -> 1555.5 | H11: =SUM(H9:H10) -> 1065 | I11: =SUM(I9:I10) -> 319.5 | J11: =SUM(J9:J10) -> 745.5 | K11: =SUM(K9:K10) -> 0.699975 | L11: =SUM(L9:L10) -> 1.633275 | M11: =SUM(M9:M10) -> 0 | N11: =SUM(N9:N10) -> 1.5555

Sheet KLCN Đại Đồng
A1: BẢNG KHỐI LƯỢNG CẮT NGANG
A2: TUYẾN KÊNH SAU TRẠM BƠM ĐẠI ĐỒNG
A5: Mặt cắt | B5: Khoảng cách | C5: Áp dụng | D5: Phá lớp vữa trát tường cũ | F5: Nạo vét đáy kênh | H5: Bê tông đáy kênh | J5: Trát tường kênh xây 1,5cm | L5: Láng VXM dày 3cm
D6: (m) | E6: (m2) | F6: (m2) | G6: (m3) | H6: (m2) | I6: (m3) | J6: (m) | K6: (m2) | L6: (m) | M6: (m2)
A7: I. Tuyến kênh sau trạm bơm Đại đồng
A8: Akx | C8: =(B9)/2 -> 12.5 | D8: 0 | E8: =D8*C8 -> 0 | F8: 0 | G8: =F8*C8 -> 0 | H8: 0 | I8: =H8*C8 -> 0 | J8: 0 | K8: =J8*C8 -> 0 | L8: 0 | M8: =L8*C8 -> 0
B9: 25
A10: 1 | C10: =(B11+B9)/2 -> 25 | D10: 2.55 | E10: =D10*C10 -> 63.75 | F10: 0.02 | G10: =F10*C10 -> 0.5 | H10: 0.06 | I10: =H10*C10 -> 1.5 | J10: 2.45 | K10: =J10*C10 -> 61.25 | L10: 0.6 | M10: =L10*C10 -> 15
B11: 25
A12: 2 | C12: =(B13+B11)/2 -> 25 | D12: 2.74 | E12: =D12*C12 -> 68.5 | F12: 0.02 | G12: =F12*C12 -> 0.5 | H12: 0.11 | I12: =H12*C12 -> 2.75 | J12: 2.5 | K12: =J12*C12 -> 62.5 | L12: 0.62 | M12: =L12*C12 -> 15.5
B13: 25
A14: 3 | C14: =(B15+B13)/2 -> 25 | D14: 2.73 | E14: =D14*C14 -> 68.25 | F14: 0.02 | G14: =F14*C14 -> 0.5 | H14: 0.11 | I14: =H14*C14 -> 2.75 | J14: 2.52 | K14: =J14*C14 -> 63 | L14: 0.58 | M14: =L14*C14 -> 14.5
B15: 25
A16: 4 | C16: =(B17+B15)/2 -> 25 | D16: 2.19 | E16: =D16*C16 -> 54.75 | F16: 0.02 | G16: =F16*C16 -> 0.5 | H16: 0.11 | I16: =H16*C16 -> 2.75 | J16: 1.94 | K16: =J16*C16 -> 48.5 | L16: 0.6 | M16: =L16*C16 -> 15
B17: 25
A18: 5 | C18: =(B19+B17)/2 -> 25 | D18: 3.23 | E18: =D18*C18 -> 80.75 | F18: 0.02 | G18: =F18*C18 -> 0.5 | H18: 0.09 | I18: =H18*C18 -> 2.25 | J18: 3.05 | K18: =J18*C18 -> 76.25 | L18: 0.63 | M18: =L18*C18 -> 15.75
B19: 25
A20: 6 | C20: =(B21+B19)/2 -> 25 | D20: 2.65 | E20: =D20*C20 -> 66.25 | F20: 0.02 | G20: =F20*C20 -> 0.5 | H20: 0.08 | I20: =H20*C20 -> 2 | J20: 2.49 | K20: =J20*C20 -> 62.25 | L20: 0.61 | M20: =L20*C20 -> 15.25
B21: 25
A22: 7 | C22: =(B23+B21)/2 -> 25 | D22: 2.83 | E22: =D22*C22 -> 70.75 | F22: 0.02 | G22: =F22*C22 -> 0.5 | H22: 0.08 | I22: =H22*C22 -> 2 | J22: 2.68 | K22: =J22*C22 -> 67 | L22: 0.63 | M22: =L22*C22 -> 15.75
B23: 25
A24: 8 | C24: =(B25+B23)/2 -> 25 | D24: 2.46 | E24: =D24*C24 -> 61.5 | F24: 0.02 | G24: =F24*C24 -> 0.5 | H24: 0.06 | I24: =H24*C24 -> 1.5 | J24: 2.35 | K24: =J24*C24 -> 58.75 | L24: 0.65 | M24: =L24*C24 -> 16.25
B25: 25
A26: 9 | C26: =(B27+B25)/2 -> 25 | D26: 2.26 | E26: =D26*C26 -> 56.5 | F26: 0.02 | G26: =F26*C26 -> 0.5 | H26: 0.06 | I26: =H26*C26 -> 1.5 | J26: 2.16 | K26: =J26*C26 -> 54 | L26: 0.62 | M26: =L26*C26 -> 15.5
B27: 25
A28: 10 | C28: =(B29+B27)/2 -> 25 | D28: 2.18 | E28: =D28*C28 -> 54.5 | F28: 0.02 | G28: =F28*C28 -> 0.5 | H28: 0.06 | I28: =H28*C28 -> 1.5 | J28: 2.18 | K28: =J28*C28 -> 54.5 | L28: 0.06 | M28: =L28*C28 -> 1.5
B29: 25
A30: 11 | C30: =(B31+B29)/2 -> 25 | D30: 2.25 | E30: =D30*C30 -> 56.25 | F30: 0.02 | G30: =F30*C30 -> 0.5 | H30: 0.05 | I30: =H30*C30 -> 1.25 | J30: 2.18 | K30: =J30*C30 -> 54.5 | L30: 0.55 | M30: =L30*C30 -> 13.75
B31: 25
A32: 12 | C32: =(B33+B31)/2 -> 25 | D32: 2.27 | E32: =D32*C32 -> 56.75 | F32: 0.02 | G32: =F32*C32 -> 0.5 | H32: 0.07 | I32: =H32*C32 -> 1.75 | J32: 2.12 | K32: =J32*C32 -> 53 | L32: 0.6 | M32: =L32*C32 -> 15
B33: 25
A34: 13 | C34: =(B35+B33)/2 -> 25 | D34: 2.36 | E34: =D34*C34 -> 59 | F34: 0.02 | G34: =F34*C34 -> 0.5 | H34: 0.03 | I34: =H34*C34 -> 0.75 | J34: 2.33 | K34: =J34*C34 -> 58.25 | L34: 0.55 | M34: =L34*C34 -> 13.75
B35: 25
A36: 14 | C36: =(B37+B35)/2 -> 17.15 | D36: 2.41 | E36: =D36*C36 -> 41.3315 | F36: 0.02 | G36: =F36*C36 -> 0.343 | H36: 0.04 | I36: =H36*C36 -> 0.686 | J36: 2.35 | K36: =J36*C36 -> 40.3025 | L36: 0.6 | M36: =L36*C36 -> 10.29
B37: 9.3
A38: an | C38: =(B39+B37)/2 -> 12.5 | D38: 0 | E38: =D38*C38 -> 0 | F38: 0 | G38: =F38*C38 -> 0 | H38: 0 | I38: =H38*C38 -> 0 | J38: 0 | K38: =J38*C38 -> 0 | L38: 0.6 | M38: =L38*C38 -> 7.5
B39: 15.7
A40: 15 | C40: =(B41+B39)/2 -> 20.35 | D40: 2.52 | E40: =D40*C40 -> 51.282 | F40: 0.02 | G40: =F40*C40 -> 0.407 | H40: 0.04 | I40: =H40*C40 -> 0.814 | J40: 2.45 | K40: =J40*C40 -> 49.8575 | L40: 0.58 | M40: =L40*C40 -> 11.803
B41: 25
A42: 16 | C42: =(B43+B41)/2 -> 25 | D42: 2.96 | E42: =D42*C42 -> 74 | F42: 0.02 | G42: =F42*C42 -> 0.5 | H42: 0.08 | I42: =H42*C42 -> 2 | J42: 2.77 | K42: =J42*C42 -> 69.25 | L42: 0.58 | M42: =L42*C42 -> 14.5
B43: 25
A44: 17 | C44: =(B45+B43)/2 -> 25 | D44: 3.2 | E44: =D44*C44 -> 80 | F44: 0.02 | G44: =F44*C44 -> 0.5 | H44: 0.06 | I44: =H44*C44 -> 1.5 | J44: 3.08 | K44: =J44*C44 -> 77 | L44: 0 | M44: =L44*C44 -> 0
B45: 25
A46: 18 | C46: =(B47+B45)/2 -> 25 | D46: 2.09 | E46: =D46*C46 -> 52.25 | F46: 0.02 | G46: =F46*C46 -> 0.5 | H46: 0.06 | I46: =H46*C46 -> 1.5 | J46: 1.95 | K46: =J46*C46 -> 48.75 | L46: 0 | M46: =L46*C46 -> 0
B47: 25
A48: 19 | C48: =(B49+B47)/2 -> 25 | D48: 2.51 | E48: =D48*C48 -> 62.75 | F48: 0.02 | G48: =F48*C48 -> 0.5 | H48: 0.07 | I48: =H48*C48 -> 1.75 | J48: 2.33 | K48: =J48*C48 -> 58.25 | L48: 0 | M48: =L48*C48 -> 0
B49: 25
A50: 20 | C50: =(B51+B49)/2 -> 25 | D50: 2.78 | E50: =D50*C50 -> 69.5 | F50: 0.02 | G50: =F50*C50 -> 0.5 | H50: 0.08 | I50: =H50*C50 -> 2 | J50: 2.57 | K50: =J50*C50 -> 64.25 | M50: =L50*C50 -> 0
B51: 25
A52: 21 | C52: =(B53+B51)/2 -> 15.95 | D52: 2.88 | E52: =D52*C52 -> 45.936 | F52: 0.02 | G52: =F52*C52 -> 0.319 | H52: 0.06 | I52: =H52*C52 -> 0.957 | J52: 2.74 | K52: =J52*C52 -> 43.703 | M52: =L52*C52 -> 0
B53: 6.9
A54: bn | C54: =(B55+B53)/2 -> 12.5 | D54: 2.88 | E54: =D54*C54 -> 36 | F54: 0.02 | G54: =F54*C54 -> 0.25 | H54: 0.07 | I54: =H54*C54 -> 0.875 | J54: 2.7 | K54: =J54*C54 -> 33.75 | M54: =L54*C54 -> 0
B55: 18.1
A56: 22 | C56: =(B57+B55)/2 -> 21.55 | D56: 0 | E56: =D56*C56 -> 0 | F56: 0 | G56: =F56*C56 -> 0 | H56: 0 | I56: =H56*C56 -> 0 | J56: 0 | K56: =J56*C56 -> 0 | M56: =L56*C56 -> 0
B57: 25
A58: 23 | C58: =(B59+B57)/2 -> 25 | D58: 0 | E58: =D58*C58 -> 0 | F58: 0 | G58: =F58*C58 -> 0 | H58: 0 | I58: =H58*C58 -> 0 | J58: 0 | K58: =J58*C58 -> 0 | M58: =L58*C58 -> 0
B59: 25
A60: 24 | C60: =(B61+B59)/2 -> 16.2 | D60: 0 | E60: =D60*C60 -> 0 | F60: 0 | G60: =F60*C60 -> 0 | H60: 0 | I60: =H60*C60 -> 0 | J60: 0 | K60: =J60*C60 -> 0 | M60: =L60*C60 -> 0
B61: 7.4
A62: cn | C62: =(B63+B61)/2 -> 4.65 | D62: 0 | E62: =D62*C62 -> 0 | F62: 0 | G62: =F62*C62 -> 0 | H62: 0 | I62: =H62*C62 -> 0 | J62: 0 | K62: =J62*C62 -> 0 | M62: =L62*C62 -> 0
B63: 1.9
A64: Bkx | C64: =B63/2 -> 0.95 | D64: 0 | E64: =D64*C64 -> 0 | F64: 0 | G64: =F64*C64 -> 0 | H64: 0 | I64: =H64*C64 -> 0 | J64: 0 | K64: =J64*C64 -> 0 | M64: =L64*C64 -> 0
A65: Tổng | B65: =SUM(B8:B64) -> 609.3 | C65: =SUM(C8:C64) -> 609.3 | E65: =SUM(E8:E64) -> 1330.5495 | G65: =SUM(G8:G64) -> 10.319 | I65: =SUM(I8:I64) -> 36.332 | K65: =SUM(K8:K64) -> 1258.863 | M65: =SUM(M8:M64) -> 226.593
A66: II. Tuyến kênh sau trạm bơm Đại Đồng 2 (đoạn 1)

Sheet KLCN Đại Đồng 2 (đoạn 1)
A1: BẢNG KHỐI LƯỢNG CẮT NGANG
A2: TUYẾN KÊNH SAU TRẠM BƠM ĐẠI ĐỒNG
A5: Mặt cắt | B5: Khoảng cách | C5: Áp dụng | D5: Phá lớp vữa trát tường cũ | F5: Nạo vét đáy kênh | H5: Bê tông đáy kênh | J5: Trát tường kênh xây 1,5cm | L5: Láng VXM dày 3cm
D6: (m) | E6: (m2) | F6: (m2) | G6: (m3) | H6: (m2) | I6: (m3) | J6: (m) | K6: (m2) | L6: (m) | M6: (m2)
A7: Akx1 | C7: =(B8)/2 -> 5 | D7: 2 | E7: =D7*C7 -> 10 | F7: 0.02 | G7: =F7*C7 -> 0.1 | H7: 0 | I7: =H7*C7 -> 0 | J7: 0 | K7: =J7*C7 -> 0 | L7: 0 | M7: =L7*C7 -> 0
B8: 10
A9: an | C9: =(B10+B8)/2 -> 12.5 | D9: 2.75 | E9: =D9*C9 -> 34.375 | F9: 0.02 | G9: =F9*C9 -> 0.25 | H9: 0.1 | I9: =H9*C9 -> 1.25 | J9: 2.47 | K9: =J9*C9 -> 30.875 | L9: 0.6 | M9: =L9*C9 -> 7.5
B10: 15
A11: 1 | C11: =(B12+B10)/2 -> 20 | D11: 2.72 | E11: =D11*C11 -> 54.4 | F11: 0.02 | G11: =F11*C11 -> 0.4 | H11: 0.09 | I11: =H11*C11 -> 1.8 | J11: 2.49 | K11: =J11*C11 -> 49.8 | L11: 0.62 | M11: =L11*C11 -> 12.4
B12: 25
A13: 2 | C13: =(B14+B12)/2 -> 25 | D13: 2.5 | E13: =D13*C13 -> 62.5 | F13: 0.02 | G13: =F13*C13 -> 0.5 | H13: 0.04 | I13: =H13*C13 -> 1 | J13: 2.41 | K13: =J13*C13 -> 60.25 | L13: 0.58 | M13: =L13*C13 -> 14.5
B14: 25
A15: 3 | C15: =(B16+B14)/2 -> 25 | D15: 2.49 | E15: =D15*C15 -> 62.25 | F15: 0.02 | G15: =F15*C15 -> 0.5 | H15: 0.07 | I15: =H15*C15 -> 1.75 | J15: 2.32 | K15: =J15*C15 -> 58 | L15: 0.6 | M15: =L15*C15 -> 15
B16: 25
A17: 4 | C17: =(B18+B16)/2 -> 25 | D17: 2.79 | E17: =D17*C17 -> 69.75 | F17: 0.02 | G17: =F17*C17 -> 0.5 | H17: 0.06 | I17: =H17*C17 -> 1.5 | J17: 2.67 | K17: =J17*C17 -> 66.75 | L17: 0.63 | M17: =L17*C17 -> 15.75
B18: 25
A19: 5 | C19: =(B20+B18)/2 -> 25 | D19: 2.58 | E19: =D19*C19 -> 64.5 | F19: 0.02 | G19: =F19*C19 -> 0.5 | H19: 0.04 | I19: =H19*C19 -> 1 | J19: 2.53 | K19: =J19*C19 -> 63.25 | L19: 0.61 | M19: =L19*C19 -> 15.25
B20: 25
A21: 6 | C21: =(B22+B20)/2 -> 25 | D21: 2.81 | E21: =D21*C21 -> 70.25 | F21: 0.02 | G21: =F21*C21 -> 0.5 | H21: 0.03 | I21: =H21*C21 -> 0.75 | J21: 2.76 | K21: =J21*C21 -> 69 | L21: 0.63 | M21: =L21*C21 -> 15.75
B22: 25
A23: 7 | C23: =(B24+B22)/2 -> 25 | D23: 2.66 | E23: =D23*C23 -> 66.5 | F23: 0.02 | G23: =F23*C23 -> 0.5 | H23: 0.03 | I23: =H23*C23 -> 0.75 | J23: 2.61 | K23: =J23*C23 -> 65.25 | L23: 0.65 | M23: =L23*C23 -> 16.25
B24: 25
A25: 8 | C25: =(B26+B24)/2 -> 25 | D25: 2.63 | E25: =D25*C25 -> 65.75 | F25: 0.02 | G25: =F25*C25 -> 0.5 | H25: 0.03 | I25: =H25*C25 -> 0.75 | J25: 2.59 | K25: =J25*C25 -> 64.75 | L25: 0.62 | M25: =L25*C25 -> 15.5
B26: 25
A27: 9 | C27: =(B28+B26)/2 -> 25 | D27: 2.84 | E27: =D27*C27 -> 71 | F27: 0.02 | G27: =F27*C27 -> 0.5 | H27: 0.04 | I27: =H27*C27 -> 1 | J27: 2.79 | K27: =J27*C27 -> 69.75 | L27: 0.06 | M27: =L27*C27 -> 1.5
B28: 25
A29: 10 | C29: =(B30+B28)/2 -> 25 | D29: 2.45 | E29: =D29*C29 -> 61.25 | F29: 0.02 | G29: =F29*C29 -> 0.5 | H29: 0.08 | I29: =H29*C29 -> 2 | J29: 2.22 | K29: =J29*C29 -> 55.5 | L29: 0.55 | M29: =L29*C29 -> 13.75
B30: 25
A31: 11 | C31: =(B32+B30)/2 -> 25 | D31: 2.4 | E31: =D31*C31 -> 60 | F31: 0.02 | G31: =F31*C31 -> 0.5 | H31: 0.03 | I31: =H31*C31 -> 0.75 | J31: 2.38 | K31: =J31*C31 -> 59.5 | L31: 0.6 | M31: =L31*C31 -> 15
B32: 25
A33: 12 | C33: =(B34+B32)/2 -> 25 | D33: 2.44 | E33: =D33*C33 -> 61 | F33: 0.02 | G33: =F33*C33 -> 0.5 | H33: 0.03 | I33: =H33*C33 -> 0.75 | J33: 2.4 | K33: =J33*C33 -> 60 | L33: 0.55 | M33: =L33*C33 -> 13.75
B34: 25
A35: 13 | C35: =(B36+B34)/2 -> 25 | D35: 2.13 | E35: =D35*C35 -> 53.25 | F35: 0.02 | G35: =F35*C35 -> 0.5 | H35: 0.04 | I35: =H35*C35 -> 1 | J35: 2.05 | K35: =J35*C35 -> 51.25 | L35: 0.6 | M35: =L35*C35 -> 15
B36: 25
A37: 14 | C37: =(B38+B36)/2 -> 25 | D37: 2.36 | E37: =D37*C37 -> 59 | F37: 0.02 | G37: =F37*C37 -> 0.5 | H37: 0.03 | I37: =H37*C37 -> 0.75 | J37: 2.31 | K37: =J37*C37 -> 57.75 | L37: 0.6 | M37: =L37*C37 -> 15
B38: 25
A39: 15 | C39: =(B40+B38)/2 -> 21.3 | D39: 2.53 | E39: =D39*C39 -> 53.889 | F39: 0.02 | G39: =F39*C39 -> 0.426 | H39: 0.05 | I39: =H39*C39 -> 1.065 | J39: 2.42 | K39: =J39*C39 -> 51.546 | L39: 0.58 | M39: =L39*C39 -> 12.354
B40: 17.6
A41: bn | C41: =(B42+B40)/2 -> 12.5 | D41: 2.59 | E41: =D41*C41 -> 32.375 | F41: 0.02 | G41: =F41*C41 -> 0.25 | H41: 0.08 | I41: =H41*C41 -> 1 | J41: 2.38 | K41: =J41*C41 -> 29.75 | L41: 0.58 | M41: =L41*C41 -> 7.25
B42: 7.4
A43: 16 | C43: =(B44+B42)/2 -> 16.2 | D43: 0 | E43: =D43*C43 -> 0 | F43: 0 | G43: =F43*C43 -> 0 | H43: 0 | I43: =H43*C43 -> 0 | J43: 0 | K43: =J43*C43 -> 0 | L43: 0 | M43: =L43*C43 -> 0
B44: 25
A45: 17 | C45: =(B46+B44)/2 -> 23.1 | D45: 0 | E45: =D45*C45 -> 0 | F45: 0 | G45: =F45*C45 -> 0 | H45: 0 | I45: =H45*C45 -> 0 | J45: 0 | K45: =J45*C45 -> 0 | L45: 0 | M45: =L45*C45 -> 0
B46: 21.2
A47: Bkx1 | C47: =(B46)/2 -> 10.6 | D47: 0 | E47: =D47*C47 -> 0 | F47: 0 | G47: =F47*C47 -> 0 | H47: 0 | I47: =H47*C47 -> 0 | J47: 0 | K47: =J47*C47 -> 0 | L47: 0 | M47: =L47*C47 -> 0
A48: Tổng | B48: =SUM(B7:B47) -> 446.2 | C48: =SUM(C7:C47) -> 446.2 | E48: =SUM(E7:E47) -> 1012.039 | G48: =SUM(G7:G47) -> 7.926 | I48: =SUM(I7:I47) -> 18.865 | K48: =SUM(K7:K47) -> 962.971 | M48: =SUM(M7:M47) -> 221.504

Sheet KLCN Đại Đồng 2 (đoạn 2)
A1: BẢNG KHỐI LƯỢNG CẮT NGANG
A2: TUYẾN KÊNH SAU TRẠM BƠM ĐẠI ĐỒNG
A5: Mặt cắt | B5: Khoảng cách | C5: Áp dụng | D5: Phá lớp vữa trát tường cũ | F5: Nạo vét đáy kênh | H5: Bê tông đáy kênh | J5: Trát tường kênh xây 1,5cm | L5: Láng VXM dày 3cm
D6: (m) | E6: (m2) | F6: (m2) | G6: (m3) | H6: (m2) | I6: (m3) | J6: (m) | K6: (m2) | L6: (m) | M6: (m2)
A7: Akx2 | C7: =(B8)/2 -> 12.5 | D7: 2.5 | E7: =D7*C7 -> 31.25 | F7: 0.02 | G7: =F7*C7 -> 0.25 | H7: 0.09 | I7: =H7*C7 -> 1.125 | J7: 2.34 | K7: =J7*C7 -> 29.25 | L7: 0.8 | M7: =L7*C7 -> 10
B8: 25
A9: 1 | C9: =(B10+B8)/2 -> 25 | D9: 3.01 | E9: =D9*C9 -> 75.25 | F9: 0.02 | G9: =F9*C9 -> 0.5 | H9: 0.04 | I9: =H9*C9 -> 1 | J9: 2.92 | K9: =J9*C9 -> 73 | L9: 0.55 | M9: =L9*C9 -> 13.75
B10: 25
A11: 2 | C11: =(B12+B10)/2 -> 25 | D11: 2.88 | E11: =D11*C11 -> 72 | F11: 0.02 | G11: =F11*C11 -> 0.5 | H11: 0.06 | I11: =H11*C11 -> 1.5 | J11: 2.74 | K11: =J11*C11 -> 68.5 | L11: 0.58 | M11: =L11*C11 -> 14.5
B12: 25
A13: 3 | C13: =(B14+B12)/2 -> 25 | D13: 2.99 | E13: =D13*C13 -> 74.75 | F13: 0.02 | G13: =F13*C13 -> 0.5 | H13: 0.06 | I13: =H13*C13 -> 1.5 | J13: 2.84 | K13: =J13*C13 -> 71 | L13: 0.55 | M13: =L13*C13 -> 13.75
B14: 25
A15: 4 | C15: =(B16+B14)/2 -> 25 | D15: 2.78 | E15: =D15*C15 -> 69.5 | F15: 0.02 | G15: =F15*C15 -> 0.5 | H15: 0.06 | I15: =H15*C15 -> 1.5 | J15: 2.64 | K15: =J15*C15 -> 66 | L15: 0.58 | M15: =L15*C15 -> 14.5
B16: 25
A17: 5 | C17: =(B18+B16)/2 -> 25 | D17: 2.59 | E17: =D17*C17 -> 64.75 | F17: 0.01 | G17: =F17*C17 -> 0.25 | H17: 0.04 | I17: =H17*C17 -> 1 | J17: 2.48 | K17: =J17*C17 -> 62 | L17: 0.43 | M17: =L17*C17 -> 10.75
B18: 25
A19: 6 | C19: =(B20+B18)/2 -> 25 | D19: 2.39 | E19: =D19*C19 -> 59.75 | F19: 0.02 | G19: =F19*C19 -> 0.5 | H19: 0.05 | I19: =H19*C19 -> 1.25 | J19: 2.29 | K19: =J19*C19 -> 57.25 | L19: 0.6 | M19: =L19*C19 -> 15
B20: 25
A21: 7 | C21: =(B22+B20)/2 -> 25 | D21: 2.62 | E21: =D21*C21 -> 65.5 | F21: 0.02 | G21: =F21*C21 -> 0.5 | H21: 0.06 | I21: =H21*C21 -> 1.5 | J21: 2.45 | K21: =J21*C21 -> 61.25 | L21: 0.56 | M21: =L21*C21 -> 14
B22: 25
A23: 8 | C23: =(B24+B22)/2 -> 25 | D23: 2.44 | E23: =D23*C23 -> 61 | F23: 0.02 | G23: =F23*C23 -> 0.5 | H23: 0.03 | I23: =H23*C23 -> 0.75 | J23: 2.38 | K23: =J23*C23 -> 59.5 | L23: 0.53 | M23: =L23*C23 -> 13.25
B24: 25
A25: 9 | C25: =(B26+B24)/2 -> 25 | D25: 2.45 | E25: =D25*C25 -> 61.25 | F25: 0.03 | G25: =F25*C25 -> 0.75 | H25: 0.02 | I25: =H25*C25 -> 0.5 | J25: 2.48 | K25: =J25*C25 -> 62 | L25: 0.57 | M25: =L25*C25 -> 14.25
B26: 25
A27: 10 | C27: =(B28+B26)/2 -> 25 | D27: 2.34 | E27: =D27*C27 -> 58.5 | F27: 0.02 | G27: =F27*C27 -> 0.5 | H27: 0.05 | I27: =H27*C27 -> 1.25 | J27: 2.24 | K27: =J27*C27 -> 56 | L27: 0.6 | M27: =L27*C27 -> 15
B28: 25
A29: 11 | C29: =(B30+B28)/2 -> 25 | D29: 2.29 | E29: =D29*C29 -> 57.25 | F29: 0.02 | G29: =F29*C29 -> 0.5 | H29: 0.04 | I29: =H29*C29 -> 1 | J29: 2.22 | K29: =J29*C29 -> 55.5 | L29: 0.6 | M29: =L29*C29 -> 15
B30: 25
A31: 12 | C31: =(B32+B30)/2 -> 25 | D31: 2.37 | E31: =D31*C31 -> 59.25 | F31: 0.02 | G31: =F31*C31 -> 0.5 | H31: 0.02 | I31: =H31*C31 -> 0.5 | J31: 2.35 | K31: =J31*C31 -> 58.75 | L31: 0.55 | M31: =L31*C31 -> 13.75
B32: 25
A33: 13 | C33: =(B34+B32)/2 -> 25 | D33: 2.66 | E33: =D33*C33 -> 66.5 | F33: 0.02 | G33: =F33*C33 -> 0.5 | H33: 0.08 | I33: =H33*C33 -> 2 | J33: 2.43 | K33: =J33*C33 -> 60.75 | L33: 0.55 | M33: =L33*C33 -> 13.75
B34: 25
A35: 14 | C35: =(B36+B34)/2 -> 25 | D35: 2.55 | E35: =D35*C35 -> 63.75 | F35: 0.02 | G35: =F35*C35 -> 0.5 | H35: 0.02 | I35: =H35*C35 -> 0.5 | J35: 2.55 | K35: =J35*C35 -> 63.75 | L35: 0.57 | M35: =L35*C35 -> 14.25
B36: 25
A37: 15 | C37: =(B38+B36)/2 -> 25 | D37: 2.52 | E37: =D37*C37 -> 63 | F37: 0.02 | G37: =F37*C37 -> 0.5 | H37: 0.04 | I37: =H37*C37 -> 1 | J37: 2.45 | K37: =J37*C37 -> 61.25 | L37: 0.56 | M37: =L37*C37 -> 14
B38: 25
A39: 16 | C39: =(B40+B38)/2 -> 25 | D39: 2.44 | E39: =D39*C39 -> 61 | F39: 0.02 | G39: =F39*C39 -> 0.5 | H39: 0.02 | I39: =H39*C39 -> 0.5 | J39: 2.42 | K39: =J39*C39 -> 60.5 | L39: 0.58 | M39: =L39*C39 -> 14.5
B40: 25
A41: 17 | C41: =(B42+B40)/2 -> 25 | D41: 2.75 | E41: =D41*C41 -> 68.75 | F41: 0.02 | G41: =F41*C41 -> 0.5 | H41: 0.08 | I41: =H41*C41 -> 2 | J41: 2.54 | K41: =J41*C41 -> 63.5 | L41: 0.6 | M41: =L41*C41 -> 15
B42: 25
A43: 18 | C43: =(B44+B42)/2 -> 25 | D43: 2.55 | E43: =D43*C43 -> 63.75 | F43: 0.02 | G43: =F43*C43 -> 0.5 | H43: 0.05 | I43: =H43*C43 -> 1.25 | J43: 2.45 | K43: =J43*C43 -> 61.25 | L43: 0.6 | M43: =L43*C43 -> 15
B44: 25
A45: 19 | C45: =(B46+B44)/2 -> 25 | D45: 2.59 | E45: =D45*C45 -> 64.75 | F45: 0.02 | G45: =F45*C45 -> 0.5 | H45: 0.06 | I45: =H45*C45 -> 1.5 | J45: 2.46 | K45: =J45*C45 -> 61.5 | L45: 0.6 | M45: =L45*C45 -> 15
B46: 25
A47: Bkx2 | C47: =(B46)/2 -> 12.5 | D47: 2.45 | E47: =D47*C47 -> 30.625 | F47: 0.02 | G47: =F47*C47 -> 0.25 | H47: 0.04 | I47: =H47*C47 -> 0.5 | J47: 2.37 | K47: =J47*C47 -> 29.625 | L47: 0.6 | M47: =L47*C47 -> 7.5
A48: Tổng | B48: =SUM(B7:B47) -> 500 | C48: =SUM(C7:C47) -> 500 | E48: =SUM(E7:E47) -> 1292.125 | G48: =SUM(G7:G47) -> 10 | I48: =SUM(I7:I47) -> 23.625 | K48: =SUM(K7:K47) -> 1242.125 | M48: =SUM(M7:M47) -> 286.5
