Workbook

Sheet SGV

Sheet TH KL
A1: BẢNG TỔNG HỢP KHỐI LƯỢNG
A2: CÔNG TRÌNH: NẠO VÉT, SỬA CHỮA HỆ THỐNG KÊNH THỦY LỢI NỘI ĐỒNG XÃ KIẾN MINH, THÀNH PHỐ HẢI PHÒNG
A3: ĐỊA ĐIỂM XÂY DỰNG: XÃ KIẾN MINH - TP HẢI PHÒNG
A5: STT | B5: Danh mục | C5: Đơn vị | D5: Số bộ phân giống nhau | E5: Kích thước | H5: Khối lượng 1 bộ phận | I5: Khối lượng toàn bộ
E6: Dài (m) | F6: Rộng (m) | G6: Cao (m)
A7: (1) | B7: (2) | C7: (3) | D7: (4) | E7: (5) | F7: (6) | G7: (7) | H7: (8) | I7: (9)
A8: 1 | B8: Đất đào | C8: m3 | I8: =SUM(H9:H9) -> 16917.032
B9: Đào bằng máy | E9: Theo bảng KLCN | H9: =KLCN!F447 -> 16917.032
A10: 2 | B10: Đắp đất bờ kênh (K=0,85) | C10: m3 | I10: =H11+H12 -> 10574.371
B11: Đất đắp bằng thủ công (10% KL đắp) | H11: =KLCN!F448*10% -> 1057.4371
B12: Đất đắp bằng máy (90%) | H12: =KLCN!F448*90% -> 9516.9339
A13: 3 | B13: Dọn dẹp mặt bằng | C13: m2 | I13: =SUM(H14:H14) -> 113177.9
D14: 1 | E14: =KLCN!F444 -> 7301.8 | F14: TB | G14: 15.5 | H14: =D14*E14*G14 -> 113177.9
A15: 4 | B15: Tôn chống lầy KT 1,5x3m dày 16mm, số lượng 4 tấm (hỗ trợ máy di chuyển trong thời gian thi công) | C15: Kg | E15: 1,5*3*0,016*4*7850 | I15: =1.5*3*0.016*4*7850 -> 2260.8
A16: 5 | B16: Nhân công hỗ trợ lắp ghép tấm chống lầy | C16: công | I16: =E14*5/1000 -> 36.509 | L16: Tạm tính 5 công cho 1km tuyến kênh
A17: 6 | B17: Ô tô đầu kéo + rơ mooc vận chuyển đi và về | C17: ca | I17: =2*15 -> 30 | L17: mỗi tuyến 2 ca đi và về
A18: 7 | B18: Vận chuyển đất thừa | C18: m3 | I18: =I8-I10 -> 6342.6615
A19: 8 | B19: Đóng cọc tre gia cố chân mái, cọc tre D6-8cm dài 2,8m, mật độ 5 cặp cọc/m | C19: cọc | I19: =SUM(H22:H33) -> 5817 | J19: 7250 | K19: =I19-J19 -> -1433
B20: - Tuyến kênh Long Rô 1 thôn Đại Trà
B21: Bờ trái toàn tuyến | E21: 0 | F21: 10 | G21: cọc/m | H21: =F21*E21 -> 0
B22: - Tuyến kênh giữa làng Cốc Liễn
B23: Bờ trái từ cọc 23 đến cọc B | E23: 0 | F23: 10 | G23: cọc/m | H23: =F23*E23 -> 0
B24: Bờ phải cọc 11,12,17,18,21 | E24: 0 | F24: 10 | G24: cọc/m | H24: =F24*E24 -> 0
B25: - Tuyến kênh Cầu Mới
B26: Bờ trái toàn tuyến | E26: =KLCN!B181 -> 334 | F26: 10 | G26: cọc/m | H26: =F26*E26 -> 3340
B27: Bờ phải cọc 7,8 phía ao | E27: =KLCN!C176+KLCN!C178 -> 70.5 | F27: 10 | G27: cọc/m | H27: =F27*E27 -> 705
B28: - Tuyến kênh cửa làng Vũ Vị
B29: Cọc 6,7,8 bờ trái | E29: =KLCN!C222+KLCN!C224+KLCN!C226 -> 86 | F29: 10 | G29: cọc/m | H29: =F29*E29 -> 860
B30: Cọc 16 phía bờ phải (Ao) | E30: =KLCN!C242 -> 23.5 | F30: 10 | G30: cọc/m | H30: =F30*E30 -> 235
B31: - Tuyến kênh Ô Diện đi sông Cốc
B32: Bê tông bờ phải toàn tuyến | E32: 0 | F32: 10 | G32: cọc/m | H32: =F32*E32 -> 0
B33: Bờ trái cọc 6,8 phía ao | E33: =KLCN!C344+KLCN!C348 -> 67.7 | F33: 10 | G33: cọc/m | H33: =F33*E33 -> 677
B34: - Tuyến kênh số 9 thôn Đại Đồng
B35: Bê tông bờ phải toàn tuyến | E35: 0 | F35: 10 | G35: cọc/m | H35: =F35*E35 -> 0
A36: 9 | B36: Phên tre | C36: m2 | I36: =H37 -> 465.36
B37: - Tính theo chiều dài đóng cọc tre | E37: =SUM(E20:E35) -> 581.7 | G37: 0.8 | H37: =G37*E37 -> 465.36
A38: 10 | B38: Thép buộc | C38: Kg | E38: =E37*3 -> 1745.1 | F38: 0.055 | G38: kg/m | I38: =F38*E38 -> 95.9805 | L38: 1m có 5 mối buộc,1 mối buộc dài 0,6m =>1m dài đóng cọc cần 3m dây buộc
A39: 11 | B39: Công buộc thép | C39: công | I39: =I38/15 -> 6.3987 | L39: Tạm tính 1 công buộc 15kg dây buộc

Sheet THKL
A1: BẢNG TỔNG HỢP KHỐI LƯỢNG
A2: CÔNG TRÌNH: SỬA CHỮA, NẠO VÉT KÊNH THỦY LỢI NỘI ĐỒNG XÃ KIẾN MINH
A3: HẠNG MỤC: NẠO VÉT, ĐẮP BỜ
A5: STT | B5: Danh mục | C5: Đơn vị | D5: Số bộ phân giống nhau | E5: Kích thước | H5: Khối lượng 1 bộ phận | I5: Khối lượn toàn bộ
E6: Dài (m) | F6: Rộng (m) | G6: Cao (m)
A7: (1) | B7: (2) | C7: (3) | D7: (4) | E7: (5) | F7: (6) | G7: (7) | H7: (8) | I7: (9)
A8: 1 | B8: Đất đào | C8: m3 | I8: =SUM(H9:H18) -> 11131.653
B9: - Tuyến kênh Long Rô 1 thôn Đại Trà | E9: Theo bảng KLCN | H9: ='KLCN Long Ro 1'!F31 -> 404.045
B10: - Tuyến kênh Bắc Cửa 1 | E10: Theo bảng KLCN | H10: ='KLCN BacCua1'!F33 -> 604.606
B11: - Tuyến kênh Bến Đò thôn Lạng Côn | E11: Theo bảng KLCN | H11: ='KLCN BenDo'!F57 -> 1663.495
B12: - Tuyến kênh giữa làng Cốc Liễn | E12: Theo bảng KLCN | H12: ='KLCN CocLien'!F73 -> 1695.845
B13: - Tuyến kênh Cầu Mới | E13: Theo bảng KLCN | H13: ='KLCN CauMoi'!F31 -> 916.705
B14: - Tuyến kênh Láng Khoáng- Đồng Nhồi | E14: Theo bảng KLCN | H14: ='KLCN LangKhoang-DongNhoi'!F37 -> 1900.555
B15: - Tuyến kênh cửa làng Vũ Vị | E15: Theo bảng KLCN | H15: ='KLCN VuVi'!F93 -> 810.745
B16: - Tuyến kênh Ô Diện đi sông Cốc | E16: Theo bảng KLCN | H16: ='KLCN O Dien'!F31 -> 659.137
B17: - Tuyến kênh số 9 thôn Đại Đồng | E17: Theo bảng KLCN | H17: ='KLCN so 9'!F49 -> 2013.74
B18: - Tuyến kênh số 13 | E18: Theo bảng KLCN | H18: ='KLCN so 13'!F27 -> 462.78 | L18: =I19/I8 -> 0.81198929
A19: 2 | B19: Đắp đất bờ kênh (K=0,85) | C19: m3 | I19: =I20+I31 -> 9038.783
A20: * | B20: Đất đắp bằng thủ công | I20: =SUM(H21:H30) -> 903.8783
B21: =B9 -> - Tuyến kênh Long Rô 1 thôn Đại Trà | E21: Theo bảng KLCN | H21: ='KLCN Long Ro 1'!F33*10% -> 29.176
B22: =B10 -> - Tuyến kênh Bắc Cửa 1 | E22: Theo bảng KLCN | H22: ='KLCN BacCua1'!F35*10% -> 59.5652
B23: =B11 -> - Tuyến kênh Bến Đò thôn Lạng Côn | E23: Theo bảng KLCN | H23: ='KLCN BenDo'!F59*10% -> 146.3455
B24: =B12 -> - Tuyến kênh giữa làng Cốc Liễn | E24: Theo bảng KLCN | H24: ='KLCN CocLien'!F75*10% -> 147.9685
B25: =B13 -> - Tuyến kênh Cầu Mới | E25: Theo bảng KLCN | H25: ='KLCN CauMoi'!F33*10% -> 74.099
B26: =B14 -> - Tuyến kênh Láng Khoáng- Đồng Nhồi | E26: Theo bảng KLCN | H26: ='KLCN LangKhoang-DongNhoi'!F39*10% -> 180.972
B27: =B15 -> - Tuyến kênh cửa làng Vũ Vị | E27: Theo bảng KLCN | H27: ='KLCN VuVi'!F95*10% -> 65.8665
B28: =B16 -> - Tuyến kênh Ô Diện đi sông Cốc | E28: Theo bảng KLCN | H28: ='KLCN O Dien'!F33*10% -> 30.6536
B29: =B17 -> - Tuyến kênh số 9 thôn Đại Đồng | E29: Theo bảng KLCN | H29: ='KLCN so 9'!F51*10% -> 129.4095
B30: =B18 -> - Tuyến kênh số 13 | E30: Theo bảng KLCN | H30: ='KLCN so 13'!F29*10% -> 39.8225
A31: * | B31: Đất đắp bằng máy | I31: =SUM(H32:H41) -> 8134.9047
B32: =B21 -> - Tuyến kênh Long Rô 1 thôn Đại Trà | E32: Theo bảng KLCN | H32: ='KLCN Long Ro 1'!F33*90% -> 262.584
B33: =B22 -> - Tuyến kênh Bắc Cửa 1 | E33: Theo bảng KLCN | H33: ='KLCN BacCua1'!F35*90% -> 536.0868
B34: =B23 -> - Tuyến kênh Bến Đò thôn Lạng Côn | E34: Theo bảng KLCN | H34: ='KLCN BenDo'!F59*90% -> 1317.1095
B35: =B24 -> - Tuyến kênh giữa làng Cốc Liễn | E35: Theo bảng KLCN | H35: ='KLCN CocLien'!F75*90% -> 1331.7165
B36: =B25 -> - Tuyến kênh Cầu Mới | E36: Theo bảng KLCN | H36: ='KLCN CauMoi'!F33*90% -> 666.891
B37: =B26 -> - Tuyến kênh Láng Khoáng- Đồng Nhồi | E37: Theo bảng KLCN | H37: ='KLCN LangKhoang-DongNhoi'!F39*90% -> 1628.748
B38: =B27 -> - Tuyến kênh cửa làng Vũ Vị | E38: Theo bảng KLCN | H38: ='KLCN VuVi'!F95*90% -> 592.7985
B39: =B28 -> - Tuyến kênh Ô Diện đi sông Cốc | E39: Theo bảng KLCN | H39: ='KLCN O Dien'!F33*90% -> 275.8824
B40: =B29 -> - Tuyến kênh số 9 thôn Đại Đồng | E40: Theo bảng KLCN | H40: ='KLCN so 9'!F51*90% -> 1164.6855
B41: =B30 -> - Tuyến kênh số 13 | E41: Theo bảng KLCN | H41: ='KLCN so 13'!F29*90% -> 358.4025
A42: 3 | B42: Dọn dẹp mặt bằng | C42: m2 | I42: =SUM(H43:H52) -> 70136.3
B43: =B21 -> - Tuyến kênh Long Rô 1 thôn Đại Trà | D43: 2 | E43: ='KLCN Long Ro 1'!B27 -> 230 | G43: 6.5 | H43: =D43*E43*G43 -> 2990
B44: =B33 -> - Tuyến kênh Bắc Cửa 1 | D44: 2 | E44: ='KLCN BacCua1'!B29 -> 308.7 | G44: 6.5 | H44: =D44*E44*G44 -> 4013.1
B45: =B34 -> - Tuyến kênh Bến Đò thôn Lạng Côn | D45: 2 | E45: ='KLCN BenDo'!B53 -> 745 | G45: 6.5 | H45: =D45*E45*G45 -> 9685
B46: =B35 -> - Tuyến kênh giữa làng Cốc Liễn | D46: 2 | E46: ='KLCN CocLien'!B69 -> 1044 | G46: 6.5 | H46: =D46*E46*G46 -> 13572
B47: =B36 -> - Tuyến kênh Cầu Mới | D47: 2 | E47: ='KLCN CauMoi'!B27 -> 334 | G47: 6.5 | H47: =D47*E47*G47 -> 4342
B48: =B37 -> - Tuyến kênh Láng Khoáng- Đồng Nhồi | D48: 2 | E48: ='KLCN LangKhoang-DongNhoi'!B33 -> 432 | G48: 6.5 | H48: =D48*E48*G48 -> 5616
B49: =B38 -> - Tuyến kênh cửa làng Vũ Vị | D49: 2 | E49: ='KLCN VuVi'!B89 -> 1202 | G49: 6.5 | H49: =D49*E49*G49 -> 15626
B50: =B39 -> - Tuyến kênh Ô Diện đi sông Cốc | D50: 2 | E50: ='KLCN O Dien'!B27 -> 306.4 | G50: 6.5 | H50: =D50*E50*G50 -> 3983.2
B51: =B40 -> - Tuyến kênh số 9 thôn Đại Đồng | D51: 2 | E51: ='KLCN so 9'!B45 -> 566 | G51: 6.5 | H51: =D51*E51*G51 -> 7358
B52: =B41 -> - Tuyến kênh số 13 | D52: 2 | E52: ='KLCN so 13'!B23 -> 227 | G52: 6.5 | H52: =D52*E52*G52 -> 2951
A53: 4 | B53: Tôn chống lầy KT 1,5x3m dày 16mm, số lượng 4 tấm (hỗ trợ máy di chuyển trong thời gian thi công) | C53: Kg | D53: 10 | E53: Tôn chống lầy cho 1 tuyến 1,5*3*0,016*4*7850 | I53: =1.5*3*0.016*4*7850*D53 -> 22608
A54: 5 | B54: Nhân công hỗ trợ lắp ghép tấm chống lầy | C54: công | I54: 50
A55: 6 | B55: Ô tô đầu kéo + rơ mooc vận chuyển đi và về | C55: ca | I55: 20
A56: 7 | B56: Vận chuyển đất thừa | C56: m3 | I56: =I8-I19 -> 2092.87
A57: 8 | B57: Đóng cọc tre gia cố chân mái, cọc tre D6-8cm dài 2,8m, mật độ 5 cặp cọc/m | C57: cọc | I57: =SUM(H58:H70) -> 22839
B58: =B43 -> - Tuyến kênh Long Rô 1 thôn Đại Trà
B59: Bê tông bờ trái toàn tuyến | E59: =E43 -> 230 | F59: 10 | G59: cọc/m | H59: =F59*E59 -> 2300
B60: Cọc 4 bờ phải | E60: ='KLCN Long Ro 1'!C16 -> 28.5 | F60: 10 | G60: cọc/m | H60: =F60*E60 -> 285
B61: =B46 -> - Tuyến kênh giữa làng Cốc Liễn
B62: Đường nhựa bờ trái toàn tuyến | E62: =E46 -> 1044 | F62: 10 | G62: cọc/m | H62: =F62*E62 -> 10440
B63: =B49 -> - Tuyến kênh cửa làng Vũ Vị
B64: Cọc 6,7,8 bờ trái | E64: ='KLCN VuVi'!C20+'KLCN VuVi'!C22+'KLCN VuVi'!C24 -> 86 | F64: 10 | G64: cọc/m | H64: =F64*E64 -> 860
B65: =B50 -> - Tuyến kênh Ô Diện đi sông Cốc
B66: Bê tông bờ phải toàn tuyến | E66: =E50 -> 306.4 | F66: 10 | G66: cọc/m | H66: =F66*E66 -> 3064
B67: =B51 -> - Tuyến kênh số 9 thôn Đại Đồng
B68: Bê tông bờ phải toàn tuyến | E68: =E51 -> 566 | F68: 10 | G68: cọc/m | H68: =F68*E68 -> 5660
B69: =B52 -> - Tuyến kênh số 13
B70: Cọc 3 bờ phải | E70: ='KLCN so 13'!C14 -> 23 | F70: 10 | G70: cọc/m | H70: =F70*E70 -> 230
A71: 9 | B71: Phên tre | C71: m2 | I71: =SUM(H73:H84) -> 1827.12
B72: - Tuyến kênh Long Rô 1 thôn Đại Trà
B73: Bê tông bờ trái toàn tuyến | E73: 230 | G73: 0.8 | H73: =G73*E73 -> 184
B74: Cọc 4 bờ phải | E74: 28.5 | G74: 0.8 | H74: =G74*E74 -> 22.8
B75: - Tuyến kênh giữa làng Cốc Liễn
B76: Đường nhựa bờ trái toàn tuyến | E76: 1044 | G76: 0.8 | H76: =G76*E76 -> 835.2
B77: - Tuyến kênh cửa làng Vũ Vị
B78: Cọc 6,7,8 bờ trái | E78: 86 | G78: 0.8 | H78: =G78*E78 -> 68.8
B79: - Tuyến kênh Ô Diện đi sông Cốc
B80: Bê tông bờ phải toàn tuyến | E80: 306.4 | G80: 0.8 | H80: =G80*E80 -> 245.12
B81: - Tuyến kênh số 9 thôn Đại Đồng
B82: Bê tông bờ phải toàn tuyến | E82: 566 | G82: 0.8 | H82: =G82*E82 -> 452.8
B83: - Tuyến kênh số 13
B84: Cọc 3 bờ phải | E84: 23 | G84: 0.8 | H84: =G84*E84 -> 18.4
A85: 10 | B85: Thép buộc | C85: Kg | I85: =SUM(H86:H91) -> 376.8435 | L85: 1m có 5 mối buộc | O85: 1m cần 3m dây buộc
B86: - Tuyến kênh Long Rô 1 thôn Đại Trà | E86: =(E73+E74)*3 -> 775.5 | F86: 0.055 | G86: kg/m | H86: =F86*E86 -> 42.6525 | L86: 1 mối buộc dài 0,6m
B87: - Tuyến kênh giữa làng Cốc Liễn | E87: =E76*3 -> 3132 | F87: 0.055 | G87: kg/m | H87: =F87*E87 -> 172.26 | L87: thép 3mm = 0,055 kg/m
B88: - Tuyến kênh cửa làng Vũ Vị | E88: =E78*3 -> 258 | F88: 0.055 | G88: kg/m | H88: =F88*E88 -> 14.19
B89: - Tuyến kênh Ô Diện đi sông Cốc | E89: =E80*3 -> 919.2 | F89: 0.055 | G89: kg/m | H89: =F89*E89 -> 50.556
B90: - Tuyến kênh số 9 thôn Đại Đồng | E90: =E82*3 -> 1698 | F90: 0.055 | G90: kg/m | H90: =F90*E90 -> 93.39
B91: - Tuyến kênh số 13 | E91: =E84*3 -> 69 | F91: 0.055 | G91: kg/m | H91: =F91*E91 -> 3.795
A92: 11 | B92: Công buộc thép | C92: công | L92: 1 công buộc được

Sheet KLCN
A1: BẢNG KHỐI LƯỢNG CẮT NGANG
A2: CÔNG TRÌNH: NẠO VÉT KÊNH THỦY LỢI NỘI ĐỒNG XÃ KIẾN MINH
A5: Mặt cắt | B5: Khoảng cách | D5: Đất đào | F5: Đất đắp
B6: Thực đo | C6: Áp dụng | D6: S (m2) | E6: W (m3) | F6: S (m2) | G6: W (m3)
A7: I. TUYẾN KÊNH LONG RÔ 1 THÔN ĐẠI TRÀ
A8: A | C8: =B9/2 -> 15.5 | D8: 1.67 | E8: =D8*C8 -> 25.885 | F8: 1.02 | G8: =F8*C8 -> 15.81
B9: 31
A10: 1 | C10: =(B9+B11)/2 -> 24.5 | D10: 1.33 | E10: =D10*C10 -> 32.585 | F10: 0.25 | G10: =F10*C10 -> 6.125
B11: 18
A12: 2 | C12: =(B11+B13)/2 -> 24 | D12: 1.45 | E12: =D12*C12 -> 34.8 | F12: 0.14 | G12: =F12*C12 -> 3.36
B13: 30
A14: 3 | C14: =(B13+B15)/2 -> 30.5 | D14: 0.66 | E14: =D14*C14 -> 20.13 | F14: 1.07 | G14: =F14*C14 -> 32.635
B15: 31
A16: 4 | C16: =(B15+B17)/2 -> 28.5 | D16: 0.45 | E16: =D16*C16 -> 12.825 | F16: 1.66 | G16: =F16*C16 -> 47.31
B17: 26
A18: 5 | C18: =(B17+B19)/2 -> 30 | D18: 0.75 | E18: =D18*C18 -> 22.5 | F18: 1.69 | G18: =F18*C18 -> 50.7
B19: 34
A20: 6 | C20: =(B19+B21)/2 -> 28.5 | D20: 1.11 | E20: =D20*C20 -> 31.635 | F20: 1.48 | G20: =F20*C20 -> 42.18
B21: 23
A22: 7 | C22: =(B21+B23)/2 -> 22 | D22: 1.57 | E22: =D22*C22 -> 34.54 | F22: 1.27 | G22: =F22*C22 -> 27.94
B23: 21
A24: 8 | C24: =(B23+B25)/2 -> 18.5 | D24: 1.06 | E24: =D24*C24 -> 19.61 | F24: 1.84 | G24: =F24*C24 -> 34.04
B25: 16
A26: B | C26: =B25/2 -> 8 | D26: 0.89 | E26: =D26*C26 -> 7.12 | F26: 1.68 | G26: =F26*C26 -> 13.44
A27: Tổng | B27: =SUM(B8:B26) -> 230 | C27: =SUM(C8:C26) -> 230 | E27: =SUM(E8:E26) -> 241.63 | G27: =SUM(G8:G26) -> 273.54
A28: II. KÊNH BẮC CỬA 1 THÔN ĐẠI TRÀ
A29: A | C29: =B30/2 -> 15 | D29: 3.14 | E29: =D29*C29 -> 47.1 | F29: 1.97 | G29: =F29*C29 -> 29.55
B30: 30
A31: 1 | C31: =(B30+B32)/2 -> 31 | D31: 2.69 | E31: =D31*C31 -> 83.39 | F31: 2 | G31: =F31*C31 -> 62
B32: 32
A33: 2 | C33: =(B32+B34)/2 -> 31.5 | D33: 2.51 | E33: =D33*C33 -> 79.065 | F33: 1.55 | G33: =F33*C33 -> 48.825
B34: 31
A35: 3 | C35: =(B34+B36)/2 -> 30.5 | D35: 2.95 | E35: =D35*C35 -> 89.975 | F35: 1.03 | G35: =F35*C35 -> 31.415
B36: 30
A37: 4 | C37: =(B36+B38)/2 -> 30.5 | D37: 2.19 | E37: =D37*C37 -> 66.795 | F37: 1.05 | G37: =F37*C37 -> 32.025
B38: 31
A39: 5 | C39: =(B38+B40)/2 -> 27 | D39: 2.28 | E39: =D39*C39 -> 61.56 | F39: 1.65 | G39: =F39*C39 -> 44.55
B40: 23
A41: 6 | C41: =(B40+B42)/2 -> 27 | D41: 1.67 | E41: =D41*C41 -> 45.09 | F41: 1.95 | G41: =F41*C41 -> 52.65
B42: 31
A43: 7 | C43: =(B42+B44)/2 -> 30.5 | D43: 1.14 | E43: =D43*C43 -> 34.77 | F43: 1.79 | G43: =F43*C43 -> 54.595
B44: 30
A45: 8 | C45: =(B44+B46)/2 -> 30 | D45: 0.88 | E45: =D45*C45 -> 26.4 | F45: 2.26 | G45: =F45*C45 -> 67.8
B46: 30
A47: 9 | C47: =(B46+B48)/2 -> 35.35 | D47: 1.36 | E47: =D47*C47 -> 48.076 | F47: 3.18 | G47: =F47*C47 -> 112.413
B48: 40.7
A49: B | C49: =B48/2 -> 20.35 | D49: 1.1 | E49: =D49*C49 -> 22.385 | F49: 2.94 | G49: =F49*C49 -> 59.829
A50: Tổng | B50: =SUM(B29:B49) -> 308.7 | C50: =SUM(C29:C49) -> 308.7 | E50: =SUM(E29:E49) -> 604.606 | G50: =SUM(G29:G49) -> 595.652
A51: III. KÊNH BẾN ĐÒ THÔN LẠNG CÔN
A52: A | C52: =B53/2 -> 14.5 | D52: 3.19 | E52: =D52*C52 -> 46.255 | F52: 2.1 | G52: =F52*C52 -> 30.45
B53: 29
A54: 1 | C54: =(B53+B55)/2 -> 31 | D54: 2.82 | E54: =D54*C54 -> 87.42 | F54: 2.24 | G54: =F54*C54 -> 69.44
B55: 33
A56: 2 | C56: =(B55+B57)/2 -> 34.5 | D56: 2.75 | E56: =D56*C56 -> 94.875 | F56: 2.1 | G56: =F56*C56 -> 72.45
B57: 36
A58: 3 | C58: =(B57+B59)/2 -> 39.5 | D58: 2.79 | E58: =D58*C58 -> 110.205 | F58: 2.2 | G58: =F58*C58 -> 86.9
B59: 43
A60: 4 | C60: =(B59+B61)/2 -> 40 | D60: 2.86 | E60: =D60*C60 -> 114.4 | F60: 2.05 | G60: =F60*C60 -> 82
B61: 37
A62: 5 | C62: =(B61+B63)/2 -> 37 | D62: 2.75 | E62: =D62*C62 -> 101.75 | F62: 2.4 | G62: =F62*C62 -> 88.8
B63: 37
A64: 6 | C64: =(B63+B65)/2 -> 35.5 | D64: 2.8 | E64: =D64*C64 -> 99.4 | F64: 2.44 | G64: =F64*C64 -> 86.62
B65: 34
A66: 7 | C66: =(B65+B67)/2 -> 35.5 | D66: 2.78 | E66: =D66*C66 -> 98.69 | F66: 2.32 | G66: =F66*C66 -> 82.36
B67: 37
A68: 8 | C68: =(B67+B69)/2 -> 31 | D68: 2.8 | E68: =D68*C68 -> 86.8 | F68: 2.26 | G68: =F68*C68 -> 70.06
B69: 25
A70: 9 | C70: =(B69+B71)/2 -> 28 | D70: 0.85 | E70: =D70*C70 -> 23.8 | F70: 1.65 | G70: =F70*C70 -> 46.2
B71: 31
A72: 10 | C72: =(B71+B73)/2 -> 32.5 | D72: 1.04 | E72: =D72*C72 -> 33.8 | F72: 1.57 | G72: =F72*C72 -> 51.025
B73: 34
A74: 11 | C74: =(B73+B75)/2 -> 39 | D74: 1.44 | E74: =D74*C74 -> 56.16 | F74: 1.96 | G74: =F74*C74 -> 76.44
B75: 44
A76: 12 | C76: =(B75+B77)/2 -> 43 | D76: 1.97 | E76: =D76*C76 -> 84.71 | F76: 1.77 | G76: =F76*C76 -> 76.11
B77: 42
A78: 13 | C78: =(B77+B79)/2 -> 41.5 | D78: 0.32 | E78: =D78*C78 -> 13.28 | F78: 1.35 | G78: =F78*C78 -> 56.025
B79: 41
A80: 14 | C80: =(B79+B81)/2 -> 41.5 | D80: 1.68 | E80: =D80*C80 -> 69.72 | F80: 1.77 | G80: =F80*C80 -> 73.455
B81: 42
A82: 15 | C82: =(B81+B83)/2 -> 40 | D82: 2.63 | E82: =D82*C82 -> 105.2 | F82: 1.91 | G82: =F82*C82 -> 76.4
B83: 38
A84: 16 | C84: =(B83+B85)/2 -> 31.5 | D84: 2.57 | E84: =D84*C84 -> 80.955 | F84: 1.98 | G84: =F84*C84 -> 62.37
B85: 25
A86: 17 | C86: =(B85+B87)/2 -> 22.5 | D86: 2.62 | E86: =D86*C86 -> 58.95 | F86: 1.36 | G86: =F86*C86 -> 30.6
B87: 20
A88: 18 | C88: =(B87+B89)/2 -> 23 | D88: 2.28 | E88: =D88*C88 -> 52.44 | F88: 2.09 | G88: =F88*C88 -> 48.07
B89: 26
A90: 19 | C90: =(B89+B91)/2 -> 31 | D90: 2.78 | E90: =D90*C90 -> 86.18 | F90: 1.9 | G90: =F90*C90 -> 58.9
B91: 36
A92: 20 | C92: =(B91+B93)/2 -> 30.5 | D92: 2.41 | E92: =D92*C92 -> 73.505 | F92: 1.91 | G92: =F92*C92 -> 58.255
B93: 25
A94: 21 | C94: =(B93+B95)/2 -> 27.5 | D94: 2.42 | E94: =D94*C94 -> 66.55 | F94: 1.93 | G94: =F94*C94 -> 53.075
B95: 30
A96: B | C96: =B95/2 -> 15 | D96: 1.23 | E96: =D96*C96 -> 18.45 | F96: 1.83 | G96: =F96*C96 -> 27.45
A97: Tổng | B97: =SUM(B52:B96) -> 745 | C97: =SUM(C52:C96) -> 745 | E97: =SUM(E52:E96) -> 1663.495 | G97: =SUM(G52:G96) -> 1463.455
A98: IV. KÊNH GIỮA LÀNG CỐC LIỄN THÔN CỐC LIỄN
A99: A | C99: =B100/2 -> 18 | D99: 0.71 | E99: =D99*C99 -> 12.78 | F99: 1.08 | G99: =F99*C99 -> 19.44
B100: 36
A101: 1 | C101: =(B100+B102)/2 -> 39.5 | D101: 1.4 | E101: =D101*C101 -> 55.3 | F101: 0.9 | G101: =F101*C101 -> 35.55
B102: 43
...

Sheet KL KSDH
A3: KHỐI LƯỢNG KHẢO SÁT
A5: TT | B5: Hạng mục | C5: Cắt | D5: Cắt ngang | K5: BĐ tỷ lệ1:200 | M5: Khống chế | N5: T. chuẩn
C6: dọc | D6: Số | F6: Ch.dài | H6: Tổng | I6: T. cạn | J6: D. nước | K6: T. cạn | L6: D. nước | M6: đ/c cấp 2 | N6: kỹ thuật
C7: (m) | D7: m/c | F7: T.bình | H7: (m) | I7: (m) | J7: (m) | K7: (ha) | L7: (ha) | M7: (điểm) | N7: (km)
A8: 1 | B8: Bình đồ công trình | K8: =+C9*F9/10000*0.5 -> 10.141908 | L8: =C9*F9/10000*0.5 -> 10.141908 | M8: 0 | N8: =+C10/1000 -> 7.3018
B9: * CD + CN: | C9: =KLCN!B442 -> 7301.8 | D9: =10+11+23+31+10+13+41+19+10+8 -> 176 | E9: x | F9: 27.7792 | G9: = | H9: =D9*F9 -> 4889.1392 | I9: =H9*0.5 -> 2444.5696 | J9: =+H9*0.5 -> 2444.5696
B10: Cộng: | C10: =SUM(C8:C9) -> 7301.8 | H10: =SUM(H8:H9) -> 4889.1392 | I10: =SUM(I8:I9) -> 2444.5696 | J10: =SUM(J8:J9) -> 2444.5696 | K10: =SUM(K8:K9) -> 10.141908 | L10: =SUM(L8:L9) -> 10.141908 | M10: =SUM(M8:M9) -> 0 | N10: =SUM(N8:N9) -> 7.3018
R20: =(28+28+25+25+25+36+30+30+25+32)/10 -> 28.4

Sheet KLCN Long Ro 1
A1: BẢNG TÍNH KHỐI LƯỢNG CẮT NGANG
A2: CÔNG TRÌNH: SỬA CHỮA, NẠO VÉT KÊNH THỦY LỢI NỘI ĐỒNG
A3: HẠNG MỤC: NẠO VÉT, ĐẮP BỜ TUYẾN KÊNH LONG RÔ 1 THÔN ĐẠI TRÀ
A6: Mặt cắt | B6: Khoảng cách | D6: Đất đào | F6: Đất đắp
B7: Thực đo | C7: Áp dụng | D7: S (m2) | E7: W (m3) | F7: S (m2) | G7: W (m3)
A8: A | C8: =B9/2 -> 15.5 | D8: 2.94 | E8: =D8*C8 -> 45.57 | F8: 1.22 | G8: =F8*C8 -> 18.91
B9: 31
A10: 1 | C10: =(B9+B11)/2 -> 24.5 | D10: 2.56 | E10: =D10*C10 -> 62.72 | F10: 0.73 | G10: =F10*C10 -> 17.885
B11: 18
A12: 2 | C12: =(B11+B13)/2 -> 24 | D12: 2.75 | E12: =D12*C12 -> 66 | F12: 0 | G12: =F12*C12 -> 0
B13: 30
A14: 3 | C14: =(B13+B15)/2 -> 30.5 | D14: 1.15 | E14: =D14*C14 -> 35.075 | F14: 1.08 | G14: =F14*C14 -> 32.94
B15: 31
A16: 4 | C16: =(B15+B17)/2 -> 28.5 | D16: 0.84 | E16: =D16*C16 -> 23.94 | F16: 1.46 | G16: =F16*C16 -> 41.61
B17: 26
A18: 5 | C18: =(B17+B19)/2 -> 30 | D18: 0.84 | E18: =D18*C18 -> 25.2 | F18: 1.54 | G18: =F18*C18 -> 46.2
B19: 34
A20: 6 | C20: =(B19+B21)/2 -> 28.5 | D20: 1.81 | E20: =D20*C20 -> 51.585 | F20: 1.75 | G20: =F20*C20 -> 49.875
B21: 23
A22: 7 | C22: =(B21+B23)/2 -> 22 | D22: 2.21 | E22: =D22*C22 -> 48.62 | F22: 1.56 | G22: =F22*C22 -> 34.32
B23: 21
A24: 8 | C24: =(B23+B25)/2 -> 18.5 | D24: 1.75 | E24: =D24*C24 -> 32.375 | F24: 1.96 | G24: =F24*C24 -> 36.26
B25: 16
A26: B | C26: =B25/2 -> 8 | D26: 1.62 | E26: =D26*C26 -> 12.96 | F26: 1.72 | G26: =F26*C26 -> 13.76
A27: Tổng | B27: =SUM(B8:B26) -> 230 | C27: =SUM(C8:C26) -> 230 | E27: =SUM(E8:E26) -> 404.045 | G27: =SUM(G8:G26) -> 291.76 | I27: =(G27/E27)*100 -> 72.209779
A29: 1. Chiều dài tuyến kênh: | F29: =B27 -> 230 | G29: m
A30: 2. Khối lượng đất đắp:
A31: a. Khối lượng đất đào: | F31: =F32 -> 404.045 | G31: m3
A32: - Khối lượng đất đào bằng máy: | F32: =E27 -> 404.045 | G32: m3
A33: b. Khối lượng đất đắp: | F33: =G27 -> 291.76 | G33: m3

Sheet KLCN BacCua1
A1: BẢNG TÍNH KHỐI LƯỢNG CẮT NGANG
A2: CÔNG TRÌNH: SỬA CHỮA, NẠO VÉT KÊNH THỦY LỢI NỘI ĐỒNG
A3: HẠNG MỤC: NẠO VÉT, ĐẮP BỜ KÊNH BẮC CỬA 1
A6: Mặt cắt | B6: Khoảng cách | D6: Đất đào | F6: Đất đắp
B7: Thực đo | C7: Áp dụng | D7: S (m2) | E7: W (m3) | F7: S (m2) | G7: W (m3)
A8: A | C8: =B9/2 -> 15 | D8: 3.14 | E8: =D8*C8 -> 47.1 | F8: 1.97 | G8: =F8*C8 -> 29.55
B9: 30
A10: 1 | C10: =(B9+B11)/2 -> 31 | D10: 2.69 | E10: =D10*C10 -> 83.39 | F10: 2 | G10: =F10*C10 -> 62
B11: 32
A12: 2 | C12: =(B11+B13)/2 -> 31.5 | D12: 2.51 | E12: =D12*C12 -> 79.065 | F12: 1.55 | G12: =F12*C12 -> 48.825
B13: 31
A14: 3 | C14: =(B13+B15)/2 -> 30.5 | D14: 2.95 | E14: =D14*C14 -> 89.975 | F14: 1.03 | G14: =F14*C14 -> 31.415
B15: 30
A16: 4 | C16: =(B15+B17)/2 -> 30.5 | D16: 2.19 | E16: =D16*C16 -> 66.795 | F16: 1.05 | G16: =F16*C16 -> 32.025
B17: 31
A18: 5 | C18: =(B17+B19)/2 -> 27 | D18: 2.28 | E18: =D18*C18 -> 61.56 | F18: 1.65 | G18: =F18*C18 -> 44.55
B19: 23
A20: 6 | C20: =(B19+B21)/2 -> 27 | D20: 1.67 | E20: =D20*C20 -> 45.09 | F20: 1.95 | G20: =F20*C20 -> 52.65
B21: 31
A22: 7 | C22: =(B21+B23)/2 -> 30.5 | D22: 1.14 | E22: =D22*C22 -> 34.77 | F22: 1.79 | G22: =F22*C22 -> 54.595
B23: 30
A24: 8 | C24: =(B23+B25)/2 -> 30 | D24: 0.88 | E24: =D24*C24 -> 26.4 | F24: 2.26 | G24: =F24*C24 -> 67.8
B25: 30
A26: 9 | C26: =(B25+B27)/2 -> 35.35 | D26: 1.36 | E26: =D26*C26 -> 48.076 | F26: 3.18 | G26: =F26*C26 -> 112.413
B27: 40.7
A28: B | C28: =B27/2 -> 20.35 | D28: 1.1 | E28: =D28*C28 -> 22.385 | F28: 2.94 | G28: =F28*C28 -> 59.829
A29: Tổng | B29: =SUM(B8:B28) -> 308.7 | C29: =SUM(C8:C28) -> 308.7 | E29: =SUM(E8:E28) -> 604.606 | G29: =SUM(G8:G28) -> 595.652
A31: 1. Chiều dài tuyến kênh: | F31: =B29 -> 308.7 | G31: m
A32: 2. Khối lượng đất đắp:
A33: a. Khối lượng đất đào: | F33: =F34 -> 604.606 | G33: m3
A34: - Khối lượng đất đào bằng máy: | F34: =E29 -> 604.606 | G34: m3
A35: b. Khối lượng đất đắp: | F35: =G29 -> 595.652 | G35: m3

Sheet KLCN BenDo
A1: BẢNG TÍNH KHỐI LƯỢNG CẮT NGANG
A2: CÔNG TRÌNH: SỬA CHỮA, NẠO VÉT KÊNH THỦY LỢI NỘI ĐỒNG
A3: HẠNG MỤC: NẠO VÉT, ĐẮP BỜ TUYẾN KÊNH BẾN ĐÒ THÔN LẠNG CÔN
A6: Mặt cắt | B6: Khoảng cách | D6: Đất đào | F6: Đất đắp
B7: Thực đo | C7: Áp dụng | D7: S (m2) | E7: W (m3) | F7: S (m2) | G7: W (m3)
A8: A | C8: =B9/2 -> 14.5 | D8: 3.19 | E8: =D8*C8 -> 46.255 | F8: 2.1 | G8: =F8*C8 -> 30.45
B9: 29
A10: 1 | C10: =(B9+B11)/2 -> 31 | D10: 2.82 | E10: =D10*C10 -> 87.42 | F10: 2.24 | G10: =F10*C10 -> 69.44
B11: 33
A12: 2 | C12: =(B11+B13)/2 -> 34.5 | D12: 2.75 | E12: =D12*C12 -> 94.875 | F12: 2.1 | G12: =F12*C12 -> 72.45
B13: 36
A14: 3 | C14: =(B13+B15)/2 -> 39.5 | D14: 2.79 | E14: =D14*C14 -> 110.205 | F14: 2.2 | G14: =F14*C14 -> 86.9
B15: 43
A16: 4 | C16: =(B15+B17)/2 -> 40 | D16: 2.86 | E16: =D16*C16 -> 114.4 | F16: 2.05 | G16: =F16*C16 -> 82
B17: 37
A18: 5 | C18: =(B17+B19)/2 -> 37 | D18: 2.75 | E18: =D18*C18 -> 101.75 | F18: 2.4 | G18: =F18*C18 -> 88.8
B19: 37
A20: 6 | C20: =(B19+B21)/2 -> 35.5 | D20: 2.8 | E20: =D20*C20 -> 99.4 | F20: 2.44 | G20: =F20*C20 -> 86.62
B21: 34
A22: 7 | C22: =(B21+B23)/2 -> 35.5 | D22: 2.78 | E22: =D22*C22 -> 98.69 | F22: 2.32 | G22: =F22*C22 -> 82.36
B23: 37
A24: 8 | C24: =(B23+B25)/2 -> 31 | D24: 2.8 | E24: =D24*C24 -> 86.8 | F24: 2.26 | G24: =F24*C24 -> 70.06
B25: 25
A26: 9 | C26: =(B25+B27)/2 -> 28 | D26: 0.85 | E26: =D26*C26 -> 23.8 | F26: 1.65 | G26: =F26*C26 -> 46.2
B27: 31
A28: 10 | C28: =(B27+B29)/2 -> 32.5 | D28: 1.04 | E28: =D28*C28 -> 33.8 | F28: 1.57 | G28: =F28*C28 -> 51.025
B29: 34
A30: 11 | C30: =(B29+B31)/2 -> 39 | D30: 1.44 | E30: =D30*C30 -> 56.16 | F30: 1.96 | G30: =F30*C30 -> 76.44
B31: 44
A32: 12 | C32: =(B31+B33)/2 -> 43 | D32: 1.97 | E32: =D32*C32 -> 84.71 | F32: 1.77 | G32: =F32*C32 -> 76.11
B33: 42
A34: 13 | C34: =(B33+B35)/2 -> 41.5 | D34: 0.32 | E34: =D34*C34 -> 13.28 | F34: 1.35 | G34: =F34*C34 -> 56.025
B35: 41
A36: 14 | C36: =(B35+B37)/2 -> 41.5 | D36: 1.68 | E36: =D36*C36 -> 69.72 | F36: 1.77 | G36: =F36*C36 -> 73.455
B37: 42
A38: 15 | C38: =(B37+B39)/2 -> 40 | D38: 2.63 | E38: =D38*C38 -> 105.2 | F38: 1.91 | G38: =F38*C38 -> 76.4
B39: 38
A40: 16 | C40: =(B39+B41)/2 -> 31.5 | D40: 2.57 | E40: =D40*C40 -> 80.955 | F40: 1.98 | G40: =F40*C40 -> 62.37
B41: 25
A42: 17 | C42: =(B41+B43)/2 -> 22.5 | D42: 2.62 | E42: =D42*C42 -> 58.95 | F42: 1.36 | G42: =F42*C42 -> 30.6
B43: 20
A44: 18 | C44: =(B43+B45)/2 -> 23 | D44: 2.28 | E44: =D44*C44 -> 52.44 | F44: 2.09 | G44: =F44*C44 -> 48.07
B45: 26
A46: 19 | C46: =(B45+B47)/2 -> 31 | D46: 2.78 | E46: =D46*C46 -> 86.18 | F46: 1.9 | G46: =F46*C46 -> 58.9
B47: 36
A48: 20 | C48: =(B47+B49)/2 -> 30.5 | D48: 2.41 | E48: =D48*C48 -> 73.505 | F48: 1.91 | G48: =F48*C48 -> 58.255
B49: 25
A50: 21 | C50: =(B49+B51)/2 -> 27.5 | D50: 2.42 | E50: =D50*C50 -> 66.55 | F50: 1.93 | G50: =F50*C50 -> 53.075
B51: 30
A52: B | C52: =B51/2 -> 15 | D52: 1.23 | E52: =D52*C52 -> 18.45 | F52: 1.83 | G52: =F52*C52 -> 27.45
A53: Tổng | B53: =SUM(B8:B52) -> 745 | C53: =SUM(C8:C52) -> 745 | E53: =SUM(E8:E52) -> 1663.495 | G53: =SUM(G8:G52) -> 1463.455 | I53: =(G53/E53)*100 -> 87.974716
A55: 1. Chiều dài tuyến kênh: | F55: =B53 -> 745 | G55: m
A56: 2. Khối lượng đất đắp:
A57: a. Khối lượng đất đào: | F57: =F58 -> 1663.495 | G57: m3
A58: - Khối lượng đất đào bằng máy: | F58: =E53 -> 1663.495 | G58: m3
A59: b. Khối lượng đất đắp: | F59: =G53 -> 1463.455 | G59: m3

Sheet KLCN CocLien
A1: BẢNG TÍNH KHỐI LƯỢNG CẮT NGANG
A2: CÔNG TRÌNH: SỬA CHỮA, NẠO VÉT KÊNH THỦY LỢI NỘI ĐỒNG
A3: HẠNG MỤC: NẠO VÉT, ĐẮP BỜ TUYẾN KÊNH GIỮA LÀNG CỐC LIỄN
A6: Mặt cắt | B6: Khoảng cách | D6: Đất đào | F6: Đất đắp
B7: Thực đo | C7: Áp dụng | D7: S (m2) | E7: W (m3) | F7: S (m2) | G7: W (m3)
A8: A | C8: =B9/2 -> 18 | D8: 3.19 | E8: =D8*C8 -> 57.42 | F8: 2.1 | G8: =F8*C8 -> 37.8
B9: 36
A10: 1 | C10: =(B9+B11)/2 -> 39.5 | D10: 2.82 | E10: =D10*C10 -> 111.39 | F10: 2.24 | G10: =F10*C10 -> 88.48
B11: 43
A12: 2 | C12: =(B11+B13)/2 -> 42 | D12: 2.75 | E12: =D12*C12 -> 115.5 | F12: 2.1 | G12: =F12*C12 -> 88.2
B13: 41
A14: 3 | C14: =(B13+B15)/2 -> 33.5 | D14: 2.79 | E14: =D14*C14 -> 93.465 | F14: 2.2 | G14: =F14*C14 -> 73.7
B15: 26
A16: 4 | C16: =(B15+B17)/2 -> 24.5 | D16: 2.86 | E16: =D16*C16 -> 70.07 | F16: 2.05 | G16: =F16*C16 -> 50.225
B17: 23
A18: 5 | C18: =(B17+B19)/2 -> 25 | D18: 2.75 | E18: =D18*C18 -> 68.75 | F18: 2.4 | G18: =F18*C18 -> 60
B19: 27
A20: 6 | C20: =(B19+B21)/2 -> 27.5 | D20: 2.8 | E20: =D20*C20 -> 77 | F20: 2.44 | G20: =F20*C20 -> 67.1
B21: 28
A22: 7 | C22: =(B21+B23)/2 -> 34 | D22: 2.78 | E22: =D22*C22 -> 94.52 | F22: 2.32 | G22: =F22*C22 -> 78.88
B23: 40
A24: 8 | C24: =(B23+B25)/2 -> 32.5 | D24: 2.8 | E24: =D24*C24 -> 91 | F24: 2.26 | G24: =F24*C24 -> 73.45
B25: 25
A26: 9 | C26: =(B25+B27)/2 -> 30 | D26: 0.85 | E26: =D26*C26 -> 25.5 | F26: 1.65 | G26: =F26*C26 -> 49.5
B27: 35
A28: 10 | C28: =(B27+B29)/2 -> 37.5 | D28: 1.04 | E28: =D28*C28 -> 39 | F28: 1.57 | G28: =F28*C28 -> 58.875
B29: 40
A30: 11 | C30: =(B29+B31)/2 -> 40.5 | D30: 1.44 | E30: =D30*C30 -> 58.32 | F30: 1.96 | G30: =F30*C30 -> 79.38
B31: 41
A32: 12 | C32: =(B31+B33)/2 -> 40.5 | D32: 1.97 | E32: =D32*C32 -> 79.785 | F32: 1.77 | G32: =F32*C32 -> 71.685
B33: 40
A34: 13 | C34: =(B33+B35)/2 -> 39 | D34: 0.32 | E34: =D34*C34 -> 12.48 | F34: 1.35 | G34: =F34*C34 -> 52.65
B35: 38
A36: 14 | C36: =(B35+B37)/2 -> 36 | D36: 1.68 | E36: =D36*C36 -> 60.48 | F36: 1.77 | G36: =F36*C36 -> 63.72
B37: 34
A38: 15 | C38: =(B37+B39)/2 -> 33.5 | D38: 2.63 | E38: =D38*C38 -> 88.105 | F38: 1.91 | G38: =F38*C38 -> 63.985
B39: 33
A40: 16 | C40: =(B39+B41)/2 -> 33.5 | D40: 2.57 | E40: =D40*C40 -> 86.095 | F40: 1.98 | G40: =F40*C40 -> 66.33
B41: 34
A42: 17 | C42: =(B41+B43)/2 -> 36.5 | D42: 2.62 | E42: =D42*C42 -> 95.63 | F42: 1.36 | G42: =F42*C42 -> 49.64
B43: 39
A44: 18 | C44: =(B43+B45)/2 -> 40 | D44: 2.28 | E44: =D44*C44 -> 91.2 | F44: 2.09 | G44: =F44*C44 -> 83.6
B45: 41
A46: 19 | C46: =(B45+B47)/2 -> 40.5 | D46: 2.78 | E46: =D46*C46 -> 112.59 | F46: 1.9 | G46: =F46*C46 -> 76.95
B47: 40
A48: 20 | C48: =(B47+B49)/2 -> 33 | D48: 2.41 | E48: =D48*C48 -> 79.53 | F48: 1.91 | G48: =F48*C48 -> 63.03
B49: 26
A50: 21 | C50: =(B49+B51)/2 -> 29 | D50: 2.42 | E50: =D50*C50 -> 70.18 | F50: 1.93 | G50: =F50*C50 -> 55.97
B51: 32
A52: 22 | C52: =(B51+B53)/2 -> 34
B53: 36
A54: 23 | C54: =(B53+B55)/2 -> 37
B55: 38
A56: 24 | C56: =(B55+B57)/2 -> 38
B57: 38
A58: 25 | C58: =(B57+B59)/2 -> 39
B59: 40
A60: 26 | C60: =(B59+B61)/2 -> 38
B61: 36
A62: 27 | C62: =(B61+B63)/2 -> 37.5
B63: 39
A64: 28 | C64: =(B63+B65)/2 -> 32.5
B65: 26
A66: 29 | C66: =(B65+B67)/2 -> 27.5
B67: 29
A68: B | C68: =B67/2 -> 14.5 | D68: 1.23 | E68: =D68*C68 -> 17.835 | F68: 1.83 | G68: =F68*C68 -> 26.535
A69: Tổng | B69: =SUM(B8:B68) -> 1044 | C69: =SUM(C8:C68) -> 1044 | E69: =SUM(E8:E68) -> 1695.845 | G69: =SUM(G8:G68) -> 1479.685 | I69: =(G69/E69)*100 -> 87.253552
A71: 1. Chiều dài tuyến kênh: | F71: =B69 -> 1044 | G71: m
A72: 2. Khối lượng đất đắp:
A73: a. Khối lượng đất đào: | F73: =F74 -> 1695.845 | G73: m3
A74: - Khối lượng đất đào bằng máy: | F74: =E69 -> 1695.845 | G74: m3
A75: b. Khối lượng đất đắp: | F75: =G69 -> 1479.685 | G75: m3

Sheet KLCN CauMoi
A1: BẢNG TÍNH KHỐI LƯỢNG CẮT NGANG
A2: CÔNG TRÌNH: SỬA CHỮA, NẠO VÉT KÊNH THỦY LỢI NỘI ĐỒNG
A3: HẠNG MỤC: NẠO VÉT, ĐẮP BỜ TUYẾN KÊNH CẦU MỚI
A6: Mặt cắt | B6: Khoảng cách | D6: Đất đào | F6: Đất đắp
B7: Thực đo | C7: Áp dụng | D7: S (m2) | E7: W (m3) | F7: S (m2) | G7: W (m3)
A8: A | C8: =B9/2 -> 19.5 | D8: 3.19 | E8: =D8*C8 -> 62.205 | F8: 2.1 | G8: =F8*C8 -> 40.95
B9: 39
A10: 1 | C10: =(B9+B11)/2 -> 42 | D10: 2.82 | E10: =D10*C10 -> 118.44 | F10: 2.24 | G10: =F10*C10 -> 94.08
B11: 45
A12: 2 | C12: =(B11+B13)/2 -> 40 | D12: 2.75 | E12: =D12*C12 -> 110 | F12: 2.1 | G12: =F12*C12 -> 84
B13: 35
A14: 3 | C14: =(B13+B15)/2 -> 37 | D14: 2.79 | E14: =D14*C14 -> 103.23 | F14: 2.2 | G14: =F14*C14 -> 81.4
B15: 39
A16: 4 | C16: =(B15+B17)/2 -> 38.5 | D16: 2.86 | E16: =D16*C16 -> 110.11 | F16: 2.05 | G16: =F16*C16 -> 78.925
B17: 38
A18: 5 | C18: =(B17+B19)/2 -> 36.5 | D18: 2.75 | E18: =D18*C18 -> 100.375 | F18: 2.4 | G18: =F18*C18 -> 87.6
B19: 35
A20: 6 | C20: =(B19+B21)/2 -> 34.5 | D20: 2.8 | E20: =D20*C20 -> 96.6 | F20: 2.44 | G20: =F20*C20 -> 84.18
B21: 34
A22: 7 | C22: =(B21+B23)/2 -> 36 | D22: 2.78 | E22: =D22*C22 -> 100.08 | F22: 2.32 | G22: =F22*C22 -> 83.52
B23: 38
A24: 8 | C24: =(B23+B25)/2 -> 34.5 | D24: 2.8 | E24: =D24*C24 -> 96.6 | F24: 2.26 | G24: =F24*C24 -> 77.97
B25: 31
A26: B | C26: =B25/2 -> 15.5 | D26: 1.23 | E26: =D26*C26 -> 19.065 | F26: 1.83 | G26: =F26*C26 -> 28.365
A27: Tổng | B27: =SUM(B8:B26) -> 334 | C27: =SUM(C8:C26) -> 334 | E27: =SUM(E8:E26) -> 916.705 | G27: =SUM(G8:G26) -> 740.99 | I27: =(G27/E27)*100 -> 80.831892
A29: 1. Chiều dài tuyến kênh: | F29: =B27 -> 334 | G29: m
A30: 2. Khối lượng đất đắp:
A31: a. Khối lượng đất đào: | F31: =F32 -> 916.705 | G31: m3
A32: - Khối lượng đất đào bằng máy: | F32: =E27 -> 916.705 | G32: m3
A33: b. Khối lượng đất đắp: | F33: =G27 -> 740.99 | G33: m3

Sheet KLCN LangKhoang-DongNhoi
A1: BẢNG TÍNH KHỐI LƯỢNG CẮT NGANG
A2: CÔNG TRÌNH: SỬA CHỮA, NẠO VÉT KÊNH THỦY LỢI NỘI ĐỒNG
A3: HẠNG MỤC: NẠO VÉT, ĐẮP BỜ TUYẾN KÊNH LÁNG KHOÁNG - ĐỒNG NHỒI
A6: Mặt cắt | B6: Khoảng cách | D6: Đất đào | F6: Đất đắp
B7: Thực đo | C7: Áp dụng | D7: S (m2) | E7: W (m3) | F7: S (m2) | G7: W (m3)
A8: A1 | C8: =B9/2 -> 22 | D8: 5.73 | E8: =D8*C8 -> 126.06 | F8: 3.52 | G8: =F8*C8 -> 77.44
B9: 44
A10: 1 | C10: =(B9+B11)/2 -> 42 | D10: 4.69 | E10: =D10*C10 -> 196.98 | F10: 4.49 | G10: =F10*C10 -> 188.58
B11: 40
A12: 2 | C12: =(B11+B13)/2 -> 41.5 | D12: 4.37 | E12: =D12*C12 -> 181.355 | F12: 4.59 | G12: =F12*C12 -> 190.485
B13: 43
A14: 3 | C14: =(B13+B15)/2 -> 41.5 | D14: 5.31 | E14: =D14*C14 -> 220.365 | F14: 3.49 | G14: =F14*C14 -> 144.835
B15: 40
A16: 4 | C16: =(B15+B17)/2 -> 34.5 | D16: 4.28 | E16: =D16*C16 -> 147.66 | F16: 3.45 | G16: =F16*C16 -> 119.025
B17: 29
A18: 5 | C18: =(B17+B19)/2 -> 30.5 | D18: 4.91 | E18: =D18*C18 -> 149.755 | F18: 3.85 | G18: =F18*C18 -> 117.425
B19: 32
A20: 6 | C20: =(B19+B21)/2 -> 34 | D20: 5.28 | E20: =D20*C20 -> 179.52 | F20: 3.9 | G20: =F20*C20 -> 132.6
B21: 36
A22: 7 | C22: =(B21+B23)/2 -> 36 | D22: 4.34 | E22: =D22*C22 -> 156.24 | F22: 4.34 | G22: =F22*C22 -> 156.24
B23: 36
A24: 8 | C24: =(B23+B25)/2 -> 38 | D24: 4.5 | E24: =D24*C24 -> 171 | F24: 5.16 | G24: =F24*C24 -> 196.08
B25: 40
A26: 9 | C26: =(B25+B27)/2 -> 34.5 | D26: 3.55 | E26: =D26*C26 -> 122.475 | F26: 4.31 | G26: =F26*C26 -> 148.695
B27: 29
A28: 10 | C28: =(B27+B29)/2 -> 29 | D28: 4.15 | E28: =D28*C28 -> 120.35 | F28: 4.42 | G28: =F28*C28 -> 128.18
B29: 29
A30: 11 | C30: =(B29+B31)/2 -> 31.5 | D30: 2.95 | E30: =D30*C30 -> 92.925 | F30: 4.89 | G30: =F30*C30 -> 154.035
B31: 34
A32: B4 | C32: =B31/2 -> 17 | D32: 2.11 | E32: =D32*C32 -> 35.87 | F32: 3.3 | G32: =F32*C32 -> 56.1
A33: Tổng | B33: =SUM(B8:B32) -> 432 | C33: =SUM(C8:C32) -> 432 | E33: =SUM(E8:E32) -> 1900.555 | G33: =SUM(G8:G32) -> 1809.72 | I33: =(G33/E33)*100 -> 95.220607
A35: 1. Chiều dài tuyến kênh: | F35: =B33 -> 432 | G35: m
A36: 2. Khối lượng đất đắp:
A37: a. Khối lượng đất đào: | F37: =F38 -> 1900.555 | G37: m3
A38: - Khối lượng đất đào bằng máy: | F38: =E33 -> 1900.555 | G38: m3
A39: b. Khối lượng đất đắp: | F39: =G33 -> 1809.72 | G39: m3

Sheet KLCN VuVi
A1: BẢNG TÍNH KHỐI LƯỢNG CẮT NGANG
A2: ='[1]TH KL'!A2 -> CÔNG TRÌNH: SỬA CHỮA, NẠO VÉT KÊNH THỦY LỢI NỘI ĐỒNG
A3: ='[1]Công trình'!F6 -> HẠNG MỤC: NẠO VÉT, ĐẮP BỜ TUYẾN KÊNH CỬA LÀNG VŨ VỊ
A6: Mặt cắt | B6: Khoảng cách | D6: Đất đào | F6: Đất đắp | J6: BẢNG TÍNH KHỐI LƯỢNG CẮT NGANG
B7: Thực đo | C7: Áp dụng | D7: S (m2) | E7: W (m3) | F7: S (m2) | G7: W (m3) | J7: CÔNG TRÌNH: SỬA CHỮA, NẠO VÉT KÊNH THỦY LỢI NỘI ĐỒNG
A8: A | C8: =B9/2 -> 21.5 | D8: 3.19 | E8: =D8*C8 -> 68.585 | F8: 2.1 | G8: =F8*C8 -> 45.15 | J8: HẠNG MỤC: NẠO VÉT, ĐẮP BỜ TUYẾN KÊNH CỬA LÀNG VŨ VỊ
B9: 43
A10: 1 | C10: =(B9+B11)/2 -> 43.5 | D10: 2.82 | E10: =D10*C10 -> 122.67 | F10: 2.24 | G10: =F10*C10 -> 97.44
B11: 44
A12: 2 | C12: =(B11+B13)/2 -> 41.5 | D12: 2.75 | E12: =D12*C12 -> 114.125 | F12: 2.1 | G12: =F12*C12 -> 87.15
B13: 39
A14: 3 | C14: =(B13+B15)/2 -> 28.5 | D14: 2.79 | E14: =D14*C14 -> 79.515 | F14: 2.2 | G14: =F14*C14 -> 62.7
B15: 18
A16: 4 | C16: =(B15+B17)/2 -> 26.5 | D16: 2.86 | E16: =D16*C16 -> 75.79 | F16: 2.05 | G16: =F16*C16 -> 54.325
B17: 35
A18: 5 | C18: =(B17+B19)/2 -> 31 | D18: 2.75 | E18: =D18*C18 -> 85.25 | F18: 2.4 | G18: =F18*C18 -> 74.4
B19: 27
A20: 6 | C20: =(B19+B21)/2 -> 26.5 | D20: 2.8 | E20: =D20*C20 -> 74.2 | F20: 2.44 | G20: =F20*C20 -> 64.66
B21: 26
A22: 7 | C22: =(B21+B23)/2 -> 29.5 | D22: 2.78 | E22: =D22*C22 -> 82.01 | F22: 2.32 | G22: =F22*C22 -> 68.44
B23: 33
A24: 8 | C24: =(B23+B25)/2 -> 30 | D24: 2.8 | E24: =D24*C24 -> 84 | F24: 2.26 | G24: =F24*C24 -> 67.8
B25: 27
A26: 9 | C26: =(B25+B27)/2 -> 27.5
B27: 28
A28: 10 | C28: =(B27+B29)/2 -> 31.5
B29: 35
A30: 11 | C30: =(B29+B31)/2 -> 34
B31: 33
A32: 12 | C32: =(B31+B33)/2 -> 34.5
B33: 36
A34: 13 | C34: =(B33+B35)/2 -> 30.5
B35: 25
A36: 14 | C36: =(B35+B37)/2 -> 26
B37: 27
A38: 15 | C38: =(B37+B39)/2 -> 25
B39: 23
A40: 16 | C40: =(B39+B41)/2 -> 23.5
B41: 24
A42: 17 | C42: =(B41+B43)/2 -> 24.5
B43: 25
A44: 18 | C44: =(B43+B45)/2 -> 27.5
B45: 30
A46: 19 | C46: =(B45+B47)/2 -> 35
B47: 40
A48: 20 | C48: =(B47+B49)/2 -> 34.5
B49: 29
A50: 21 | C50: =(B49+B51)/2 -> 26
B51: 23
A52: 22 | C52: =(B51+B53)/2 -> 27.5
B53: 32
A54: 23 | C54: =(B53+B55)/2 -> 28
B55: 24
A56: 24 | C56: =(B55+B57)/2 -> 21
B57: 18
A58: 25 | C58: =(B57+B59)/2 -> 17.5
B59: 17
A60: 26 | C60: =(B59+B61)/2 -> 18.5
B61: 20
A62: 27 | C62: =(B61+B63)/2 -> 26.5
B63: 33
A64: 28 | C64: =(B63+B65)/2 -> 31
B65: 29
A66: 29 | C66: =(B65+B67)/2 -> 27.5
B67: 26
A68: 30 | C68: =(B67+B69)/2 -> 28
B69: 30
A70: 31 | C70: =(B69+B71)/2 -> 31
B71: 32
A72: 32 | C72: =(B71+B73)/2 -> 33.5
B73: 35
A74: 33 | C74: =(B73+B75)/2 -> 35
B75: 35
A76: 34 | C76: =(B75+B77)/2 -> 34.5
B77: 34
A78: 35 | C78: =(B77+B79)/2 -> 33.5
B79: 33
A80: 36 | C80: =(B79+B81)/2 -> 29.5
B81: 26
A82: 37 | C82: =(B81+B83)/2 -> 24.5
B83: 23
A84: 38 | C84: =(B83+B85)/2 -> 34
B85: 45
A86: 39 | C86: =(B85+B87)/2 -> 42.5
B87: 40
A88: B | C88: =B87/2 -> 20 | D88: 1.23 | E88: =D88*C88 -> 24.6 | F88: 1.83 | G88: =F88*C88 -> 36.6
A89: Tổng | B89: =SUM(B8:B88) -> 1202 | C89: =SUM(C8:C88) -> 1202 | E89: =SUM(E8:E88) -> 810.745 | G89: =SUM(G8:G88) -> 658.665 | I89: =(G89/E89)*100 -> 81.241944
A91: 1. Chiều dài tuyến kênh: | F91: =B89 -> 1202 | G91: m
A92: 2. Khối lượng đất đắp:
A93: a. Khối lượng đất đào: | F93: =F94 -> 810.745 | G93: m3
A94: - Khối lượng đất đào bằng máy: | F94: =E89 -> 810.745 | G94: m3
A95: b. Khối lượng đất đắp: | F95: =G89 -> 658.665 | G95: m3

Sheet KLCN O Dien
A1: BẢNG TÍNH KHỐI LƯỢNG CẮT NGANG
A2: ='[2]TH KL'!A2 -> CÔNG TRÌNH: SỬA CHỮA, NẠO VÉT KÊNH THỦY LỢI NỘI ĐỒNG
A3: ='[2]Công trình'!F6 -> HẠNG MỤC: NẠO VÉT, ĐẮP BỜ TUYẾN KÊNH ÔNG DIỆN ĐI SÔNG CỐC THÔN THẤP LINH
A6: Mặt cắt | B6: Khoảng cách | D6: Đất đào | F6: Đất đắp
B7: Thực đo | C7: Áp dụng | D7: S (m2) | E7: W (m3) | F7: S (m2) | G7: W (m3) | J7: BẢNG TÍNH KHỐI LƯỢNG CẮT NGANG
A8: A8 | C8: =B9/2 -> 16.5 | D8: 1.38 | E8: =D8*C8 -> 22.77 | F8: 0.85 | G8: =F8*C8 -> 14.025 | J8: CÔNG TRÌNH: SỬA CHỮA, NẠO VÉT KÊNH THỦY LỢI NỘI ĐỒNG
B9: 33 | J9: HẠNG MỤC: NẠO VÉT, ĐẮP BỜ TUYẾN KÊNH ÔNG DIỆN ĐI SÔNG CỐC THÔN THẤP LINH
A10: 1 | C10: =(B9+B11)/2 -> 35 | D10: 1.21 | E10: =D10*C10 -> 42.35 | F10: 1.63 | G10: =F10*C10 -> 57.05
B11: 37
A12: 2 | C12: =(B11+B13)/2 -> 36.5 | D12: 1.36 | E12: =D12*C12 -> 49.64 | F12: 0.68 | G12: =F12*C12 -> 24.82
B13: 36
A14: 3 | C14: =(B13+B15)/2 -> 36.5 | D14: 1.63 | E14: =D14*C14 -> 59.495 | F14: 0.61 | G14: =F14*C14 -> 22.265
B15: 37
A16: 4 | C16: =(B15+B17)/2 -> 32.5 | D16: 2.04 | E16: =D16*C16 -> 66.3 | F16: 0.83 | G16: =F16*C16 -> 26.975
B17: 28
A18: 5 | C18: =(B17+B19)/2 -> 32 | D18: 0.98 | E18: =D18*C18 -> 31.36 | F18: 0.94 | G18: =F18*C18 -> 30.08
B19: 36
A20: 6 | C20: =(B19+B21)/2 -> 35 | D20: 3.17 | E20: =D20*C20 -> 110.95 | F20: 0.86 | G20: =F20*C20 -> 30.1
B21: 34
A22: 7 | C22: =(B21+B23)/2 -> 33.5 | D22: 3.76 | E22: =D22*C22 -> 125.96 | F22: 0.8 | G22: =F22*C22 -> 26.8
B23: 33
A24: 8 | C24: =(B23+B25)/2 -> 32.7 | D24: 3.16 | E24: =D24*C24 -> 103.332 | F24: 1.83 | G24: =F24*C24 -> 59.841
B25: 32.4
A26: B8 | C26: =B25/2 -> 16.2 | D26: 2.9 | E26: =D26*C26 -> 46.98 | F26: 0.9 | G26: =F26*C26 -> 14.58
A27: Tổng | B27: =SUM(B8:B26) -> 306.4 | C27: =SUM(C8:C26) -> 306.4 | E27: =SUM(E8:E26) -> 659.137 | G27: =SUM(G8:G26) -> 306.536 | I27: =(G27/E27)*100 -> 46.505658
A29: 1. Chiều dài tuyến kênh: | F29: =B27 -> 306.4 | G29: m
A30: 2. Khối lượng đất đắp:
A31: a. Khối lượng đất đào: | F31: =F32 -> 659.137 | G31: m3
A32: - Khối lượng đất đào bằng máy: | F32: =E27 -> 659.137 | G32: m3
A33: b. Khối lượng đất đắp: | F33: =G27 -> 306.536 | G33: m3

Sheet KLCN so 9
A1: BẢNG TÍNH KHỐI LƯỢNG CẮT NGANG
A2: ='[3]TH KL'!A2 -> CÔNG TRÌNH: SỬA CHỮA, NẠO VÉT KÊNH THỦY LỢI NỘI ĐỒNG
A3: ='[3]Công trình'!F6 -> HẠNG MỤC: NẠO VÉT, ĐẮP BỜ TUYẾN KÊNH SỐ 9 THÔN ĐẠI ĐỒNG
A6: Mặt cắt | B6: Khoảng cách | D6: Đất đào | F6: Đất đắp
B7: Thực đo | C7: Áp dụng | D7: S (m2) | E7: W (m3) | F7: S (m2) | G7: W (m3) | K7: BẢNG TÍNH KHỐI LƯỢNG CẮT NGANG
A8: A9 | C8: =B9/2 -> 20.5 | D8: 1.16 | E8: =D8*C8 -> 23.78 | F8: 2.4 | G8: =F8*C8 -> 49.2 | K8: CÔNG TRÌNH: SỬA CHỮA, NẠO VÉT KÊNH THỦY LỢI NỘI ĐỒNG
B9: 41 | K9: HẠNG MỤC: NẠO VÉT, ĐẮP BỜ TUYẾN KÊNH SỐ 9 THÔN ĐẠI ĐỒNG
A10: 1 | C10: =(B9+B11)/2 -> 37.5 | D10: 2.09 | E10: =D10*C10 -> 78.375 | F10: 2.48 | G10: =F10*C10 -> 93
B11: 34
A12: 2 | C12: =(B11+B13)/2 -> 36.5 | D12: 2.56 | E12: =D12*C12 -> 93.44 | F12: 2.29 | G12: =F12*C12 -> 83.585
B13: 39
A14: 3 | C14: =(B13+B15)/2 -> 36 | D14: 3.09 | E14: =D14*C14 -> 111.24 | F14: 2.78 | G14: =F14*C14 -> 100.08
B15: 33
A16: 4 | C16: =(B15+B17)/2 -> 32.5 | D16: 4.05 | E16: =D16*C16 -> 131.625 | F16: 2.82 | G16: =F16*C16 -> 91.65
B17: 32
A18: 5 | C18: =(B17+B19)/2 -> 33 | D18: 3.12 | E18: =D18*C18 -> 102.96 | F18: 2.51 | G18: =F18*C18 -> 82.83
B19: 34
A20: 6 | C20: =(B19+B21)/2 -> 29.5 | D20: 3.57 | E20: =D20*C20 -> 105.315 | F20: 0 | G20: =F20*C20 -> 0
B21: 25
A22: 7 | C22: =(B21+B23)/2 -> 25.5 | D22: 3.89 | E22: =D22*C22 -> 99.195 | F22: 2.36 | G22: =F22*C22 -> 60.18
B23: 26
A24: 8 | C24: =(B23+B25)/2 -> 26 | D24: 3.86 | E24: =D24*C24 -> 100.36 | F24: 1.64 | G24: =F24*C24 -> 42.64
B25: 26
A26: 9 | C26: =(B25+B27)/2 -> 26 | D26: 3.73 | E26: =D26*C26 -> 96.98 | F26: 1.85 | G26: =F26*C26 -> 48.1
B27: 26
A28: 10 | C28: =(B27+B29)/2 -> 32 | D28: 3.21 | E28: =D28*C28 -> 102.72 | F28: 0 | G28: =F28*C28 -> 0
B29: 38
A30: 11 | C30: =(B29+B31)/2 -> 35.5 | D30: 2.45 | E30: =D30*C30 -> 86.975 | F30: 3.81 | G30: =F30*C30 -> 135.255
B31: 33
A32: 12 | C32: =(B31+B33)/2 -> 31 | D32: 3.37 | E32: =D32*C32 -> 104.47 | F32: 3.62 | G32: =F32*C32 -> 112.22
B33: 29
A34: 13 | C34: =(B33+B35)/2 -> 31 | D34: 4.29 | E34: =D34*C34 -> 132.99 | F34: 2.34 | G34: =F34*C34 -> 72.54
B35: 33
A36: 14 | C36: =(B35+B37)/2 -> 31 | D36: 5.15 | E36: =D36*C36 -> 159.65 | F36: 2.67 | G36: =F36*C36 -> 82.77
B37: 29
A38: 15 | C38: =(B37+B39)/2 -> 28.5 | D38: 5.73 | E38: =D38*C38 -> 163.305 | F38: 2.93 | G38: =F38*C38 -> 83.505
B39: 28
A40: 16 | C40: =(B39+B41)/2 -> 26 | D40: 5.68 | E40: =D40*C40 -> 147.68 | F40: 1.86 | G40: =F40*C40 -> 48.36
B41: 24
A42: 17 | C42: =(B41+B43)/2 -> 30 | D42: 3.74 | E42: =D42*C42 -> 112.2 | F42: 1.8 | G42: =F42*C42 -> 54
B43: 36
A44: B | C44: =B43/2 -> 18 | D44: 3.36 | E44: =D44*C44 -> 60.48 | F44: 3.01 | G44: =F44*C44 -> 54.18
A45: Tổng | B45: =SUM(B8:B44) -> 566 | C45: =SUM(C8:C44) -> 566 | E45: =SUM(E8:E44) -> 2013.74 | G45: =SUM(G8:G44) -> 1294.095 | I45: =(G45/E45)*100 -> 64.263261
A47: 1. Chiều dài tuyến kênh: | F47: =B45 -> 566 | G47: m
A48: 2. Khối lượng đất đắp:
A49: a. Khối lượng đất đào: | F49: =F50 -> 2013.74 | G49: m3
A50: - Khối lượng đất đào bằng máy: | F50: =E45 -> 2013.74 | G50: m3
A51: b. Khối lượng đất đắp: | F51: =G45 -> 1294.095 | G51: m3

Sheet KLCN so 13
A1: BẢNG TÍNH KHỐI LƯỢNG CẮT NGANG
A2: ='[4]TH KL'!A2 -> CÔNG TRÌNH: SỬA CHỮA, NẠO VÉT KÊNH THỦY LỢI NỘI ĐỒNG
A3: ='[4]Công trình'!F6 -> HẠNG MỤC: NẠO VÉT, ĐẮP BỜ TUYẾN KÊNH SỐ 13 THÔN PHONG CẦU
A6: Mặt cắt | B6: Khoảng cách | D6: Đất đào | F6: Đất đắp
B7: Thực đo | C7: Áp dụng | D7: S (m2) | E7: W (m3) | F7: S (m2) | G7: W (m3)
A8: A13 | C8: =B9/2 -> 16 | D8: 3.08 | E8: =D8*C8 -> 49.28 | F8: 0.65 | G8: =F8*C8 -> 10.4
B9: 32
A10: 1 | C10: =(B9+B11)/2 -> 35 | D10: 1.86 | E10: =D10*C10 -> 65.1 | F10: 1.32 | G10: =F10*C10 -> 46.2 | K10: BẢNG TÍNH KHỐI LƯỢNG CẮT NGANG
B11: 38 | K11: CÔNG TRÌNH: SỬA CHỮA, NẠO VÉT KÊNH THỦY LỢI NỘI ĐỒNG
A12: 2 | C12: =(B11+B13)/2 -> 31 | D12: 1.58 | E12: =D12*C12 -> 48.98 | F12: 1.76 | G12: =F12*C12 -> 54.56 | K12: HẠNG MỤC: NẠO VÉT, ĐẮP BỜ TUYẾN KÊNH SỐ 13 THÔN PHONG CẦU
B13: 24
A14: 3 | C14: =(B13+B15)/2 -> 23 | D14: 2.17 | E14: =D14*C14 -> 49.91 | F14: 0.76 | G14: =F14*C14 -> 17.48
B15: 22
A16: 4 | C16: =(B15+B17)/2 -> 28.5 | D16: 2.38 | E16: =D16*C16 -> 67.83 | F16: 1.66 | G16: =F16*C16 -> 47.31
B17: 35
A18: 5 | C18: =(B17+B19)/2 -> 36 | D18: 1.97 | E18: =D18*C18 -> 70.92 | F18: 2.05 | G18: =F18*C18 -> 73.8
B19: 37
A20: 6 | C20: =(B19+B21)/2 -> 38 | D20: 1.95 | E20: =D20*C20 -> 74.1 | F20: 2.26 | G20: =F20*C20 -> 85.88
B21: 39
A22: B13 | C22: =B21/2 -> 19.5 | D22: 1.88 | E22: =D22*C22 -> 36.66 | F22: 3.21 | G22: =F22*C22 -> 62.595
A23: Tổng | B23: =SUM(B8:B22) -> 227 | C23: =SUM(C8:C22) -> 227 | E23: =SUM(E8:E22) -> 462.78 | G23: =SUM(G8:G22) -> 398.225 | I23: =(G23/E23)*100 -> 86.050607
A25: 1. Chiều dài tuyến kênh: | F25: =B23 -> 227 | G25: m
A26: 2. Khối lượng đất đắp:
A27: a. Khối lượng đất đào: | F27: =F28 -> 462.78 | G27: m3
A28: - Khối lượng đất đào bằng máy: | F28: =E23 -> 462.78 | G28: m3
A29: b. Khối lượng đất đắp: | F29: =G23 -> 398.225 | G29: m3
