Workbook

Sheet SGV

Sheet TH KL
A1: BẢNG TỔNG HỢP KHỐI LƯỢNG
A2: CÔNG TRÌNH: NẠO VÉT, SỬA CHỮA HỆ THỐNG KÊNH THỦY LỢI NỘI ĐỒNG XÃ KIẾN MINH, THÀNH PHỐ HẢI PHÒNG
A3: ĐỊA ĐIỂM XÂY DỰNG: XÃ KIẾN MINH - TP HẢI PHÒNG
A5: STT | B5: Danh mục | C5: Đơn vị | D5: Số bộ phân giống nhau | E5: Kích thước | H5: Khối lượng 1 bộ phận | I5: Khối lượng toàn bộ
E6: Dài (m) | F6: Rộng (m) | G6: Cao (m)
A7: (1) | B7: (2) | C7: (3) | D7: (4) | E7: (5) | F7: (6) | G7: (7) | H7: (8) | I7: (9)
A8: 1 | B8: Đất đào | C8: m3 | I8: =SUM(H9:H9) -> 16917.032
B9: Đào bằng máy | E9: Theo bảng KLCN | H9: =KLCN!F447 -> 16917.032
A10: 2 | B10: Đắp đất bờ kênh (K=0,85) | C10: m3 | I10: =H11+H12 -> 10574.371
B11: Đất đắp bằng thủ công (10% KL đắp) | H11: =KLCN!F448*10% -> 1057.4371
B12: Đất đắp bằng máy (90%) | H12: =KLCN!F448*90% -> 9516.9339
A13: 3 | B13: Dọn dẹp mặt bằng | C13: m2 | I13: =SUM(H14:H14) -> 113177.9
D14: 1 | E14: =KLCN!F444 -> 7301.8 | F14: TB | G14: 15.5 | H14: =D14*E14*G14 -> 113177.9
A15: 4 | B15: Tôn chống lầy KT 1,5x3m dày 16mm, số lượng 4 tấm (hỗ trợ máy di chuyển trong thời gian thi công) | C15: Kg | E15: 1,5*3*0,016*4*7850 | I15: =1.5*3*0.016*4*7850 -> 2260.8
A16: 5 | B16: Nhân công hỗ trợ lắp ghép tấm chống lầy | C16: công | I16: =E14*5/1000 -> 36.509 | L16: Tạm tính 5 công cho 1km tuyến kênh
A17: 6 | B17: Ô tô đầu kéo + rơ mooc vận chuyển đi và về | C17: ca | I17: =2*15 -> 30 | L17: mỗi tuyến 2 ca đi và về
A18: 7 | B18: Vận chuyển đất thừa | C18: m3 | I18: =I8-I10 -> 6342.6615
A19: 8 | B19: Đóng cọc tre gia cố chân mái, cọc tre D6-8cm dài 2,8m, mật độ 5 cặp cọc/m | C19: cọc | I19: =SUM(H22:H33) -> 5817 | J19: 7250 | K19: =I19-J19 -> -1433
B20: - Tuyến kênh Long Rô 1 thôn Đại Trà
B21: Bờ trái toàn tuyến | E21: 0 | F21: 10 | G21: cọc/m | H21: =F21*E21 -> 0
B22: - Tuyến kênh giữa làng Cốc Liễn
B23: Bờ trái từ cọc 23 đến cọc B | E23: 0 | F23: 10 | G23: cọc/m | H23: =F23*E23 -> 0
B24: Bờ phải cọc 11,12,17,18,21 | E24: 0 | F24: 10 | G24: cọc/m | H24: =F24*E24 -> 0
B25: - Tuyến kênh Cầu Mới
B26: Bờ trái toàn tuyến | E26: =KLCN!B181 -> 334 | F26: 10 | G26: cọc/m | H26: =F26*E26 -> 3340
B27: Bờ phải cọc 7,8 phía ao | E27: =KLCN!C176+KLCN!C178 -> 70.5 | F27: 10 | G27: cọc/m | H27: =F27*E27 -> 705
B28: - Tuyến kênh cửa làng Vũ Vị
B29: Cọc 6,7,8 bờ trái | E29: =KLCN!C222+KLCN!C224+KLCN!C226 -> 86 | F29: 10 | G29: cọc/m | H29: =F29*E29 -> 860
B30: Cọc 16 phía bờ phải (Ao) | E30: =KLCN!C242 -> 23.5 | F30: 10 | G30: cọc/m | H30: =F30*E30 -> 235
B31: - Tuyến kênh Ô Diện đi sông Cốc
B32: Bê tông bờ phải toàn tuyến | E32: 0 | F32: 10 | G32: cọc/m | H32: =F32*E32 -> 0
B33: Bờ trái cọc 6,8 phía ao | E33: =KLCN!C344+KLCN!C348 -> 67.7 | F33: 10 | G33: cọc/m | H33: =F33*E33 -> 677
B34: - Tuyến kênh số 9 thôn Đại Đồng
B35: Bê tông bờ phải toàn tuyến | E35: 0 | F35: 10 | G35: cọc/m | H35: =F35*E35 -> 0
A36: 9 | B36: Phên tre | C36: m2 | I36: =H37 -> 465.36
B37: - Tính theo chiều dài đóng cọc tre | E37: =SUM(E20:E35) -> 581.7 | G37: 0.8 | H37: =G37*E37 -> 465.36
A38: 10 | B38: Thép buộc | C38: Kg | E38: =E37*3 -> 1745.1 | F38: 0.055 | G38: kg/m | I38: =F38*E38 -> 95.9805 | L38: 1m có 5 mối buộc,1 mối buộc dài 0,6m =>1m dài đóng cọc cần 3m dây buộc
A39: 11 | B39: Công buộc thép | C39: công | I39: =I38/15 -> 6.3987 | L39: Tạm tính 1 công buộc 15kg dây buộc

Sheet THKL
A1: BẢNG TỔNG HỢP KHỐI LƯỢNG
A2: CÔNG TRÌNH: SỬA CHỮA, NẠO VÉT KÊNH THỦY LỢI NỘI ĐỒNG XÃ KIẾN MINH
A3: HẠNG MỤC: NẠO VÉT, ĐẮP BỜ
A5: STT | B5: Danh mục | C5: Đơn vị | D5: Số bộ phân giống nhau | E5: Kích thước | H5: Khối lượng 1 bộ phận | I5: Khối lượn toàn bộ
E6: Dài (m) | F6: Rộng (m) | G6: Cao (m)
A7: (1) | B7: (2) | C7: (3) | D7: (4) | E7: (5) | F7: (6) | G7: (7) | H7: (8) | I7: (9)
A8: 1 | B8: Đất đào | C8: m3 | I8: =SUM(H9:H18) -> 11131.653
B9: - Tuyến kênh Long Rô 1 thôn Đại Trà | E9: Theo bảng KLCN | H9: ='KLCN Long Ro 1'!F31 -> 404.045
B10: - Tuyến kênh Bắc Cửa 1 | E10: Theo bảng KLCN | H10: ='KLCN BacCua1'!F33 -> 604.606
B11: - Tuyến kênh Bến Đò thôn Lạng Côn | E11: Theo bảng KLCN | H11: ='KLCN BenDo'!F57 -> 1663.495
B12: - Tuyến kênh giữa làng Cốc Liễn | E12: Theo bảng KLCN | H12: ='KLCN CocLien'!F73 -> 1695.845
B13: - Tuyến kênh Cầu Mới | E13: Theo bảng KLCN | H13: ='KLCN CauMoi'!F31 -> 916.705
B14: - Tuyến kênh Láng Khoáng- Đồng Nhồi | E14: Theo bảng KLCN | H14: ='KLCN LangKhoang-DongNhoi'!F37 -> 1900.555
B15: - Tuyến kênh cửa làng Vũ Vị | E15: Theo bảng KLCN | H15: ='KLCN VuVi'!F93 -> 810.745
B16: - Tuyến kênh Ô Diện đi sông Cốc | E16: Theo bảng KLCN | H16: ='KLCN O Dien'!F31 -> 659.137
B17: - Tuyến kênh số 9 thôn Đại Đồng | E17: Theo bảng KLCN | H17: ='KLCN so 9'!F49 -> 2013.74
B18: - Tuyến kênh số 13 | E18: Theo bảng KLCN | H18: ='KLCN so 13'!F27 -> 462.78 | L18: =I19/I8 -> 0.81198929
A19: 2 | B19: Đắp đất bờ kênh (K=0,85) | C19: m3 | I19: =I20+I31 -> 9038.783
A20: * | B20: Đất đắp bằng thủ công | I20: =SUM(H21:H30) -> 903.8783
B21: =B9 -> - Tuyến kênh Long Rô 1 thôn Đại Trà | E21: Theo bảng KLCN | H21: ='KLCN Long Ro 1'!F33*10% -> 29.176
B22: =B10 -> - Tuyến kênh Bắc Cửa 1 | E22: Theo bảng KLCN | H22: ='KLCN BacCua1'!F35*10% -> 59.5652
B23: =B11 -> - Tuyến kênh Bến Đò thôn Lạng Côn | E23: Theo bảng KLCN | H23: ='KLCN BenDo'!F59*10% -> 146.3455
B24: =B12 -> - Tuyến kênh giữa làng Cốc Liễn | E24: Theo bảng KLCN | H24: ='KLCN CocLien'!F75*10% -> 147.9685
B25: =B13 -> - Tuyến kênh Cầu Mới | E25: Theo bảng KLCN | H25: ='KLCN CauMoi'!F33*10% -> 74.099
B26: =B14 -> - Tuyến kênh Láng Khoáng- Đồng Nhồi | E26: Theo bảng KLCN | H26: ='KLCN LangKhoang-DongNhoi'!F39*10% -> 180.972
B27: =B15 -> - Tuyến kênh cửa làng Vũ Vị | E27: Theo bảng KLCN | H27: ='KLCN VuVi'!F95*10% -> 65.8665
B28: =B16 -> - Tuyến kênh Ô Diện đi sông Cốc | E28: Theo bảng KLCN | H28: ='KLCN O Dien'!F33*10% -> 30.6536
B29: =B17 -> - Tuyến kênh số 9 thôn Đại Đồng | E29: Theo bảng KLCN | H29: ='KLCN so 9'!F51*10% -> 129.4095
B30: =B18 -> - Tuyến kênh số 13 | E30: Theo bảng KLCN | H30: ='KLCN so 13'!F29*10% -> 39.8225
A31: * | B31: Đất đắp bằng máy | I31: =SUM(H32:H41) -> 8134.9047
B32: =B21 -> - Tuyến kênh Long Rô 1 thôn Đại Trà | E32: Theo bảng KLCN | H32: ='KLCN Long Ro 1'!F33*90% -> 262.584
B33: =B22 -> - Tuyến kênh Bắc Cửa 1 | E33: Theo bảng KLCN | H33: ='KLCN BacCua1'!F35*90% -> 536.0868
B34: =B23 -> - Tuyến kênh Bến Đò thôn Lạng Côn | E34: Theo bảng KLCN | H34: ='KLCN BenDo'!F59*90% -> 1317.1095
B35: =B24 -> - Tuyến kênh giữa làng Cốc Liễn | E35: Theo bảng KLCN | H35: ='KLCN CocLien'!F75*90% -> 1331.7165
B36: =B25 -> - Tuyến kênh Cầu Mới | E36: Theo bảng KLCN | H36: ='KLCN CauMoi'!F33*90% -> 666.891
B37: =B26 -> - Tuyến kênh Láng Khoáng- Đồng Nhồi | E37: Theo bảng KLCN | H37: ='KLCN LangKhoang-DongNhoi'!F39*90% -> 1628.748
B38: =B27 -> - Tuyến kênh cửa làng Vũ Vị | E38: Theo bảng KLCN | H38: ='KLCN VuVi'!F95*90% -> 592.7985
B39: =B28 -> - Tuyến kênh Ô Diện đi sông Cốc | E39: Theo bảng KLCN | H39: ='KLCN O Dien'!F33*90% -> 275.8824
B40: =B29 -> - Tuyến kênh số 9 thôn Đại Đồng | E40: Theo bảng KLCN | H40: ='KLCN so 9'!F51*90% -> 1164.6855
B41: =B30 -> - Tuyến kênh số 13 | E41: Theo bảng KLCN | H41: ='KLCN so 13'!F29*90% -> 358.4025
...

Sheet KLCN
A1: BẢNG KHỐI LƯỢNG CẮT NGANG
A2: CÔNG TRÌNH: NẠO VÉT KÊNH THỦY LỢI NỘI ĐỒNG XÃ KIẾN MINH
A5: Mặt cắt | B5: Khoảng cách | D5: Đất đào | F5: Đất đắp
B6: Thực đo | C6: Áp dụng | D6: S (m2) | E6: W (m3) | F6: S (m2) | G6: W (m3)
A7: I. TUYẾN KÊNH LONG RÔ 1 THÔN ĐẠI TRÀ
A8: A | C8: =B9/2 -> 15.5 | D8: 1.67 | E8: =D8*C8 -> 25.885 | F8: 1.02 | G8: =F8*C8 -> 15.81
B9: 31
A10: 1 | C10: =(B9+B11)/2 -> 24.5 | D10: 1.33 | E10: =D10*C10 -> 32.585 | F10: 0.25 | G10: =F10*C10 -> 6.125
B11: 18
A12: 2 | C12: =(B11+B13)/2 -> 24 | D12: 1.45 | E12: =D12*C12 -> 34.8 | F12: 0.14 | G12: =F12*C12 -> 3.36
B13: 30
A14: 3 | C14: =(B13+B15)/2 -> 30.5 | D14: 0.66 | E14: =D14*C14 -> 20.13 | F14: 1.07 | G14: =F14*C14 -> 32.635
B15: 31
A16: 4 | C16: =(B15+B17)/2 -> 28.5 | D16: 0.45 | E16: =D16*C16 -> 12.825 | F16: 1.66 | G16: =F16*C16 -> 47.31
B17: 26
A18: 5 | C18: =(B17+B19)/2 -> 30 | D18: 0.75 | E18: =D18*C18 -> 22.5 | F18: 1.69 | G18: =F18*C18 -> 50.7
B19: 34
A20: 6 | C20: =(B19+B21)/2 -> 28.5 | D20: 1.11 | E20: =D20*C20 -> 31.635 | F20: 1.48 | G20: =F20*C20 -> 42.18
B21: 23
A22: 7 | C22: =(B21+B23)/2 -> 22 | D22: 1.57 | E22: =D22*C22 -> 34.54 | F22: 1.27 | G22: =F22*C22 -> 27.94
B23: 21
A24: 8 | C24: =(B23+B25)/2 -> 18.5 | D24: 1.06 | E24: =D24*C24 -> 19.61 | F24: 1.84 | G24: =F24*C24 -> 34.04
B25: 16
A26: B | C26: =B25/2 -> 8 | D26: 0.89 | E26: =D26*C26 -> 7.12 | F26: 1.68 | G26: =F26*C26 -> 13.44
A27: Tổng | B27: =SUM(B8:B26) -> 230 | C27: =SUM(C8:C26) -> 230 | E27: =SUM(E8:E26) -> 241.63 | G27: =SUM(G8:G26) -> 273.54
A28: II. KÊNH BẮC CỬA 1 THÔN ĐẠI TRÀ
A29: A | C29: =B30/2 -> 15 | D29: 3.14 | E29: =D29*C29 -> 47.1 | F29: 1.97 | G29: =F29*C29 -> 29.55
B30: 30
A31: 1 | C31: =(B30+B32)/2 -> 31 | D31: 2.69 | E31: =D31*C31 -> 83.39 | F31: 2 | G31: =F31*C31 -> 62
B32: 32
A33: 2 | C33: =(B32+B34)/2 -> 31.5 | D33: 2.51 | E33: =D33*C33 -> 79.065 | F33: 1.55 | G33: =F33*C33 -> 48.825
B34: 31
A35: 3 | C35: =(B34+B36)/2 -> 30.5 | D35: 2.95 | E35: =D35*C35 -> 89.975 | F35: 1.03 | G35: =F35*C35 -> 31.415
B36: 30
A37: 4 | C37: =(B36+B38)/2 -> 30.5 | D37: 2.19 | E37: =D37*C37 -> 66.795 | F37: 1.05 | G37: =F37*C37 -> 32.025
B38: 31
A39: 5 | C39: =(B38+B40)/2 -> 27 | D39: 2.28 | E39: =D39*C39 -> 61.56 | F39: 1.65 | G39: =F39*C39 -> 44.55
B40: 23
A41: 6 | C41: =(B40+B42)/2 -> 27 | D41: 1.67 | E41: =D41*C41 -> 45.09 | F41: 1.95 | G41: =F41*C41 -> 52.65
B42: 31
...

Sheet KL KSDH
A3: KHỐI LƯỢNG KHẢO SÁT
A5: TT | B5: Hạng mục | C5: Cắt | D5: Cắt ngang | K5: BĐ tỷ lệ1:200 | M5: Khống chế | N5: T. chuẩn
C6: dọc | D6: Số | F6: Ch.dài | H6: Tổng | I6: T. cạn | J6: D. nước | K6: T. cạn | L6: D. nước | M6: đ/c cấp 2 | N6: kỹ thuật
C7: (m) | D7: m/c | F7: T.bình | H7: (m) | I7: (m) | J7: (m) | K7: (ha) | L7: (ha) | M7: (điểm) | N7: (km)
A8: 1 | B8: Bình đồ công trình | K8: =+C9*F9/10000*0.5 -> 10.141908 | L8: =C9*F9/10000*0.5 -> 10.141908 | M8: 0 | N8: =+C10/1000 -> 7.3018
B9: * CD + CN: | C9: =KLCN!B442 -> 7301.8 | D9: =10+11+23+31+10+13+41+19+10+8 -> 176 | E9: x | F9: 27.7792 | G9: = | H9: =D9*F9 -> 4889.1392 | I9: =H9*0.5 -> 2444.5696 | J9: =+H9*0.5 -> 2444.5696
B10: Cộng: | C10: =SUM(C8:C9) -> 7301.8 | H10: =SUM(H8:H9) -> 4889.1392 | I10: =SUM(I8:I9) -> 2444.5696 | J10: =SUM(J8:J9) -> 2444.5696 | K10: =SUM(K8:K9) -> 10.141908 | L10: =SUM(L8:L9) -> 10.141908 | M10: =SUM(M8:M9) -> 0 | N10: =SUM(N8:N9) -> 7.3018
R20: =(28+28+25+25+25+36+30+30+25+32)/10 -> 28.4

Sheet KLCN Long Ro 1
A1: BẢNG TÍNH KHỐI LƯỢNG CẮT NGANG
A2: CÔNG TRÌNH: SỬA CHỮA, NẠO VÉT KÊNH THỦY LỢI NỘI ĐỒNG
A3: HẠNG MỤC: NẠO VÉT, ĐẮP BỜ TUYẾN KÊNH LONG RÔ 1 THÔN ĐẠI TRÀ
A6: Mặt cắt | B6: Khoảng cách | D6: Đất đào | F6: Đất đắp
B7: Thực đo | C7: Áp dụng | D7: S (m2) | E7: W (m3) | F7: S (m2) | G7: W (m3)
A8: A | C8: =B9/2 -> 15.5 | D8: 2.94 | E8: =D8*C8 -> 45.57 | F8: 1.22 | G8: =F8*C8 -> 18.91
B9: 31
A10: 1 | C10: =(B9+B11)/2 -> 24.5 | D10: 2.56 | E10: =D10*C10 -> 62.72 | F10: 0.73 | G10: =F10*C10 -> 17.885
B11: 18
A12: 2 | C12: =(B11+B13)/2 -> 24 | D12: 2.75 | E12: =D12*C12 -> 66 | F12: 0 | G12: =F12*C12 -> 0
B13: 30
A14: 3 | C14: =(B13+B15)/2 -> 30.5 | D14: 1.15 | E14: =D14*C14 -> 35.075 | F14: 1.08 | G14: =F14*C14 -> 32.94
B15: 31
A16: 4 | C16: =(B15+B17)/2 -> 28.5 | D16: 0.84 | E16: =D16*C16 -> 23.94 | F16: 1.46 | G16: =F16*C16 -> 41.61
B17: 26
A18: 5 | C18: =(B17+B19)/2 -> 30 | D18: 0.84 | E18: =D18*C18 -> 25.2 | F18: 1.54 | G18: =F18*C18 -> 46.2
B19: 34
A20: 6 | C20: =(B19+B21)/2 -> 28.5 | D20: 1.81 | E20: =D20*C20 -> 51.585 | F20: 1.75 | G20: =F20*C20 -> 49.875
B21: 23
A22: 7 | C22: =(B21+B23)/2 -> 22 | D22: 2.21 | E22: =D22*C22 -> 48.62 | F22: 1.56 | G22: =F22*C22 -> 34.32
B23: 21
A24: 8 | C24: =(B23+B25)/2 -> 18.5 | D24: 1.75 | E24: =D24*C24 -> 32.375 | F24: 1.96 | G24: =F24*C24 -> 36.26
B25: 16
A26: B | C26: =B25/2 -> 8 | D26: 1.62 | E26: =D26*C26 -> 12.96 | F26: 1.72 | G26: =F26*C26 -> 13.76
A27: Tổng | B27: =SUM(B8:B26) -> 230 | C27: =SUM(C8:C26) -> 230 | E27: =SUM(E8:E26) -> 404.045 | G27: =SUM(G8:G26) -> 291.76 | I27: =(G27/E27)*100 -> 72.209779
A29: 1. Chiều dài tuyến kênh: | F29: =B27 -> 230 | G29: m
A30: 2. Khối lượng đất đắp:
A31: a. Khối lượng đất đào: | F31: =F32 -> 404.045 | G31: m3
A32: - Khối lượng đất đào bằng máy: | F32: =E27 -> 404.045 | G32: m3
A33: b. Khối lượng đất đắp: | F33: =G27 -> 291.76 | G33: m3

Sheet KLCN BacCua1
A1: BẢNG TÍNH KHỐI LƯỢNG CẮT NGANG
A2: CÔNG TRÌNH: SỬA CHỮA, NẠO VÉT KÊNH THỦY LỢI NỘI ĐỒNG
A3: HẠNG MỤC: NẠO VÉT, ĐẮP BỜ KÊNH BẮC CỬA 1
A6: Mặt cắt | B6: Khoảng cách | D6: Đất đào | F6: Đất đắp
B7: Thực đo | C7: Áp dụng | D7: S (m2) | E7: W (m3) | F7: S (m2) | G7: W (m3)
A8: A | C8: =B9/2 -> 15 | D8: 3.14 | E8: =D8*C8 -> 47.1 | F8: 1.97 | G8: =F8*C8 -> 29.55
B9: 30
A10: 1 | C10: =(B9+B11)/2 -> 31 | D10: 2.69 | E10: =D10*C10 -> 83.39 | F10: 2 | G10: =F10*C10 -> 62
B11: 32
A12: 2 | C12: =(B11+B13)/2 -> 31.5 | D12: 2.51 | E12: =D12*C12 -> 79.065 | F12: 1.55 | G12: =F12*C12 -> 48.825
B13: 31
A14: 3 | C14: =(B13+B15)/2 -> 30.5 | D14: 2.95 | E14: =D14*C14 -> 89.975 | F14: 1.03 | G14: =F14*C14 -> 31.415
B15: 30
A16: 4 | C16: =(B15+B17)/2 -> 30.5 | D16: 2.19 | E16: =D16*C16 -> 66.795 | F16: 1.05 | G16: =F16*C16 -> 32.025
B17: 31
A18: 5 | C18: =(B17+B19)/2 -> 27 | D18: 2.28 | E18: =D18*C18 -> 61.56 | F18: 1.65 | G18: =F18*C18 -> 44.55
B19: 23
A20: 6 | C20: =(B19+B21)/2 -> 27 | D20: 1.67 | E20: =D20*C20 -> 45.09 | F20: 1.95 | G20: =F20*C20 -> 52.65
B21: 31
A22: 7 | C22: =(B21+B23)/2 -> 30.5 | D22: 1.14 | E22: =D22*C22 -> 34.77 | F22: 1.79 | G22: =F22*C22 -> 54.595
B23: 30
A24: 8 | C24: =(B23+B25)/2 -> 30 | D24: 0.88 | E24: =D24*C24 -> 26.4 | F24: 2.26 | G24: =F24*C24 -> 67.8
B25: 30
A26: 9 | C26: =(B25+B27)/2 -> 35.35 | D26: 1.36 | E26: =D26*C26 -> 48.076 | F26: 3.18 | G26: =F26*C26 -> 112.413
B27: 40.7
A28: B | C28: =B27/2 -> 20.35 | D28: 1.1 | E28: =D28*C28 -> 22.385 | F28: 2.94 | G28: =F28*C28 -> 59.829
A29: Tổng | B29: =SUM(B8:B28) -> 308.7 | C29: =SUM(C8:C28) -> 308.7 | E29: =SUM(E8:E28) -> 604.606 | G29: =SUM(G8:G28) -> 595.652
A31: 1. Chiều dài tuyến kênh: | F31: =B29 -> 308.7 | G31: m
A32: 2. Khối lượng đất đắp:
A33: a. Khối lượng đất đào: | F33: =F34 -> 604.606 | G33: m3
A34: - Khối lượng đất đào bằng máy: | F34: =E29 -> 604.606 | G34: m3
A35: b. Khối lượng đất đắp: | F35: =G29 -> 595.652 | G35: m3

Sheet KLCN BenDo
A1: BẢNG TÍNH KHỐI LƯỢNG CẮT NGANG
A2: CÔNG TRÌNH: SỬA CHỮA, NẠO VÉT KÊNH THỦY LỢI NỘI ĐỒNG
A3: HẠNG MỤC: NẠO VÉT, ĐẮP BỜ TUYẾN KÊNH BẾN ĐÒ THÔN LẠNG CÔN
A6: Mặt cắt | B6: Khoảng cách | D6: Đất đào | F6: Đất đắp
B7: Thực đo | C7: Áp dụng | D7: S (m2) | E7: W (m3) | F7: S (m2) | G7: W (m3)
A8: A | C8: =B9/2 -> 14.5 | D8: 3.19 | E8: =D8*C8 -> 46.255 | F8: 2.1 | G8: =F8*C8 -> 30.45
B9: 29
A10: 1 | C10: =(B9+B11)/2 -> 31 | D10: 2.82 | E10: =D10*C10 -> 87.42 | F10: 2.24 | G10: =F10*C10 -> 69.44
B11: 33
A12: 2 | C12: =(B11+B13)/2 -> 34.5 | D12: 2.75 | E12: =D12*C12 -> 94.875 | F12: 2.1 | G12: =F12*C12 -> 72.45
B13: 36
A14: 3 | C14: =(B13+B15)/2 -> 39.5 | D14: 2.79 | E14: =D14*C14 -> 110.205 | F14: 2.2 | G14: =F14*C14 -> 86.9
B15: 43
A16: 4 | C16: =(B15+B17)/2 -> 40 | D16: 2.86 | E16: =D16*C16 -> 114.4 | F16: 2.05 | G16: =F16*C16 -> 82
B17: 37
A18: 5 | C18: =(B17+B19)/2 -> 37 | D18: 2.75 | E18: =D18*C18 -> 101.75 | F18: 2.4 | G18: =F18*C18 -> 88.8
B19: 37
A20: 6 | C20: =(B19+B21)/2 -> 35.5 | D20: 2.8 | E20: =D20*C20 -> 99.4 | F20: 2.44 | G20: =F20*C20 -> 86.62
B21: 34
A22: 7 | C22: =(B21+B23)/2 -> 35.5 | D22: 2.78 | E22: =D22*C22 -> 98.69 | F22: 2.32 | G22: =F22*C22 -> 82.36
B23: 37
A24: 8 | C24: =(B23+B25)/2 -> 31 | D24: 2.8 | E24: =D24*C24 -> 86.8 | F24: 2.26 | G24: =F24*C24 -> 70.06
B25: 25
A26: 9 | C26: =(B25+B27)/2 -> 28 | D26: 0.85 | E26: =D26*C26 -> 23.8 | F26: 1.65 | G26: =F26*C26 -> 46.2
B27: 31
A28: 10 | C28: =(B27+B29)/2 -> 32.5 | D28: 1.04 | E28: =D28*C28 -> 33.8 | F28: 1.57 | G28: =F28*C28 -> 51.025
B29: 34
A30: 11 | C30: =(B29+B31)/2 -> 39 | D30: 1.44 | E30: =D30*C30 -> 56.16 | F30: 1.96 | G30: =F30*C30 -> 76.44
B31: 44
A32: 12 | C32: =(B31+B33)/2 -> 43 | D32: 1.97 | E32: =D32*C32 -> 84.71 | F32: 1.77 | G32: =F32*C32 -> 76.11
B33: 42
A34: 13 | C34: =(B33+B35)/2 -> 41.5 | D34: 0.32 | E34: =D34*C34 -> 13.28 | F34: 1.35 | G34: =F34*C34 -> 56.025
B35: 41
A36: 14 | C36: =(B35+B37)/2 -> 41.5 | D36: 1.68 | E36: =D36*C36 -> 69.72 | F36: 1.77 | G36: =F36*C36 -> 73.455
B37: 42
A38: 15 | C38: =(B37+B39)/2 -> 40 | D38: 2.63 | E38: =D38*C38 -> 105.2 | F38: 1.91 | G38: =F38*C38 -> 76.4
B39: 38
A40: 16 | C40: =(B39+B41)/2 -> 31.5 | D40: 2.57 | E40: =D40*C40 -> 80.955 | F40: 1.98 | G40: =F40*C40 -> 62.37
B41: 25
A42: 17 | C42: =(B41+B43)/2 -> 22.5 | D42: 2.62 | E42: =D42*C42 -> 58.95 | F42: 1.36 | G42: =F42*C42 -> 30.6
...

Sheet KLCN CocLien
A1: BẢNG TÍNH KHỐI LƯỢNG CẮT NGANG
A2: CÔNG TRÌNH: SỬA CHỮA, NẠO VÉT KÊNH THỦY LỢI NỘI ĐỒNG
A3: HẠNG MỤC: NẠO VÉT, ĐẮP BỜ TUYẾN KÊNH GIỮA LÀNG CỐC LIỄN
A6: Mặt cắt | B6: Khoảng cách | D6: Đất đào | F6: Đất đắp
B7: Thực đo | C7: Áp dụng | D7: S (m2) | E7: W (m3) | F7: S (m2) | G7: W (m3)
A8: A | C8: =B9/2 -> 18 | D8: 3.19 | E8: =D8*C8 -> 57.42 | F8: 2.1 | G8: =F8*C8 -> 37.8
B9: 36
A10: 1 | C10: =(B9+B11)/2 -> 39.5 | D10: 2.82 | E10: =D10*C10 -> 111.39 | F10: 2.24 | G10: =F10*C10 -> 88.48
B11: 43
A12: 2 | C12: =(B11+B13)/2 -> 42 | D12: 2.75 | E12: =D12*C12 -> 115.5 | F12: 2.1 | G12: =F12*C12 -> 88.2
B13: 41
A14: 3 | C14: =(B13+B15)/2 -> 33.5 | D14: 2.79 | E14: =D14*C14 -> 93.465 | F14: 2.2 | G14: =F14*C14 -> 73.7
B15: 26
A16: 4 | C16: =(B15+B17)/2 -> 24.5 | D16: 2.86 | E16: =D16*C16 -> 70.07 | F16: 2.05 | G16: =F16*C16 -> 50.225
B17: 23
A18: 5 | C18: =(B17+B19)/2 -> 25 | D18: 2.75 | E18: =D18*C18 -> 68.75 | F18: 2.4 | G18: =F18*C18 -> 60
B19: 27
A20: 6 | C20: =(B19+B21)/2 -> 27.5 | D20: 2.8 | E20: =D20*C20 -> 77 | F20: 2.44 | G20: =F20*C20 -> 67.1
B21: 28
A22: 7 | C22: =(B21+B23)/2 -> 34 | D22: 2.78 | E22: =D22*C22 -> 94.52 | F22: 2.32 | G22: =F22*C22 -> 78.88
B23: 40
A24: 8 | C24: =(B23+B25)/2 -> 32.5 | D24: 2.8 | E24: =D24*C24 -> 91 | F24: 2.26 | G24: =F24*C24 -> 73.45
B25: 25
A26: 9 | C26: =(B25+B27)/2 -> 30 | D26: 0.85 | E26: =D26*C26 -> 25.5 | F26: 1.65 | G26: =F26*C26 -> 49.5
B27: 35
A28: 10 | C28: =(B27+B29)/2 -> 37.5 | D28: 1.04 | E28: =D28*C28 -> 39 | F28: 1.57 | G28: =F28*C28 -> 58.875
B29: 40
A30: 11 | C30: =(B29+B31)/2 -> 40.5 | D30: 1.44 | E30: =D30*C30 -> 58.32 | F30: 1.96 | G30: =F30*C30 -> 79.38
B31: 41
A32: 12 | C32: =(B31+B33)/2 -> 40.5 | D32: 1.97 | E32: =D32*C32 -> 79.785 | F32: 1.77 | G32: =F32*C32 -> 71.685
B33: 40
A34: 13 | C34: =(B33+B35)/2 -> 39 | D34: 0.32 | E34: =D34*C34 -> 12.48 | F34: 1.35 | G34: =F34*C34 -> 52.65
B35: 38
A36: 14 | C36: =(B35+B37)/2 -> 36 | D36: 1.68 | E36: =D36*C36 -> 60.48 | F36: 1.77 | G36: =F36*C36 -> 63.72
B37: 34
A38: 15 | C38: =(B37+B39)/2 -> 33.5 | D38: 2.63 | E38: =D38*C38 -> 88.105 | F38: 1.91 | G38: =F38*C38 -> 63.985
B39: 33
A40: 16 | C40: =(B39+B41)/2 -> 33.5 | D40: 2.57 | E40: =D40*C40 -> 86.095 | F40: 1.98 | G40: =F40*C40 -> 66.33
B41: 34
A42: 17 | C42: =(B41+B43)/2 -> 36.5 | D42: 2.62 | E42: =D42*C42 -> 95.63 | F42: 1.36 | G42: =F42*C42 -> 49.64
...

Sheet KLCN CauMoi
A1: BẢNG TÍNH KHỐI LƯỢNG CẮT NGANG
A2: CÔNG TRÌNH: SỬA CHỮA, NẠO VÉT KÊNH THỦY LỢI NỘI ĐỒNG
A3: HẠNG MỤC: NẠO VÉT, ĐẮP BỜ TUYẾN KÊNH CẦU MỚI
A6: Mặt cắt | B6: Khoảng cách | D6: Đất đào | F6: Đất đắp
B7: Thực đo | C7: Áp dụng | D7: S (m2) | E7: W (m3) | F7: S (m2) | G7: W (m3)
A8: A | C8: =B9/2 -> 19.5 | D8: 3.19 | E8: =D8*C8 -> 62.205 | F8: 2.1 | G8: =F8*C8 -> 40.95
B9: 39
A10: 1 | C10: =(B9+B11)/2 -> 42 | D10: 2.82 | E10: =D10*C10 -> 118.44 | F10: 2.24 | G10: =F10*C10 -> 94.08
B11: 45
A12: 2 | C12: =(B11+B13)/2 -> 40 | D12: 2.75 | E12: =D12*C12 -> 110 | F12: 2.1 | G12: =F12*C12 -> 84
B13: 35
A14: 3 | C14: =(B13+B15)/2 -> 37 | D14: 2.79 | E14: =D14*C14 -> 103.23 | F14: 2.2 | G14: =F14*C14 -> 81.4
B15: 39
A16: 4 | C16: =(B15+B17)/2 -> 38.5 | D16: 2.86 | E16: =D16*C16 -> 110.11 | F16: 2.05 | G16: =F16*C16 -> 78.925
B17: 38
A18: 5 | C18: =(B17+B19)/2 -> 36.5 | D18: 2.75 | E18: =D18*C18 -> 100.375 | F18: 2.4 | G18: =F18*C18 -> 87.6
B19: 35
A20: 6 | C20: =(B19+B21)/2 -> 34.5 | D20: 2.8 | E20: =D20*C20 -> 96.6 | F20: 2.44 | G20: =F20*C20 -> 84.18
B21: 34
A22: 7 | C22: =(B21+B23)/2 -> 36 | D22: 2.78 | E22: =D22*C22 -> 100.08 | F22: 2.32 | G22: =F22*C22 -> 83.52
B23: 38
A24: 8 | C24: =(B23+B25)/2 -> 34.5 | D24: 2.8 | E24: =D24*C24 -> 96.6 | F24: 2.26 | G24: =F24*C24 -> 77.97
B25: 31
A26: B | C26: =B25/2 -> 15.5 | D26: 1.23 | E26: =D26*C26 -> 19.065 | F26: 1.83 | G26: =F26*C26 -> 28.365
A27: Tổng | B27: =SUM(B8:B26) -> 334 | C27: =SUM(C8:C26) -> 334 | E27: =SUM(E8:E26) -> 916.705 | G27: =SUM(G8:G26) -> 740.99 | I27: =(G27/E27)*100 -> 80.831892
A29: 1. Chiều dài tuyến kênh: | F29: =B27 -> 334 | G29: m
A30: 2. Khối lượng đất đắp:
A31: a. Khối lượng đất đào: | F31: =F32 -> 916.705 | G31: m3
A32: - Khối lượng đất đào bằng máy: | F32: =E27 -> 916.705 | G32: m3
A33: b. Khối lượng đất đắp: | F33: =G27 -> 740.99 | G33: m3

Sheet KLCN LangKhoang-DongNhoi
A1: BẢNG TÍNH KHỐI LƯỢNG CẮT NGANG
A2: CÔNG TRÌNH: SỬA CHỮA, NẠO VÉT KÊNH THỦY LỢI NỘI ĐỒNG
A3: HẠNG MỤC: NẠO VÉT, ĐẮP BỜ TUYẾN KÊNH LÁNG KHOÁNG - ĐỒNG NHỒI
A6: Mặt cắt | B6: Khoảng cách | D6: Đất đào | F6: Đất đắp
B7: Thực đo | C7: Áp dụng | D7: S (m2) | E7: W (m3) | F7: S (m2) | G7: W (m3)
A8: A1 | C8: =B9/2 -> 22 | D8: 5.73 | E8: =D8*C8 -> 126.06 | F8: 3.52 | G8: =F8*C8 -> 77.44
B9: 44
A10: 1 | C10: =(B9+B11)/2 -> 42 | D10: 4.69 | E10: =D10*C10 -> 196.98 | F10: 4.49 | G10: =F10*C10 -> 188.58
B11: 40
A12: 2 | C12: =(B11+B13)/2 -> 41.5 | D12: 4.37 | E12: =D12*C12 -> 181.355 | F12: 4.59 | G12: =F12*C12 -> 190.485
B13: 43
A14: 3 | C14: =(B13+B15)/2 -> 41.5 | D14: 5.31 | E14: =D14*C14 -> 220.365 | F14: 3.49 | G14: =F14*C14 -> 144.835
B15: 40
A16: 4 | C16: =(B15+B17)/2 -> 34.5 | D16: 4.28 | E16: =D16*C16 -> 147.66 | F16: 3.45 | G16: =F16*C16 -> 119.025
B17: 29
A18: 5 | C18: =(B17+B19)/2 -> 30.5 | D18: 4.91 | E18: =D18*C18 -> 149.755 | F18: 3.85 | G18: =F18*C18 -> 117.425
B19: 32
A20: 6 | C20: =(B19+B21)/2 -> 34 | D20: 5.28 | E20: =D20*C20 -> 179.52 | F20: 3.9 | G20: =F20*C20 -> 132.6
B21: 36
A22: 7 | C22: =(B21+B23)/2 -> 36 | D22: 4.34 | E22: =D22*C22 -> 156.24 | F22: 4.34 | G22: =F22*C22 -> 156.24
B23: 36
A24: 8 | C24: =(B23+B25)/2 -> 38 | D24: 4.5 | E24: =D24*C24 -> 171 | F24: 5.16 | G24: =F24*C24 -> 196.08
B25: 40
A26: 9 | C26: =(B25+B27)/2 -> 34.5 | D26: 3.55 | E26: =D26*C26 -> 122.475 | F26: 4.31 | G26: =F26*C26 -> 148.695
B27: 29
A28: 10 | C28: =(B27+B29)/2 -> 29 | D28: 4.15 | E28: =D28*C28 -> 120.35 | F28: 4.42 | G28: =F28*C28 -> 128.18
B29: 29
A30: 11 | C30: =(B29+B31)/2 -> 31.5 | D30: 2.95 | E30: =D30*C30 -> 92.925 | F30: 4.89 | G30: =F30*C30 -> 154.035
B31: 34
A32: B4 | C32: =B31/2 -> 17 | D32: 2.11 | E32: =D32*C32 -> 35.87 | F32: 3.3 | G32: =F32*C32 -> 56.1
A33: Tổng | B33: =SUM(B8:B32) -> 432 | C33: =SUM(C8:C32) -> 432 | E33: =SUM(E8:E32) -> 1900.555 | G33: =SUM(G8:G32) -> 1809.72 | I33: =(G33/E33)*100 -> 95.220607
A35: 1. Chiều dài tuyến kênh: | F35: =B33 -> 432 | G35: m
A36: 2. Khối lượng đất đắp:
A37: a. Khối lượng đất đào: | F37: =F38 -> 1900.555 | G37: m3
A38: - Khối lượng đất đào bằng máy: | F38: =E33 -> 1900.555 | G38: m3
A39: b. Khối lượng đất đắp: | F39: =G33 -> 1809.72 | G39: m3

Sheet KLCN VuVi
A1: BẢNG TÍNH KHỐI LƯỢNG CẮT NGANG
A2: ='[1]TH KL'!A2 -> CÔNG TRÌNH: SỬA CHỮA, NẠO VÉT KÊNH THỦY LỢI NỘI ĐỒNG
A3: ='[1]Công trình'!F6 -> HẠNG MỤC: NẠO VÉT, ĐẮP BỜ TUYẾN KÊNH CỬA LÀNG VŨ VỊ
A6: Mặt cắt | B6: Khoảng cách | D6: Đất đào | F6: Đất đắp | J6: BẢNG TÍNH KHỐI LƯỢNG CẮT NGANG
B7: Thực đo | C7: Áp dụng | D7: S (m2) | E7: W (m3) | F7: S (m2) | G7: W (m3) | J7: CÔNG TRÌNH: SỬA CHỮA, NẠO VÉT KÊNH THỦY LỢI NỘI ĐỒNG
A8: A | C8: =B9/2 -> 21.5 | D8: 3.19 | E8: =D8*C8 -> 68.585 | F8: 2.1 | G8: =F8*C8 -> 45.15 | J8: HẠNG MỤC: NẠO VÉT, ĐẮP BỜ TUYẾN KÊNH CỬA LÀNG VŨ VỊ
B9: 43
A10: 1 | C10: =(B9+B11)/2 -> 43.5 | D10: 2.82 | E10: =D10*C10 -> 122.67 | F10: 2.24 | G10: =F10*C10 -> 97.44
B11: 44
A12: 2 | C12: =(B11+B13)/2 -> 41.5 | D12: 2.75 | E12: =D12*C12 -> 114.125 | F12: 2.1 | G12: =F12*C12 -> 87.15
B13: 39
A14: 3 | C14: =(B13+B15)/2 -> 28.5 | D14: 2.79 | E14: =D14*C14 -> 79.515 | F14: 2.2 | G14: =F14*C14 -> 62.7
B15: 18
A16: 4 | C16: =(B15+B17)/2 -> 26.5 | D16: 2.86 | E16: =D16*C16 -> 75.79 | F16: 2.05 | G16: =F16*C16 -> 54.325
B17: 35
A18: 5 | C18: =(B17+B19)/2 -> 31 | D18: 2.75 | E18: =D18*C18 -> 85.25 | F18: 2.4 | G18: =F18*C18 -> 74.4
B19: 27
A20: 6 | C20: =(B19+B21)/2 -> 26.5 | D20: 2.8 | E20: =D20*C20 -> 74.2 | F20: 2.44 | G20: =F20*C20 -> 64.66
B21: 26
A22: 7 | C22: =(B21+B23)/2 -> 29.5 | D22: 2.78 | E22: =D22*C22 -> 82.01 | F22: 2.32 | G22: =F22*C22 -> 68.44
B23: 33
A24: 8 | C24: =(B23+B25)/2 -> 30 | D24: 2.8 | E24: =D24*C24 -> 84 | F24: 2.26 | G24: =F24*C24 -> 67.8
B25: 27
A26: 9 | C26: =(B25+B27)/2 -> 27.5
B27: 28
A28: 10 | C28: =(B27+B29)/2 -> 31.5
B29: 35
A30: 11 | C30: =(B29+B31)/2 -> 34
B31: 33
A32: 12 | C32: =(B31+B33)/2 -> 34.5
B33: 36
A34: 13 | C34: =(B33+B35)/2 -> 30.5
B35: 25
A36: 14 | C36: =(B35+B37)/2 -> 26
B37: 27
A38: 15 | C38: =(B37+B39)/2 -> 25
B39: 23
A40: 16 | C40: =(B39+B41)/2 -> 23.5
B41: 24
A42: 17 | C42: =(B41+B43)/2 -> 24.5
...

Sheet KLCN O Dien
A1: BẢNG TÍNH KHỐI LƯỢNG CẮT NGANG
A2: ='[2]TH KL'!A2 -> CÔNG TRÌNH: SỬA CHỮA, NẠO VÉT KÊNH THỦY LỢI NỘI ĐỒNG
A3: ='[2]Công trình'!F6 -> HẠNG MỤC: NẠO VÉT, ĐẮP BỜ TUYẾN KÊNH ÔNG DIỆN ĐI SÔNG CỐC THÔN THẤP LINH
A6: Mặt cắt | B6: Khoảng cách | D6: Đất đào | F6: Đất đắp
B7: Thực đo | C7: Áp dụng | D7: S (m2) | E7: W (m3) | F7: S (m2) | G7: W (m3) | J7: BẢNG TÍNH KHỐI LƯỢNG CẮT NGANG
A8: A8 | C8: =B9/2 -> 16.5 | D8: 1.38 | E8: =D8*C8 -> 22.77 | F8: 0.85 | G8: =F8*C8 -> 14.025 | J8: CÔNG TRÌNH: SỬA CHỮA, NẠO VÉT KÊNH THỦY LỢI NỘI ĐỒNG
B9: 33 | J9: HẠNG MỤC: NẠO VÉT, ĐẮP BỜ TUYẾN KÊNH ÔNG DIỆN ĐI SÔNG CỐC THÔN THẤP LINH
A10: 1 | C10: =(B9+B11)/2 -> 35 | D10: 1.21 | E10: =D10*C10 -> 42.35 | F10: 1.63 | G10: =F10*C10 -> 57.05
B11: 37
A12: 2 | C12: =(B11+B13)/2 -> 36.5 | D12: 1.36 | E12: =D12*C12 -> 49.64 | F12: 0.68 | G12: =F12*C12 -> 24.82
B13: 36
A14: 3 | C14: =(B13+B15)/2 -> 36.5 | D14: 1.63 | E14: =D14*C14 -> 59.495 | F14: 0.61 | G14: =F14*C14 -> 22.265
B15: 37
A16: 4 | C16: =(B15+B17)/2 -> 32.5 | D16: 2.04 | E16: =D16*C16 -> 66.3 | F16: 0.83 | G16: =F16*C16 -> 26.975
B17: 28
A18: 5 | C18: =(B17+B19)/2 -> 32 | D18: 0.98 | E18: =D18*C18 -> 31.36 | F18: 0.94 | G18: =F18*C18 -> 30.08
B19: 36
A20: 6 | C20: =(B19+B21)/2 -> 35 | D20: 3.17 | E20: =D20*C20 -> 110.95 | F20: 0.86 | G20: =F20*C20 -> 30.1
B21: 34
A22: 7 | C22: =(B21+B23)/2 -> 33.5 | D22: 3.76 | E22: =D22*C22 -> 125.96 | F22: 0.8 | G22: =F22*C22 -> 26.8
B23: 33
A24: 8 | C24: =(B23+B25)/2 -> 32.7 | D24: 3.16 | E24: =D24*C24 -> 103.332 | F24: 1.83 | G24: =F24*C24 -> 59.841
B25: 32.4
A26: B8 | C26: =B25/2 -> 16.2 | D26: 2.9 | E26: =D26*C26 -> 46.98 | F26: 0.9 | G26: =F26*C26 -> 14.58
A27: Tổng | B27: =SUM(B8:B26) -> 306.4 | C27: =SUM(C8:C26) -> 306.4 | E27: =SUM(E8:E26) -> 659.137 | G27: =SUM(G8:G26) -> 306.536 | I27: =(G27/E27)*100 -> 46.505658
A29: 1. Chiều dài tuyến kênh: | F29: =B27 -> 306.4 | G29: m
A30: 2. Khối lượng đất đắp:
A31: a. Khối lượng đất đào: | F31: =F32 -> 659.137 | G31: m3
A32: - Khối lượng đất đào bằng máy: | F32: =E27 -> 659.137 | G32: m3
A33: b. Khối lượng đất đắp: | F33: =G27 -> 306.536 | G33: m3

Sheet KLCN so 9
A1: BẢNG TÍNH KHỐI LƯỢNG CẮT NGANG
A2: ='[3]TH KL'!A2 -> CÔNG TRÌNH: SỬA CHỮA, NẠO VÉT KÊNH THỦY LỢI NỘI ĐỒNG
A3: ='[3]Công trình'!F6 -> HẠNG MỤC: NẠO VÉT, ĐẮP BỜ TUYẾN KÊNH SỐ 9 THÔN ĐẠI ĐỒNG
A6: Mặt cắt | B6: Khoảng cách | D6: Đất đào | F6: Đất đắp
B7: Thực đo | C7: Áp dụng | D7: S (m2) | E7: W (m3) | F7: S (m2) | G7: W (m3) | K7: BẢNG TÍNH KHỐI LƯỢNG CẮT NGANG
A8: A9 | C8: =B9/2 -> 20.5 | D8: 1.16 | E8: =D8*C8 -> 23.78 | F8: 2.4 | G8: =F8*C8 -> 49.2 | K8: CÔNG TRÌNH: SỬA CHỮA, NẠO VÉT KÊNH THỦY LỢI NỘI ĐỒNG
B9: 41 | K9: HẠNG MỤC: NẠO VÉT, ĐẮP BỜ TUYẾN KÊNH SỐ 9 THÔN ĐẠI ĐỒNG
A10: 1 | C10: =(B9+B11)/2 -> 37.5 | D10: 2.09 | E10: =D10*C10 -> 78.375 | F10: 2.48 | G10: =F10*C10 -> 93
B11: 34
A12: 2 | C12: =(B11+B13)/2 -> 36.5 | D12: 2.56 | E12: =D12*C12 -> 93.44 | F12: 2.29 | G12: =F12*C12 -> 83.585
B13: 39
A14: 3 | C14: =(B13+B15)/2 -> 36 | D14: 3.09 | E14: =D14*C14 -> 111.24 | F14: 2.78 | G14: =F14*C14 -> 100.08
B15: 33
A16: 4 | C16: =(B15+B17)/2 -> 32.5 | D16: 4.05 | E16: =D16*C16 -> 131.625 | F16: 2.82 | G16: =F16*C16 -> 91.65
B17: 32
A18: 5 | C18: =(B17+B19)/2 -> 33 | D18: 3.12 | E18: =D18*C18 -> 102.96 | F18: 2.51 | G18: =F18*C18 -> 82.83
B19: 34
A20: 6 | C20: =(B19+B21)/2 -> 29.5 | D20: 3.57 | E20: =D20*C20 -> 105.315 | F20: 0 | G20: =F20*C20 -> 0
B21: 25
A22: 7 | C22: =(B21+B23)/2 -> 25.5 | D22: 3.89 | E22: =D22*C22 -> 99.195 | F22: 2.36 | G22: =F22*C22 -> 60.18
B23: 26
A24: 8 | C24: =(B23+B25)/2 -> 26 | D24: 3.86 | E24: =D24*C24 -> 100.36 | F24: 1.64 | G24: =F24*C24 -> 42.64
B25: 26
A26: 9 | C26: =(B25+B27)/2 -> 26 | D26: 3.73 | E26: =D26*C26 -> 96.98 | F26: 1.85 | G26: =F26*C26 -> 48.1
B27: 26
A28: 10 | C28: =(B27+B29)/2 -> 32 | D28: 3.21 | E28: =D28*C28 -> 102.72 | F28: 0 | G28: =F28*C28 -> 0
B29: 38
A30: 11 | C30: =(B29+B31)/2 -> 35.5 | D30: 2.45 | E30: =D30*C30 -> 86.975 | F30: 3.81 | G30: =F30*C30 -> 135.255
B31: 33
A32: 12 | C32: =(B31+B33)/2 -> 31 | D32: 3.37 | E32: =D32*C32 -> 104.47 | F32: 3.62 | G32: =F32*C32 -> 112.22
B33: 29
A34: 13 | C34: =(B33+B35)/2 -> 31 | D34: 4.29 | E34: =D34*C34 -> 132.99 | F34: 2.34 | G34: =F34*C34 -> 72.54
B35: 33
A36: 14 | C36: =(B35+B37)/2 -> 31 | D36: 5.15 | E36: =D36*C36 -> 159.65 | F36: 2.67 | G36: =F36*C36 -> 82.77
B37: 29
A38: 15 | C38: =(B37+B39)/2 -> 28.5 | D38: 5.73 | E38: =D38*C38 -> 163.305 | F38: 2.93 | G38: =F38*C38 -> 83.505
B39: 28
A40: 16 | C40: =(B39+B41)/2 -> 26 | D40: 5.68 | E40: =D40*C40 -> 147.68 | F40: 1.86 | G40: =F40*C40 -> 48.36
B41: 24
A42: 17 | C42: =(B41+B43)/2 -> 30 | D42: 3.74 | E42: =D42*C42 -> 112.2 | F42: 1.8 | G42: =F42*C42 -> 54
...

Sheet KLCN so 13
A1: BẢNG TÍNH KHỐI LƯỢNG CẮT NGANG
A2: ='[4]TH KL'!A2 -> CÔNG TRÌNH: SỬA CHỮA, NẠO VÉT KÊNH THỦY LỢI NỘI ĐỒNG
A3: ='[4]Công trình'!F6 -> HẠNG MỤC: NẠO VÉT, ĐẮP BỜ TUYẾN KÊNH SỐ 13 THÔN PHONG CẦU
A6: Mặt cắt | B6: Khoảng cách | D6: Đất đào | F6: Đất đắp
B7: Thực đo | C7: Áp dụng | D7: S (m2) | E7: W (m3) | F7: S (m2) | G7: W (m3)
A8: A13 | C8: =B9/2 -> 16 | D8: 3.08 | E8: =D8*C8 -> 49.28 | F8: 0.65 | G8: =F8*C8 -> 10.4
B9: 32
A10: 1 | C10: =(B9+B11)/2 -> 35 | D10: 1.86 | E10: =D10*C10 -> 65.1 | F10: 1.32 | G10: =F10*C10 -> 46.2 | K10: BẢNG TÍNH KHỐI LƯỢNG CẮT NGANG
B11: 38 | K11: CÔNG TRÌNH: SỬA CHỮA, NẠO VÉT KÊNH THỦY LỢI NỘI ĐỒNG
A12: 2 | C12: =(B11+B13)/2 -> 31 | D12: 1.58 | E12: =D12*C12 -> 48.98 | F12: 1.76 | G12: =F12*C12 -> 54.56 | K12: HẠNG MỤC: NẠO VÉT, ĐẮP BỜ TUYẾN KÊNH SỐ 13 THÔN PHONG CẦU
B13: 24
A14: 3 | C14: =(B13+B15)/2 -> 23 | D14: 2.17 | E14: =D14*C14 -> 49.91 | F14: 0.76 | G14: =F14*C14 -> 17.48
B15: 22
A16: 4 | C16: =(B15+B17)/2 -> 28.5 | D16: 2.38 | E16: =D16*C16 -> 67.83 | F16: 1.66 | G16: =F16*C16 -> 47.31
B17: 35
A18: 5 | C18: =(B17+B19)/2 -> 36 | D18: 1.97 | E18: =D18*C18 -> 70.92 | F18: 2.05 | G18: =F18*C18 -> 73.8
B19: 37
A20: 6 | C20: =(B19+B21)/2 -> 38 | D20: 1.95 | E20: =D20*C20 -> 74.1 | F20: 2.26 | G20: =F20*C20 -> 85.88
B21: 39
A22: B13 | C22: =B21/2 -> 19.5 | D22: 1.88 | E22: =D22*C22 -> 36.66 | F22: 3.21 | G22: =F22*C22 -> 62.595
A23: Tổng | B23: =SUM(B8:B22) -> 227 | C23: =SUM(C8:C22) -> 227 | E23: =SUM(E8:E22) -> 462.78 | G23: =SUM(G8:G22) -> 398.225 | I23: =(G23/E23)*100 -> 86.050607
A25: 1. Chiều dài tuyến kênh: | F25: =B23 -> 227 | G25: m
A26: 2. Khối lượng đất đắp:
A27: a. Khối lượng đất đào: | F27: =F28 -> 462.78 | G27: m3
A28: - Khối lượng đất đào bằng máy: | F28: =E23 -> 462.78 | G28: m3
A29: b. Khối lượng đất đắp: | F29: =G23 -> 398.225 | G29: m3
