Workbook
Name _Hlk149567613: 'đc công nợ'!$B$11

Sheet TT
B1: THÔNG TIN DỰ ÁN:
B2: Dự án : | C2: Xử lý lỗ vỡ sông Đa Độ khu vực xã Kiến Hưng từ K43+487 ĐÊBS K43+715 | I2: [Ghi thông tin theo hợp đồng]
B3: Hạng mục : | C3: Cung cấp cọc BTCT 200*200 | I3: [Ghi thông tin theo hợp đồng]
B4: Địa điểm : | C4: An Dương, Hải Phòng | I4: [Ghi thông tin theo hợp đồng]
B5: Hợp đồng số : | C5: 1011/2025/HĐKT/DS-MH | I5: [Ghi thông tin theo hợp đồng]
B6: Phụ lục HĐ số: | I6: [Ghi thông tin theo hợp đồng]
B7: Đợt thanh toán số: | C7: QT
B8: ĐƠN VỊ THI CÔNG : | C8: Công ty TNHH Thương mại Mai Hoan
B9: Địa chỉ: | C9: Thôn Phú Cơ, Xã Tiên Lãng, TP Hải Phòng
B10: Điện thoại: | C10: 0932.247.315
B11: Mã số thuế: | C11: 0201.294.007
B12: Số tài khoản: | C12: 2106201001733
B13: Tại: | C13: Ngân hàng Agribank huyện Tiên Lãng, HP
B15: ĐƠN VỊ GIAO THẦU | C15: Công Ty Tnhh Xây Dựng Định Sơn
B16: Địa chỉ:
B17: Điện thoại:
B18: Fax:
B19: Mã số thuế:
B20: Người đại diện: | C20: Ông Nguyễn Sĩ Sơn
B21: Chức vụ: | C21: Giám đốc
C23: Hải Phòng, ngày …… tháng …… năm 2026
A28: PHẦN ĐỌC SỐ
D29: Số cần đọc: | G29: ='q toán'!L14 -> 94245120 | P29: Số cần đọc: | S29: ='đc công nợ'!E27 -> 94245120
B30: Số đọc | C30: Đọc chữ | N30: Số đọc | O30: Đọc chữ
A31: Hàng đơn vị | B31: =G31-10*G32 -> 0 | C31: =IF(G31=0,"",IF(B31=0,"",IF(AND(B31=1,B32=1)," một",IF(AND(B31=1,B32>1)," mốt",IF(AND(B31=5,B32>0)," lăm",IF(G32=0,LOOKUP(B31,D31:D40,E31:E40),LOOKUP(B31,D31:D40,F31:F40))))))) | D31: 0 | E31: =IF(B31=0,""," Không") | F31: không | G31: =ROUND(G29,0) -> 94245120 | M31: Hàng đơn vị | N31: =S31-10*S32 -> 0 | O31: =IF(S31=0,"",IF(N31=0,"",IF(AND(N31=1,N32=1)," một",IF(AND(N31=1,N32>1)," mốt",IF(AND(N31=5,N32>0)," lăm",IF(S32=0,LOOKUP(N31,P31:P40,Q31:Q40),LOOKUP(N31,P31:P40,R31:R40))))))) | P31: 0 | Q31: =IF(N31=0,""," Không") | R31: không | S31: =ROUND(S29,0) -> 94245120
A32: Hàng chục | B32: =G32-10*G33 -> 2 | C32: =IF(G32=0,"",IF(AND(B32=0,B31=0),"",IF(AND(B32=0,B31>0)," lẻ",IF(AND(B32=1,G33<>0)," mười",IF(AND(B32=1,G33=0)," Mười",IF(B32>1,IF(G33=0,LOOKUP(B32,D31:D40,E31:E40),LOOKUP(B32,D31:D40,F31:F40)))))))&IF(B32>1," mươi","")) -> hai mươi | D32: 1 | E32: Một | F32: một | G32: =ROUNDDOWN(G31/10,0) -> 9424512 | M32: Hàng chục | N32: =S32-10*S33 -> 2 | O32: =IF(S32=0,"",IF(AND(N32=0,N31=0),"",IF(AND(N32=0,N31>0)," lẻ",IF(AND(N32=1,S33<>0)," mười",IF(AND(N32=1,S33=0)," Mười",IF(N32>1,IF(S33=0,LOOKUP(N32,P31:P40,Q31:Q40),LOOKUP(N32,P31:P40,R31:R40)))))))&IF(N32>1," mươi","")) -> hai mươi | P32: 1 | Q32: Một | R32: một | S32: =ROUNDDOWN(S31/10,0) -> 9424512
A33: Hàng trăm | B33: =G33-10*G34 -> 1 | C33: =IF(G33=0,"",IF(AND(B31=0,B32=0,B33=0),"",IF(AND(B33=0,B32>0)," không",IF(AND(B33=0,B31>0)," không",IF(G34=0,LOOKUP(B33,D31:D40,E31:E40),LOOKUP(B33,D31:D40,F31:F40)))))&IF(SUM(B31:B33)>0," trăm","")) -> một trăm | D33: 2 | E33: Hai | F33: hai | G33: =ROUNDDOWN(G32/10,0) -> 942451 | M33: Hàng trăm | N33: =S33-10*S34 -> 1 | O33: =IF(S33=0,"",IF(AND(N31=0,N32=0,N33=0),"",IF(AND(N33=0,N32>0)," không",IF(AND(N33=0,N31>0)," không",IF(S34=0,LOOKUP(N33,P31:P40,Q31:Q40),LOOKUP(N33,P31:P40,R31:R40)))))&IF(SUM(N31:N33)>0," trăm","")) -> một trăm | P33: 2 | Q33: Hai | R33: hai | S33: =ROUNDDOWN(S32/10,0) -> 942451
A34: Hàng nghìn | B34: =G34-10*G35 -> 5 | C34: =IF(G34=0,"",IF(B34=0,"",IF(AND(B34=1,B35=1)," một",IF(AND(B34=1,B35>1)," mốt",IF(AND(B34=5,B35>0)," lăm",IF(G35=0,LOOKUP(B34,D31:D40,E31:E40),LOOKUP(B34,D31:D40,F31:F40))))))&IF(SUM(B34:B36)>0," nghìn,","")) -> lăm nghìn, | D34: 3 | E34: Ba | F34: ba | G34: =ROUNDDOWN(G33/10,0) -> 94245 | M34: Hàng nghìn | N34: =S34-10*S35 -> 5 | O34: =IF(S34=0,"",IF(N34=0,"",IF(AND(N34=1,N35=1)," một",IF(AND(N34=1,N35>1)," mốt",IF(AND(N34=5,N35>0)," lăm",IF(S35=0,LOOKUP(N34,P31:P40,Q31:Q40),LOOKUP(N34,P31:P40,R31:R40))))))&IF(SUM(N34:N36)>0," nghìn,","")) -> lăm nghìn, | P34: 3 | Q34: Ba | R34: ba | S34: =ROUNDDOWN(S33/10,0) -> 94245
A35: Hàng chục nghìn | B35: =G35-10*G36 -> 4 | C35: =IF(G35=0,"",IF(AND(B35=0,B34=0),"",IF(AND(B35=0,B34>0)," lẻ",IF(AND(B35=1,G36<>0)," mười",IF(AND(B35=1,G36=0)," Mười",IF(B35>1,IF(G36=0,LOOKUP(B35,D31:D40,E31:E40),LOOKUP(B35,D31:D40,F31:F40)))))))&IF(B35>1," mươi","")) -> bốn mươi | D35: 4 | E35: Bốn | F35: bốn | G35: =ROUNDDOWN(G34/10,0) -> 9424 | M35: Hàng chục nghìn | N35: =S35-10*S36 -> 4 | O35: =IF(S35=0,"",IF(AND(N35=0,N34=0),"",IF(AND(N35=0,N34>0)," lẻ",IF(AND(N35=1,S36<>0)," mười",IF(AND(N35=1,S36=0)," Mười",IF(N35>1,IF(S36=0,LOOKUP(N35,P31:P40,Q31:Q40),LOOKUP(N35,P31:P40,R31:R40)))))))&IF(N35>1," mươi","")) -> bốn mươi | P35: 4 | Q35: Bốn | R35: bốn | S35: =ROUNDDOWN(S34/10,0) -> 9424
A36: Hàng trăm nghìn | B36: =G36-10*G37 -> 2 | C36: =IF(G36=0,"",IF(AND(B34=0,B35=0,B36=0),"",IF(AND(B36=0,B35>0)," không",IF(AND(B36=0,B34>0)," không",IF(G37=0,LOOKUP(B36,D31:D40,E31:E40),LOOKUP(B36,D31:D40,F31:F40)))))&IF(SUM(B34:B36)>0," trăm","")) -> hai trăm | D36: 5 | E36: Năm | F36: năm | G36: =ROUNDDOWN(G35/10,0) -> 942 | M36: Hàng trăm nghìn | N36: =S36-10*S37 -> 2 | O36: =IF(S36=0,"",IF(AND(N34=0,N35=0,N36=0),"",IF(AND(N36=0,N35>0)," không",IF(AND(N36=0,N34>0)," không",IF(S37=0,LOOKUP(N36,P31:P40,Q31:Q40),LOOKUP(N36,P31:P40,R31:R40)))))&IF(SUM(N34:N36)>0," trăm","")) -> hai trăm | P36: 5 | Q36: Năm | R36: năm | S36: =ROUNDDOWN(S35/10,0) -> 942
A37: Hàng triệu | B37: =G37-10*G38 -> 4 | C37: =IF(G37=0,"",IF(B37=0,"",IF(AND(B37=1,B38=1)," một",IF(AND(B37=1,B38>1)," mốt",IF(AND(B37=5,B38>0)," lăm",IF(G38=0,LOOKUP(B37,D31:D40,E31:E40),LOOKUP(B37,D31:D40,F31:F40))))))&IF(SUM(B37:B39)>0," triệu,","")) -> bốn triệu, | D37: 6 | E37: Sáu | F37: sáu | G37: =ROUNDDOWN(G36/10,0) -> 94 | M37: Hàng triệu | N37: =S37-10*S38 -> 4 | O37: =IF(S37=0,"",IF(N37=0,"",IF(AND(N37=1,N38=1)," một",IF(AND(N37=1,N38>1)," mốt",IF(AND(N37=5,N38>0)," lăm",IF(S38=0,LOOKUP(N37,P31:P40,Q31:Q40),LOOKUP(N37,P31:P40,R31:R40))))))&IF(SUM(N37:N39)>0," triệu,","")) -> bốn triệu, | P37: 6 | Q37: Sáu | R37: sáu | S37: =ROUNDDOWN(S36/10,0) -> 94
A38: Hàng chục triệu | B38: =G38-10*G39 -> 9 | C38: =IF(G38=0,"",IF(AND(B38=0,B37=0),"",IF(AND(B38=0,B37>0)," lẻ",IF(AND(B38=1,G39<>0)," mười",IF(AND(B38=1,G39=0)," Mười",IF(B38>1,IF(G39=0,LOOKUP(B38,D31:D40,E31:E40),LOOKUP(B38,D31:D40,F31:F40)))))))&IF(B38>1," mươi","")) -> Chín mươi | D38: 7 | E38: Bảy | F38: bảy | G38: =ROUNDDOWN(G37/10,0) -> 9 | M38: Hàng chục triệu | N38: =S38-10*S39 -> 9 | O38: =IF(S38=0,"",IF(AND(N38=0,N37=0),"",IF(AND(N38=0,N37>0)," lẻ",IF(AND(N38=1,S39<>0)," mười",IF(AND(N38=1,S39=0)," Mười",IF(N38>1,IF(S39=0,LOOKUP(N38,P31:P40,Q31:Q40),LOOKUP(N38,P31:P40,R31:R40)))))))&IF(N38>1," mươi","")) -> Chín mươi | P38: 7 | Q38: Bảy | R38: bảy | S38: =ROUNDDOWN(S37/10,0) -> 9
A39: Hàng trăm triệu | B39: =G39-10*G40 -> 0 | C39: =IF(G39=0,"",IF(AND(B37=0,B38=0,B39=0),"",IF(AND(B39=0,B38>0)," không",IF(AND(B39=0,B37>0)," không",IF(G40=0,LOOKUP(B39,D31:D40,E31:E40),LOOKUP(B39,D31:D40,F31:F40)))))&IF(SUM(B37:B39)>0," trăm","")) | D39: 8 | E39: Tám | F39: tám | G39: =ROUNDDOWN(G38/10,0) -> 0 | M39: Hàng trăm triệu | N39: =S39-10*S40 -> 0 | O39: =IF(S39=0,"",IF(AND(N37=0,N38=0,N39=0),"",IF(AND(N39=0,N38>0)," không",IF(AND(N39=0,N37>0)," không",IF(S40=0,LOOKUP(N39,P31:P40,Q31:Q40),LOOKUP(N39,P31:P40,R31:R40)))))&IF(SUM(N37:N39)>0," trăm","")) | P39: 8 | Q39: Tám | R39: tám | S39: =ROUNDDOWN(S38/10,0) -> 0
A40: Hàng tỷ | B40: =G40-10*G41 -> 0 | C40: =IF(G40=0,"",IF(B40=0,"",IF(AND(B40=1,B41=1)," một",IF(AND(B40=1,B41>1)," mốt",IF(AND(B40=5,B41>0)," lăm",IF(G41=0,LOOKUP(B40,D31:D40,E31:E40),LOOKUP(B40,D31:D40,F31:F40))))))&IF(SUM(B40:B46)>0," tỷ,","")) | D40: 9 | E40: Chín | F40: chín | G40: =ROUNDDOWN(G39/10,0) -> 0 | M40: Hàng tỷ | N40: =S40-10*S41 -> 0 | O40: =IF(S40=0,"",IF(N40=0,"",IF(AND(N40=1,N41=1)," một",IF(AND(N40=1,N41>1)," mốt",IF(AND(N40=5,N41>0)," lăm",IF(S41=0,LOOKUP(N40,P31:P40,Q31:Q40),LOOKUP(N40,P31:P40,R31:R40))))))&IF(SUM(N40:N46)>0," tỷ,","")) | P40: 9 | Q40: Chín | R40: chín | S40: =ROUNDDOWN(S39/10,0) -> 0
A41: Hàng chục tỷ | B41: =G41-10*G42 -> 0 | C41: =IF(G41=0,"",IF(AND(B41=0,B40=0),"",IF(AND(B41=0,B40>0)," lẻ",IF(AND(B41=1,G42<>0)," mười",IF(AND(B41=1,G42=0)," Mười",IF(B41>1,IF(G42=0,LOOKUP(B41,D31:D40,E31:E40),LOOKUP(B41,D31:D40,F31:F40)))))))&IF(B41>1," mươi","")) | G41: =ROUNDDOWN(G40/10,0) -> 0 | M41: Hàng chục tỷ | N41: =S41-10*S42 -> 0 | O41: =IF(S41=0,"",IF(AND(N41=0,N40=0),"",IF(AND(N41=0,N40>0)," lẻ",IF(AND(N41=1,S42<>0)," mười",IF(AND(N41=1,S42=0)," Mười",IF(N41>1,IF(S42=0,LOOKUP(N41,P31:P40,Q31:Q40),LOOKUP(N41,P31:P40,R31:R40)))))))&IF(N41>1," mươi","")) | S41: =ROUNDDOWN(S40/10,0) -> 0
A42: Hàng trăm tỷ | B42: =G42-10*G43 -> 0 | C42: =IF(G42=0,"",IF(AND(B40=0,B41=0,B42=0),"",IF(AND(B42=0,B41>0)," không",IF(AND(B42=0,B40>0)," không",IF(G43=0,LOOKUP(B42,D31:D40,E31:E40),LOOKUP(B42,D31:D40,F31:F40)))))&IF(SUM(B40:B42)>0," trăm","")) | G42: =ROUNDDOWN(G41/10,0) -> 0 | M42: Hàng trăm tỷ | N42: =S42-10*S43 -> 0 | O42: =IF(S42=0,"",IF(AND(N40=0,N41=0,N42=0),"",IF(AND(N42=0,N41>0)," không",IF(AND(N42=0,N40>0)," không",IF(S43=0,LOOKUP(N42,P31:P40,Q31:Q40),LOOKUP(N42,P31:P40,R31:R40)))))&IF(SUM(N40:N42)>0," trăm","")) | S42: =ROUNDDOWN(S41/10,0) -> 0
A43: Hàng nghìn tỷ | B43: =G43-10*G44 -> 0 | C43: =IF(G43=0,"",IF(B43=0,"",IF(AND(B43=1,B44=1)," một",IF(AND(B43=1,B44>1)," mốt",IF(AND(B43=5,B44>0)," lăm",IF(G44=0,LOOKUP(B43,D31:D40,E31:E40),LOOKUP(B43,D31:D40,F31:F40))))))&IF(SUM(B43:B45)>0," nghìn","")) | G43: =ROUNDDOWN(G42/10,0) -> 0 | M43: Hàng nghìn tỷ | N43: =S43-10*S44 -> 0 | O43: =IF(S43=0,"",IF(N43=0,"",IF(AND(N43=1,N44=1)," một",IF(AND(N43=1,N44>1)," mốt",IF(AND(N43=5,N44>0)," lăm",IF(S44=0,LOOKUP(N43,P31:P40,Q31:Q40),LOOKUP(N43,P31:P40,R31:R40))))))&IF(SUM(N43:N45)>0," nghìn","")) | S43: =ROUNDDOWN(S42/10,0) -> 0
A44: Hàng chục nghìn tỷ | B44: =G44-10*G45 -> 0 | C44: =IF(G44=0,"",IF(AND(B44=0,B43=0),"",IF(AND(B44=0,B43>0)," lẻ",IF(AND(B44=1,G45<>0)," mười",IF(AND(B44=1,G45=0)," Mười",IF(B44>1,IF(G45=0,LOOKUP(B44,D31:D40,E31:E40),LOOKUP(B44,D31:D40,F31:F40)))))))&IF(B44>1," mươi","")) | G44: =ROUNDDOWN(G43/10,0) -> 0 | M44: Hàng chục nghìn tỷ | N44: =S44-10*S45 -> 0 | O44: =IF(S44=0,"",IF(AND(N44=0,N43=0),"",IF(AND(N44=0,N43>0)," lẻ",IF(AND(N44=1,S45<>0)," mười",IF(AND(N44=1,S45=0)," Mười",IF(N44>1,IF(S45=0,LOOKUP(N44,P31:P40,Q31:Q40),LOOKUP(N44,P31:P40,R31:R40)))))))&IF(N44>1," mươi","")) | S44: =ROUNDDOWN(S43/10,0) -> 0
A45: Hàng trăm nghìn tỷ | B45: =G45-10*B46 -> 0 | C45: =IF(G45=0,"",IF(AND(B43=0,B44=0,B45=0),"",IF(AND(B45=0,B44>0)," không",IF(AND(B45=0,B43>0)," không",IF(G46=0,LOOKUP(B45,D31:D40,E31:E40),LOOKUP(B45,D31:D40,F31:F40)))))&IF(SUM(B43:B45)>0," trăm","")) | G45: =ROUNDDOWN(G44/10,0) -> 0 | M45: Hàng trăm nghìn tỷ | N45: =S45-10*N46 -> 0 | O45: =IF(S45=0,"",IF(AND(N43=0,N44=0,N45=0),"",IF(AND(N45=0,N44>0)," không",IF(AND(N45=0,N43>0)," không",IF(S46=0,LOOKUP(N45,P31:P40,Q31:Q40),LOOKUP(N45,P31:P40,R31:R40)))))&IF(SUM(N43:N45)>0," trăm","")) | S45: =ROUNDDOWN(S44/10,0) -> 0
C46: =IF(G46=0,"",IF(B46=0,"",IF(AND(B46=1,#REF!=1)," một",IF(AND(B46=1,#REF!>1)," mốt",IF(AND(B46=5,#REF!>0)," lăm",IF(#REF!=0,LOOKUP(B46,D31:D40,E31:E40),LOOKUP(B46,D31:D40,F31:F40))))))&IF(SUM(B46:B46)>0," triệu","")) | O46: =IF(S46=0,"",IF(N46=0,"",IF(AND(N46=1,#REF!=1)," một",IF(AND(N46=1,#REF!>1)," mốt",IF(AND(N46=5,#REF!>0)," lăm",IF(#REF!=0,LOOKUP(N46,P31:P40,Q31:Q40),LOOKUP(N46,P31:P40,R31:R40))))))&IF(SUM(N46:N46)>0," triệu",""))
A47: Đọc số là | B47: =""& IF(G31=0,"Không ",CONCATENATE(C45,C44,C43,C42,C41,C40,C39,C38,C37,C36,C35,C34,C33,C32,C31)) & " đồng." -> Chín mươi bốn triệu, hai trăm bốn mươi lăm nghìn, một trăm hai mươi đồng. | M47: Đọc số là | N47: =""& IF(S31=0,"Không ",CONCATENATE(O45,O44,O43,O42,O41,O40,O39,O38,O37,O36,O35,O34,O33,O32,O31)) & " đồng." -> Chín mươi bốn triệu, hai trăm bốn mươi lăm nghìn, một trăm hai mươi đồng.

Sheet bìa
A4: =UPPER(TT!C8) -> CÔNG TY TNHH THƯƠNG MẠI MAI HOAN
A5: Thôn Phú Cơ,(nhà ông Mai Văn Hoan),xã Tiên Lãng, TP Hải Phòng
A6: ="Mã số thuế: "&TT!C12 -> Mã số thuế: 2106201001733
A24: HỒ SƠ QUYẾT TOÁN
A26: =UPPER(TT!C15) -> CÔNG TY TNHH XÂY DỰNG ĐỊNH SƠN
A27: ="Dự án:"&TT!C2 -> Dự án:Xử lý lỗ vỡ sông Đa Độ khu vực xã Kiến Hưng từ K43+487 ĐÊBS K43+715
A28: ="Hạng mục:"&TT!C3 -> Hạng mục:Cung cấp cọc BTCT 200*200
A29: ="Địa điểm: "&TT!C4 -> Địa điểm: An Dương, Hải Phòng
D43: =TT!C23 -> Hải Phòng, ngày …… tháng …… năm 2026

Sheet nghiệm thu
A1: CÔNG TY TNHH THƯƠNG MẠI MAI HOAN | C1: Cộng hòa xã hội chủ nghĩa Việt nam
C2: Độc lập - Tự do - Hạnh phúc
D3: ……...…+++…………..
A5: BIÊN BẢN NGHIỆM THU KHỐI LƯỢNG HOÀN THÀNH
A7: =bìa!A27 -> Dự án:Xử lý lỗ vỡ sông Đa Độ khu vực xã Kiến Hưng từ K43+487 ĐÊBS K43+715
A8: =bìa!A28 -> Hạng mục:Cung cấp cọc BTCT 200*200
A9: =bìa!A29 -> Địa điểm: An Dương, Hải Phòng
A11: I. Thành phần trực tiếp nghiệm thu:
A12: Đại diện nhà thầu chính:
B13: =UPPER(TT!C15) -> CÔNG TY TNHH XÂY DỰNG ĐỊNH SƠN
B14: - Ông:…………………. | C14: Chức vụ: | D14: ………………….
B15: - Ông:…………………. | C15: Chức vụ: | D15: ………………….
A16: b.Đại diện đơn vị thi công: CÔNG TY TNHH THƯƠNG MẠI MAI HOAN
B17: - Ông:…………………. | C17: Chức vụ: | D17: ………………….
B18: - Ông: ……………………………….. | C18: Chức vụ: | D18: ………………………..
A19: II. Thời gian nghiệm thu:
B20: - Bắt đầu: ….. ngày ….. tháng ...năm 2026
B21: - Kết thúc:….. ngày ….. tháng …. năm 2026
A22: =A9 -> Địa điểm: An Dương, Hải Phòng
A23: III. Nội dung:
A24: a. Căn cứ nghiệm thu:
A25: ="-Căn cứ hợp đồng số: "&TT!C5&" giữa Công ty TNHH Thương Mại Mai Hoan và "&TT!C15&" về việc "&TT!C3&" " -> -Căn cứ hợp đồng số: 1011/2025/HĐKT/DS-MH giữa Công ty TNHH Thương Mại Mai Hoan và Công Ty Tnhh Xây Dựng Định Sơn về việc Cung cấp cọc BTCT 200*200
A26: b.Nghiệm thu khối lượng sử dụng:
A27: * Khối lượng công việc hoàn thành:
A29: STT | B29: Nội dung công việc | C29: ĐVT | D29: Khối lượng | E29: Ghi chú
A30: 1 | B30: ='q toán'!B11 -> Cung cấp cọc BTCT 200*200, sắt chủ 4D16 (L>4m) | C30: ='q toán'!C11 -> m | D30: ='q toán'!G11 -> 436.32
A31: * Chất lượng công việc hoàn thành:
A32: Công ty TNHH Thương Mại Mai Hoan đã thi hoàn thành khối lượng công việc đúng yêu cầu chất lượng quy định theo như hợp đồng giữa hai bên
A33: c. Các ý kiến khác (nếu có):…………………………………………………………
A34: IV. Kết luận:
A35: Chấp nhận nghiệm thu hoàn thành công trình để bàn giao đưa vào sử dụng
A36: ='q toán'!A19:D19 -> ĐẠI DIỆN BÊN A | C36: ='q toán'!I19 -> ĐẠI DIỆN BÊN B

Sheet q toán
A1: BẢNG QUYẾT TOÁN GIÁ TRỊ KHỐI LƯỢNG CÔNG VIỆC HOÀN THÀNH
A3: ='nghiệm thu'!A7:E7 -> Dự án:Xử lý lỗ vỡ sông Đa Độ khu vực xã Kiến Hưng từ K43+487 ĐÊBS K43+715
A4: ='nghiệm thu'!A8:E8 -> Hạng mục:Cung cấp cọc BTCT 200*200
A5: ='nghiệm thu'!A9:E9 -> Địa điểm: An Dương, Hải Phòng
A6: ="Bên A: "&UPPER(TT!C15) -> Bên A: CÔNG TY TNHH XÂY DỰNG ĐỊNH SƠN | B6: =UPPER(TT!C15) -> CÔNG TY TNHH XÂY DỰNG ĐỊNH SƠN
A7: ="Bên B:"&UPPER(TT!C8) -> Bên B:CÔNG TY TNHH THƯƠNG MẠI MAI HOAN
A8: ="-Căn cứ hợp đồng số: "&TT!C5&" với khối lượng đã thực hiện hoàn thành hôm nay ngày / /2026 các bên cùng nhau thống nhất quyết toán giá trị khối lượng hoàn thành như sau:" -> -Căn cứ hợp đồng số: 1011/2025/HĐKT/DS-MH với khối lượng đã thực hiện hoàn thành hôm nay ngày / /2026 các bên cùng nhau thống nhất quyết toán giá trị khối lượng hoàn thành như sau:
A9: STT | B9: Nội dung công việc | C9: Đơn vị | D9: KHỐI LƯỢNG | H9: Đơn giá hợp đồng | I9: GIÁ TRỊ (VNĐ)
D10: Hợp đồng /PLHĐ | E10: Đợt trước | F10: Lũy kế đến đợt này | G10: Lũy kế đến quyết toán | I10: Hợp đồng | J10: Đợt trước | K10: Lũy kế đến đợt này | L10: Lũy kế đến quyết toán
A11: 1 | B11: Cung cấp cọc BTCT 200*200, sắt chủ 4D16 (L>4m) | C11: m | D11: 436.32 | F11: 436.32 | G11: 436.32 | H11: 200000 | I11: =H11*D11 -> 87264000 | J11: =$H11*E11 -> 0 | K11: =F11*H11 -> 87264000 | L11: =J11+K11 -> 87264000
A12: CỘNG GIÁ TRỊ | I12: =SUM(I11:I11) -> 87264000 | J12: =SUM(J11:J11) -> 0 | K12: =SUM(K11:K11) -> 87264000 | L12: =SUM(L11:L11) -> 87264000
A13: THUẾ VAT 8% | I13: =I12*8% -> 6981120 | J13: =SUM(J11:J12) -> 0 | K13: =K12*8% -> 6981120 | L13: =L12*8% -> 6981120
A14: TỔNG GIÁ TRỊ | I14: =SUM(I12:I13) -> 94245120 | J14: =SUM(J12:J13) -> 0 | K14: =SUM(K12:K13) -> 94245120 | L14: =SUM(L12:L13) -> 94245120
A16: Hai bên xác nhận giá trị quyết toán trên là hoàn toán đúng. Biên bản này được lập thành 04 bản, mỗi bên giữ 02 bản có giá trị như nhau.
A17: ="Bằng chữ : "&TT!B47 -> Bằng chữ : Chín mươi bốn triệu, hai trăm bốn mươi lăm nghìn, một trăm hai mươi đồng.
A19: ĐẠI DIỆN BÊN A | I19: ĐẠI DIỆN BÊN B

Sheet đc công nợ
A1: CÔNG TY TNHH THƯƠNG MẠI MAI HOAN | C1: CỘNG HÒA XÃ HỘI CHỦ NGHĨA VIỆT NAM
C2: Độc lập - Tự do - Hạnh Phúc
A4: BIÊN BẢN ĐỐI CHIẾU CÔNG NỢ
A5: ='q toán'!A3:H3 -> Dự án:Xử lý lỗ vỡ sông Đa Độ khu vực xã Kiến Hưng từ K43+487 ĐÊBS K43+715
A6: ='q toán'!A4:H4 -> Hạng mục:Cung cấp cọc BTCT 200*200
A7: ='q toán'!A5:H5 -> Địa điểm: An Dương, Hải Phòng
A9: ="Hôm nay, ngày tháng năm 2026, tại văn phòng "&TT!C8 -> Hôm nay, ngày tháng năm 2026, tại văn phòng Công ty TNHH Thương mại Mai Hoan
A10: Đại diện hai bên gồm:
A11: BÊN A: | B11: =UPPER(TT!C15) -> CÔNG TY TNHH XÂY DỰNG ĐỊNH SƠN
A12: Đại diện: | B12: =TT!C20 -> Ông Nguyễn Sĩ Sơn | C12: - Chức vụ: Giám đốc
A14: Bên B: | B14: CÔNG TY TNHH THƯƠNG MẠI MAI HOAN
A15: Đại diện: | B15: Ông:Mai Văn Hoan | C15: - Chức vụ: Giám Đốc
A17: STT | B17: Nội dung | C17: ĐVT | D17: Diễn giải | E17: Giá trị | F17: Ghi chú
A18: 1 | B18: Tổng giá trị hợp đồng, PLHĐ sau thuế | C18: VND | D18: A
A19: 2 | B19: Giá trị lũy kế đến quyết toán (sau thuế) | C19: VND | D19: B=B1+B2 | E19: =E21+E20 -> 94245120 | F19: GT hoá đơn
A20: 2.2 | B20: Giá trị thanh toán đợt trước (Sau thuế) | C20: VND | D20: B1 | E20: ='q toán'!J14 -> 0
A21: 2.3 | B21: Giá trị thanh toán luỹ kế đến đợt này (Sau thuế) | C21: VND | D21: B2 | E21: ='q toán'!K14 -> 94245120
A22: 3 | B22: Giá trị đã tạm ứng, thanh toán | C22: VND | D22: C=(C1+C2+C3+C...) | E22: =SUM(E23:E26) -> 0
B23: Lần 1- | C23: VND | D23: C1
B24: Lần 2- | C24: VND | D24: C2
B25: Lần 3 | C25: VND | D25: C3
B26: Lần 4 | C26: VND | D26: C4
A27: 4 | B27: Giá trị còn lại thanh toán đợt này | C27: VND | D27: D=B-C | E27: =E21-E22 -> 94245120
A28: ="Bằng chữ : "&TT!N47 -> Bằng chữ : Chín mươi bốn triệu, hai trăm bốn mươi lăm nghìn, một trăm hai mươi đồng.
A30: ĐẠI DIỆN BÊN A ĐẠI DIỆN BÊN B

Sheet đn thanh toán
A1: CÔNG TY TNHH THƯƠNG MẠI | E1: CỘNG HÒA XÃ HỘI CHỦ NGHĨA VIỆT NAM
A2: MAI HOAN | E2: Độc lập - Tự do - Hạnh phúc
A3: --------------------
A4: Số: /TT | F4: =TT!C23 -> Hải Phòng, ngày …… tháng …… năm 2026
A6: GIẤY ĐỀ NGHỊ THANH TOÁN
A8: ="Kính gửi : "&UPPER(TT!C15) -> Kính gửi : CÔNG TY TNHH XÂY DỰNG ĐỊNH SƠN
A10: ="-Căn cứ hợp đồng số: "&TT!C5&" giữa Công ty TNHH Thương Mại Mai Hoan và "&TT!C15&" về việc "&TT!C3 -> -Căn cứ hợp đồng số: 1011/2025/HĐKT/DS-MH giữa Công ty TNHH Thương Mại Mai Hoan và Công Ty Tnhh Xây Dựng Định Sơn về việc Cung cấp cọc BTCT 200*200
A11: - Căn cứ Bảng quyết toán giá trị khối lượng công việc hoàn thành.
A12: =TT!C8&" kính đề nghị "&TT!C15&" thanh toán cho chúng tôi theo bảng giá trị đề nghị thanh toán." -> Công ty TNHH Thương mại Mai Hoan kính đề nghị Công Ty Tnhh Xây Dựng Định Sơn thanh toán cho chúng tôi theo bảng giá trị đề nghị thanh toán.
A13: Giá trị đề nghị chuyển tiền kỳ này: | H13: ='đc công nợ'!E27 -> 94245120 | I13: đồng
A14: ='đc công nợ'!A28:F28 -> Bằng chữ : Chín mươi bốn triệu, hai trăm bốn mươi lăm nghìn, một trăm hai mươi đồng.
A16: Kính báo để Quý Công ty giải quyết thanh toán số tiền trên cho Công ty Chúng tôi.
A17: Đơn vị thụ hưởng: | C17: CÔNG TY TNHH THƯƠNG MẠI MAI HOAN
A18: Số tài khoản : | C18: 2106201001733 Chi nhánh Ngân hàng NN&PTNT Huyện Tiên Lãng
F19: CÔNG TY TNHH THƯƠNG MẠI MAI HOAN

Sheet TH
B1: Dự án :
B2: Địa điểm:
B3: BẢNG TỔNG HỢP KHỐI LƯỢNG ÉP CỌC
B5: STT | C5: Ngày | D5: Số tim | E5: Loại cọc | F5: Tổ hợp cọc thực tế | K5: Chiều dài tổ hợp (m) | L5: Chiều sâu ép (m) | M5: Ép âm (m) | N5: Lực ép (tấn) | O5: Cắt cọc | P5: Ghi chú
F6: Đ1 | G6: Đ2 | H6: Đ3 | I6: Đ4 | J6: Đ5
B7: A. ÉP TIM THÍ NGHIỆM
B8: 1 | K8: =SUM(F8:I8) -> 0 | M8: =L8-K8 -> 0
B9: 2 | K9: =SUM(F9:I9) -> 0 | M9: =L9-K9 -> 0
B10: 3 | K10: =SUM(F10:I10) -> 0 | M10: =L10-K10 -> 0
B11: TỔNG A | D11: =COUNT(D8:D10) -> 0 | K11: =SUM(F11:I11) -> 0 | L11: =SUM(L8:L10) -> 0 | M11: =L11-K11 -> 0 | O11: =SUM(O8:O10) -> 0
B12: B. ÉP TIM ĐẠI TRÀ
B13: 1 | K13: =SUM(F13:I13) -> 0 | M13: =L13-K13 -> 0
B14: 2 | K14: =SUM(F14:I14) -> 0 | M14: =L14-K14 -> 0
B15: 3 | K15: =SUM(F15:I15) -> 0 | M15: =L15-K15 -> 0
B16: 4 | K16: =SUM(F16:I16) -> 0 | M16: =L16-K16 -> 0
B17: 5 | K17: =SUM(F17:I17) -> 0 | M17: =L17-K17 -> 0
B18: 6 | K18: =SUM(F18:I18) -> 0 | M18: =L18-K18 -> 0
B19: 7 | K19: =SUM(F19:I19) -> 0 | M19: =L19-K19 -> 0
B20: 8 | K20: =SUM(F20:I20) -> 0 | M20: =L20-K20 -> 0
B21: 9 | K21: =SUM(F21:I21) -> 0 | M21: =L21-K21 -> 0
B22: 10 | K22: =SUM(F22:I22) -> 0 | M22: =L22-K22 -> 0
B23: 11 | K23: =SUM(F23:I23) -> 0 | M23: =L23-K23 -> 0
B24: 12 | K24: =SUM(F24:I24) -> 0 | M24: =L24-K24 -> 0
... B79: 67 | K79: =SUM(F79:I79) -> 0 | M79: =L79-K79 -> 0
B80: TỔNG B | D80: =COUNT(D13:D79) -> 0 | K80: =SUM(K13:K79) -> 0 | L80: =SUM(L13:L79) -> 0 | M80: =SUM(M13:M79) -> 0 | O80: =SUM(O13:O79) -> 0 | P80: =SUM(P13:P79) -> 0
B81: TỔNG CỘNG A+B | D81: =+D80+D11 -> 0 | K81: =+K80+K11 -> 0 | L81: =+L80+L11 -> 0 | M81: =+M80+M11 -> 0 | O81: =+O80+O11 -> 0 | P81: =SUM(P14:P80) -> 0
B83: ĐẠI ĐIỆN BÊN A | H83: ĐẠI DIỆN BÊN B
