Workbook

Sheet DS XE
A1: DANH SÁCH XE VẬN CHUYỂN
A3: STT | B3: Biển số xe | C3: Số khối | D3: Ghi chú
A4: 1 | B4: 12C-09230 | C4: 17
A5: 2 | B5: 98B-07901 | C5: 12.5
A6: 3 | B6: 20C-19093 | C6: 18
A7: 4 | B7: 98C-13769 | C7: 17
A8: 5 | B8: 34C-37602 | C8: 14
A9: 6 | B9: 98A-88923 | C9: 17
A10: 7 | B10: 15C-29514 | C10: 12.5
A11: 8 | B11: 34C-29314 | C11: 20
A12: 9 | B12: 98A-71539 | C12: 17
A13: 10 | B13: 34C-06696 | C13: 13
A14: 11 | B14: 14C-30392 | C14: 19
A15: 12 | B15: 89C-31872 | C15: 21
... A19: 16 | B19: 99C-35031 | C19: 20
A20: 17 | B20: 15K-45403
A21: 18 | B21: 36H-12782
A22: 19 | B22: 15C-45022
A23: 20 | B23: 88C-18233
A24: 21 | B24: 19A-93695
A25: 22 | B25: 29H-45886
A26: 23 | B26: 18C-03258
A27: 24
A28: 25
A29: 26
A30: 27
A31: 28
A32: 29
A33: 30
A34: 31
A35: 32
A36: 33
A37: 34

Sheet BBGN Minh An (2)
A1: CÔNG TY CỔ PHẦN | E1: CỘNG HÒA XÃ HỘI CHỦ NGHĨA VIỆT NAM
A2: MINH AN BG 688 | E2: Độc lập - Tự do - Hạnh phúc
A3: BIÊN BẢN XÁC NHẬN KHỐI LƯỢNG HÀNG HÓA Số: 001/2025/BBGN/MA-BB
A4: Căn cứ vào khối lượng giao nhận thực tế tại Khu vực bến quanh phà Dương Áo, tại xã Kiến Hưng, TP Hải Phòng
A5: 1. Đại diện bên mua: | C5: CÔNG TY TNHH THƯƠNG MẠI VÀ SẢN XUẤT BẢO BÌNH
A6: Ông/Bà: | B6: Mặc Đăng Phú | E6: Chức vụ: | F6: Nhân viên
A7: 2. Đại diện bên bán: | C7: CÔNG TY CỔ PHẦN MINH AN BG 688
A8: Ông/Bà: | B8: …………………………… | E8: Chức vụ: | F8: …………………………
A10: Hai bên cùng nhau lập biên bản xác nhận khối lượng đất san lấp thực tế giao nhận từ ngày 10/11/2025 đến ngày 13/11/2025 như sau:
A12: STT | B12: Ngày tháng | C12: Biển số tàu | D12: Số chuyến | E12: KL tàu | F12: Tổng (m3) | G12: Ghi chú
A13: 1 | B13: 45971 | C13: NB - 9798 | D13: 1 | E13: 770 | F13: =E13*D13 -> 770 | H13: 1
A14: 2 | B14: 45973 | C14: NB - 9798 | D14: 1 | E14: =763+40 -> 803 | F14: =E14*D14 -> 803 | H14: 1
A15: 3 | B15: 45973 | C15: HD - 3969 | D15: 1 | E15: 693 | F15: =E15*D15 -> 693 | H15: 1
A16: 4 | B16: 45974 | C16: NB - 6672 | D16: 1 | E16: 554 | F16: =E16*D16 -> 554 | H16: 1 | I16: =SUM(E13:E16) -> 2820 | J16: 2820 | K16: =J16-I16 -> 0
B17: Tổng | D17: =SUBTOTAL(9,D13:D16) -> 4 | F17: =SUBTOTAL(9,F13:F16) -> 2820 | I17: =SUM(I13:I16) -> 2820
A19: - Hai bên đã kiểm tra đều nhận thấy hàng hóa đảm bảo chất lượng như yêu cầu và đồng ý nghiệm thu.
A20: - Biên bản được lập thành 02 bản có giá trị pháp lý như nhau, mỗi bên giữ 01 bản.
B22: ĐẠI DIỆN BÊN MUA | E22: ĐẠI DIỆN BÊN BÁN
A36: CÔNG TY CỔ PHẦN | E36: CỘNG HÒA XÃ HỘI CHỦ NGHĨA VIỆT NAM
A37: MINH AN BG 688 | E37: Độc lập - Tự do - Hạnh phúc
A38: BIÊN BẢN XÁC NHẬN KHỐI LƯỢNG HÀNG HÓA Số: 002/2025/BBGN/MA-BB
A39: Căn cứ vào khối lượng giao nhận thực tế tại Khu vực bến quanh phà Dương Áo, tại xã Kiến Hưng, TP Hải Phòng
A40: 1. Đại diện bên mua: | C40: CÔNG TY TNHH THƯƠNG MẠI VÀ SẢN XUẤT BẢO BÌNH
A41: Ông/Bà: | B41: Mặc Đăng Phú | E41: Chức vụ: | F41: Nhân viên
A42: 2. Đại diện bên bán: | C42: CÔNG TY CỔ PHẦN MINH AN BG 688
A43: Ông/Bà: | B43: …………………………… | E43: Chức vụ: | F43: …………………………
A45: Hai bên cùng nhau lập biên bản xác nhận khối lượng đất san lấp thực tế giao nhận từ ngày 13/11/2025 đến ngày 17/11/2025 như sau:
A47: STT | B47: Ngày tháng | C47: Biển số tàu | D47: Số chuyến | E47: KL tàu | F47: Tổng (m3) | G47: Ghi chú
A48: 1 | B48: 45974 | C48: HD - 2056 | D48: 1 | E48: 623 | F48: =E48*D48 -> 623 | H48: 1
A49: 2 | B49: 45975 | C49: HD - 3969 | D49: 1 | E49: 637.5 | F49: =E49*D49 -> 637.5 | H49: 1
A50: 3 | B50: 45975 | C50: NB - 6672 | D50: 1 | E50: 568 | F50: =E50*D50 -> 568 | H50: 1
A51: 4 | B51: 45978 | C51: NB - 9798 | D51: 1 | E51: 851.5 | F51: =E51*D51 -> 851.5 | H51: 1 | I51: =SUM(E48:E51) -> 2680 | J51: 2820 | K51: =J51-I51 -> 140
B52: Tổng | D52: =SUBTOTAL(9,D48:D51) -> 4 | F52: =SUBTOTAL(9,F48:F51) -> 2680 | I52: =SUM(I48:I51) -> 2680
A54: - Hai bên đã kiểm tra đều nhận thấy hàng hóa đảm bảo chất lượng như yêu cầu và đồng ý nghiệm thu.
A55: - Biên bản được lập thành 02 bản có giá trị pháp lý như nhau, mỗi bên giữ 01 bản.
B57: ĐẠI DIỆN BÊN MUA | E57: ĐẠI DIỆN BÊN BÁN
A74: CÔNG TY CỔ PHẦN | E74: CỘNG HÒA XÃ HỘI CHỦ NGHĨA VIỆT NAM
A75: MINH AN BG 688 | E75: Độc lập - Tự do - Hạnh phúc
A76: BIÊN BẢN XÁC NHẬN KHỐI LƯỢNG HÀNG HÓA Số: 003/2025/BBGN/MA-BB
A77: Căn cứ vào khối lượng giao nhận thực tế tại Khu vực bến quanh phà Dương Áo, tại xã Kiến Hưng, TP Hải Phòng
...

Sheet BBGN Minh An
A1: CÔNG TY CỔ PHẦN | E1: CỘNG HÒA XÃ HỘI CHỦ NGHĨA VIỆT NAM
A2: MINH AN BG 688 | E2: Độc lập - Tự do - Hạnh phúc
A3: BIÊN BẢN XÁC NHẬN KHỐI LƯỢNG HÀNG HÓA Số: 001/2025/BBGN/MA-BB
A4: Căn cứ vào khối lượng giao nhận thực tế tại Khu vực bến quanh phà Dương Áo, tại xã Kiến Hưng, TP Hải Phòng
A5: 1. Đại diện bên mua: | C5: CÔNG TY TNHH THƯƠNG MẠI VÀ SẢN XUẤT BẢO BÌNH
A6: Ông/Bà: | B6: Mặc Đăng Phú | E6: Chức vụ: | F6: Nhân viên
A7: 2. Đại diện bên bán: | C7: CÔNG TY TNHH MTV THƯƠNG MẠI VÀ DỊCH VỤ XUÂN THẮNG
A8: Ông/Bà: | B8: …………………………… | E8: Chức vụ: | F8: …………………………
A10: Hai bên cùng nhau lập biên bản xác nhận khối lượng đất san lấp thực tế giao nhận ngày 13 tháng 11 năm 2025 như sau:
A12: STT | B12: Ngày tháng | C12: Biển số tàu | D12: Số chuyến | E12: KL tàu | F12: Tổng (m3) | G12: Ghi chú
A13: 1 | B13: 45971 | C13: NB - 9798 | D13: 1 | E13: 770 | F13: =E13*D13 -> 770 | H13: 1
A14: 2 | B14: 45973 | C14: NB - 9798 | D14: 1 | E14: =763+40 -> 803 | F14: =E14*D14 -> 803 | H14: 1
A15: 3 | B15: 45973 | C15: HD - 3969 | D15: 1 | E15: 693 | F15: =E15*D15 -> 693 | H15: 1
A16: 4 | B16: 45974 | C16: NB - 6672 | D16: 1 | E16: 554 | F16: =E16*D16 -> 554 | H16: 1 | I16: =SUM(E13:E16) -> 2820 | J16: 2820 | K16: =J16-I16 -> 0
A17: 1 | B17: 45974 | C17: HD - 2056 | D17: 1 | E17: 623 | F17: =E17*D17 -> 623 | H17: 2
A18: 2 | B18: 45975 | C18: HD - 3969 | D18: 1 | E18: 637.5 | F18: =E18*D18 -> 637.5 | H18: 2
A19: 3 | B19: 45975 | C19: NB - 6672 | D19: 1 | E19: 568 | F19: =E19*D19 -> 568 | H19: 2 | I19: =SUM(E17:E20) -> 2680
A20: 4 | B20: 45978 | C20: NB - 9798 | D20: 1 | E20: 851.5 | F20: =E20*D20 -> 851.5 | H20: 2 | J20: 2680 | K20: =J20-I19 -> 0
A21: 1 | B21: 45978 | C21: HD - 3969 | D21: 1 | E21: =651-93.46 -> 557.54 | F21: =E21*D21 -> 557.54 | H21: 3 | I21: =E21+E22 -> 1246.54
A22: 2 | B22: 45981 | C22: NB - 9798 | D22: 1 | E22: 689 | F22: =E22*D22 -> 689 | H22: 3 | J22: 1246.54 | K22: =I21-J22 -> 0
A23: 1 | B23: 45991 | C23: HD - 3969 | D23: 1 | E23: 533 | F23: =E23*D23 -> 533 | H23: 4
A24: 2 | B24: 45992 | C24: NB - 9798 | D24: 1 | E24: 867 | F24: =E24*D24 -> 867 | H24: 4 | I24: 1400 | J24: =SUM(E23:E25) -> 2491.19
A25: 1 | B25: 45995 | C25: NB - 9798 | D25: 1 | E25: 1091.19 | F25: =E25*D25 -> 1091.19 | H25: 5
A26: 2 | B26: 45997 | C26: NB - 6672 | D26: 1 | E26: 654 | F26: =E26*D26 -> 654 | H26: 5
A27: 3 | B27: 45997 | C27: HD - 3969 | D27: 1 | E27: 568 | F27: =E27*D27 -> 568 | H27: 5
A28: 4 | B28: 45998 | C28: HD - 2056 | D28: 1 | E28: 629 | F28: =E28*D28 -> 629 | H28: 5
A29: 5 | B29: 45998 | C29: NB - 9798 | D29: 1 | E29: 986 | F29: =E29*D29 -> 986 | H29: 5
A30: 6 | B30: 45999 | C30: NB - 6672 | D30: 1 | E30: 546 | F30: =E30*D30 -> 546 | H30: 5
A31: 7 | B31: 45999 | C31: HD - 3969 | D31: 1 | E31: 545.81 | F31: =E31*D31 -> 545.81 | H31: 5 | I31: =SUM(E25:E31) -> 5020 | J31: 5020 | K31: =J31-I31 -> 0
A32: 1 | B32: 46012 | C32: NB - 9798 | D32: 1 | E32: 896 | F32: =E32*D32 -> 896 | H32: 6
A33: 2 | B33: 46012 | C33: NB - 6672 | D33: 1 | E33: 529 | F33: =E33*D33 -> 529 | H33: 6 | I33: =SUM(E32:E33) -> 1425 | J33: 1425 | K33: =I33-J33 -> 0
B34: Tổng | D34: =SUBTOTAL(9,D13:D33) -> 2 | F34: =SUBTOTAL(9,F13:F33) -> 1425 | I34: =SUM(I13:I33) -> 14591.54
A36: - Hai bên đã kiểm tra đều nhận thấy hàng hóa đảm bảo chất lượng như yêu cầu và đồng ý nghiệm thu.
A37: - Biên bản được lập thành 02 bản có giá trị pháp lý như nhau, mỗi bên giữ 01 bản.
B39: ĐẠI DIỆN BÊN MUA | E39: ĐẠI DIỆN BÊN BÁN
A65: CÔNG TY TNHH MTV TM | E65: CỘNG HÒA XÃ HỘI CHỦ NGHĨA VIỆT NAM
A66: VÀ DV XUÂN THẮNG | E66: Độc lập - Tự do - Hạnh phúc
A67: BIÊN BẢN XÁC NHẬN KHỐI LƯỢNG HÀNG HÓA Số: 002/2025/BBGN/XT-BB
A68: Căn cứ vào khối lượng giao nhận thực tế tại Khu vực bến quanh phà Dương Áo, tại xã Kiến Hưng, TP Hải Phòng
A69: 1. Đại diện bên mua: | C69: CÔNG TY TNHH THƯƠNG MẠI VÀ SẢN XUẤT BẢO BÌNH
...

Sheet BBXN l1
A1: CỘNG HÒA XÃ HỘI CHỦ NGHĨA VIỆT NAM
A2: Độc lập - Tự do - Hạnh phúc
A3: BIÊN BẢN XÁC NHẬN GIÁ TRỊ HÀNG HÓA Số: 01/2025/BBXN/MA-BB
A4: Căn cứ vào khối lượng giao nhận thực tế tại Khu vực bến quanh phà Dương Áo, tại xã Kiến Hưng, TP Hải Phòng.
A5: Căn cứ vào BB xác nhận khối lượng hàng hóa giao nhận từ ngày 10/11/2025 đến ngày 13/11/2025
A6: Hôm nay, ngày 18 tháng 11 năm 2025 chúng tôi gồm có:
A7: 1. Đại diện bên mua: | C7: CÔNG TY TNHH THƯƠNG MẠI VÀ SẢN XUẤT BẢO BÌNH
A8: Ông: | B8: Nguyễn Công Thứ | D8: Chức vụ: | E8: Phó Giám đốc | F8: Giám đốc
A9: Địa chỉ: | B9: Thôn Kim Sơn (tại nhà Vũ Thị Hệ), xã Kiến Hưng, Thành phố Hải Phòng
A10: MST: | B10: 0201961003
A11: 2. Đại diện bên bán: | C11: CÔNG TY CỔ PHẦN MINH AN BG 688
A12: Bà: | B12: Lê Thị Tiến | D12: Chức vụ: | E12: Giám đốc | F12: Giám đốc
A13: Địa chỉ: | B13: Lô số 38-OL4.1, đường Song Khê 4, Khu dân cư Song Khê, Phường Tiền Phong, Tỉnh Bắc Ninh
A14: MST: | B14: 2401023223
A16: Hai bên cùng nhau lập biên bản xác nhận giá trị khối lượng đất san lấp thực tế giao nhận từ ngày 10/11/2025 đến ngày 13/11/2025 như sau:
A18: STT | B18: Ngày tháng | C18: Tên vật tư | D18: Biển số tàu | E18: KL xe | F18: Số chuyến | G18: Khối lượng (m3) | H18: Đơn giá (VNĐ) | I18: Thành tiền (VNĐ)
A19: 1 | B19: ='BBGN Minh An'!B13 -> 45971 | C19: Đất san lấp | D19: ='BBGN Minh An'!C13 -> NB - 9798 | E19: ='BBGN Minh An'!E13 -> 770 | F19: 1 | G19: ='BBGN Minh An'!F13 -> 770 | H19: 208000 | I19: =G19*H19 -> 160160000
A20: 2 | B20: ='BBGN Minh An'!B14 -> 45973 | C20: Đất san lấp | D20: ='BBGN Minh An'!C14 -> NB - 9798 | F20: 1 | G20: ='BBGN Minh An'!F14 -> 803 | H20: 208000 | I20: =G20*H20 -> 167024000
A21: 3 | B21: ='BBGN Minh An'!B15 -> 45973 | C21: Đất san lấp | D21: ='BBGN Minh An'!C15 -> HD - 3969 | F21: 1 | G21: ='BBGN Minh An'!F15 -> 693 | H21: 208000 | I21: =G21*H21 -> 144144000
A22: 4 | B22: ='BBGN Minh An'!B16 -> 45974 | C22: Đất san lấp | D22: ='BBGN Minh An'!C16 -> NB - 6672 | F22: 1 | G22: ='BBGN Minh An'!F16 -> 554 | H22: 208000 | I22: =G22*H22 -> 115232000
B23: Tổng | F23: =SUM(F19:F22) -> 4 | G23: =SUM(G19:G22) -> 2820 | I23: =SUM(I19:I22) -> 586560000
A25: - Đơn giá trên đã bao gồm thuế VAT.
A26: - Hai bên đồng ý nghiệm thu giá trị hàng hóa trên.
A27: - Biên bản được lập thành 02 bản có giá trị pháp lý như nhau, mỗi bên giữ 01 bản làm cơ sở thanh toán.
B29: ĐẠI DIỆN BÊN MUA | G29: ĐẠI DIỆN BÊN BÁN
A59: CỘNG HÒA XÃ HỘI CHỦ NGHĨA VIỆT NAM
A60: Độc lập - Tự do - Hạnh phúc
A61: BIÊN BẢN XÁC NHẬN GIÁ TRỊ HÀNG HÓA Số: 02/2025/BBXN/XT-BB
A62: Căn cứ vào khối lượng giao nhận thực tế tại Khu vực bến quanh phà Dương Áo, tại xã Kiến Hưng, TP Hải Phòng.
A63: Căn cứ vào BB xác nhận khối lượng hàng hóa giao nhận từ ngày 14/11/2025
A64: Hôm nay, ngày 15 tháng 11 năm 2025 chúng tôi gồm có:
A65: 1. Đại diện bên mua: | C65: CÔNG TY TNHH THƯƠNG MẠI VÀ SẢN XUẤT BẢO BÌNH
A66: Ông: | B66: Nguyễn Công Thứ | D66: Chức vụ: | E66: Phó Giám đốc | F66: Giám đốc
A67: Địa chỉ: | B67: Thôn Kim Sơn (tại nhà Vũ Thị Hệ), xã Kiến Hưng, Thành phố Hải Phòng
A68: MST: | B68: 0201961003
A69: 2. Đại diện bên bán: | C69: CÔNG TY TNHH MTV THƯƠNG MẠI VÀ DỊCH VỤ XUÂN THẮNG
A70: Ông: | B70: Nguyễn Xuân Thắng | D70: Chức vụ: | E70: Giám đốc | F70: Giám đốc
A71: Địa chỉ: | B71: Xóm Phong Tĩnh, Xã Gia Phong, Tỉnh Ninh Bình, Việt Nam
A72: MST: | B72: 2700968093
A74: Hai bên cùng nhau lập biên bản xác nhận giá trị khối lượng đất san lấp thực tế giao nhận từ ngày 13/11/2025 như sau:
...

Sheet BBXN l2
A1: CỘNG HÒA XÃ HỘI CHỦ NGHĨA VIỆT NAM
A2: Độc lập - Tự do - Hạnh phúc
A3: BIÊN BẢN XÁC NHẬN GIÁ TRỊ HÀNG HÓA Số: 02/2025/BBXN/MA-BB
A4: Căn cứ vào khối lượng giao nhận thực tế tại Khu vực bến quanh phà Dương Áo, tại xã Kiến Hưng, TP Hải Phòng.
A5: Căn cứ vào BB xác nhận khối lượng hàng hóa giao nhận từ ngày 13/11/2025 đến ngày 17/11/2025
A6: Hôm nay, ngày 20 tháng 11 năm 2025 chúng tôi gồm có:
A7: 1. Đại diện bên mua: | C7: CÔNG TY TNHH THƯƠNG MẠI VÀ SẢN XUẤT BẢO BÌNH
A8: Ông: | B8: Nguyễn Công Thứ | D8: Chức vụ: | E8: Phó Giám đốc | F8: Giám đốc
A9: Địa chỉ: | B9: Thôn Kim Sơn (tại nhà Vũ Thị Hệ), xã Kiến Hưng, Thành phố Hải Phòng
A10: MST: | B10: 0201961003
A11: 2. Đại diện bên bán: | C11: CÔNG TY CỔ PHẦN MINH AN BG 688
A12: Bà: | B12: Lê Thị Tiến | D12: Chức vụ: | E12: Giám đốc | F12: Giám đốc
A13: Địa chỉ: | B13: Lô số 38-OL4.1, đường Song Khê 4, Khu dân cư Song Khê, Phường Tiền Phong, Tỉnh Bắc Ninh
A14: MST: | B14: 2401023223
A16: Hai bên cùng nhau lập biên bản xác nhận giá trị khối lượng đất san lấp thực tế giao nhận từ ngày 13/11/2025 đến ngày 17/11/2025 như sau:
A18: STT | B18: Ngày tháng | C18: Tên vật tư | D18: Biển số tàu | E18: KL xe | F18: Số chuyến | G18: Khối lượng (m3) | H18: Đơn giá (VNĐ) | I18: Thành tiền (VNĐ)
A19: 1 | B19: ='BBGN Minh An'!B17 -> 45974 | C19: Đất san lấp | D19: ='BBGN Minh An'!C17 -> HD - 2056 | E19: ='BBGN Minh An'!E13 -> 770 | F19: 1 | G19: ='BBGN Minh An'!E17 -> 623 | H19: 208000 | I19: =G19*H19 -> 129584000
A20: 2 | B20: ='BBGN Minh An'!B18 -> 45975 | C20: Đất san lấp | D20: ='BBGN Minh An'!C18 -> HD - 3969 | F20: 1 | G20: ='BBGN Minh An'!E18 -> 637.5 | H20: 208000 | I20: =G20*H20 -> 132600000
A21: 3 | B21: ='BBGN Minh An'!B19 -> 45975 | C21: Đất san lấp | D21: ='BBGN Minh An'!C19 -> NB - 6672 | F21: 1 | G21: ='BBGN Minh An'!E19 -> 568 | H21: 208000 | I21: =G21*H21 -> 118144000
A22: 4 | B22: ='BBGN Minh An'!B20 -> 45978 | C22: Đất san lấp | D22: ='BBGN Minh An'!C20 -> NB - 9798 | F22: 1 | G22: ='BBGN Minh An'!E20 -> 851.5 | H22: 208000 | I22: =G22*H22 -> 177112000
B23: Tổng | F23: =SUM(F19:F22) -> 4 | G23: =SUM(G19:G22) -> 2680 | I23: =SUM(I19:I22) -> 557440000
A25: - Đơn giá trên đã bao gồm thuế VAT.
A26: - Hai bên đồng ý nghiệm thu giá trị hàng hóa trên.
A27: - Biên bản được lập thành 02 bản có giá trị pháp lý như nhau, mỗi bên giữ 01 bản làm cơ sở thanh toán.
B29: ĐẠI DIỆN BÊN MUA | G29: ĐẠI DIỆN BÊN BÁN
A59: CỘNG HÒA XÃ HỘI CHỦ NGHĨA VIỆT NAM
A60: Độc lập - Tự do - Hạnh phúc
A61: BIÊN BẢN XÁC NHẬN GIÁ TRỊ HÀNG HÓA Số: 02/2025/BBXN/XT-BB
A62: Căn cứ vào khối lượng giao nhận thực tế tại Khu vực bến quanh phà Dương Áo, tại xã Kiến Hưng, TP Hải Phòng.
A63: Căn cứ vào BB xác nhận khối lượng hàng hóa giao nhận từ ngày 14/11/2025
A64: Hôm nay, ngày 15 tháng 11 năm 2025 chúng tôi gồm có:
A65: 1. Đại diện bên mua: | C65: CÔNG TY TNHH THƯƠNG MẠI VÀ SẢN XUẤT BẢO BÌNH
A66: Ông: | B66: Nguyễn Công Thứ | D66: Chức vụ: | E66: Phó Giám đốc | F66: Giám đốc
A67: Địa chỉ: | B67: Thôn Kim Sơn (tại nhà Vũ Thị Hệ), xã Kiến Hưng, Thành phố Hải Phòng
A68: MST: | B68: 0201961003
A69: 2. Đại diện bên bán: | C69: CÔNG TY TNHH MTV THƯƠNG MẠI VÀ DỊCH VỤ XUÂN THẮNG
A70: Ông: | B70: Nguyễn Xuân Thắng | D70: Chức vụ: | E70: Giám đốc | F70: Giám đốc
A71: Địa chỉ: | B71: Xóm Phong Tĩnh, Xã Gia Phong, Tỉnh Ninh Bình, Việt Nam
A72: MST: | B72: 2700968093
A74: Hai bên cùng nhau lập biên bản xác nhận giá trị khối lượng đất san lấp thực tế giao nhận từ ngày 13/11/2025 như sau:
...

Sheet BBXN l3
A1: CỘNG HÒA XÃ HỘI CHỦ NGHĨA VIỆT NAM
A2: Độc lập - Tự do - Hạnh phúc
A3: BIÊN BẢN XÁC NHẬN GIÁ TRỊ HÀNG HÓA Số: 03/2025/BBXN/MA-BB
A4: Căn cứ vào khối lượng giao nhận thực tế tại Khu vực bến quanh phà Dương Áo, tại xã Kiến Hưng, TP Hải Phòng.
A5: Căn cứ vào BB xác nhận khối lượng hàng hóa giao nhận từ ngày 17/11/2025 đến ngày 20/11/2025
A6: Hôm nay, ngày 22 tháng 11 năm 2025 chúng tôi gồm có:
A7: 1. Đại diện bên mua: | C7: CÔNG TY TNHH THƯƠNG MẠI VÀ SẢN XUẤT BẢO BÌNH
A8: Ông: | B8: Nguyễn Công Thứ | D8: Chức vụ: | E8: Phó Giám đốc | F8: Giám đốc
A9: Địa chỉ: | B9: Thôn Kim Sơn (tại nhà Vũ Thị Hệ), xã Kiến Hưng, Thành phố Hải Phòng
A10: MST: | B10: 0201961003
A11: 2. Đại diện bên bán: | C11: CÔNG TY CỔ PHẦN MINH AN BG 688
A12: Bà: | B12: Lê Thị Tiến | D12: Chức vụ: | E12: Giám đốc | F12: Giám đốc
A13: Địa chỉ: | B13: Lô số 38-OL4.1, đường Song Khê 4, Khu dân cư Song Khê, Phường Tiền Phong, Tỉnh Bắc Ninh
A14: MST: | B14: 2401023223
A16: Hai bên cùng nhau lập biên bản xác nhận giá trị khối lượng đất san lấp thực tế giao nhận từ ngày 17/11/2025 đến ngày 20/11/2025 như sau:
A18: STT | B18: Ngày tháng | C18: Tên vật tư | D18: Biển số tàu | E18: KL xe | F18: Số chuyến | G18: Khối lượng (m3) | H18: Đơn giá (VNĐ) | I18: Thành tiền (VNĐ)
A19: 1 | B19: ='BBGN Minh An'!B21 -> 45978 | C19: Đất san lấp | D19: ='BBGN Minh An'!C21 -> HD - 3969 | E19: ='BBGN Minh An'!E13 -> 770 | F19: 1 | G19: ='BBGN Minh An'!E21 -> 557.54 | H19: 208000 | I19: =G19*H19+125 -> 1.1596844e+08
A20: 2 | B20: ='BBGN Minh An'!B22 -> 45981 | C20: Đất san lấp | D20: ='BBGN Minh An'!C22 -> NB - 9798 | F20: 1 | G20: ='BBGN Minh An'!E22 -> 689 | H20: 208000 | I20: =G20*H20 -> 143312000
B21: Tổng | F21: =SUM(F19:F20) -> 2 | G21: =SUM(G19:G20) -> 1246.54 | I21: =SUM(I19:I20) -> 259280445
A23: - Đơn giá trên đã bao gồm thuế VAT.
A24: - Hai bên đồng ý nghiệm thu giá trị hàng hóa trên.
A25: - Biên bản được lập thành 02 bản có giá trị pháp lý như nhau, mỗi bên giữ 01 bản làm cơ sở thanh toán.
B27: ĐẠI DIỆN BÊN MUA | G27: ĐẠI DIỆN BÊN BÁN
A57: CỘNG HÒA XÃ HỘI CHỦ NGHĨA VIỆT NAM
A58: Độc lập - Tự do - Hạnh phúc
A59: BIÊN BẢN XÁC NHẬN GIÁ TRỊ HÀNG HÓA Số: 02/2025/BBXN/XT-BB
A60: Căn cứ vào khối lượng giao nhận thực tế tại Khu vực bến quanh phà Dương Áo, tại xã Kiến Hưng, TP Hải Phòng.
A61: Căn cứ vào BB xác nhận khối lượng hàng hóa giao nhận từ ngày 14/11/2025
A62: Hôm nay, ngày 15 tháng 11 năm 2025 chúng tôi gồm có:
A63: 1. Đại diện bên mua: | C63: CÔNG TY TNHH THƯƠNG MẠI VÀ SẢN XUẤT BẢO BÌNH
A64: Ông: | B64: Nguyễn Công Thứ | D64: Chức vụ: | E64: Phó Giám đốc | F64: Giám đốc
A65: Địa chỉ: | B65: Thôn Kim Sơn (tại nhà Vũ Thị Hệ), xã Kiến Hưng, Thành phố Hải Phòng
A66: MST: | B66: 0201961003
A67: 2. Đại diện bên bán: | C67: CÔNG TY TNHH MTV THƯƠNG MẠI VÀ DỊCH VỤ XUÂN THẮNG
A68: Ông: | B68: Nguyễn Xuân Thắng | D68: Chức vụ: | E68: Giám đốc | F68: Giám đốc
A69: Địa chỉ: | B69: Xóm Phong Tĩnh, Xã Gia Phong, Tỉnh Ninh Bình, Việt Nam
A70: MST: | B70: 2700968093
A72: Hai bên cùng nhau lập biên bản xác nhận giá trị khối lượng đất san lấp thực tế giao nhận từ ngày 13/11/2025 như sau:
A74: STT | B74: Ngày tháng | C74: Tên vật tư | D74: Biển số tàu | E74: KL xe | F74: Số chuyến | G74: Khối lượng (m3) | H74: Đơn giá (VNĐ) | I74: Thành tiền (VNĐ)
A75: 1 | B75: ='BBGN Minh An'!B77 -> 45975 | C75: Đất san lấp | D75: ='BBGN Minh An'!C77 -> NB-8912 | E75: ='BBGN Minh An'!E69 -> 0 | F75: 1 | G75: ='BBGN Minh An'!F78 -> 1099.5 | H75: 205000 | I75: =G75*H75 -> 225397500
...

Sheet BBXN l4
A1: CỘNG HÒA XÃ HỘI CHỦ NGHĨA VIỆT NAM
A2: Độc lập - Tự do - Hạnh phúc
A3: BIÊN BẢN XÁC NHẬN GIÁ TRỊ HÀNG HÓA Số: 04/2025/BBXN/MA-BB
A4: Căn cứ vào khối lượng giao nhận thực tế tại Khu vực bến quanh phà Dương Áo, tại xã Kiến Hưng, TP Hải Phòng.
A5: Căn cứ vào BB xác nhận khối lượng hàng hóa giao nhận từ ngày 30/11/2025 đến ngày 01/12/2025
A6: Hôm nay, ngày 02 tháng 12 năm 2025 chúng tôi gồm có:
A7: 1. Đại diện bên mua: | C7: CÔNG TY TNHH THƯƠNG MẠI VÀ SẢN XUẤT BẢO BÌNH
A8: Ông: | B8: Nguyễn Công Thứ | D8: Chức vụ: | E8: Phó Giám đốc | F8: Giám đốc
A9: Địa chỉ: | B9: Thôn Kim Sơn (tại nhà Vũ Thị Hệ), xã Kiến Hưng, Thành phố Hải Phòng
A10: MST: | B10: 0201961003
A11: 2. Đại diện bên bán: | C11: CÔNG TY CỔ PHẦN MINH AN BG 688
A12: Bà: | B12: Lê Thị Tiến | D12: Chức vụ: | E12: Giám đốc | F12: Giám đốc
A13: Địa chỉ: | B13: Lô số 38-OL4.1, đường Song Khê 4, Khu dân cư Song Khê, Phường Tiền Phong, Tỉnh Bắc Ninh
A14: MST: | B14: 2401023223
A16: Hai bên cùng nhau lập biên bản xác nhận giá trị khối lượng đất san lấp thực tế giao nhận từ ngày 30/11/2025 đến ngày 01/12/2025 như sau:
A18: STT | B18: Ngày tháng | C18: Tên vật tư | D18: Biển số tàu | E18: KL xe | F18: Số chuyến | G18: Khối lượng (m3) | H18: Đơn giá (VNĐ) | I18: Thành tiền (VNĐ)
A19: 1 | B19: ='BBGN Minh An'!B23 -> 45991 | C19: Đất san lấp | D19: ='BBGN Minh An'!C23 -> HD - 3969 | E19: ='BBGN Minh An'!E13 -> 770 | F19: 1 | G19: ='BBGN Minh An'!F23 -> 533 | H19: 208000 | I19: =G19*H19+140 -> 110864140
A20: 2 | B20: ='BBGN Minh An'!B24 -> 45992 | C20: Đất san lấp | D20: ='BBGN Minh An'!C24 -> NB - 9798 | F20: 1 | G20: ='BBGN Minh An'!F24 -> 867 | H20: 208000 | I20: =G20*H20 -> 180336000
B21: Tổng | F21: =SUM(F19:F20) -> 2 | G21: =SUM(G19:G20) -> 1400 | I21: =SUM(I19:I20) -> 291200140
A23: - Đơn giá trên đã bao gồm thuế VAT.
A24: - Hai bên đồng ý nghiệm thu giá trị hàng hóa trên.
A25: - Biên bản được lập thành 02 bản có giá trị pháp lý như nhau, mỗi bên giữ 01 bản làm cơ sở thanh toán.
B27: ĐẠI DIỆN BÊN MUA | G27: ĐẠI DIỆN BÊN BÁN
A57: CỘNG HÒA XÃ HỘI CHỦ NGHĨA VIỆT NAM
A58: Độc lập - Tự do - Hạnh phúc
A59: BIÊN BẢN XÁC NHẬN GIÁ TRỊ HÀNG HÓA Số: 02/2025/BBXN/XT-BB
A60: Căn cứ vào khối lượng giao nhận thực tế tại Khu vực bến quanh phà Dương Áo, tại xã Kiến Hưng, TP Hải Phòng.
A61: Căn cứ vào BB xác nhận khối lượng hàng hóa giao nhận từ ngày 14/11/2025
A62: Hôm nay, ngày 15 tháng 11 năm 2025 chúng tôi gồm có:
A63: 1. Đại diện bên mua: | C63: CÔNG TY TNHH THƯƠNG MẠI VÀ SẢN XUẤT BẢO BÌNH
A64: Ông: | B64: Nguyễn Công Thứ | D64: Chức vụ: | E64: Phó Giám đốc | F64: Giám đốc
A65: Địa chỉ: | B65: Thôn Kim Sơn (tại nhà Vũ Thị Hệ), xã Kiến Hưng, Thành phố Hải Phòng
A66: MST: | B66: 0201961003
A67: 2. Đại diện bên bán: | C67: CÔNG TY TNHH MTV THƯƠNG MẠI VÀ DỊCH VỤ XUÂN THẮNG
A68: Ông: | B68: Nguyễn Xuân Thắng | D68: Chức vụ: | E68: Giám đốc | F68: Giám đốc
A69: Địa chỉ: | B69: Xóm Phong Tĩnh, Xã Gia Phong, Tỉnh Ninh Bình, Việt Nam
A70: MST: | B70: 2700968093
A72: Hai bên cùng nhau lập biên bản xác nhận giá trị khối lượng đất san lấp thực tế giao nhận từ ngày 13/11/2025 như sau:
A74: STT | B74: Ngày tháng | C74: Tên vật tư | D74: Biển số tàu | E74: KL xe | F74: Số chuyến | G74: Khối lượng (m3) | H74: Đơn giá (VNĐ) | I74: Thành tiền (VNĐ)
A75: 1 | B75: ='BBGN Minh An'!B77 -> 45975 | C75: Đất san lấp | D75: ='BBGN Minh An'!C77 -> NB-8912 | E75: ='BBGN Minh An'!E69 -> 0 | F75: 1 | G75: ='BBGN Minh An'!F78 -> 1099.5 | H75: 205000 | I75: =G75*H75 -> 225397500
...

Sheet BBXN l5
A1: CỘNG HÒA XÃ HỘI CHỦ NGHĨA VIỆT NAM
A2: Độc lập - Tự do - Hạnh phúc
A3: BIÊN BẢN XÁC NHẬN GIÁ TRỊ HÀNG HÓA Số: 05/2025/BBXN/MA-BB
A4: Căn cứ vào khối lượng giao nhận thực tế tại Khu vực bến quanh phà Dương Áo, tại xã Kiến Hưng, TP Hải Phòng.
A5: Căn cứ vào BB xác nhận khối lượng hàng hóa giao nhận từ ngày 04/12/2025 đến ngày 08/12/2025
A6: Hôm nay, ngày 08 tháng 12 năm 2025 chúng tôi gồm có:
A7: 1. Đại diện bên mua: | C7: CÔNG TY TNHH THƯƠNG MẠI VÀ SẢN XUẤT BẢO BÌNH
A8: Ông: | B8: Nguyễn Công Thứ | D8: Chức vụ: | E8: Phó Giám đốc | F8: Giám đốc
A9: Địa chỉ: | B9: Thôn Kim Sơn (tại nhà Vũ Thị Hệ), xã Kiến Hưng, Thành phố Hải Phòng
A10: MST: | B10: 0201961003
A11: 2. Đại diện bên bán: | C11: CÔNG TY CỔ PHẦN MINH AN BG 688
A12: Bà: | B12: Lê Thị Tiến | D12: Chức vụ: | E12: Giám đốc | F12: Giám đốc
A13: Địa chỉ: | B13: Lô số 38-OL4.1, đường Song Khê 4, Khu dân cư Song Khê, Phường Tiền Phong, Tỉnh Bắc Ninh
A14: MST: | B14: 2401023223
A16: Hai bên cùng nhau lập biên bản xác nhận giá trị khối lượng đất san lấp thực tế giao nhận từ ngày 04/12/2025 đến ngày 08/12/2025 như sau:
A18: STT | B18: Ngày tháng | C18: Tên vật tư | D18: Biển số tàu | E18: KL xe | F18: Số chuyến | G18: Khối lượng (m3) | H18: Đơn giá (VNĐ) | I18: Thành tiền (VNĐ)
A19: 1 | B19: ='BBGN Minh An'!B25 -> 45995 | C19: Đất san lấp | D19: ='BBGN Minh An'!C25 -> NB - 9798 | E19: ='BBGN Minh An'!E13 -> 770 | F19: 1 | G19: ='BBGN Minh An'!F25 -> 1091.19 | H19: 220000 | I19: =G19*H19 -> 240061800
A20: 2 | B20: ='BBGN Minh An'!B26 -> 45997 | C20: Đất san lấp | D20: ='BBGN Minh An'!C26 -> NB - 6672 | F20: 1 | G20: ='BBGN Minh An'!F26 -> 654 | H20: 220000 | I20: =G20*H20 -> 143880000
A21: 3 | B21: ='BBGN Minh An'!B27 -> 45997 | C21: Đất san lấp | D21: ='BBGN Minh An'!C27 -> HD - 3969 | F21: 1 | G21: ='BBGN Minh An'!F27 -> 568 | H21: 220000 | I21: =G21*H21 -> 124960000
A22: 4 | B22: ='BBGN Minh An'!B28 -> 45998 | C22: Đất san lấp | D22: ='BBGN Minh An'!C28 -> HD - 2056 | F22: 1 | G22: ='BBGN Minh An'!F28 -> 629 | H22: 220000 | I22: =G22*H22 -> 138380000
A23: 5 | B23: ='BBGN Minh An'!B29 -> 45998 | C23: Đất san lấp | D23: ='BBGN Minh An'!C29 -> NB - 9798 | F23: 1 | G23: ='BBGN Minh An'!F29 -> 986 | H23: 220000 | I23: =G23*H23 -> 216920000
A24: 6 | B24: ='BBGN Minh An'!B30 -> 45999 | C24: Đất san lấp | D24: ='BBGN Minh An'!C30 -> NB - 6672 | F24: 1 | G24: ='BBGN Minh An'!F30 -> 546 | H24: 220000 | I24: =G24*H24 -> 120120000
A25: 7 | B25: ='BBGN Minh An'!B31 -> 45999 | C25: Đất san lấp | D25: ='BBGN Minh An'!C31 -> HD - 3969 | F25: 1 | G25: ='BBGN Minh An'!F31 -> 545.81 | H25: 220000 | I25: =G25*H25 -> 1.200782e+08
B26: Tổng | F26: =SUM(F19:F25) -> 7 | G26: =SUM(G19:G25) -> 5020 | I26: =SUM(I19:I25) -> 1104400000
A28: - Đơn giá trên đã bao gồm thuế VAT.
A29: - Hai bên đồng ý nghiệm thu giá trị hàng hóa trên.
A30: - Biên bản được lập thành 02 bản có giá trị pháp lý như nhau, mỗi bên giữ 01 bản làm cơ sở thanh toán.
B32: ĐẠI DIỆN BÊN MUA | G32: ĐẠI DIỆN BÊN BÁN
A62: CỘNG HÒA XÃ HỘI CHỦ NGHĨA VIỆT NAM
A63: Độc lập - Tự do - Hạnh phúc
A64: BIÊN BẢN XÁC NHẬN GIÁ TRỊ HÀNG HÓA Số: 02/2025/BBXN/XT-BB
A65: Căn cứ vào khối lượng giao nhận thực tế tại Khu vực bến quanh phà Dương Áo, tại xã Kiến Hưng, TP Hải Phòng.
A66: Căn cứ vào BB xác nhận khối lượng hàng hóa giao nhận từ ngày 14/11/2025
A67: Hôm nay, ngày 15 tháng 11 năm 2025 chúng tôi gồm có:
A68: 1. Đại diện bên mua: | C68: CÔNG TY TNHH THƯƠNG MẠI VÀ SẢN XUẤT BẢO BÌNH
A69: Ông: | B69: Nguyễn Công Thứ | D69: Chức vụ: | E69: Phó Giám đốc | F69: Giám đốc
A70: Địa chỉ: | B70: Thôn Kim Sơn (tại nhà Vũ Thị Hệ), xã Kiến Hưng, Thành phố Hải Phòng
A71: MST: | B71: 0201961003
A72: 2. Đại diện bên bán: | C72: CÔNG TY TNHH MTV THƯƠNG MẠI VÀ DỊCH VỤ XUÂN THẮNG
A73: Ông: | B73: Nguyễn Xuân Thắng | D73: Chức vụ: | E73: Giám đốc | F73: Giám đốc
...

Sheet BBXN l6
A1: CỘNG HÒA XÃ HỘI CHỦ NGHĨA VIỆT NAM
A2: Độc lập - Tự do - Hạnh phúc
A3: BIÊN BẢN XÁC NHẬN GIÁ TRỊ HÀNG HÓA Số: 06/2025/BBXN/MA-BB
A4: Căn cứ vào khối lượng giao nhận thực tế tại Khu vực bến quanh phà Dương Áo, tại xã Kiến Hưng, TP Hải Phòng.
A5: Căn cứ vào BB xác nhận khối lượng hàng hóa giao nhận từ ngày 21/12/2025
A6: Hôm nay, ngày 22 tháng 12 năm 2025 chúng tôi gồm có:
A7: 1. Đại diện bên mua: | C7: CÔNG TY TNHH THƯƠNG MẠI VÀ SẢN XUẤT BẢO BÌNH
A8: Ông: | B8: Nguyễn Công Thứ | D8: Chức vụ: | E8: Phó Giám đốc | F8: Giám đốc
A9: Địa chỉ: | B9: Thôn Kim Sơn (tại nhà Vũ Thị Hệ), xã Kiến Hưng, Thành phố Hải Phòng
A10: MST: | B10: 0201961003
A11: 2. Đại diện bên bán: | C11: CÔNG TY CỔ PHẦN MINH AN BG 688
A12: Bà: | B12: Lê Thị Tiến | D12: Chức vụ: | E12: Giám đốc | F12: Giám đốc
A13: Địa chỉ: | B13: Lô số 38-OL4.1, đường Song Khê 4, Khu dân cư Song Khê, Phường Tiền Phong, Tỉnh Bắc Ninh
A14: MST: | B14: 2401023223
A16: Hai bên cùng nhau lập biên bản xác nhận giá trị khối lượng đất san lấp thực tế giao nhận từ ngày 21/12/2025 như sau:
A18: STT | B18: Ngày tháng | C18: Tên vật tư | D18: Biển số tàu | E18: KL xe | F18: Số chuyến | G18: Khối lượng (m3) | H18: Đơn giá (VNĐ) | I18: Thành tiền (VNĐ)
A19: 1 | B19: ='BBGN Minh An'!B32 -> 46012 | C19: Đất san lấp | D19: ='BBGN Minh An'!C32 -> NB - 9798 | E19: ='BBGN Minh An'!E13 -> 770 | F19: 1 | G19: ='BBGN Minh An'!F32 -> 896 | H19: 220000 | I19: =G19*H19 -> 197120000
A20: 2 | B20: ='BBGN Minh An'!B33 -> 46012 | C20: Đất san lấp | D20: ='BBGN Minh An'!C33 -> NB - 6672 | F20: 1 | G20: ='BBGN Minh An'!F33 -> 529 | H20: 220000 | I20: =G20*H20 -> 116380000
B21: Tổng | F21: =SUM(F19:F20) -> 2 | G21: =SUM(G19:G20) -> 1425 | I21: =SUM(I19:I20) -> 313500000
A23: - Đơn giá trên đã bao gồm thuế VAT.
A24: - Hai bên đồng ý nghiệm thu giá trị hàng hóa trên.
A25: - Biên bản được lập thành 02 bản có giá trị pháp lý như nhau, mỗi bên giữ 01 bản làm cơ sở thanh toán.
B27: ĐẠI DIỆN BÊN MUA | G27: ĐẠI DIỆN BÊN BÁN
A57: CỘNG HÒA XÃ HỘI CHỦ NGHĨA VIỆT NAM
A58: Độc lập - Tự do - Hạnh phúc
A59: BIÊN BẢN XÁC NHẬN GIÁ TRỊ HÀNG HÓA Số: 02/2025/BBXN/XT-BB
A60: Căn cứ vào khối lượng giao nhận thực tế tại Khu vực bến quanh phà Dương Áo, tại xã Kiến Hưng, TP Hải Phòng.
A61: Căn cứ vào BB xác nhận khối lượng hàng hóa giao nhận từ ngày 14/11/2025
A62: Hôm nay, ngày 15 tháng 11 năm 2025 chúng tôi gồm có:
A63: 1. Đại diện bên mua: | C63: CÔNG TY TNHH THƯƠNG MẠI VÀ SẢN XUẤT BẢO BÌNH
A64: Ông: | B64: Nguyễn Công Thứ | D64: Chức vụ: | E64: Phó Giám đốc | F64: Giám đốc
A65: Địa chỉ: | B65: Thôn Kim Sơn (tại nhà Vũ Thị Hệ), xã Kiến Hưng, Thành phố Hải Phòng
A66: MST: | B66: 0201961003
A67: 2. Đại diện bên bán: | C67: CÔNG TY TNHH MTV THƯƠNG MẠI VÀ DỊCH VỤ XUÂN THẮNG
A68: Ông: | B68: Nguyễn Xuân Thắng | D68: Chức vụ: | E68: Giám đốc | F68: Giám đốc
A69: Địa chỉ: | B69: Xóm Phong Tĩnh, Xã Gia Phong, Tỉnh Ninh Bình, Việt Nam
A70: MST: | B70: 2700968093
A72: Hai bên cùng nhau lập biên bản xác nhận giá trị khối lượng đất san lấp thực tế giao nhận từ ngày 13/11/2025 như sau:
A74: STT | B74: Ngày tháng | C74: Tên vật tư | D74: Biển số tàu | E74: KL xe | F74: Số chuyến | G74: Khối lượng (m3) | H74: Đơn giá (VNĐ) | I74: Thành tiền (VNĐ)
A75: 1 | B75: ='BBGN Minh An'!B77 -> 45975 | C75: Đất san lấp | D75: ='BBGN Minh An'!C77 -> NB-8912 | E75: ='BBGN Minh An'!E69 -> 0 | F75: 1 | G75: ='BBGN Minh An'!F78 -> 1099.5 | H75: 205000 | I75: =G75*H75 -> 225397500
...
