Workbook
Name Table1: Sheet1!$B$52:$C$62
Name Table2: Sheet1!$E$52:$F$62
Name Table4: Sheet1!$K$52:$L$62
Name Table5: Sheet1!$N$52:$O$62

Sheet foxz

Sheet SGV

Sheet Nội suy TT12-2021
B1: 10 | C1: 20 | D1: 50 | E1: 100 | F1: 200 | G1: =ROUND('THKP '!$F$7/1000000000,3) -> 2.692 | H1: DD | M1: CN | R1: GT | W1: PTNT | AB1: HTKT
A2: Chi phí quản lý dự án | B2: =IF($B$27="DD",H2,IF($B$27="CN",M2,IF($B$27="GT",R2,IF($B$27="TL",W2,AB2)))) -> 3.446 | C2: =IF($B$27="DD",I2,IF($B$27="CN",N2,IF($B$27="GT",S2,IF($B$27="TL",X2,AC2)))) -> 2.923 | D2: =IF($B$27="DD",J2,IF($B$27="CN",O2,IF($B$27="GT",T2,IF($B$27="TL",Y2,AD2)))) -> 2.61 | E2: =IF($B$27="DD",K2,IF($B$27="CN",P2,IF($B$27="GT",U2,IF($B$27="TL",Z2,AE2)))) -> 2.017 | F2: =IF($B$27="DD",L2,IF($B$27="CN",Q2,IF($B$27="GT",V2,IF($B$27="TL",AA2,AF2)))) -> 1.886 | G2: =ROUND(IF(G1<=B1,B2,IF(G1<=C1,B2-(B2-C2)*(G1-B1)/(C1-B1),IF(G1<=D1,C2-(C2-D2)*(G1-C1)/(D1-C1),D2-(D2-E2)*(G1-D1)/(E1-D1)))),3) -> 3.446 | H2: 3.446 | I2: 2.923 | J2: 2.61 | K2: 2.017 | L2: 1.886 | M2: 3.557 | N2: 3.018 | O2: 2.694 | P2: 2.082 | Q2: 1.947 | R2: 3.024 | S2: 2.566 | T2: 2.292 | U2: 1.771 | V2: 1.655 | W2: 3.263 | X2: 2.769 | Y2: 2.473 | Z2: 1.91 | AA2: 1.786 | AB2: 2.901 | AC2: 2.461 | AD2: 2.198 | AE2: 1.593 | AF2: 1.56
A4: Chi phí lập báo cáo nghiên cứu khả thi | B4: 15 | C4: 20 | D4: 50 | E4: 100 | F4: 200 | G4: =ROUND('THKP '!$F$7/1000000000,3) -> 2.692
B5: =IF($B$27="DD",H5,IF($B$27="CN",M5,IF($B$27="GT",R5,IF($B$27="TL",W5,AB5)))) -> 1.114 | C5: =IF($B$27="DD",I5,IF($B$27="CN",N5,IF($B$27="GT",S5,IF($B$27="TL",X5,AC5)))) -> 0.914 | D5: =IF($B$27="DD",J5,IF($B$27="CN",O5,IF($B$27="GT",T5,IF($B$27="TL",Y5,AD5)))) -> 0.751 | E5: =IF($B$27="DD",K5,IF($B$27="CN",P5,IF($B$27="GT",U5,IF($B$27="TL",Z5,AE5)))) -> 0.534 | F5: =IF($B$27="DD",L5,IF($B$27="CN",Q5,IF($B$27="GT",V5,IF($B$27="TL",AA5,AF5)))) -> 0.402 | G5: =ROUND(IF(G4<=B4,B5,IF(G4<=C4,B5-(B5-C5)*(G4-B4)/(C4-B4),IF(G4<=D4,C5-(C5-D5)*(G4-C4)/(D4-C4),D5-(D5-E5)*(G4-D4)/(E4-D4)))),3) -> 1.114 | H5: 1.114 | I5: 0.914 | J5: 0.751 | K5: 0.534 | L5: 0.402 | M5: 1.261 | N5: 1.112 | O5: 0.882 | P5: 0.654 | Q5: 0.515 | R5: 0.689 | S5: 0.628 | T5: 0.501 | U5: 0.393 | V5: 0.271 | W5: 0.943 | X5: 0.858 | Y5: 0.685 | Z5: 0.48 | AA5: 0.361 | AB5: 0.719 | AC5: 0.654 | AD5: 0.524 | AE5: 0.407 | AF5: 0.28
B6: 1 | C6: 3 | D6: 7 | E6: 15 | F6: 20 | G6: =ROUND('THKP '!$F$7/1000000000,3) -> 2.692
A7: Chi phí lập báo cáo kinh tế kỹ thuật | B7: =IF($B$27="DD",H7,IF($B$27="CN",M7,IF($B$27="GT",R7,IF($B$27="TL",W7,AB7)))) -> 6.5 | C7: =IF($B$27="DD",I7,IF($B$27="CN",N7,IF($B$27="GT",S7,IF($B$27="TL",X7,AC7)))) -> 4.7 | D7: =IF($B$27="DD",J7,IF($B$27="CN",O7,IF($B$27="GT",T7,IF($B$27="TL",Y7,AD7)))) -> 4.2 | E7: =IF($B$27="DD",K7,IF($B$27="CN",P7,IF($B$27="GT",U7,IF($B$27="TL",Z7,AE7)))) -> 3.6 | F7: =IF($B$27="DD",L7,IF($B$27="CN",Q7,IF($B$27="GT",V7,IF($B$27="TL",AA7,AF7)))) -> 2.9 | G7: =ROUND(IF(G6<=B6,B7,IF(G6<=C6,B7-(B7-C7)*(G6-B6)/(C6-B6),IF(G6<=D6,C7-(C7-D7)*(G6-C6)/(D6-C6),D7-(D7-E7)*(G6-D6)/(E6-D6)))),3) -> 4.977 | H7: 6.5 | I7: 4.7 | J7: 4.2 | K7: 3.6 | L7: 2.9 | M7: 6.7 | N7: 4.8 | O7: 4.3 | P7: 3.8 | Q7: 3.1 | R7: 5.4 | S7: 3.6 | T7: 2.7 | U7: 2.5 | V7: 1.8 | W7: 6.2 | X7: 4.4 | Y7: 3.9 | Z7: 3.6 | AA7: 3.1 | AB7: 5.8 | AC7: 4.2 | AD7: 3.4 | AE7: 3
B9: 10 | C9: 20 | D9: 50 | E9: 100 | F9: 200 | G9: =ROUND('THKP '!$F$7/1000000000,3) -> 2.692
A10: Chi phí thẩm tra bản vẽ thi công | B10: =IF($B$27="DD",H10,IF($B$27="CN",M10,IF($B$27="GT",R10,IF($B$27="TL",W10,AB10)))) -> 0.258 | C10: =IF($B$27="DD",I10,IF($B$27="CN",N10,IF($B$27="GT",S10,IF($B$27="TL",X10,AC10)))) -> 0.223 | D10: =IF($B$27="DD",J10,IF($B$27="CN",O10,IF($B$27="GT",T10,IF($B$27="TL",Y10,AD10)))) -> 0.172 | E10: =IF($B$27="DD",K10,IF($B$27="CN",P10,IF($B$27="GT",U10,IF($B$27="TL",Z10,AE10)))) -> 0.143 | F10: =IF($B$27="DD",L10,IF($B$27="CN",Q10,IF($B$27="GT",V10,IF($B$27="TL",AA10,AF10)))) -> 0.108 | G10: =ROUND(IF(G9<=B9,B10,IF(G9<=C9,B10-(B10-C10)*(G9-B9)/(C9-B9),IF(G9<=D9,C10-(C10-D10)*(G9-C9)/(D9-C9),D10-(D10-E10)*(G9-D9)/(E9-D9)))),3) -> 0.258 | H10: 0.258 | I10: 0.223 | J10: 0.172 | K10: 0.143 | L10: 0.108 | M10: 0.29 | N10: 0.252 | O10: 0.192 | P10: 0.146 | Q10: 0.113 | R10: 0.17 | S10: 0.147 | T10: 0.113 | U10: 0.084 | V10: 0.073 | W10: 0.189 | X10: 0.163 | Y10: 0.125 | Z10: 0.093 | AA10: 0.073 | AB10: 0.197 | AC10: 0.172 | AD10: 0.133 | AE10: 0.099 | AF10: 0.076
B12: 10 | C12: 20 | D12: 50 | E12: 100 | F12: 200 | G12: =ROUND('THKP '!$F$7/1000000000,3) -> 2.692
A13: Chi phí thẩm tra dự toán công trình | B13: =IF($B$27="DD",H13,IF($B$27="CN",M13,IF($B$27="GT",R13,IF($B$27="TL",W13,AB13)))) -> 0.25 | C13: =IF($B$27="DD",I13,IF($B$27="CN",N13,IF($B$27="GT",S13,IF($B$27="TL",X13,AC13)))) -> 0.219 | D13: =IF($B$27="DD",J13,IF($B$27="CN",O13,IF($B$27="GT",T13,IF($B$27="TL",Y13,AD13)))) -> 0.166 | E13: =IF($B$27="DD",K13,IF($B$27="CN",P13,IF($B$27="GT",U13,IF($B$27="TL",Z13,AE13)))) -> 0.14 | F13: =IF($B$27="DD",L13,IF($B$27="CN",Q13,IF($B$27="GT",V13,IF($B$27="TL",AA13,AF13)))) -> 0.105 | G13: =ROUND(IF(G12<=B12,B13,IF(G12<=C12,B13-(B13-C13)*(G12-B12)/(C12-B12),IF(G12<=D12,C13-(C13-D13)*(G12-C12)/(D12-C12),D13-(D13-E13)*(G12-D12)/(E12-D12)))),3) -> 0.25 | H13: 0.25 | I13: 0.219 | J13: 0.166 | K13: 0.14 | L13: 0.105 | M13: 0.282 | N13: 0.244 | O13: 0.185 | P13: 0.141 | Q13: 0.108 | R13: 0.166 | S13: 0.142 | T13: 0.106 | U13: 0.082 | V13: 0.069 | W13: 0.183 | X13: 0.158 | Y13: 0.119 | Z13: 0.092 | AA13: 0.07 | AB13: 0.191 | AC13: 0.166 | AD13: 0.128 | AE13: 0.095 | AF13: 0.072
B15: 10 | C15: 20 | D15: 50 | E15: 100 | F15: 200 | G15: =ROUND('THKP '!$F$7/1000000000,3) -> 2.692
A16: Chi phí lựa chọn nhà thầu thi công | B16: =IF($B$27="DD",H16,IF($B$27="CN",M16,IF($B$27="GT",R16,IF($B$27="TL",W16,AB16)))) -> 0.432 | C16: =IF($B$27="DD",I16,IF($B$27="CN",N16,IF($B$27="GT",S16,IF($B$27="TL",X16,AC16)))) -> 0.346 | D16: =IF($B$27="DD",J16,IF($B$27="CN",O16,IF($B$27="GT",T16,IF($B$27="TL",Y16,AD16)))) -> 0.195 | E16: =IF($B$27="DD",K16,IF($B$27="CN",P16,IF($B$27="GT",U16,IF($B$27="TL",Z16,AE16)))) -> 0.127 | F16: =IF($B$27="DD",L16,IF($B$27="CN",Q16,IF($B$27="GT",V16,IF($B$27="TL",AA16,AF16)))) -> 0.078 | G16: =ROUND(IF(G15<=B15,B16,IF(G15<=C15,B16-(B16-C16)*(G15-B15)/(C15-B15),IF(G15<=D15,C16-(C16-D16)*(G15-C15)/(D15-C15),D16-(D16-E16)*(G15-D15)/(E15-D15)))),3) -> 0.432 | H16: 0.432 | I16: 0.346 | J16: 0.195 | K16: 0.127 | L16: 0.078 | M16: 0.549 | N16: 0.379 | O16: 0.211 | P16: 0.144 | Q16: 0.096 | R16: 0.346 | S16: 0.237 | T16: 0.151 | U16: 0.09 | V16: 0.057 | W16: 0.361 | X16: 0.302 | Y16: 0.166 | Z16: 0.094 | AA16: 0.066 | AB16: 0.388 | AC16: 0.325 | AD16: 0.172 | AE16: 0.106 | AF16: 0.069
B18: 10 | C18: 20 | D18: 50 | E18: 100 | F18: 200 | G18: =ROUND('THKP '!$F$7/1000000000,3) -> 2.692
A19: Chi phí giám sát thi công xây dựng | B19: =IF($B$27="DD",H19,IF($B$27="CN",M19,IF($B$27="GT",R19,IF($B$27="TL",W19,AB19)))) -> 3.285 | C19: =IF($B$27="DD",I19,IF($B$27="CN",N19,IF($B$27="GT",S19,IF($B$27="TL",X19,AC19)))) -> 2.853 | D19: =IF($B$27="DD",J19,IF($B$27="CN",O19,IF($B$27="GT",T19,IF($B$27="TL",Y19,AD19)))) -> 2.435 | E19: =IF($B$27="DD",K19,IF($B$27="CN",P19,IF($B$27="GT",U19,IF($B$27="TL",Z19,AE19)))) -> 1.845 | F19: =IF($B$27="DD",L19,IF($B$27="CN",Q19,IF($B$27="GT",V19,IF($B$27="TL",AA19,AF19)))) -> 1.546 | G19: =ROUND(IF(G18<=B18,B19,IF(G18<=C18,B19-(B19-C19)*(G18-B18)/(C18-B18),IF(G18<=D18,C19-(C19-D19)*(G18-C18)/(D18-C18),D19-(D19-E19)*(G18-D18)/(E18-D18)))),3) -> 3.285 | H19: 3.285 | I19: 2.853 | J19: 2.435 | K19: 1.845 | L19: 1.546 | M19: 3.508 | N19: 3.137 | O19: 2.559 | P19: 2.074 | Q19: 1.604 | R19: 3.203 | S19: 2.7 | T19: 2.356 | U19: 1.714 | V19: 1.272 | W19: 2.598 | X19: 2.292 | Y19: 2.075 | Z19: 1.545 | AA19: 1.189 | AB19: 2.566 | AC19: 2.256 | AD19: 1.984 | AE19: 1.461 | AF19: 1.142
A21: TT 254/2025 | B21: 5 | C21: 10 | D21: 50 | E21: 100 | G21: ='THKP '!$K$26/1000000000 -> 3.366844 | K21: 15 | M21: 50 | N21: 100 | P21: ='THKP '!$F$7/1000000000 -> 2.6917957
A22: Chi phí kiểm toán độc lập | B22: 0.96 | C22: 0.645 | D22: 0.45 | E22: 0.345 | G22: =ROUND(IF(G21<=B21,B22,IF(G21<=C21,B22-(B22-C22)*(G21-B21)/(C21-B21),IF(G21<=D21,C22-(C22-D22)*(G21-C21)/(D21-C21),D22-(D22-E22)*(G21-D21)/(E21-D21)))),3) -> 0.96 | H22: Phí TT tk theo 210 | K22: 0.165 | M22: 0.11 | N22: 0.085 | P22: =ROUND(IF(P21<=K21,K22,IF(P21<=M21,K22-(K22-M22)*(P21-K21)/(M21-K21),IF(P21<=N21,M22-(M22-N22)*(P21-M21)/(N21-M21),N22-(N22-O22)*(P21-N21)/(O21-N21)))),3) -> 0.165
B24: 5 | C24: 10 | D24: 50 | E24: 100 | G24: ='THKP '!$K$26/1000000000 -> 3.366844 | K24: 15 | M24: 50 | N24: 100 | P24: ='THKP '!$F$7/1000000000 -> 2.6917957
A25: Chi phí thẩm tra, phê duyệt | B25: 0.57 | C25: 0.39 | D25: 0.285 | E25: 0.225 | G25: =ROUND(IF(G24<=B24,B25,IF(G24<=C24,B25-(B25-C25)*(G24-B24)/(C24-B24),IF(G24<=D24,C25-(C25-D25)*(G24-C24)/(D24-C24),D25-(D25-E25)*(G24-D24)/(E24-D24)))),3) -> 0.57 | H25: Phí TT dt theo 210 | K25: 0.16 | M25: 0.106 | N25: 0.083 | P25: =ROUND(IF(P24<=K24,K25,IF(P24<=M24,K25-(K25-M25)*(P24-K24)/(M24-K24),IF(P24<=N24,M25-(M25-N25)*(P24-M24)/(N24-M24),N25-(N25-O25)*(P24-N24)/(O24-N24)))),3) -> 0.16
A27: Loại công trình | B27: DD
A28: DD
A29: CN
A30: GT
A31: PTNT
A32: HTKT

Sheet THKP 
A1: BẢNG TỔNG HỢP DỰ TOÁN CHI PHÍ XÂY DỰNG
A2: CÔNG TRÌNH : CẢI TẠO, SỬA CHỮA MẦM NON KIẾN QUỐC
A3: HẠNG MỤC: CẢI TẠO, SỬA CHỮA KIẾN QUỐC
A4: Đơn vị: Đồng
A5: STT | B5: Khoản mục chi phí | C5: Định mức | D5: Hệ số | E5: Cách tính | F5: Giá trị trước thuế | G5: Thuế GTGT | I5: Giá trị sau thuế | J5: Ký hiệu
G6: VAT 8% | H6: Thành tiền
A7: I | B7: Chi phí xây dựng | E7: Gxd | F7: =SUM(F8:F8) -> 2691795678 | H7: =SUM(H8:H8) -> 2.1534365e+08 | I7: =ROUND(F7+H7,-3) -> 2907139000 | J7: Gxd
A8: 1 | B8: CẢI TẠO, SỬA CHỮA MẦM NON KIẾN QUỐC | E8: dự toán | F8: ='[1]TH chi phí XD'!$C$6 -> 2691795678 | G8: 0.08 | H8: =F8*G8 -> 2.1534365e+08 | I8: =F8+H8 -> 2.9071393e+09 | J8: Gxd1
A9: II | B9: Chi phí quản lý dự án (TT12/2021/TT-BXD) | C9: ='Nội suy TT12-2021'!G2/100 -> 0.03446 | E9: =C9*100&"% x Gxd" -> 3,446% x Gxd | F9: =C9*($F$7) -> 92759279 | G9: 0.08 | H9: =F9*G9 -> 7420742.3 | I9: =ROUND(F9+H9,-3) -> 100180000 | J9: Gqlda
A10: III | B10: Chi phí tư vấn đầu tư xây dựng | E10: Gtv1 : Gtv7 | F10: =SUM(F11:F17) -> 2.7348643e+08 | H10: =SUM(H11:H17) -> 21878915 | I10: =ROUND(SUM(I11:I17),-3) -> 295365000 | J10: Gtv
A11: =ROW()-10 -> 1 | B11: Chi phí lập báo cáo kinh tế - kỹ thuật (TT12/2021/TT-BXD) | C11: ='Nội suy TT12-2021'!G7/100 -> 0.04977 | D11: 1.15 | E11: =C11*100&"% xGxd x 1,15" -> 4,977% xGxd x 1,15 | F11: =D11*C11*($F$7) -> 1.5406627e+08 | G11: 0.08 | H11: =F11*G11 -> 12325302 | I11: =F11+H11 -> 1.6639157e+08 | J11: Gtv1
A12: =ROW()-10 -> 2 | B12: Chi phí lập HSMT & đánh giá HSDT thi công xây dựng (NĐ 214/2025/NĐ-CP) | C12: ='Nội suy TT12-2021'!G16/100 -> 0.00432 | E12: =C12*100&"% xGxd" -> 0,432% xGxd | F12: =C12*($F$7) -> 11628557 | G12: 0.08 | H12: =F12*G12 -> 930284.59 | I12: =F12+H12 -> 12558842 | J12: Gtv2
A13: =ROW()-10 -> 3 | B13: Chi phí thẩm định hồ sơ mời thầu (NĐ 214/2025/NĐ-CP) | C13: 0.001 | E13: =C13*100&"% xGxd" -> 0,1% xGxd | F13: =C13*($F$7) -> 2691795.7 | G13: 0.08 | H13: =F13*G13 -> 215343.65 | I13: =F13+H13 -> 2907139.3 | J13: Gtv3
A14: =ROW()-10 -> 4 | B14: Chi phí thẩm định kết quả LCNT (NĐ 214/2025/NĐ-CP) | C14: - | E14: Mức tối thiểu | F14: 3000000 | G14: 0.08 | H14: =F14*G14 -> 240000 | I14: =F14+H14 -> 3240000 | J14: Gtv4
A15: =ROW()-10 -> 5 | B15: Chi phí thẩm tra thiết kế xây dựng (TT12/2021/TT-BXD) | C15: ='Nội suy TT12-2021'!G10/100 -> 0.00258 | E15: =C15*100&"% x Gxd " -> 0,258% x Gxd | F15: =C15*($F$7) -> 6944832.8 | G15: 0.08 | H15: =F15*G15 -> 555586.63 | I15: =F15+H15 -> 7500419.5 | J15: Gtv5
A16: =ROW()-10 -> 6 | B16: Chi phí thẩm tra dự toán xây dựng (TT12/2021/TT-BXD) | C16: ='Nội suy TT12-2021'!G13/100 -> 0.0025 | E16: =C16*100&"% x Gxd " -> 0,25% x Gxd | F16: =C16*($F$7) -> 6729489.2 | G16: 0.08 | H16: =F16*G16 -> 538359.14 | I16: =F16+H16 -> 7267848.3 | J16: Gtv6
A17: =ROW()-10 -> 7 | B17: Chi phí giám sát thi công xây dựng (TT12/2021/TT-BXD) | C17: ='Nội suy TT12-2021'!G19/100 -> 0.03285 | E17: =C17*100&"% x Gxd" -> 3,285% x Gxd | F17: =F7*C17 -> 88425488 | G17: 0.08 | H17: =F17*G17 -> 7074039 | I17: =F17+H17 -> 95499527 | J17: Gtv7
A18: IV | B18: Chi phí khác | E18: Gk1 : Gk5 | F18: =SUM(F19:F22) -> 60866703 | H18: =SUM(H19:H22) -> 3293140.1 | I18: =ROUND(SUM(I19:I22),-3) -> 64160000 | J18: Gk
A19: =ROW()-17 -> 2 | B19: Chi phí thẩm định BCKTKT(TT 27/2023/TT-BTC) | C19: 0.00019 | E19: =C19*100&"% x Gxd" -> 0,019% x Gxd | F19: =C19*$F$7 -> 511441.18 | G19: - | H19: 0 | I19: =F19+H19 -> 511441.18 | J19: Gk1
A20: =ROW()-17 -> 3 | B20: Chi phí thẩm tra, phê duyệt quyết toán (NĐ 254/2025/NĐ-CP) | C20: ='Nội suy TT12-2021'!G25/100 -> 0.0057 | E20: =C20*100&"% x TMĐT trừ dp" -> 0,57% x TMĐT trừ dp | F20: =K26*C20 -> 19191011 | H20: =F20*G20 -> 0 | I20: =F20+H20 -> 19191011 | J20: Gk3
A21: =ROW()-17 -> 4 | B21: Chi phí kiểm toán (NĐ 254/2025/NĐ-CP) | C21: ='Nội suy TT12-2021'!G22/100 -> 0.0096 | E21: =C21*100&"% x TMĐT trừ dp " -> 0,96% x TMĐT trừ dp | F21: =K26*C21 -> 32321702 | G21: 0.08 | H21: =F21*G21 -> 2585736.2 | I21: =F21+H21 -> 34907439 | J21: Gk4
A22: =ROW()-17 -> 5 | B22: Chi phí nghiệm thu (TT 10/2021/TT-BXD) | C22: 0.1 | E22: 10%*Gtv7 | F22: =F17*10% -> 8842548.8 | G22: 0.08 | H22: =F22*G22 -> 707403.9 | I22: =F22+H22 -> 9549952.7 | J22: Gk5
A23: V | B23: Chi phí dự phòng | I23: =ROUND(SUM(I24),-3) -> 168342000 | J23: Gdp
A24: 1 | B24: Chi phí dự phòng cho khối lượng phát sinh | C24: 0.05 | E24: 5%*(Gxd+Gtb+Gqlda+Gtv+Gk) | I24: =(I7+I9+I10+I18)*C24 -> 168342200 | J24: Gdp
B25: TỔNG CỘNG | I25: =I7+I9+I10+I18+I23 -> 3535186000 | K25: =I7+I9+I10+I18 -> 3366844000
B26: TỔNG CỘNG LÀM TRÒN | I26: =ROUND(I25,-3) -> 3535186000 | J26: TMĐT | K26: 3366844000 | L26: TMĐT-DP
A27: =Sheet1!B1 -> (Bằng chữ : Ba tỷ, năm trăm ba mươi lăm triệu, một trăm tám mươi sáu ngàn đồng)
F28: Hải Phòng, ngày tháng năm 2026
B29: NGƯỜI LẬP DỰ TOÁN | F29: CÔNG TY CỔ PHẦN THIẾT KẾ KIẾN TRÚC HOÀNG PHÁT
B33: Ks. Vũ Thị Việt Trang
B34: CCHN số: QNI-00204994

Sheet Sheet1
A1: ='THKP '!I26 -> 3535186000 | B1: =CONCATENATE(C9,E9) -> (Bằng chữ : Ba tỷ, năm trăm ba mươi lăm triệu, một trăm tám mươi sáu ngàn đồng)
C3: trăm tỷ | E3: chục tỷ | G3: tỷ | J3: trăm triệu | L3: chục triệu | N3: triệu | Q3: trăm ngàn | S3: chục ngàn | U3: ngàn | X3: trăm | Z3: chục | AB3: đ.vị
A4: =ROUND(A1,0) -> 3535186000 | C4: =INT(A4/10^11) -> 0 | E4: =INT((A4-C4*10^11)/10^10) -> 0 | G4: =INT((A4-C4*10^11-E4*10^10)/10^9) -> 3 | J4: =INT((A4-C4*10^11-E4*10^10-G4*10^9)/10^8) -> 5 | L4: =INT((A4-C4*10^11-E4*10^10-G4*10^9-J4*10^8)/10^7) -> 3 | N4: =INT((A4-C4*10^11-E4*10^10-G4*10^9-J4*10^8-L4*10^7)/10^6) -> 5 | Q4: =INT((A4-C4*10^11-E4*10^10-G4*10^9-J4*10^8-L4*10^7-N4*10^6)/10^5) -> 1 | S4: =INT((A4-C4*10^11-E4*10^10-G4*10^9-J4*10^8-L4*10^7-N4*10^6-Q4*10^5)/10^4) -> 8 | U4: =INT((A4-C4*10^11-E4*10^10-G4*10^9-J4*10^8-L4*10^7-N4*10^6-Q4*10^5-S4*10^4)/10^3) -> 6 | X4: =INT((A4-C4*10^11-E4*10^10-G4*10^9-J4*10^8-L4*10^7-N4*10^6-Q4*10^5-S4*10^4-U4*10^3)/10^2) -> 0 | Z4: =INT((A4-C4*10^11-E4*10^10-G4*10^9-J4*10^8-L4*10^7-N4*10^6-Q4*10^5-S4*10^4-U4*10^3-X4*10^2)/10) -> 0 | AB4: =INT((A4-C4*10^11-E4*10^10-G4*10^9-J4*10^8-L4*10^7-N4*10^6-Q4*10^5-S4*10^4-U4*10^3-X4*10^2-Z4*10)/1) -> 0
C5: =IF(C4<>0,VLOOKUP(C4,Table1,2,0),"") | D5: =IF(C4<>0,"trăm ","") | E5: =IF(AND(C4,E4<>0),VLOOKUP(E4,Table5,2,0),IF(AND(C4=0,E4<>0),VLOOKUP(E4,Table5,2,0),"")) | F5: =IF(AND(C4<>0,E4=0,G4=0),"",IF(AND(E4=0,C4>0),"lẻ ",IF(E4=0,"",IF(E4=1,"","mươi ")))) | G5: =IF(AND(C4<>0,E4=0,G4=1),"một ",IF(AND(C4=0,E4=0,G4=1),"một ",IF(AND(E4=1,G4=1),"một ",IF(AND(C4<>0,E4=0,G4=5),"năm ",IF(AND(C4=0,E4=0,G4<>0),VLOOKUP(G4,Table1,2,0),IF(G4<>0,VLOOKUP(G4,Table4,2,0),"")))))) -> ba | H5: =IF(C4<>0,"tỷ",IF(E4<>0,"tỷ",IF(G4<>0,"tỷ",""))) -> tỷ | I5: =IF(AND(C4=0,E4=0,G4=0),"",IF(AND(O5="",V5=""),"",", ")) -> , | J5: =IF(AND(I5="",J4=0),"",IF(J4<>0,VLOOKUP(J4,Table1,2,0),IF(P5=", ",VLOOKUP(J4,Table2,2,0),""))) -> năm | K5: =IF(J4<>0,"trăm ",IF(J5="không ","trăm ","")) -> trăm | L5: =IF(AND(J4,L4<>0),VLOOKUP(L4,Table5,2,0),IF(AND(J4=0,L4<>0),VLOOKUP(L4,Table5,2,0),"")) -> ba | M5: =IF(AND(J4<>0,L4=0,N4=0),"",IF(AND(L4=0,J4>0),"lẻ ",IF(AND(I5=", ",J4=0,L4=0,N4<>0),"lẻ ",IF(L4=0,"",IF(L4=1,"","mươi "))))) -> mươi | N5: =IF(AND(J4<>0,L4=0,N4=1),"một ",IF(AND(J4=0,L4=0,N4=1),"một ",IF(AND(L4=1,N4=1),"một ",IF(AND(J4<>0,L4=0,N4=5),"năm ",IF(AND(J4=0,L4=0,N4<>0),VLOOKUP(N4,Table1,2,0),IF(N4<>0,VLOOKUP(N4,Table4,2,0),"")))))) -> lăm | O5: =IF(J4<>0,"triệu",IF(L4<>0,"triệu",IF(N4<>0,"triệu",""))) -> triệu | P5: =IF(AND(C4=0,E4=0,G4=0,J4=0,L4=0,N4=0),"",IF(AND(Q4=0,S4=0,U4=0,X4=0,Z4=0,AB4=0)," ",", ")) -> , | Q5: =IF(Q4<>0,VLOOKUP(Q4,Table2,2,0),IF(P5=", ",VLOOKUP(Q4,Table2,2,0),"")) -> một | R5: =IF(Q4<>0,"trăm ",IF(Q5="không ","trăm ","")) -> trăm | S5: =IF(AND(Q4,S4<>0),VLOOKUP(S4,Table5,2,0),IF(AND(Q4=0,S4<>0),VLOOKUP(S4,Table5,2,0),"")) -> tám | T5: =IF(AND(Q4<>0,S4=0,U4=0),"",IF(AND(S4=0,Q4>0),"lẻ ",IF(AND(P5=", ",Q4=0,S4=0,U4<>0),"lẻ ",IF(S4=0,"",IF(S4=1,"","mươi "))))) -> mươi | U5: =IF(AND(Q4<>0,S4=0,U4=1),"một ",IF(AND(Q4=0,S4=0,U4=1),"một ",IF(AND(S4=1,U4=1),"một ",IF(AND(Q4<>0,S4=0,U4=5),"năm ",IF(AND(Q4=0,S4=0,U4<>0),VLOOKUP(U4,Table1,2,0),IF(U4<>0,VLOOKUP(U4,Table4,2,0),"")))))) -> sáu | V5: =IF(AND(Q4=0,S4=0,U4=0),"",IF(AND(X4=0,Z4=0,AB4=0),"ngàn ",IF(Q4<>0,"ngàn",IF(S4<>0,"ngàn",IF(U4<>0,"ngàn",""))))) -> ngàn | W5: =IF(AND(X4=0,Z4=0,AB4=0),"",IF(V5="","",", ")) | X5: =IF(X4<>0,VLOOKUP(X4,Table2,2,0),IF(W5=", ",VLOOKUP(X4,Table2,2,0),"")) | Y5: =IF(X4<>0,"trăm ",IF(X5="không ","trăm ","")) | Z5: =IF(AND(X4,Z4<>0),VLOOKUP(Z4,Table5,2,0),IF(AND(X4=0,Z4<>0),VLOOKUP(Z4,Table5,2,0),"")) | AA5: =IF(AND(X4<>0,Z4=0,AB4=0),"",IF(AND(Z4=0,X4>0),"lẻ ",IF(AND(W5=", ",X4=0,Z4=0,AB4<>0),"lẻ ",IF(Z4=0,"",IF(Z4=1,"","mươi "))))) | AB5: =IF(AND(X4<>0,Z4=0,AB4=1),"một ",IF(AND(X4=0,Z4=0,AB4=1),"một ",IF(AND(Z4=1,AB4=1),"một ",IF(AND(X4<>0,Z4=0,AB4=5),"năm ",IF(AND(X4=0,Z4=0,AB4<>0),VLOOKUP(AB4,Table1,2,0),IF(AB4<>0,VLOOKUP(AB4,Table4,2,0),"")))))) | AC5: đồng)
C7: =CONCATENATE(C5,D5,E5,F5,G5,H5,I5,J5,K5,L5,M5,N5,O5,P5,Q5,R5,S5,T5,U5,V5,W5,X5,Y5,Z5,AA5,AB5,AC5) -> ba tỷ, năm trăm ba mươi lăm triệu, một trăm tám mươi sáu ngàn đồng)
C8: =LEFT(C7,1) -> b | E8: =UPPER(C8) -> B
C9: (Bằng chữ : | E9: =REPLACE(C7,1,1,E8) -> Ba tỷ, năm trăm ba mươi lăm triệu, một trăm tám mươi sáu ngàn đồng)
A13: 2.204247e+08 | B13: =CONCATENATE(C21,E21) -> (Bằng chữ : Hai trăm hai mươi triệu, bốn trăm hai mươi bốn ngàn, sáu trăm chín mươi bảy đồng)
C15: trăm tỷ | E15: chục tỷ | G15: tỷ | J15: trăm triệu | L15: chục triệu | N15: triệu | Q15: trăm ngàn | S15: chục ngàn | U15: ngàn | X15: trăm | Z15: chục | AB15: đ.vị
A16: =ROUND(A13,0) -> 220424697 | C16: =INT(A16/10^11) -> 0 | E16: =INT((A16-C16*10^11)/10^10) -> 0 | G16: =INT((A16-C16*10^11-E16*10^10)/10^9) -> 0 | J16: =INT((A16-C16*10^11-E16*10^10-G16*10^9)/10^8) -> 2 | L16: =INT((A16-C16*10^11-E16*10^10-G16*10^9-J16*10^8)/10^7) -> 2 | N16: =INT((A16-C16*10^11-E16*10^10-G16*10^9-J16*10^8-L16*10^7)/10^6) -> 0 | Q16: =INT((A16-C16*10^11-E16*10^10-G16*10^9-J16*10^8-L16*10^7-N16*10^6)/10^5) -> 4 | S16: =INT((A16-C16*10^11-E16*10^10-G16*10^9-J16*10^8-L16*10^7-N16*10^6-Q16*10^5)/10^4) -> 2 | U16: =INT((A16-C16*10^11-E16*10^10-G16*10^9-J16*10^8-L16*10^7-N16*10^6-Q16*10^5-S16*10^4)/10^3) -> 4 | X16: =INT((A16-C16*10^11-E16*10^10-G16*10^9-J16*10^8-L16*10^7-N16*10^6-Q16*10^5-S16*10^4-U16*10^3)/10^2) -> 6 | Z16: =INT((A16-C16*10^11-E16*10^10-G16*10^9-J16*10^8-L16*10^7-N16*10^6-Q16*10^5-S16*10^4-U16*10^3-X16*10^2)/10) -> 9 | AB16: =INT((A16-C16*10^11-E16*10^10-G16*10^9-J16*10^8-L16*10^7-N16*10^6-Q16*10^5-S16*10^4-U16*10^3-X16*10^2-Z16*10)/1) -> 7
C17: =IF(C16<>0,VLOOKUP(C16,Table1,2,0),"") | D17: =IF(C16<>0,"trăm ","") | E17: =IF(AND(C16,E16<>0),VLOOKUP(E16,Table5,2,0),IF(AND(C16=0,E16<>0),VLOOKUP(E16,Table5,2,0),"")) | F17: =IF(AND(C16<>0,E16=0,G16=0),"",IF(AND(E16=0,C16>0),"lẻ ",IF(E16=0,"",IF(E16=1,"","mươi ")))) | G17: =IF(AND(C16<>0,E16=0,G16=1),"một ",IF(AND(C16=0,E16=0,G16=1),"một ",IF(AND(E16=1,G16=1),"một ",IF(AND(C16<>0,E16=0,G16=5),"năm ",IF(AND(C16=0,E16=0,G16<>0),VLOOKUP(G16,Table1,2,0),IF(G16<>0,VLOOKUP(G16,Table4,2,0),"")))))) | H17: =IF(C16<>0,"tỷ",IF(E16<>0,"tỷ",IF(G16<>0,"tỷ",""))) | I17: =IF(AND(C16=0,E16=0,G16=0),"",IF(AND(O17="",V17=""),"",", ")) | J17: =IF(AND(I17="",J16=0),"",IF(J16<>0,VLOOKUP(J16,Table1,2,0),IF(P17=", ",VLOOKUP(J16,Table2,2,0),""))) -> hai | K17: =IF(J16<>0,"trăm ",IF(J17="không ","trăm ","")) -> trăm | L17: =IF(AND(J16,L16<>0),VLOOKUP(L16,Table5,2,0),IF(AND(J16=0,L16<>0),VLOOKUP(L16,Table5,2,0),"")) -> hai | M17: =IF(AND(J16<>0,L16=0,N16=0),"",IF(AND(L16=0,J16>0),"lẻ ",IF(AND(I17=", ",J16=0,L16=0,N16<>0),"lẻ ",IF(L16=0,"",IF(L16=1,"","mươi "))))) -> mươi | N17: =IF(AND(J16<>0,L16=0,N16=1),"một ",IF(AND(J16=0,L16=0,N16=1),"một ",IF(AND(L16=1,N16=1),"một ",IF(AND(J16<>0,L16=0,N16=5),"năm ",IF(AND(J16=0,L16=0,N16<>0),VLOOKUP(N16,Table1,2,0),IF(N16<>0,VLOOKUP(N16,Table4,2,0),"")))))) | O17: =IF(J16<>0,"triệu",IF(L16<>0,"triệu",IF(N16<>0,"triệu",""))) -> triệu | P17: =IF(AND(C16=0,E16=0,G16=0,J16=0,L16=0,N16=0),"",IF(AND(Q16=0,S16=0,U16=0,X16=0,Z16=0,AB16=0)," ",", ")) -> , | Q17: =IF(Q16<>0,VLOOKUP(Q16,Table2,2,0),IF(P17=", ",VLOOKUP(Q16,Table2,2,0),"")) -> bốn | R17: =IF(Q16<>0,"trăm ",IF(Q17="không ","trăm ","")) -> trăm | S17: =IF(AND(Q16,S16<>0),VLOOKUP(S16,Table5,2,0),IF(AND(Q16=0,S16<>0),VLOOKUP(S16,Table5,2,0),"")) -> hai | T17: =IF(AND(Q16<>0,S16=0,U16=0),"",IF(AND(S16=0,Q16>0),"lẻ ",IF(AND(P17=", ",Q16=0,S16=0,U16<>0),"lẻ ",IF(S16=0,"",IF(S16=1,"","mươi "))))) -> mươi | U17: =IF(AND(Q16<>0,S16=0,U16=1),"một ",IF(AND(Q16=0,S16=0,U16=1),"một ",IF(AND(S16=1,U16=1),"một ",IF(AND(Q16<>0,S16=0,U16=5),"năm ",IF(AND(Q16=0,S16=0,U16<>0),VLOOKUP(U16,Table1,2,0),IF(U16<>0,VLOOKUP(U16,Table4,2,0),"")))))) -> bốn | V17: =IF(AND(Q16=0,S16=0,U16=0),"",IF(AND(X16=0,Z16=0,AB16=0),"ngàn ",IF(Q16<>0,"ngàn",IF(S16<>0,"ngàn",IF(U16<>0,"ngàn",""))))) -> ngàn | W17: =IF(AND(X16=0,Z16=0,AB16=0),"",IF(V17="","",", ")) -> , | X17: =IF(X16<>0,VLOOKUP(X16,Table2,2,0),IF(W17=", ",VLOOKUP(X16,Table2,2,0),"")) -> sáu | Y17: =IF(X16<>0,"trăm ",IF(X17="không ","trăm ","")) -> trăm | Z17: =IF(AND(X16,Z16<>0),VLOOKUP(Z16,Table5,2,0),IF(AND(X16=0,Z16<>0),VLOOKUP(Z16,Table5,2,0),"")) -> chín | AA17: =IF(AND(X16<>0,Z16=0,AB16=0),"",IF(AND(Z16=0,X16>0),"lẻ ",IF(AND(W17=", ",X16=0,Z16=0,AB16<>0),"lẻ ",IF(Z16=0,"",IF(Z16=1,"","mươi "))))) -> mươi | AB17: =IF(AND(X16<>0,Z16=0,AB16=1),"một ",IF(AND(X16=0,Z16=0,AB16=1),"một ",IF(AND(Z16=1,AB16=1),"một ",IF(AND(X16<>0,Z16=0,AB16=5),"năm ",IF(AND(X16=0,Z16=0,AB16<>0),VLOOKUP(AB16,Table1,2,0),IF(AB16<>0,VLOOKUP(AB16,Table4,2,0),"")))))) -> bảy | AC17: đồng)
C19: =CONCATENATE(C17,D17,E17,F17,G17,H17,I17,J17,K17,L17,M17,N17,O17,P17,Q17,R17,S17,T17,U17,V17,W17,X17,Y17,Z17,AA17,AB17,AC17) -> hai trăm hai mươi triệu, bốn trăm hai mươi bốn ngàn, sáu trăm chín mươi bảy đồng)
C20: =LEFT(C19,1) -> h | E20: =UPPER(C20) -> H
C21: (Bằng chữ : | E21: =REPLACE(C19,1,1,E20) -> Hai trăm hai mươi triệu, bốn trăm hai mươi bốn ngàn, sáu trăm chín mươi bảy đồng)
A25: 0 | B25: =CONCATENATE(C33,E33) -> (Bằng chữ : Đồng)
C27: trăm tỷ | E27: chục tỷ | G27: tỷ | J27: trăm triệu | L27: chục triệu | N27: triệu | Q27: trăm ngàn | S27: chục ngàn | U27: ngàn | X27: trăm | Z27: chục | AB27: đ.vị
A28: =ROUND(A25,0) -> 0 | C28: =INT(A28/10^11) -> 0 | E28: =INT((A28-C28*10^11)/10^10) -> 0 | G28: =INT((A28-C28*10^11-E28*10^10)/10^9) -> 0 | J28: =INT((A28-C28*10^11-E28*10^10-G28*10^9)/10^8) -> 0 | L28: =INT((A28-C28*10^11-E28*10^10-G28*10^9-J28*10^8)/10^7) -> 0 | N28: =INT((A28-C28*10^11-E28*10^10-G28*10^9-J28*10^8-L28*10^7)/10^6) -> 0 | Q28: =INT((A28-C28*10^11-E28*10^10-G28*10^9-J28*10^8-L28*10^7-N28*10^6)/10^5) -> 0 | S28: =INT((A28-C28*10^11-E28*10^10-G28*10^9-J28*10^8-L28*10^7-N28*10^6-Q28*10^5)/10^4) -> 0 | U28: =INT((A28-C28*10^11-E28*10^10-G28*10^9-J28*10^8-L28*10^7-N28*10^6-Q28*10^5-S28*10^4)/10^3) -> 0 | X28: =INT((A28-C28*10^11-E28*10^10-G28*10^9-J28*10^8-L28*10^7-N28*10^6-Q28*10^5-S28*10^4-U28*10^3)/10^2) -> 0 | Z28: =INT((A28-C28*10^11-E28*10^10-G28*10^9-J28*10^8-L28*10^7-N28*10^6-Q28*10^5-S28*10^4-U28*10^3-X28*10^2)/10) -> 0 | AB28: =INT((A28-C28*10^11-E28*10^10-G28*10^9-J28*10^8-L28*10^7-N28*10^6-Q28*10^5-S28*10^4-U28*10^3-X28*10^2-Z28*10)/1) -> 0
C29: =IF(C28<>0,VLOOKUP(C28,Table1,2,0),"") | D29: =IF(C28<>0,"trăm ","") | E29: =IF(AND(C28,E28<>0),VLOOKUP(E28,Table5,2,0),IF(AND(C28=0,E28<>0),VLOOKUP(E28,Table5,2,0),"")) | F29: =IF(AND(C28<>0,E28=0,G28=0),"",IF(AND(E28=0,C28>0),"lẻ ",IF(E28=0,"",IF(E28=1,"","mươi ")))) | G29: =IF(AND(C28<>0,E28=0,G28=1),"một ",IF(AND(C28=0,E28=0,G28=1),"một ",IF(AND(E28=1,G28=1),"một ",IF(AND(C28<>0,E28=0,G28=5),"năm ",IF(AND(C28=0,E28=0,G28<>0),VLOOKUP(G28,Table1,2,0),IF(G28<>0,VLOOKUP(G28,Table4,2,0),"")))))) | H29: =IF(C28<>0,"tỷ",IF(E28<>0,"tỷ",IF(G28<>0,"tỷ",""))) | I29: =IF(AND(C28=0,E28=0,G28=0),"",IF(AND(O29="",V29=""),"",", ")) | J29: =IF(AND(I29="",J28=0),"",IF(J28<>0,VLOOKUP(J28,Table1,2,0),IF(P29=", ",VLOOKUP(J28,Table2,2,0),""))) | K29: =IF(J28<>0,"trăm ",IF(J29="không ","trăm ","")) | L29: =IF(AND(J28,L28<>0),VLOOKUP(L28,Table5,2,0),IF(AND(J28=0,L28<>0),VLOOKUP(L28,Table5,2,0),"")) | M29: =IF(AND(J28<>0,L28=0,N28=0),"",IF(AND(L28=0,J28>0),"lẻ ",IF(AND(I29=", ",J28=0,L28=0,N28<>0),"lẻ ",IF(L28=0,"",IF(L28=1,"","mươi "))))) | N29: =IF(AND(J28<>0,L28=0,N28=1),"một ",IF(AND(J28=0,L28=0,N28=1),"một ",IF(AND(L28=1,N28=1),"một ",IF(AND(J28<>0,L28=0,N28=5),"năm ",IF(AND(J28=0,L28=0,N28<>0),VLOOKUP(N28,Table1,2,0),IF(N28<>0,VLOOKUP(N28,Table4,2,0),"")))))) | O29: =IF(J28<>0,"triệu",IF(L28<>0,"triệu",IF(N28<>0,"triệu",""))) | P29: =IF(AND(C28=0,E28=0,G28=0,J28=0,L28=0,N28=0),"",IF(AND(Q28=0,S28=0,U28=0,X28=0,Z28=0,AB28=0)," ",", ")) | Q29: =IF(Q28<>0,VLOOKUP(Q28,Table2,2,0),IF(P29=", ",VLOOKUP(Q28,Table2,2,0),"")) | R29: =IF(Q28<>0,"trăm ",IF(Q29="không ","trăm ","")) | S29: =IF(AND(Q28,S28<>0),VLOOKUP(S28,Table5,2,0),IF(AND(Q28=0,S28<>0),VLOOKUP(S28,Table5,2,0),"")) | T29: =IF(AND(Q28<>0,S28=0,U28=0),"",IF(AND(S28=0,Q28>0),"lẻ ",IF(AND(P29=", ",Q28=0,S28=0,U28<>0),"lẻ ",IF(S28=0,"",IF(S28=1,"","mươi "))))) | U29: =IF(AND(Q28<>0,S28=0,U28=1),"một ",IF(AND(Q28=0,S28=0,U28=1),"một ",IF(AND(S28=1,U28=1),"một ",IF(AND(Q28<>0,S28=0,U28=5),"năm ",IF(AND(Q28=0,S28=0,U28<>0),VLOOKUP(U28,Table1,2,0),IF(U28<>0,VLOOKUP(U28,Table4,2,0),"")))))) | V29: =IF(AND(Q28=0,S28=0,U28=0),"",IF(AND(X28=0,Z28=0,AB28=0),"ngàn ",IF(Q28<>0,"ngàn",IF(S28<>0,"ngàn",IF(U28<>0,"ngàn",""))))) | W29: =IF(AND(X28=0,Z28=0,AB28=0),"",IF(V29="","",", ")) | X29: =IF(X28<>0,VLOOKUP(X28,Table2,2,0),IF(W29=", ",VLOOKUP(X28,Table2,2,0),"")) | Y29: =IF(X28<>0,"trăm ",IF(X29="không ","trăm ","")) | Z29: =IF(AND(X28,Z28<>0),VLOOKUP(Z28,Table5,2,0),IF(AND(X28=0,Z28<>0),VLOOKUP(Z28,Table5,2,0),"")) | AA29: =IF(AND(X28<>0,Z28=0,AB28=0),"",IF(AND(Z28=0,X28>0),"lẻ ",IF(AND(W29=", ",X28=0,Z28=0,AB28<>0),"lẻ ",IF(Z28=0,"",IF(Z28=1,"","mươi "))))) | AB29: =IF(AND(X28<>0,Z28=0,AB28=1),"một ",IF(AND(X28=0,Z28=0,AB28=1),"một ",IF(AND(Z28=1,AB28=1),"một ",IF(AND(X28<>0,Z28=0,AB28=5),"năm ",IF(AND(X28=0,Z28=0,AB28<>0),VLOOKUP(AB28,Table1,2,0),IF(AB28<>0,VLOOKUP(AB28,Table4,2,0),"")))))) | AC29: đồng)
C31: =CONCATENATE(C29,D29,E29,F29,G29,H29,I29,J29,K29,L29,M29,N29,O29,P29,Q29,R29,S29,T29,U29,V29,W29,X29,Y29,Z29,AA29,AB29,AC29) -> đồng)
C32: =LEFT(C31,1) -> đ | E32: =UPPER(C32) -> Đ
C33: (Bằng chữ : | E33: =REPLACE(C31,1,1,E32) -> Đồng)
B52: 0 | E52: 0 | F52: không | H52: 0 | I52: không | K52: 0 | N52: 0 | Q52: 0 | R52: không
B53: 1 | C53: một | E53: 1 | F53: một | H53: 1 | I53: mốt | K53: 1 | L53: mốt | N53: 1 | O53: mười | Q53: 1 | R53: mười
B54: 2 | C54: hai | E54: 2 | F54: hai | H54: 2 | I54: hai | K54: 2 | L54: hai | N54: 2 | O54: hai | Q54: 2 | R54: hai
B55: 3 | C55: ba | E55: 3 | F55: ba | H55: 3 | I55: ba | K55: 3 | L55: ba | N55: 3 | O55: ba | Q55: 3 | R55: ba
B56: 4 | C56: bốn | E56: 4 | F56: bốn | H56: 4 | I56: bốn | K56: 4 | L56: bốn | N56: 4 | O56: bốn | Q56: 4 | R56: bốn
B57: 5 | C57: năm | E57: 5 | F57: năm | H57: 5 | I57: lăm | K57: 5 | L57: lăm | N57: 5 | O57: năm | Q57: 5 | R57: năm
B58: 6 | C58: sáu | E58: 6 | F58: sáu | H58: 6 | I58: sáu | K58: 6 | L58: sáu | N58: 6 | O58: sáu | Q58: 6 | R58: sáu
B59: 7 | C59: bảy | E59: 7 | F59: bảy | H59: 7 | I59: bảy | K59: 7 | L59: bảy | N59: 7 | O59: bảy | Q59: 7 | R59: bảy
B60: 8 | C60: tám | E60: 8 | F60: tám | H60: 8 | I60: tám | K60: 8 | L60: tám | N60: 8 | O60: tám | Q60: 8 | R60: tám
B61: 9 | C61: chín | E61: 9 | F61: chín | H61: 9 | I61: chín | K61: 9 | L61: chín | N61: 9 | O61: chín | Q61: 9 | R61: chín
B62: 10 | C62: mười | E62: 10 | F62: mười | H62: 10 | I62: mười | K62: 10 | L62: mười
B63: Table1 | E63: Table2 | H63: Table3 | K63: Table4 | N63: Table5 | Q63: Table6
A65: Finish : | B65: =CONCATENATE(C67,D67,E67,F67,G67,H67,I67,J67,K67) -> TP. Hải Phòngngày 05 tháng 06 năm 2026
A67: Data : | C67: TP. Hải Phòng | D67: ngày | E67: =IF(F67<10,"0","") -> 0 | F67: =VALUE(B68) -> 5 | G67: tháng | H67: =IF(I67<10,"0","") -> 0 | I67: =VALUE(B69) -> 6 | J67: năm | K67: =VALUE(B70) -> 2026
A68: Date : | B68: =DAY(TODAY()) -> 5
A69: Month : | B69: =MONTH(TODAY()) -> 6
A70: Year : | B70: =YEAR(TODAY()) -> 2026

Sheet CPXD 
A1: BẢNG TỔNG HỢP CHI PHÍ XÂY DỰNG CÔNG TRÌNH
A2: ='THKP '!A2 -> CÔNG TRÌNH : CẢI TẠO, SỬA CHỮA MẦM NON KIẾN QUỐC
A3: =[2]THKP!A3 -> HẠNG MỤC: MÓNG + TẦNG 1
A4: Đơn vị: Đồng
A5: STT | B5: Hạng mục | C5: Cách tính | D5: Giá trị trước thuế | E5: Thuế GTGT | F5: Giá trị sau thuế | G5: Ký hiệu
A6: 1 | B6: Cải tạo nhà 3 tầng (Nhà A) | C6: Dự toán | D6: =D7 -> 2962767524 | E6: =E7 -> 2.9627675e+08 | F6: =F7 -> 3259044000 | G6: Gxd1.1
B7: Xây lắp | D7: 2962767524 | E7: =D7*10% -> 2.9627675e+08 | F7: =ROUND(D7+E7,-3) -> 3259044000
A8: TỔNG CỘNG (1+2+3+4) | D8: =D6 -> 2962767524 | E8: =E6 -> 2.9627675e+08 | F8: =F6 -> 3259044000 | G8: Gxd

Sheet CP Thiết bị
A1: BẢNG TỔNG HỢP CHI PHÍ THIẾT BỊ
A2: ='THKP '!A2 -> CÔNG TRÌNH : CẢI TẠO, SỬA CHỮA MẦM NON KIẾN QUỐC
A4: Đơn vị tính : đồng
A5: STT | B5: DIỄN GIẢI HÀNG HÓA | C5: XUẤT XỨ | D5: ĐƠN VỊ | E5: SỐ LƯỢNG | F5: ĐƠN GIÁ (VNĐ) | G5: THÀNH TIỀN (VNĐ) | H5: GHI CHÚ
A6: BÁO GIÁ MÁY ĐIỀU HÒA LG (HOẶC TƯƠNG ĐƯƠNG)
A7: 1 | B7: Điều hòa 12000 BTU 1 chiều | C7: Thái Lan | D7: bộ | F7: =8590000+1500000 -> 10090000 | G7: =E7*F7 -> 0 | H7: Giá đã bao gồm chi phí lắp đặt và vật tư phụ
A8: 2 | B8: Điều hòa 18000 BTU 1 chiều | C8: Thái Lan | D8: bộ | F8: =12930000+1500000 -> 14430000 | G8: =E8*F8 -> 0
B9: TỔNG CỘNG | G9: =SUM(G7:G8) -> 0
A10: ="Bằng chữ: "&[3]!vnd(G9)&" đồng chẵn./." -> #NAME?
E11: (Đơn giá trên chưa bao gồm thuế VAT)
G13: =G9/1.1 -> 0

Sheet CHMC
A1: BẢNG TỔNG CHI PHÍ HẠNG MỤC CHUNG
A2: ='THKP '!A2 -> CÔNG TRÌNH : CẢI TẠO, SỬA CHỮA MẦM NON KIẾN QUỐC
A3: ='THKP '!#REF! -> #REF!
A4: Đơn vị: Đồng
A5: STT | B5: Khoản mục chi phí | C5: Định mức | D5: Cách tính | E5: Giá trị trước thuế | F5: Thuế GTGT | G5: Giá trị sau thuế | H5: Ký hiệu
A6: 1 | B6: Chi phí xây dựng nhà tạm tại hiện trường để ở và điều hành thi công | C6: 0.01 | D6: =C6*100&"% x Gxd" -> 1% x Gxd | E6: =ROUND(C6*#REF!,0) -> #REF! | F6: =ROUND(E6*10%,0) -> #REF! | G6: =ROUND(E6+F6,0) -> #REF! | H6: CNT
A7: 2 | B7: Chi phí một số công tác không xác định được khối lượng từ thiết kế | C7: 0.025 | D7: =C7*100&"% x Gxd" -> 2,5% x Gxd | E7: =ROUND(C7*#REF!,0) -> #REF! | F7: =ROUND(E7*10%,0) -> #REF! | G7: =ROUND(E7+F7,0) -> #REF! | H7: CKKL
A8: 3 | B8: Các chi phí hạng mục chung còn lại | H8: CK
B9: TỔNG CỘNG | E9: =SUM(E6:E8) -> #REF! | F9: =SUM(F6:F8) -> #REF! | G9: =SUM(G6:G8) -> #REF! | H9: CHMC
