Workbook

Sheet BBGT
A1: CỘNG HÒA XÃ HỘI CHỦ NGHĨA VIỆT NAM
A2: Độc lập - Tự do -Hạnh phúc
A4: BIÊN BẢN XÁC NHẬN KHỐI LƯỢNG VÀ GIÁ TRỊ HÀNG HÓA
A5: Căn cứ vào hợp đồng số 103/2026/HĐNT/SPLUS-ĐS ký ngày 01 tháng 03 năm 2026 về việc thuê vận chuyển giữa CÔNG TY CỔ PHẦN KIẾN TRÚC VÀ ĐẦU TƯ XÂY DỰNG S - PLUS với CÔNG TY TNHH XÂY DỰNG ĐỊNH SƠN
A6: Hôm nay, ngày 24 tháng 03 năm 2026, tại trụ sở công ty TNHH Xây Dựng Định Sơn, chúng tôi gồm:
A7: I. BÊN THUÊ (BÊN A): CÔNG TY CỔ PHẦN KIẾN TRÚC VÀ ĐẦU TƯ XÂY DỰNG S - PLUS
A8: Địa chỉ: Số nhà 28 đường Bình Minh, Phường Chu Văn An, TP Hải Phòng, Việt Nam.
A9: Mã số thuế: 0801352797
A10: Đại diện: | B10: Ông Nguyễn Phước Sơn. | D10: Chức vụ: Giám đốc
A11: II. BÊN CHO THUÊ (BÊN B): CÔNG TY TNHH XÂY DỰNG ĐỊNH SƠN
A12: Địa chỉ: Thôn 1 (tại nhà ông Nguyễn Sĩ Định), Xã Nghi Dương, TP Hải Phòng, Việt Nam.
A13: Mã số thuế: 0202111150
A14: Đại diện: Ông Nguyễn Sĩ Sơn | D14: Chức vụ: Giám đốc
A15: Hai bên cùng nhau xác nhận khối lượng hàng hóa, dịch vụ bên B cung cấp cho Bên A như sau:
A16: STT | B16: Nội dung | C16: Đvt | D16: Số lượng | E16: Đơn giá | F16: Thành tiền
A17: 1 | B17: Vận chuyển cát san lấp từ bến Cống Thống – xác Kiến Hưng, thành phố Hải Phòng đến công trình khu nhà ở Ngọc Xuyên – Phường Đồ Sơn, thành phố Hải Phòng. Từ ngày 12/03/2026 đến ngày 24/03/2026 | C17: m3 | D17: 3198.87 | E17: 55000 | F17: =+D17*E17 -> 175937850
A18: Cộng | D18: =SUM(D17:D17) -> 3198.87 | F18: =SUM(F17:F17) -> 175937850
A19: Thuế GTGT 8% | F19: =F18*8% -> 14075028
A20: Tổng thanh toán | F20: =ROUND(F18+F19,0) -> 190012878
A21: Bằng chữ: | B21: Một trăm chín mươi triệu không trăm mười hai nghìn tám trăm bảy mươi tám đồng.
A22: Biên bản này là căn cứ để bên B xuất hóa đơn GTGT cho bên A và bên A thanh toán cho bên B.
A23: Biên bản được lập thành 04 bản có giá trị pháp lý như nhau, mỗi bên giữ 02 bản.
B24: ĐẠI DIỆN BÊN A | C24: ĐẠI DIỆN BÊN B

Sheet Bến Cống Thống - Đồ Sơn
A1: CỘNG HÒA XÃ HỘI CHỦ NGHĨA VIỆT NAM Độc Lập - Tự Do - Hạnh Phúc
D2: Hải phòng, ngày 24 tháng 03 năm 2026
A3: BẢNG TỔNG HỢP KHỐI LƯỢNG
A4: =BBGT!A5 -> Căn cứ vào hợp đồng số 103/2026/HĐNT/SPLUS-ĐS ký ngày 01 tháng 03 năm 2026 về việc thuê vận chuyển giữa CÔNG TY CỔ PHẦN KIẾN TRÚC VÀ ĐẦU TƯ XÂY DỰNG S - PLUS với CÔNG TY TNHH XÂY DỰNG ĐỊNH SƠN
A5: Hôm nay, ngày 24 tháng 03 năm 2026, tại trụ sở công ty TNHH Xây Dựng Định Sơn, chúng tôi gồm:
A6: I. BÊN THUÊ (BÊN A): CÔNG TY CỔ PHẦN KIẾN TRÚC VÀ ĐẦU TƯ XÂY DỰNG S - PLUS
A7: Địa chỉ: Số nhà 28 đường Bình Minh, Phường Chu Văn An, TP Hải Phòng, Việt Nam.
A8: Mã số thuế: 0801352797
A9: Đại diện: | B9: Ông Nguyễn Phước Sơn. | D9: Chức vụ: Giám đốc
A10: II. BÊN CHO THUÊ (BÊN B): CÔNG TY TNHH XÂY DỰNG ĐỊNH SƠN
A11: Địa chỉ: Thôn 1 (tại nhà ông Nguyễn Sĩ Định), Xã Nghi Dương, TP Hải Phòng, Việt Nam.
A12: Mã số thuế: 0202111150
A13: Đại diện: Ông Nguyễn Sĩ Sơn | D13: Chức vụ: Giám đốc
A14: Hai bên cùng nhau xác nhận khối lượng hàng hóa bên B vận chuyển cho Bên A từ bến Cống Thống, xã Kiến Hưng, tp Hải Phòng đến Khu nhà ở Ngọc Xuyên - Phường Đồ Sơn, tp Hải Phòng như sau:
A15: STT | B15: Ngày tháng | C15: Nội dung | D15: Đvt | E15: Khối lượng (m3) | F15: Ghi chú
A16: 1 | B16: 46359 | C16: Vận chuyển cát san lấp từ bến Cống Thống - xã Kiến Hưng, thành phố Hải Phòng đến công trình khu nhà ở Ngọc Xuyên - Phường Đồ Sơn, thành phố Hải Phòng. | D16: m3 | E16: 111.6 | F16: BKS: 15H10624
A17: 2 | B17: 46359 | C17: Vận chuyển cát san lấp từ bến Cống Thống - xã Kiến Hưng, thành phố Hải Phòng đến công trình khu nhà ở Ngọc Xuyên - Phường Đồ Sơn, thành phố Hải Phòng. | D17: m3 | E17: 104.4 | F17: BKS: 15H10529
A18: 3 | B18: 46359 | C18: Vận chuyển cát san lấp từ bến Cống Thống - xã Kiến Hưng, thành phố Hải Phòng đến công trình khu nhà ở Ngọc Xuyên - Phường Đồ Sơn, thành phố Hải Phòng. | D18: m3 | E18: 120.82 | F18: BKS: 15H10576
A19: 4 | B19: 46359 | C19: Vận chuyển cát san lấp từ bến Cống Thống - xã Kiến Hưng, thành phố Hải Phòng đến công trình khu nhà ở Ngọc Xuyên - Phường Đồ Sơn, thành phố Hải Phòng. | D19: m3 | E19: 104.34 | F19: BKS: 15H13126
A20: 5 | B20: 46359 | C20: Vận chuyển cát san lấp từ bến Cống Thống - xã Kiến Hưng, thành phố Hải Phòng đến công trình khu nhà ở Ngọc Xuyên - Phường Đồ Sơn, thành phố Hải Phòng. | D20: m3 | E20: 75.35 | F20: BKS: 15H10525
A21: 6 | B21: 46359 | C21: Vận chuyển cát san lấp từ bến Cống Thống - xã Kiến Hưng, thành phố Hải Phòng đến công trình khu nhà ở Ngọc Xuyên - Phường Đồ Sơn, thành phố Hải Phòng. | D21: m3 | E21: 75 | F21: BKS: 15H10534
A22: 7 | B22: 46359 | C22: Vận chuyển cát san lấp từ bến Cống Thống - xã Kiến Hưng, thành phố Hải Phòng đến công trình khu nhà ở Ngọc Xuyên - Phường Đồ Sơn, thành phố Hải Phòng. | D22: m3 | E22: 75.35 | F22: BKS: 15H10652
A23: 8 | B23: 46359 | C23: Vận chuyển cát san lấp từ bến Cống Thống - xã Kiến Hưng, thành phố Hải Phòng đến công trình khu nhà ở Ngọc Xuyên - Phường Đồ Sơn, thành phố Hải Phòng. | D23: m3 | E23: 102 | F23: BKS: 15H28352
A24: 9 | B24: 46359 | C24: Vận chuyển cát san lấp từ bến Cống Thống - xã Kiến Hưng, thành phố Hải Phòng đến công trình khu nhà ở Ngọc Xuyên - Phường Đồ Sơn, thành phố Hải Phòng. | D24: m3 | E24: 75.35 | F24: BKS: 15H13661
A25: 10 | B25: 46359 | C25: Vận chuyển cát san lấp từ bến Cống Thống - xã Kiến Hưng, thành phố Hải Phòng đến công trình khu nhà ở Ngọc Xuyên - Phường Đồ Sơn, thành phố Hải Phòng. | D25: m3 | E25: 76 | F25: BKS: 15H10550
A26: 11 | B26: 13/3/2026 | C26: Vận chuyển cát san lấp từ bến Cống Thống - xã Kiến Hưng, thành phố Hải Phòng đến công trình khu nhà ở Ngọc Xuyên - Phường Đồ Sơn, thành phố Hải Phòng. | D26: m3 | E26: 103.56 | F26: BKS: 15H10576
A27: 12 | B27: 13/3/2026 | C27: Vận chuyển cát san lấp từ bến Cống Thống - xã Kiến Hưng, thành phố Hải Phòng đến công trình khu nhà ở Ngọc Xuyên - Phường Đồ Sơn, thành phố Hải Phòng. | D27: m3 | E27: 117.63 | F27: BKS: 15H10529
A28: 13 | B28: 13/3/2026 | C28: Vận chuyển cát san lấp từ bến Cống Thống - xã Kiến Hưng, thành phố Hải Phòng đến công trình khu nhà ở Ngọc Xuyên - Phường Đồ Sơn, thành phố Hải Phòng. | D28: m3 | E28: 111.6 | F28: BKS: 15H10624
A29: 14 | B29: 13/3/2026 | C29: Vận chuyển cát san lấp từ bến Cống Thống - xã Kiến Hưng, thành phố Hải Phòng đến công trình khu nhà ở Ngọc Xuyên - Phường Đồ Sơn, thành phố Hải Phòng. | D29: m3 | E29: 102 | F29: BKS: 15H28352
A30: 15 | B30: 13/3/2026 | C30: Vận chuyển cát san lấp từ bến Cống Thống - xã Kiến Hưng, thành phố Hải Phòng đến công trình khu nhà ở Ngọc Xuyên - Phường Đồ Sơn, thành phố Hải Phòng. | D30: m3 | E30: 104.34 | F30: BKS: 15H13126
A31: 16 | B31: 13/3/2026 | C31: Vận chuyển cát san lấp từ bến Cống Thống - xã Kiến Hưng, thành phố Hải Phòng đến công trình khu nhà ở Ngọc Xuyên - Phường Đồ Sơn, thành phố Hải Phòng. | D31: m3 | E31: 30.4 | F31: BKS: 15H10550
A32: 17 | B32: 13/3/2026 | C32: Vận chuyển cát san lấp từ bến Cống Thống - xã Kiến Hưng, thành phố Hải Phòng đến công trình khu nhà ở Ngọc Xuyên - Phường Đồ Sơn, thành phố Hải Phòng. | D32: m3 | E32: 15 | F32: BKS: 15H10550
A33: 18 | B33: 13/3/2026 | C33: Vận chuyển cát san lấp từ bến Cống Thống - xã Kiến Hưng, thành phố Hải Phòng đến công trình khu nhà ở Ngọc Xuyên - Phường Đồ Sơn, thành phố Hải Phòng. | D33: m3 | E33: 15 | F33: BKS: 15H10652
A34: 19 | B34: 13/3/2026 | C34: Vận chuyển cát san lấp từ bến Cống Thống - xã Kiến Hưng, thành phố Hải Phòng đến công trình khu nhà ở Ngọc Xuyên - Phường Đồ Sơn, thành phố Hải Phòng. | D34: m3 | E34: 15 | F34: BKS: 15H10525
A35: 20 | B35: 13/3/2026 | C35: Vận chuyển cát san lấp từ bến Cống Thống - xã Kiến Hưng, thành phố Hải Phòng đến công trình khu nhà ở Ngọc Xuyên - Phường Đồ Sơn, thành phố Hải Phòng. | D35: m3 | E35: 30 | F35: BKS: 15H10534
A36: 21 | B36: 13/3/2026 | C36: Vận chuyển cát san lấp từ bến Cống Thống - xã Kiến Hưng, thành phố Hải Phòng đến công trình khu nhà ở Ngọc Xuyên - Phường Đồ Sơn, thành phố Hải Phòng. | D36: m3 | E36: 30.14 | F36: BKS: 15H13661
A37: 22 | B37: 13/3/2026 | C37: Vận chuyển cát san lấp từ bến Cống Thống - xã Kiến Hưng, thành phố Hải Phòng đến công trình khu nhà ở Ngọc Xuyên - Phường Đồ Sơn, thành phố Hải Phòng. | D37: m3 | E37: 30.14 | F37: BKS: 15H10525
... A59: 44 | B59: 22/3/2026 | C59: Vận chuyển cát san lấp từ bến Cống Thống - xã Kiến Hưng, thành phố Hải Phòng đến công trình khu nhà ở Ngọc Xuyên - Phường Đồ Sơn, thành phố Hải Phòng. | D59: m3 | E59: 90.42 | F59: BKS: 15H13661
B60: Cộng tổng | E60: =SUM(E16:E59) -> 3198.87
A62: Biên bản xác nhận khối lượng này thay cho tất cả các phiếu giao nhận. Hai hên hoàn toàn nhất trí với nội dung trên và cùng nhau ký xác nhận vào biên bản
...

Sheet 14,11
A1: CỘNG HÒA XÃ HỘI CHỦ NGHĨA VIỆT NAM Độc Lập - Tự Do - Hạnh Phúc
E2: Hải phòng, ngày 14 tháng 11 năm 2025
A3: BẢNG TỔNG HỢP KHỐI LƯỢNG
A4: ='Bến Cống Thống - Đồ Sơn'!A4:F4 -> Căn cứ vào hợp đồng số 103/2026/HĐNT/SPLUS-ĐS ký ngày 01 tháng 03 năm 2026 về việc thuê vận chuyển giữa CÔNG TY CỔ PHẦN KIẾN TRÚC VÀ ĐẦU TƯ XÂY DỰNG S - PLUS với CÔNG TY TNHH XÂY DỰNG ĐỊNH SƠN
A6: I. BÊN THUÊ (BÊN A): CÔNG TY CỔ PHẦN ĐẦU TƯ VÀ THƯƠNG MẠI HOÀNG HẢI HP
A7: Địa chỉ: Số nhà BH02-01, đường Manhattan 01, KĐT Vinhomes Imperia, phường Hồng Bàng, TP. Hải Phòng
A8: Mã số thuế: 0202284587
A9: Đại diện: Ông Đỗ Thanh Tùng | D9: Chức vụ: Giám đốc
A10: II. BÊN CHO THUÊ (BÊN B): CÔNG TY TNHH DỊCH VỤ VẬN TẢI VÀ XÂY DỰNG ANH KHOA
A11: Địa chỉ: Số nhà 34 Tổ dân phố Trà Khê 2, Phường Hưng Đạo, TP Hải Phòng, Việt Nam
A12: Mã số thuế: 0202300895
A13: Đại diện: ông Đoàn Văn Tuấn | D13: Chức vụ: Giám đốc
A14: Hai bên cùng nhau xác nhận khối lượng hàng hóa bên B bốc xúc vận chuyển cho Bên A giao nhận tại Dự án đầu tư hạ tầng Khu Công nghiệp Tân Trào (giai đoạn 1) và Dự án Nhà máy Nhiệt điện LNG Hải Phòng như sau:
A15: STT | B15: Ngày nhập | C15: Biển số xe | D15: Khối lượng (m3) | E15: Khối lượng trừ (m3) | F15: Khối lượng nghiệm thu (m3) | G15: Vật liệu
A16: 1 | B16: 45975 | C16: 29C 51371 | D16: 10.86 | E16: 0 | F16: 10.86 | G16: Đất san lấp
A17: 2 | B17: 45975 | C17: 29C 51371 | D17: 10.86 | E17: 0 | F17: 10.86
A18: 3 | B18: 45975 | C18: 29C 51371 | D18: 10.86 | E18: 0 | F18: 10.86
A19: 4 | B19: 45975 | C19: 14C 19905 | D19: 11.48 | E19: 0 | F19: 11.48
A20: 5 | B20: 45975 | C20: 15H 18819 | D20: 11.8 | E20: 0 | F20: 11.8
A21: 6 | B21: 45975 | C21: 15H 18652 | D21: 12.15 | E21: 0 | F21: 12.15
A22: 7 | B22: 45975 | C22: 14H 02365 | D22: 11.74 | E22: 0 | F22: 11.74
A23: 8 | B23: 45975 | C23: 15H 18507 | D23: 12.73 | E23: 0 | F23: 12.73
A24: 9 | B24: 45975 | C24: 15H 18652 | D24: 12.15 | E24: 0 | F24: 12.15
A25: 10 | B25: 45975 | C25: 14C 19905 | D25: 11.48 | E25: 0 | F25: 11.48
A26: 11 | B26: 45975 | C26: 15H 18819 | D26: 11.8 | E26: 0 | F26: 11.8
A27: 12 | B27: 45975 | C27: 15H 18652 | D27: 12.15 | E27: 0 | F27: 12.15
A28: 13 | B28: 45975 | C28: 29C 51371 | D28: 10.86 | E28: 0 | F28: 10.86
... A58: 43 | B58: 45975 | C58: 15B 04512 | D58: 17.17 | E58: 0 | F58: 17.17
A59: Tổng cộng | E59: 0 | F59: =SUM(F16:F58) -> 580.59
A60: Năm trăm tám mươi phảy năm chín mét khối./.
A61: Biên bản xác nhận khối lượng này thay cho tất cả các phiếu giao nhận. Hai hên hoàn toàn nhất trí với nội dung trên và cùng nhau ký xác nhận vào biên bản
A62: Biên bản được lập thành 04 bản có giá trị pháp lý như nhau, mỗi bên giữ 02 bản.
A63: ĐẠI DIỆN BÊN A | F63: ĐẠI DIỆN BÊN B

Sheet Sheet1
A2: 29C 51371 | C2: 15H18819; 15H18652; 15H18507; 14K10206; 15H19110; 15B04512; 15C46661; 36H12782; 18C03258; 34C36919; 15K45403; 75C12354
A3: 14C 19905
A4: 15H 18819
A5: 15H 18652
A6: 14H 02365
A7: 15H 18507
A8: 14K 10206
A9: 15H 19110
A10: 15B 04512
A11: 15C 46661
A12: 36H 12782
A13: 18C 03258
A14: 34C 36919
... A16: 75C 12354

Sheet 19,11
A1: CỘNG HÒA XÃ HỘI CHỦ NGHĨA VIỆT NAM Độc Lập - Tự Do - Hạnh Phúc
E2: Hải phòng, ngày 19 tháng 11 năm 2025
A3: BẢNG TỔNG HỢP KHỐI LƯỢNG
A4: ='14,11'!A4:G4 -> Căn cứ vào hợp đồng số 103/2026/HĐNT/SPLUS-ĐS ký ngày 01 tháng 03 năm 2026 về việc thuê vận chuyển giữa CÔNG TY CỔ PHẦN KIẾN TRÚC VÀ ĐẦU TƯ XÂY DỰNG S - PLUS với CÔNG TY TNHH XÂY DỰNG ĐỊNH SƠN
A6: I. BÊN THUÊ (BÊN A): CÔNG TY CỔ PHẦN ĐẦU TƯ VÀ THƯƠNG MẠI HOÀNG HẢI HP
A7: Địa chỉ: Số nhà BH02-01, đường Manhattan 01, KĐT Vinhomes Imperia, phường Hồng Bàng, TP. Hải Phòng
A8: Mã số thuế: 0202284587
A9: Đại diện: Ông Đỗ Thanh Tùng | D9: Chức vụ: Giám đốc
A10: II. BÊN CHO THUÊ (BÊN B): CÔNG TY TNHH DỊCH VỤ VẬN TẢI VÀ XÂY DỰNG ANH KHOA
A11: Địa chỉ: Số nhà 34 Tổ dân phố Trà Khê 2, Phường Hưng Đạo, TP Hải Phòng, Việt Nam
A12: Mã số thuế: 0202300895
A13: Đại diện: ông Đoàn Văn Tuấn | D13: Chức vụ: Giám đốc
A14: Hai bên cùng nhau xác nhận khối lượng hàng hóa bên B bốc xúc vận chuyển cho Bên A giao nhận tại Dự án đầu tư hạ tầng Khu Công nghiệp Tân Trào (giai đoạn 1) và Dự án Nhà máy Nhiệt điện LNG Hải Phòng như sau:
A15: STT | B15: Ngày nhập | C15: Biển số xe | D15: Khối lượng (m3) | E15: Khối lượng trừ (m3) | F15: Khối lượng nghiệm thu (m3) | G15: Vật liệu
A16: 1 | B16: 45980 | C16: 36H 12782 | D16: 20.44 | E16: 0 | F16: =+D16-E16 -> 20.44 | H16: 1
A17: 2 | B17: 45980 | C17: 18C 03258 | D17: 16.75 | E17: 0 | F17: =+D17-E17 -> 16.75 | H17: 1
A18: 3 | B18: 45980 | C18: 34C 36919 | D18: 18.89 | E18: 0 | F18: =+D18-E18 -> 18.89 | H18: 1
A19: 4 | B19: 45980 | C19: 15K 45403 | D19: 16.54 | E19: 0 | F19: =+D19-E19 -> 16.54 | H19: 1
A20: 5 | B20: 45980 | C20: 36H 12782 | D20: 20.44 | E20: 0 | F20: =+D20-E20 -> 20.44 | H20: 1
A21: 6 | B21: 45980 | C21: 18C 03258 | D21: 16.75 | E21: 0 | F21: =+D21-E21 -> 16.75 | H21: 1
A22: 7 | B22: 45980 | C22: 15K 45403 | D22: 16.54 | E22: 0 | F22: =+D22-E22 -> 16.54 | H22: 1
A23: 8 | B23: 45980 | C23: 36H 12782 | D23: 20.44 | E23: 0 | F23: =+D23-E23 -> 20.44 | H23: 1
A24: 9 | B24: 45980 | C24: 34C 36919 | D24: 18.89 | E24: 0 | F24: =+D24-E24 -> 18.89 | H24: 1
A25: 10 | B25: 45980 | C25: 75C 12354 | D25: 15.98 | E25: 0 | F25: =+D25-E25 -> 15.98 | H25: 1
A26: 11 | B26: 45980 | C26: 75C 12354 | D26: 15.98 | E26: 0 | F26: =+D26-E26 -> 15.98 | H26: 1
A27: 12 | B27: 45980 | C27: 18C 03258 | D27: 16.75 | E27: 0 | F27: =+D27-E27 -> 16.75 | H27: 1
... A35: 20 | B35: 45980 | C35: 36H 12782 | D35: 20.44 | E35: 0 | F35: =+D35-E35 -> 20.44 | H35: 1
A36: Tổng cộng | E36: 0 | F36: =SUM(F16:F35) -> 358.65
A37: Năm trăm tám mươi phảy năm chín mét khối./.
A38: Biên bản xác nhận khối lượng này thay cho tất cả các phiếu giao nhận. Hai hên hoàn toàn nhất trí với nội dung trên và cùng nhau ký xác nhận vào biên bản
A39: Biên bản được lập thành 04 bản có giá trị pháp lý như nhau, mỗi bên giữ 02 bản.
A40: ĐẠI DIỆN BÊN A | F40: ĐẠI DIỆN BÊN B

Sheet Sheet2
A1: 15C 46661 | B1: =SUMIF('19,11'!$C$16:$C$35,Sheet2!A1,'19,11'!$H$16:$H$35) -> 0 | C1: =VLOOKUP(A1,'19,11'!$C$16:$D$35,2,0) -> #N/A | D1: =+B1*C1 -> #N/A
A2: 36H 12782 | B2: =SUMIF('19,11'!$C$16:$C$35,Sheet2!A2,'19,11'!$H$16:$H$35) -> 5 | C2: =VLOOKUP(A2,'19,11'!$C$16:$D$35,2,0) -> 20.44 | D2: =+B2*C2 -> 102.2 | E2: =+D2 -> 102.2 | H2: 36H12782; 18C03258; 34C36919; 15K45403; 75C12354
A3: 15H 19110 | B3: =SUMIF('19,11'!$C$16:$C$35,Sheet2!A3,'19,11'!$H$16:$H$35) -> 0 | C3: =VLOOKUP(A3,'19,11'!$C$16:$D$35,2,0) -> #N/A | D3: =+B3*C3 -> #N/A
A4: 18C 03258 | B4: =SUMIF('19,11'!$C$16:$C$35,Sheet2!A4,'19,11'!$H$16:$H$35) -> 3 | C4: =VLOOKUP(A4,'19,11'!$C$16:$D$35,2,0) -> 16.75 | D4: =+B4*C4 -> 50.25 | E4: =+D4 -> 50.25
A5: 34C 36919 | B5: =SUMIF('19,11'!$C$16:$C$35,Sheet2!A5,'19,11'!$H$16:$H$35) -> 4 | C5: =VLOOKUP(A5,'19,11'!$C$16:$D$35,2,0) -> 18.89 | D5: =+B5*C5 -> 75.56 | E5: =+D5 -> 75.56
A6: 15K 45403 | B6: =SUMIF('19,11'!$C$16:$C$35,Sheet2!A6,'19,11'!$H$16:$H$35) -> 5 | C6: =VLOOKUP(A6,'19,11'!$C$16:$D$35,2,0) -> 16.54 | D6: =+B6*C6 -> 82.7 | E6: =+D6 -> 82.7
A7: 15B 04512 | B7: =SUMIF('19,11'!$C$16:$C$35,Sheet2!A7,'19,11'!$H$16:$H$35) -> 0 | C7: =VLOOKUP(A7,'19,11'!$C$16:$D$35,2,0) -> #N/A | D7: =+B7*C7 -> #N/A
A8: 75C 12354 | B8: =SUMIF('19,11'!$C$16:$C$35,Sheet2!A8,'19,11'!$H$16:$H$35) -> 3 | C8: =VLOOKUP(A8,'19,11'!$C$16:$D$35,2,0) -> 15.98 | D8: =+B8*C8 -> 47.94 | E8: =+D8 -> 47.94
D9: =SUM(D1:D8) -> #N/A | E9: =SUM(E1:E8) -> 358.65

Sheet h-vdk 13,11
A1: CỘNG HÒA XÃ HỘI CHỦ NGHĨA VIỆT NAM Độc Lập - Tự Do - Hạnh Phúc
G2: Hải phòng, ngày 13 tháng 11 năm 2025
A3: BẢNG TỔNG HỢP KHỐI LƯỢNG
A4: Căn cứ vào hợp đồng cung cấp dịch vụ bốc xúc vận chuyển số 01/2025/HĐDV/HH-ĐS ký ngày 12 tháng 11 năm 2025 về việc Bốc xúc đất san lấp tại tàu, xà lan cập mạn vận chuyển đến chân Công trình giữa Công ty cổ phần đầu tư và thương mại Hoàng Hải HP và Công TNHH xây dựng Định Sơn.,
A6: I. BÊN THUÊ (BÊN A): CÔNG TY CỔ PHẦN ĐẦU TƯ VÀ THƯƠNG MẠI HOÀNG HẢI HP
A7: Địa chỉ: Số nhà BH02-01, đường Manhattan 01, KĐT Vinhomes Imperia, phường Hồng Bàng, TP. Hải Phòng
A8: Mã số thuế: 0202284587
A9: Đại diện: Ông Đỗ Thanh Tùng | D9: Chức vụ: Giám đốc
A10: II. BÊN NHẬN (BÊN B): CÔNG TY TNHH XÂY DỰNG ĐỊNH SƠN
A11: Địa chỉ: SThôn 1 (tại nhà Ông Nguyễn Sĩ Định), Xã Nghi Dương, Thành phố Hải Phòng
A12: Mã số thuế: 0202111150
A13: Đại diện: ông Nguyễn Sĩ Sơn | D13: Chức vụ: Giám đốc
A14: Hai bên cùng nhau xác nhận khối lượng hàng hóa bên B bốc xúc vận chuyển cho Bên A giao nhận tại Dự Án Vinhomes Dương Kinh như sau:
A15: STT | B15: Ngày nhập | C15: Biển số xe | D15: Giờ vào | E15: Giờ ra | F15: Khối lượng (m3) | G15: Khối lượng trừ (m3) | H15: Khối lượng nghiệm thu (m3) | I15: Vật liệu
A16: 1 | B16: 45974 | C16: 15B 11360 | D16: 14h14 | E16: 15h08 | F16: 18.82 | G16: 0 | H16: =+F16 -> 18.82 | I16: Đất san lấp | J16: 18.82 | K16: =+F16-J16 -> 0
A17: 2 | B17: 45974 | C17: 15K 46654 | D17: 14h31 | E17: 15h11 | F17: 16.57 | G17: 0 | H17: 16.57 | J17: 16.57 | K17: =+F17-J17 -> 0
A18: 3 | B18: 45974 | C18: 15K 46624 | D18: 14h 33 | E18: 15h25 | F18: 15.67 | G18: 0 | H18: 15.67 | J18: 15.67 | K18: =+F18-J18 -> 0
A19: 4 | B19: 45974 | C19: 29K 10587 | D19: 14h34 | E19: 15h15 | F19: 18.71 | G19: 0 | H19: 18.71 | J19: 18.71 | K19: =+F19-J19 -> 0
A20: 5 | B20: 45974 | C20: 29E 34930 | D20: 17h35 | E20: 15h24 | F20: 18.74 | G20: 0 | H20: 18.74 | J20: 18.74 | K20: =+F20-J20 -> 0
A21: 6 | B21: 45974 | C21: 15C 46661 | D21: 15h03 | E21: 15h27 | F21: 18.53 | G21: 0 | H21: 18.53 | J21: 18.53 | K21: =+F21-J21 -> 0
A22: 7 | B22: 45974 | C22: 15B 04512 | D22: 15h05 | E22: 15h31 | F22: 17.17 | G22: 0 | H22: 17.17 | J22: 17.17 | K22: =+F22-J22 -> 0
A23: 8 | B23: 45974 | C23: 15H 19110 | D23: 15h23 | E23: 15h52 | F23: 18.39 | G23: 0 | H23: 18.39 | J23: 18.39 | K23: =+F23-J23 -> 0
A24: 9 | B24: 45974 | C24: 14H 02365 | D24: 15h26 | E24: 15h53 | F24: 11.74 | G24: 0 | H24: 11.74 | J24: 11.74 | K24: =+F24-J24 -> 0
A25: 10 | B25: 45974 | C25: 15H 18652 | D25: 15h06 | E25: 15h38 | F25: 12.15 | G25: 0 | H25: 12.15 | J25: 12.15 | K25: =+F25-J25 -> 0
A26: 11 | B26: 45974 | C26: 29C 51371 | D26: 15h28 | E26: 15h56 | F26: 10.86 | G26: 0 | H26: 10.86 | J26: 10.86 | K26: =+F26-J26 -> 0
A27: 12 | B27: 45974 | C27: 14C 19905 | D27: 15h34 | E27: 15h56 | F27: 11.48 | G27: 0 | H27: 11.48 | J27: 11.48 | K27: =+F27-J27 -> 0
A28: 13 | B28: 45974 | C28: 15H 18819 | D28: 15h37 | E28: 15h58 | F28: 11.8 | G28: 0 | H28: 11.8 | J28: 11.8 | K28: =+F28-J28 -> 0
... A53: 38 | B53: 45974 | C53: 29E 34930 | D53: 19h01 | E53: 19h26 | F53: 18.74 | G53: 0 | H53: 18.74 | J53: 18.74 | K53: =+F53-J53 -> 0
A54: Tổng cộng | G54: 0 | H54: =SUM(H16:H53) -> 600.05 | K54: =+F54-J54 -> 0
A55: Sáu trăm lẻ năm khối./. | K55: =+F55-J55 -> 0
A56: Biên bản xác nhận khối lượng này thay cho tất cả các phiếu giao nhận. Hai hên hoàn toàn nhất trí với nội dung trên và cùng nhau ký xác nhận vào biên bản | K56: =+F56-J56 -> 0
A57: Biên bản được lập thành 04 bản có giá trị pháp lý như nhau, mỗi bên giữ 02 bản. | K57: =+F57-J57 -> 0
A58: ĐẠI DIỆN BÊN A | H58: ĐẠI DIỆN BÊN B | K58: =+F58-J58 -> 0

Sheet NH-VDK
A1: CỘNG HÒA XÃ HỘI CHỦ NGHĨA VIỆT NAM Độc Lập - Tự Do - Hạnh Phúc
D2: Hải phòng, ngày tháng 11 năm 2025
A3: BẢNG TỔNG HỢP KHỐI LƯỢNG
A4: =BBGT!A5 -> Căn cứ vào hợp đồng số 103/2026/HĐNT/SPLUS-ĐS ký ngày 01 tháng 03 năm 2026 về việc thuê vận chuyển giữa CÔNG TY CỔ PHẦN KIẾN TRÚC VÀ ĐẦU TƯ XÂY DỰNG S - PLUS với CÔNG TY TNHH XÂY DỰNG ĐỊNH SƠN
A5: =BBGT!A7 -> I. BÊN THUÊ (BÊN A): CÔNG TY CỔ PHẦN KIẾN TRÚC VÀ ĐẦU TƯ XÂY DỰNG S - PLUS
A6: =BBGT!A8 -> Địa chỉ: Số nhà 28 đường Bình Minh, Phường Chu Văn An, TP Hải Phòng, Việt Nam.
A7: =BBGT!A9 -> Mã số thuế: 0801352797
A8: =BBGT!A10 -> Đại diện: | D8: =BBGT!D10 -> Chức vụ: Giám đốc
A9: =BBGT!A11 -> II. BÊN CHO THUÊ (BÊN B): CÔNG TY TNHH XÂY DỰNG ĐỊNH SƠN
A10: =BBGT!A12 -> Địa chỉ: Thôn 1 (tại nhà ông Nguyễn Sĩ Định), Xã Nghi Dương, TP Hải Phòng, Việt Nam.
A11: =BBGT!A13 -> Mã số thuế: 0202111150
A12: =BBGT!A14 -> Đại diện: Ông Nguyễn Sĩ Sơn | D12: =BBGT!D14 -> Chức vụ: Giám đốc
A13: Hai bên cùng nhau xác nhận khối lượng hàng hóa bên B bốc xúc vận chuyển cho Bên A giao nhận tại Dự Án Vinhomes Dương Kinh như sau:
A14: STT | B14: Ngày tháng | C14: Nội dung | D14: Đvt | E14: Khối lượng (m3) | F14: Ghi chú
A15: 1 | B15: 45979 | C15: Vận chuyến đất san lấp | D15: m3 | E15: ='nh-vdk 18,11'!H53 -> 635.88
B32: Cộng tổng | E32: =SUM(E15:E31) -> 635.88
A34: Biên bản xác nhận khối lượng này thay cho tất cả các phiếu giao nhận. Hai hên hoàn toàn nhất trí với nội dung trên và cùng nhau ký xác nhận vào biên bản
A35: Biên bản được lập thành 04 bản có giá trị pháp lý như nhau, mỗi bên giữ 02 bản.
A36: ĐẠI DIỆN BÊN A | E36: ĐẠI DIỆN BÊN B

Sheet nh-vdk 18,11
A1: CỘNG HÒA XÃ HỘI CHỦ NGHĨA VIỆT NAM Độc Lập - Tự Do - Hạnh Phúc
F2: Hải phòng, ngày 18 tháng 11 năm 2025
A3: BẢNG TỔNG HỢP KHỐI LƯỢNG
A4: Căn cứ vào hợp đồng cung cấp dịch vụ bốc xúc vận chuyển số 01/2025/HĐDV/HH-ĐS ký ngày 12 tháng 11 năm 2025 về việc Bốc xúc đất san lấp tại tàu, xà lan cập mạn vận chuyển đến chân Công trình giữa Công ty cổ phần đầu tư và thương mại Hoàng Hải HP và Công TNHH xây dựng Định Sơn.,
A5: I. BÊN THUÊ (BÊN A): CÔNG TY CỔ PHẦN ĐẦU TƯ VÀ THƯƠNG MẠI HOÀNG HẢI HP
A6: Địa chỉ: Số nhà BH02-01, đường Manhattan 01, KĐT Vinhomes Imperia, phường Hồng Bàng, TP. Hải Phòng
A7: Mã số thuế: 0202284587
A8: Đại diện: Ông Đỗ Thanh Tùng | D8: Chức vụ: Giám đốc
A9: II. BÊN NHẬN (BÊN B): CÔNG TY TNHH XÂY DỰNG ĐỊNH SƠN
A10: Địa chỉ: SThôn 1 (tại nhà Ông Nguyễn Sĩ Định), Xã Nghi Dương, Thành phố Hải Phòng
A11: Mã số thuế: 0202111150
A12: Đại diện: ông Nguyễn Sĩ Sơn | D12: Chức vụ: Giám đốc
A13: Hai bên cùng nhau xác nhận khối lượng hàng hóa bên B bốc xúc vận chuyển cho Bên A giao nhận tại Dự Án Vinhomes Dương Kinh như sau:
A14: STT | B14: Ngày nhập | C14: Biển số xe | D14: Giờ vào | E14: Giờ ra | F14: Khối lượng (m3) | G14: Khối lượng trừ (m3) | H14: Khối lượng nghiệm thu (m3) | I14: Vật liệu
A15: 1 | B15: 45979 | C15: 15B 04512 | D15: 11h07 | E15: 11h49 | F15: 17.17 | G15: 0 | H15: 17.17 | I15: Đất san lấp
A16: 2 | B16: 45979 | C16: 14K10206 | D16: 11h07 | E16: 11h51 | F16: 12.65 | G16: 0 | H16: 12.65
A17: 3 | B17: 45979 | C17: 29E 34930 | D17: 11h11 | E17: 11h56 | F17: 18.74 | G17: 0 | H17: 18.74
A18: 4 | B18: 45979 | C18: 29K 10587 | D18: 11h13 | E18: 11h58 | F18: 18.71 | G18: 0 | H18: 18.71
A19: 5 | B19: 45979 | C19: 15K46624 | D19: 11h25 | E19: 12h01 | F19: 15.67 | G19: 0 | H19: 15.67
A20: 6 | B20: 45979 | C20: 15B 11360 | D20: 11h25 | E20: 12h26 | F20: 18.82 | G20: 0 | H20: 18.82
A21: 7 | B21: 45979 | C21: 15H 19110 | D21: 13h33 | E21: 13h54 | F21: 18.39 | G21: 0 | H21: 18.39
A22: 8 | B22: 45979 | C22: 15K 46654 | D22: 11h34 | E22: 12h09 | F22: 16.57 | G22: 0 | H22: 16.57
A23: 9 | B23: 45979 | C23: 15C 46661 | D23: 13h34 | E23: 13h55 | F23: 18.53 | G23: 0 | H23: 18.53
A24: 10 | B24: 45979 | C24: 15B 04512 | D24: 13h49 | E24: 14h06 | F24: 17.17 | G24: 0 | H24: 17.17
A25: 11 | B25: 45979 | C25: 29K 10587 | D25: 13h53 | E25: 14h14 | F25: 18.71 | G25: 0 | H25: 18.71
A26: 12 | B26: 45979 | C26: 15K46624 | D26: 13h57 | E26: 14h15 | F26: 15.67 | G26: 0 | H26: 15.67
A27: 13 | B27: 45979 | C27: 15H 18507 | D27: 14h03 | E27: 14h26 | F27: 12.73 | G27: 0 | H27: 12.73
... A52: 38 | B52: 45979 | C52: 15H 19110 | D52: 16H46 | E52: 17H12 | F52: 18.39 | G52: 0 | H52: 18.39
A53: Tổng cộng | G53: 0 | H53: =SUM(H15:H52) -> 635.88
A54: Sáu trăm ba mươi năm phẩy tám tám mét khối./.
A55: Biên bản xác nhận khối lượng này thay cho tất cả các phiếu giao nhận. Hai hên hoàn toàn nhất trí với nội dung trên và cùng nhau ký xác nhận vào biên bản
A56: Biên bản được lập thành 04 bản có giá trị pháp lý như nhau, mỗi bên giữ 02 bản.
A57: ĐẠI DIỆN BÊN A | H57: ĐẠI DIỆN BÊN B
